{"text_format":"1","workbook":"xlsx","n_sheets":2,"sheets":["Отчет","Данные"],"not_rendered":{"charts":0,"images":1,"macros":1,"external_links":0,"defined_names":0,"comments":0,"pivot_tables":0},"unopened":[],"bounds":{"document_bytes":16777216,"sheet_cells":100000,"rows_first":2000,"rows_last":500,"rows_between":2000,"halvings":0,"cell_chars":16384,"cell_head_chars":4096},"cells_cut":0,"cells_raw":0,"read":"whole","date_system":"1900"}

{"sheet":"Отчет","index":0,"n_rows":80,"n_cols":42,"rows_kept":80,"cut":false,"hidden":false,"merged":[[62,0,63,0],[72,0,73,0],[37,0,38,0],[39,0,40,0],[47,0,48,0],[50,0,51,0],[53,0,56,0],[57,0,59,0],[16,0,17,0],[20,0,22,0],[24,0,25,0],[26,0,27,0],[31,0,32,0],[35,0,36,0],[7,2,9,2],[8,8,8,18],[7,8,7,21],[8,19,8,21],[8,22,8,26],[7,22,7,29],[8,27,8,29],[7,34,10,34],[7,1,9,1],[7,0,9,0],[1,36,2,39],[0,36,0,39],[7,37,10,37],[7,35,10,35],[7,6,9,6],[7,4,9,4],[7,3,9,3],[7,5,9,5],[7,40,10,40],[10,0,10,6],[7,39,10,39],[7,30,10,30],[7,33,10,33],[7,36,10,36],[7,31,10,31],[7,38,10,38],[7,32,10,32]]}
["Текущий рейтинг студентов (до пересдач)",null,null,null,null,null,null,null,null,null,null,null,null,null,null,null,null,null,null,null,null,null,null,null,null,null,null,null,null,null,null,null,null,null,null,null,"Приложение 3"]
["Дата выгрузки: 07.07.2015",null,null,null,null,null,null,null,null,null,null,null,null,null,null,null,null,null,null,null,null,null,null,null,null,null,null,null,null,null,null,null,null,null,null,null,"к Положению о рейтинговой системе комплексной оценки знаний студентов "]
["Период: c 2014/2015 учебный год II семестр по 2014/2015 учебный год II семестр"]
["Факультет/отделение: Факультет коммуникаций, медиа и дизайна"]
["Направление  подготовки: Направление \"Журналистика\""]
["Уровень образования, номер курса: Бакалавриат 4 курс",null,null,null,null,null,null,null,null," - студенты имеющие задолженности"]
[null,null,null,null,null,null,null,null,"*"," - изучение по ИУП"]
["Место","Номер зачетной книжки","Студент","ID","Группа","Образовательная программа студента","Вид места",null,"2014/2015 учебный год 3 модуль",null,null,null,null,null,null,null,null,null,null,null,null,null,"2014/2015 учебный год 4 модуль",null,null,null,null,null,null,null,"Кредитно-рейтинговая оценка","Нормировочный коэффициент","Сумма всех кредитов ","Нормированная кредитно-рейтинговая оценка","Сумма всех оценок","Количество всех оценок","Средний балл","Минимальный балл","Наличие неудовлетворительных оценок и неявок","Количество удовлетворительных оценок","Номер места"]
[null,null,null,null,null,null,null,null,"Экзамен",null,null,null,null,null,null,null,null,null,null,"Зачет",null,null,"Экзамен",null,null,null,null,"Зачет"]
[null,null,null,null,null,null,null,"Номер Row","Государственная информационная политика","Деловая журналистика","Деловая журналистика","Иностранный язык (английский) (итоговый госэкзамен)","Иностранный язык (английский)","Мастерство ведущего теле- и радио программ","Современные коммуникативные технологии","Теория и практика русского литературного языка","Цифровой кинематограф: новые концепции визуального","Эволюция взаимоотношений медиа и бизнеса в России","Эволюция взаимоотношений медиа и бизнеса в России","Мастерство ведущего теле- и радио программ","Продюсерское мастерство","Цифровой кинематограф: новые концепции визуального","Второй иностранный язык (французский)","Курсовая работа","Междисциплинарный экзамен по направлению подготовки (итоговый госэкзамен)","Подготовка и защита выпускной квалификационной работы","Преддипломная практика","Преддипломная практика","Физическая культура","Физическая культура"]
["Число текущих кредитов:",null,null,null,null,null,null,null,3,5.5,9,3,4,3,5.5,6,3,3,4,3,3,3,4.1399999999999997,5,3,6,5,4,0.17,1]
[1,"1104126","Павленко Валентина Юрьевна",475528836,"447ж","Журналистика","Бюдж",{"$f":"MATCH(D12,Данные!$D:$D,0)","v":76},null,null,10,10,10,null,null,10,null,10,null,null,null,null,null,null,10,10,10,null,null,10,400,{"$f":"IF(AG12 > 0, MAX(AG$12:AG$80) / AG12, 0)","v":1.125},40,{"$f":"AE12*AF12","v":450},90,9,{"$f":"IF(AJ12 > 0,AI12/AJ12,0)","v":10},{"$f":"MIN($I12:AD12)","v":10},null,9,1,"ОК"]
[2,"1114153","Гликин Константин Максимович",475517709,"445ж","Журналистика","Бюдж",{"$f":"MATCH(D13,Данные!$D:$D,0)","v":57},null,null,10,10,10,null,null,9,null,10,null,null,null,null,null,null,10,10,10,null,null,10,394,{"$f":"IF(AG13 > 0, MAX(AG$12:AG$80) / AG13, 0)","v":1.125},40,{"$f":"AE13*AF13","v":443.25},89,9,{"$f":"IF(AJ13 > 0,AI13/AJ13,0)","v":9.8888888888888893},{"$f":"MIN($I13:AD13)","v":9},null,9,2,"ОК"]
[3,"1104101","Агрызкова Юлия Игоревна",475522967,"447ж","Журналистика","Бюдж",{"$f":"MATCH(D14,Данные!$D:$D,0)","v":22},null,null,9,8,10,null,null,8,null,10,null,null,null,null,null,null,10,10,10,null,null,10,373,{"$f":"IF(AG14 > 0, MAX(AG$12:AG$80) / AG14, 0)","v":1.125},40,{"$f":"AE14*AF14","v":419.625},85,9,{"$f":"IF(AJ14 > 0,AI14/AJ14,0)","v":9.4444444444444446},{"$f":"MIN($I14:AD14)","v":8},null,9,3,"ОК"]
[4,"1104132","Разумовская Мария Алексеевна",475529260,"447ж","Журналистика","Бюдж",{"$f":"MATCH(D15,Данные!$D:$D,0)","v":14},10,null,10,9,9,null,null,9,null,null,null,null,null,null,null,null,9,8,10,null,null,10,372,{"$f":"IF(AG15 > 0, MAX(AG$12:AG$80) / AG15, 0)","v":1.125},40,{"$f":"AE15*AF15","v":418.5},84,9,{"$f":"IF(AJ15 > 0,AI15/AJ15,0)","v":9.3333333333333339},{"$f":"MIN($I15:AD15)","v":8},null,9,4,"ОК"]
[5,"1104110","Сорокина Мария Михайловна",475526257,"447ж","Журналистика","Бюдж",{"$f":"MATCH(D16,Данные!$D:$D,0)","v":70},null,null,10,8,8,10,null,8,null,null,null,null,null,null,null,null,10,9,10,null,null,10,368,{"$f":"IF(AG16 > 0, MAX(AG$12:AG$80) / AG16, 0)","v":1.125},40,{"$f":"AE16*AF16","v":414},83,9,{"$f":"IF(AJ16 > 0,AI16/AJ16,0)","v":9.2222222222222214},{"$f":"MIN($I16:AD16)","v":8},null,9,5,"ОК"]
["6 - 7","1104115","Кристалинская Мария Валерьевна",475527155,"447ж","Журналистика","Бюдж",{"$f":"MATCH(D17,Данные!$D:$D,0)","v":72},null,null,9,9,9,null,null,8,null,10,null,null,null,null,null,null,10,9,10,null,null,10,366,{"$f":"IF(AG17 > 0, MAX(AG$12:AG$80) / AG17, 0)","v":1.125},40,{"$f":"AE17*AF17","v":411.75},84,9,{"$f":"IF(AJ17 > 0,AI17/AJ17,0)","v":9.3333333333333339},{"$f":"MIN($I17:AD17)","v":8},null,9,6,"ОК"]
[null,"1114146","Бабаянц Виолетта Владимировна",481545758,"447ж","Журналистика","Комм",{"$f":"MATCH(D18,Данные!$D:$D,0)","v":37},null,null,9,7,10,10,null,9,null,null,null,null,null,null,null,null,10,10,8,null,null,10,366,{"$f":"IF(AG18 > 0, MAX(AG$12:AG$80) / AG18, 0)","v":1.125},40,{"$f":"AE18*AF18","v":411.75},83,9,{"$f":"IF(AJ18 > 0,AI18/AJ18,0)","v":9.2222222222222214},{"$f":"MIN($I18:AD18)","v":7},null,9,7,"ОК"]
[8,"1114185","Ткачук Анфиса Сергеевна",481543686,"446ж","Журналистика","Бюдж",{"$f":"MATCH(D19,Данные!$D:$D,0)","v":34},null,null,8,9,10,null,null,10,9,null,null,null,null,null,null,null,9,8,10,null,null,10,361,{"$f":"IF(AG19 > 0, MAX(AG$12:AG$80) / AG19, 0)","v":1.125},40,{"$f":"AE19*AF19","v":406.125},83,9,{"$f":"IF(AJ19 > 0,AI19/AJ19,0)","v":9.2222222222222214},{"$f":"MIN($I19:AD19)","v":8},null,9,8,"ОК"]
[9,"1104128","Пожидаева Ирина Владимировна",475581231,"446ж","Журналистика","Бюдж",{"$f":"MATCH(D20,Данные!$D:$D,0)","v":63},null,null,9,9,10,null,null,8,10,null,null,null,null,null,null,null,6,9,10,null,null,10,358,{"$f":"IF(AG20 > 0, MAX(AG$12:AG$80) / AG20, 0)","v":1.125},40,{"$f":"AE20*AF20","v":402.75},81,9,{"$f":"IF(AJ20 > 0,AI20/AJ20,0)","v":9},{"$f":"MIN($I20:AD20)","v":6},null,9,9,"ОК"]
["10 - 12","1104139","Фалькон Анастасия Александровна",475529718,"447ж","Журналистика","Бюдж",{"$f":"MATCH(D21,Данные!$D:$D,0)","v":3},10,null,9,10,10,null,null,7,null,null,null,null,null,null,null,null,8,10,8,null,null,10,357,{"$f":"IF(AG21 > 0, MAX(AG$12:AG$80) / AG21, 0)","v":1.125},40,{"$f":"AE21*AF21","v":401.625},82,9,{"$f":"IF(AJ21 > 0,AI21/AJ21,0)","v":9.1111111111111107},{"$f":"MIN($I21:AD21)","v":7},null,9,10,"ОК"]
[null,"1004107","Василиади Елена Христоевна",481546380,"447ж","Журналистика","Комм",{"$f":"MATCH(D22,Данные!$D:$D,0)","v":38},null,null,10,9,10,10,null,8,null,null,null,null,null,null,null,null,6,9,8,null,null,10,357,{"$f":"IF(AG22 > 0, MAX(AG$12:AG$80) / AG22, 0)","v":1.125},40,{"$f":"AE22*AF22","v":401.625},80,9,{"$f":"IF(AJ22 > 0,AI22/AJ22,0)","v":8.8888888888888893},{"$f":"MIN($I22:AD22)","v":6},null,9,11,"ОК"]
[null,"1114176","Романова Юлия Владимировна",481543173,"446ж","Журналистика","Комм",{"$f":"MATCH(D23,Данные!$D:$D,0)","v":33},null,null,9,7,9,null,null,8,10,null,null,null,null,null,null,null,7,10,10,null,null,10,357,{"$f":"IF(AG23 > 0, MAX(AG$12:AG$80) / AG23, 0)","v":1.125},40,{"$f":"AE23*AF23","v":401.625},80,9,{"$f":"IF(AJ23 > 0,AI23/AJ23,0)","v":8.8888888888888893},{"$f":"MIN($I23:AD23)","v":7},null,9,12,"ОК"]
[13,"1104120","Львова Анастасия Артуровна",475528055,"447ж","Журналистика","Бюдж",{"$f":"MATCH(D24,Данные!$D:$D,0)","v":74},null,null,9,10,9,null,null,8,9,null,null,null,null,null,null,null,10,8,9,null,null,10,355,{"$f":"IF(AG24 > 0, MAX(AG$12:AG$80) / AG24, 0)","v":1.125},40,{"$f":"AE24*AF24","v":399.375},82,9,{"$f":"IF(AJ24 > 0,AI24/AJ24,0)","v":9.1111111111111107},{"$f":"MIN($I24:AD24)","v":8},null,9,13,"ОК"]
["14 - 15","1104123","Мухаметдинова Элина Шамилевна",475583224,"447ж","Журналистика","Бюдж",{"$f":"MATCH(D25,Данные!$D:$D,0)","v":13},10,null,8,10,9,null,null,8,null,null,null,null,null,null,null,null,8,9,10,null,null,10,354,{"$f":"IF(AG25 > 0, MAX(AG$12:AG$80) / AG25, 0)","v":1.125},40,{"$f":"AE25*AF25","v":398.25},82,9,{"$f":"IF(AJ25 > 0,AI25/AJ25,0)","v":9.1111111111111107},{"$f":"MIN($I25:AD25)","v":8},null,9,14,"ОК"]
[null,"1104107","Данилова Анастасия Андреевна",481532910,"445ж","Журналистика","Комм",{"$f":"MATCH(D26,Данные!$D:$D,0)","v":7},10,null,8,9,8,null,null,9,null,null,null,null,null,null,null,null,8,10,9,null,null,10,354,{"$f":"IF(AG26 > 0, MAX(AG$12:AG$80) / AG26, 0)","v":1.125},40,{"$f":"AE26*AF26","v":398.25},81,9,{"$f":"IF(AJ26 > 0,AI26/AJ26,0)","v":9},{"$f":"MIN($I26:AD26)","v":8},null,9,15,"ОК"]
["16 - 17","1104127","Пенкина Анастасия Валерьевна",475521309,"446ж","Журналистика","Бюдж",{"$f":"MATCH(D27,Данные!$D:$D,0)","v":86},null,null,8,10,10,null,null,10,8,null,null,null,null,null,null,null,9,8,8,null,null,10,351,{"$f":"IF(AG27 > 0, MAX(AG$12:AG$80) / AG27, 0)","v":1.125},40,{"$f":"AE27*AF27","v":394.875},81,9,{"$f":"IF(AJ27 > 0,AI27/AJ27,0)","v":9},{"$f":"MIN($I27:AD27)","v":8},null,9,16,"ОК"]
[null,"1114186","Федотова Елена Андреевна",481544213,"446ж","Журналистика","Комм",{"$f":"MATCH(D28,Данные!$D:$D,0)","v":35},null,null,9,9,9,null,null,6,8,null,null,null,null,null,null,null,9,10,10,null,null,10,351,{"$f":"IF(AG28 > 0, MAX(AG$12:AG$80) / AG28, 0)","v":1.125},40,{"$f":"AE28*AF28","v":394.875},80,9,{"$f":"IF(AJ28 > 0,AI28/AJ28,0)","v":8.8888888888888893},{"$f":"MIN($I28:AD28)","v":6},null,9,17,"ОК"]
[18,"1114163","Кардаш Матвей Борисович",481548650,"447ж","Журналистика","Комм",{"$f":"MATCH(D29,Данные!$D:$D,0)","v":41},null,null,9,8,9,8,null,7,null,null,null,null,null,null,null,null,7,10,10,null,null,10,348,{"$f":"IF(AG29 > 0, MAX(AG$12:AG$80) / AG29, 0)","v":1.125},40,{"$f":"AE29*AF29","v":391.5},78,9,{"$f":"IF(AJ29 > 0,AI29/AJ29,0)","v":8.6666666666666661},{"$f":"MIN($I29:AD29)","v":7},null,9,18,"ОК"]
[19,"1104134","Рыхлик Наталья Николаевна",475519583,"445ж","Журналистика","Бюдж",{"$f":"MATCH(D30,Данные!$D:$D,0)","v":82},null,null,8,7,9,null,null,10,10,null,null,null,null,null,null,null,8,8,9,null,null,10,346,{"$f":"IF(AG30 > 0, MAX(AG$12:AG$80) / AG30, 0)","v":1.125},40,{"$f":"AE30*AF30","v":389.25},79,9,{"$f":"IF(AJ30 > 0,AI30/AJ30,0)","v":8.7777777777777786},{"$f":"MIN($I30:AD30)","v":7},null,9,19,"ОК"]
[20,"1104108","Донцова Анна Юрьевна",475525818,"447ж","Журналистика","Бюдж",{"$f":"MATCH(D31,Данные!$D:$D,0)","v":69},null,null,9,7,9,null,null,8,null,10,null,null,null,null,null,null,7,8,10,null,null,10,345,{"$f":"IF(AG31 > 0, MAX(AG$12:AG$80) / AG31, 0)","v":1.125},40,{"$f":"AE31*AF31","v":388.125},78,9,{"$f":"IF(AJ31 > 0,AI31/AJ31,0)","v":8.6666666666666661},{"$f":"MIN($I31:AD31)","v":7},null,9,20,"ОК"]
["21 - 22","1104102","Акумова Анна Дмитриевна",475523457,"447ж","Журналистика","Бюдж",{"$f":"MATCH(D32,Данные!$D:$D,0)","v":23},null,null,7,10,10,null,null,8,9,null,null,null,null,null,null,null,7,10,9,null,null,10,344,{"$f":"IF(AG32 > 0, MAX(AG$12:AG$80) / AG32, 0)","v":1.125},40,{"$f":"AE32*AF32","v":387},80,9,{"$f":"IF(AJ32 > 0,AI32/AJ32,0)","v":8.8888888888888893},{"$f":"MIN($I32:AD32)","v":7},null,9,21,"ОК"]
[null,"1114180","Самарина Евгения Олеговна",481550428,"447ж","Журналистика","Комм",{"$f":"MATCH(D33,Данные!$D:$D,0)","v":27},null,null,10,7,8,9,null,7,null,null,null,null,null,null,null,null,10,7,10,null,null,10,344,{"$f":"IF(AG33 > 0, MAX(AG$12:AG$80) / AG33, 0)","v":1.125},40,{"$f":"AE33*AF33","v":387},78,9,{"$f":"IF(AJ33 > 0,AI33/AJ33,0)","v":8.6666666666666661},{"$f":"MIN($I33:AD33)","v":7},null,9,22,"ОК"]
[23,"1104113","Ихно Дарья Сергеевна",475526751,"447ж","Журналистика","Бюдж",{"$f":"MATCH(D34,Данные!$D:$D,0)","v":71},null,null,7,8,10,null,null,9,10,null,null,null,null,null,null,null,8,8,10,null,null,10,343,{"$f":"IF(AG34 > 0, MAX(AG$12:AG$80) / AG34, 0)","v":1.125},40,{"$f":"AE34*AF34","v":385.875},80,9,{"$f":"IF(AJ34 > 0,AI34/AJ34,0)","v":8.8888888888888893},{"$f":"MIN($I34:AD34)","v":7},null,9,23,"ОК"]
[24,"1114149","Вергазова Анна Тимуровна",481546960,"447ж","Журналистика","Комм",{"$f":"MATCH(D35,Данные!$D:$D,0)","v":39},null,null,9,10,8,null,null,8,null,10,null,null,null,null,null,null,10,6,9,null,null,10,342,{"$f":"IF(AG35 > 0, MAX(AG$12:AG$80) / AG35, 0)","v":1.125},40,{"$f":"AE35*AF35","v":384.75},80,9,{"$f":"IF(AJ35 > 0,AI35/AJ35,0)","v":8.8888888888888893},{"$f":"MIN($I35:AD35)","v":6},null,9,24,"ОК"]
["25 - 26","1104114","Козырев Макар Денисович",475520112,"446ж","Журналистика","Бюдж",{"$f":"MATCH(D36,Данные!$D:$D,0)","v":16},9,null,7,10,10,null,null,6,null,null,null,null,null,null,null,null,10,10,9,null,null,10,341,{"$f":"IF(AG36 > 0, MAX(AG$12:AG$80) / AG36, 0)","v":1.125},40,{"$f":"AE36*AF36","v":383.625},81,9,{"$f":"IF(AJ36 > 0,AI36/AJ36,0)","v":9},{"$f":"MIN($I36:AD36)","v":6},null,9,25,"ОК"]
[null,"1104141","Чумакова Инга Константиновна",475530733,"447ж","Журналистика","Бюдж",{"$f":"MATCH(D37,Данные!$D:$D,0)","v":79},null,null,7,8,10,null,null,8,9,null,null,null,null,null,null,null,8,10,9,null,null,10,341,{"$f":"IF(AG37 > 0, MAX(AG$12:AG$80) / AG37, 0)","v":1.125},40,{"$f":"AE37*AF37","v":383.625},79,9,{"$f":"IF(AJ37 > 0,AI37/AJ37,0)","v":8.7777777777777786},{"$f":"MIN($I37:AD37)","v":7},null,9,26,"ОК"]
["27 - 28","1104103","Бочарова Анастасия Денисовна",475524374,"447ж","Журналистика","Бюдж",{"$f":"MATCH(D38,Данные!$D:$D,0)","v":67},null,null,8,7,9,null,null,8,null,9,null,null,null,null,null,null,7,9,10,null,null,10,339,{"$f":"IF(AG38 > 0, MAX(AG$12:AG$80) / AG38, 0)","v":1.125},40,{"$f":"AE38*AF38","v":381.375},77,9,{"$f":"IF(AJ38 > 0,AI38/AJ38,0)","v":8.5555555555555554},{"$f":"MIN($I38:AD38)","v":7},null,9,27,"ОК"]
[null,"1104129","Полибенцева Анна Владимировна",475521694,"446ж","Журналистика","Бюдж",{"$f":"MATCH(D39,Данные!$D:$D,0)","v":87},null,null,9,8,9,null,null,8,8,null,null,null,null,null,null,null,8,7,10,null,null,10,339,{"$f":"IF(AG39 > 0, MAX(AG$12:AG$80) / AG39, 0)","v":1.125},40,{"$f":"AE39*AF39","v":381.375},77,9,{"$f":"IF(AJ39 > 0,AI39/AJ39,0)","v":8.5555555555555554},{"$f":"MIN($I39:AD39)","v":7},null,9,28,"ОК"]
["29 - 30","1104116","Кудряшова Юлия Ивановна",475527601,"447ж","Журналистика","Бюдж",{"$f":"MATCH(D40,Данные!$D:$D,0)","v":73},null,null,8,7,8,null,null,7,null,10,null,null,null,null,null,null,9,9,10,null,null,10,338,{"$f":"IF(AG40 > 0, MAX(AG$12:AG$80) / AG40, 0)","v":1.125},40,{"$f":"AE40*AF40","v":380.25},78,9,{"$f":"IF(AJ40 > 0,AI40/AJ40,0)","v":8.6666666666666661},{"$f":"MIN($I40:AD40)","v":7},null,9,29,"ОК"]
[null,"1104131","Понтус Юлия Игоревна",475522118,"446ж","Журналистика","Бюдж",{"$f":"MATCH(D41,Данные!$D:$D,0)","v":20},null,null,9,7,9,null,null,8,null,10,null,null,null,null,null,null,6,9,8,null,null,10,338,{"$f":"IF(AG41 > 0, MAX(AG$12:AG$80) / AG41, 0)","v":1.125},40,{"$f":"AE41*AF41","v":380.25},76,9,{"$f":"IF(AJ41 > 0,AI41/AJ41,0)","v":8.4444444444444446},{"$f":"MIN($I41:AD41)","v":6},null,9,30,"ОК"]
[31,"1114147","Васильева Маргарита Николаевна",475517232,"445ж","Журналистика","Бюдж",{"$f":"MATCH(D42,Данные!$D:$D,0)","v":56},null,null,5,9,10,null,null,8,10,null,null,null,null,null,null,null,9,10,9,null,null,10,332,{"$f":"IF(AG42 > 0, MAX(AG$12:AG$80) / AG42, 0)","v":1.125},40,{"$f":"AE42*AF42","v":373.5},80,9,{"$f":"IF(AJ42 > 0,AI42/AJ42,0)","v":8.8888888888888893},{"$f":"MIN($I42:AD42)","v":5},null,9,31,"ОК"]
[32,"1104109","Дюкарева Мария Юрьевна",475518127,"445ж","Журналистика","Бюдж",{"$f":"MATCH(D43,Данные!$D:$D,0)","v":9},9,null,7,9,10,null,null,8,9,null,null,null,null,null,null,null,7,8,9,null,null,10,356,{"$f":"IF(AG43 > 0, MAX(AG$12:AG$80) / AG43, 0)","v":1.0465116279069768},43,{"$f":"AE43*AF43","v":372.55813953488376},86,10,{"$f":"IF(AJ43 > 0,AI43/AJ43,0)","v":8.6},{"$f":"MIN($I43:AD43)","v":7},null,10,32,"ОК"]
[33,"1114175","Реутова Полина Сергеевна",481542689,"446ж","Журналистика","Комм",{"$f":"MATCH(D44,Данные!$D:$D,0)","v":5},9,null,8,7,8,null,null,9,null,null,null,null,null,null,null,null,7,8,9,null,null,10,330,{"$f":"IF(AG44 > 0, MAX(AG$12:AG$80) / AG44, 0)","v":1.125},40,{"$f":"AE44*AF44","v":371.25},75,9,{"$f":"IF(AJ44 > 0,AI44/AJ44,0)","v":8.3333333333333339},{"$f":"MIN($I44:AD44)","v":7},null,9,33,"ОК"]
[34,"1104124","Нагдалиева Злата Фархадовна",475520518,"446ж","Журналистика","Бюдж",{"$f":"MATCH(D45,Данные!$D:$D,0)","v":84},null,null,7,6,10,null,null,8,8,null,null,null,null,null,null,null,8,10,8,null,null,10,327,{"$f":"IF(AG45 > 0, MAX(AG$12:AG$80) / AG45, 0)","v":1.125},40,{"$f":"AE45*AF45","v":367.875},75,9,{"$f":"IF(AJ45 > 0,AI45/AJ45,0)","v":8.3333333333333339},{"$f":"MIN($I45:AD45)","v":6},null,9,34,"ОК"]
[35,"1114162","Калачина Анна Андреевна",481534499,"445ж","Журналистика","Комм",{"$f":"MATCH(D46,Данные!$D:$D,0)","v":48},null,null,7,9,10,null,null,7,9,null,null,null,null,null,null,null,10,7,9,null,null,10,326,{"$f":"IF(AG46 > 0, MAX(AG$12:AG$80) / AG46, 0)","v":1.125},40,{"$f":"AE46*AF46","v":366.75},78,9,{"$f":"IF(AJ46 > 0,AI46/AJ46,0)","v":8.6666666666666661},{"$f":"MIN($I46:AD46)","v":7},null,9,35,"ОК"]
[36,"1114152","Гербер Александр Романович",481539788,"446ж","Журналистика","Комм",{"$f":"MATCH(D47,Данные!$D:$D,0)","v":53},null,null,8,8,10,8,null,8,null,null,null,null,null,null,null,null,8,7,8,null,null,10,324,{"$f":"IF(AG47 > 0, MAX(AG$12:AG$80) / AG47, 0)","v":1.125},40,{"$f":"AE47*AF47","v":364.5},75,9,{"$f":"IF(AJ47 > 0,AI47/AJ47,0)","v":8.3333333333333339},{"$f":"MIN($I47:AD47)","v":7},null,9,36,"ОК"]
["37 - 38","1114145","Асекритова Екатерина Александровна",481545222,"447ж","Журналистика","Комм",{"$f":"MATCH(D48,Данные!$D:$D,0)","v":36},null,null,8,10,8,null,null,8,null,10,null,null,null,null,null,null,7,5,10,null,null,10,323,{"$f":"IF(AG48 > 0, MAX(AG$12:AG$80) / AG48, 0)","v":1.125},40,{"$f":"AE48*AF48","v":363.375},76,9,{"$f":"IF(AJ48 > 0,AI48/AJ48,0)","v":8.4444444444444446},{"$f":"MIN($I48:AD48)","v":5},null,9,37,"ОК"]
[null,"1114184","Старкова Ольга Андреевна",481536522,"445ж","Журналистика","Комм",{"$f":"MATCH(D49,Данные!$D:$D,0)","v":52},null,null,6,9,9,null,null,8,8,null,null,null,null,null,null,null,8,10,8,null,null,10,323,{"$f":"IF(AG49 > 0, MAX(AG$12:AG$80) / AG49, 0)","v":1.125},40,{"$f":"AE49*AF49","v":363.375},76,9,{"$f":"IF(AJ49 > 0,AI49/AJ49,0)","v":8.4444444444444446},{"$f":"MIN($I49:AD49)","v":6},null,9,38,"ОК"]
[39,"1104143","Юхим Оксана Михайловна",475531344,"447ж","Журналистика","Бюдж",{"$f":"MATCH(D50,Данные!$D:$D,0)","v":55},null,null,8,10,9,8,null,7,null,null,null,null,null,null,null,null,7,7,9,null,null,10,322,{"$f":"IF(AG50 > 0, MAX(AG$12:AG$80) / AG50, 0)","v":1.125},40,{"$f":"AE50*AF50","v":362.25},75,9,{"$f":"IF(AJ50 > 0,AI50/AJ50,0)","v":8.3333333333333339},{"$f":"MIN($I50:AD50)","v":7},null,9,39,"ОК"]
["40 - 41","1114181","Сарвина Наталья Александровна",481536005,"445ж","Журналистика","Комм",{"$f":"MATCH(D51,Данные!$D:$D,0)","v":51},null,null,7,5,8,null,null,8,null,10,null,null,null,null,null,null,10,8,9,null,null,10,321,{"$f":"IF(AG51 > 0, MAX(AG$12:AG$80) / AG51, 0)","v":1.125},40,{"$f":"AE51*AF51","v":361.125},75,9,{"$f":"IF(AJ51 > 0,AI51/AJ51,0)","v":8.3333333333333339},{"$f":"MIN($I51:AD51)","v":5},null,9,40,"ОК"]
[null,"1114172","Мозжерова Анна Сергеевна",481541627,"446ж","Журналистика","Комм",{"$f":"MATCH(D52,Данные!$D:$D,0)","v":18},8,null,7,5,9,null,null,7,null,null,null,null,null,null,null,null,9,9,10,null,null,10,321,{"$f":"IF(AG52 > 0, MAX(AG$12:AG$80) / AG52, 0)","v":1.125},40,{"$f":"AE52*AF52","v":361.125},74,9,{"$f":"IF(AJ52 > 0,AI52/AJ52,0)","v":8.2222222222222214},{"$f":"MIN($I52:AD52)","v":5},null,9,41,"ОК"]
[42,"1114171","Мирошкина Дарья Александровна",481549768,"447ж","Журналистика","Комм",{"$f":"MATCH(D53,Данные!$D:$D,0)","v":26},null,null,9,6,7,null,null,4,null,10,null,null,null,null,null,null,8,9,10,null,null,10,319,{"$f":"IF(AG53 > 0, MAX(AG$12:AG$80) / AG53, 0)","v":1.125},40,{"$f":"AE53*AF53","v":358.875},73,9,{"$f":"IF(AJ53 > 0,AI53/AJ53,0)","v":8.1111111111111107},{"$f":"MIN($I53:AD53)","v":4},null,9,42,"ОК"]
["43 - 46","1114166","Латынин Антон Валерьевич",475519046,"445ж","Журналистика","Бюдж",{"$f":"MATCH(D54,Данные!$D:$D,0)","v":15},10,null,7,7,8,null,null,7,null,null,null,null,null,null,null,null,10,8,8,null,null,10,316,{"$f":"IF(AG54 > 0, MAX(AG$12:AG$80) / AG54, 0)","v":1.125},40,{"$f":"AE54*AF54","v":355.5},75,9,{"$f":"IF(AJ54 > 0,AI54/AJ54,0)","v":8.3333333333333339},{"$f":"MIN($I54:AD54)","v":7},null,9,43,"ОК"]
[null,"1104135","Соловьева Маргарита Владимировна",475584015,"447ж","Журналистика","Бюдж",{"$f":"MATCH(D55,Данные!$D:$D,0)","v":42},null,null,7,8,9,null,null,6,null,10,null,null,null,null,null,null,8,8,9,null,null,10,316,{"$f":"IF(AG55 > 0, MAX(AG$12:AG$80) / AG55, 0)","v":1.125},40,{"$f":"AE55*AF55","v":355.5},75,9,{"$f":"IF(AJ55 > 0,AI55/AJ55,0)","v":8.3333333333333339},{"$f":"MIN($I55:AD55)","v":6},null,9,44,"ОК"]
[null,"1114192","Асангулова Рахат Талантбековна",475523923,"447ж","Журналистика","Бюдж",{"$f":"MATCH(D56,Данные!$D:$D,0)","v":4},10,null,7,8,7,null,null,7,null,null,null,null,null,null,null,null,5,9,10,null,null,10,316,{"$f":"IF(AG56 > 0, MAX(AG$12:AG$80) / AG56, 0)","v":1.125},40,{"$f":"AE56*AF56","v":355.5},73,9,{"$f":"IF(AJ56 > 0,AI56/AJ56,0)","v":8.1111111111111107},{"$f":"MIN($I56:AD56)","v":5},null,9,45,"ОК"]
[null,"1104111","Зайцева Екатерина Николаевна",475518599,"445ж","Журналистика","Бюдж",{"$f":"MATCH(D57,Данные!$D:$D,0)","v":80},null,null,10,7,8,null,null,7,8,null,null,null,null,null,null,null,5,7,8,null,null,10,316,{"$f":"IF(AG57 > 0, MAX(AG$12:AG$80) / AG57, 0)","v":1.125},40,{"$f":"AE57*AF57","v":355.5},70,9,{"$f":"IF(AJ57 > 0,AI57/AJ57,0)","v":7.7777777777777777},{"$f":"MIN($I57:AD57)","v":5},null,9,46,"ОК"]
["47 - 49","1114168","Мальцева Елизавета Олеговна",481541119,"446ж","Журналистика","Комм",{"$f":"MATCH(D58,Данные!$D:$D,0)","v":29},null,null,6,7,9,null,null,6,null,10,null,null,null,null,null,null,10,8,10,null,null,10,315,{"$f":"IF(AG58 > 0, MAX(AG$12:AG$80) / AG58, 0)","v":1.125},40,{"$f":"AE58*AF58","v":354.375},76,9,{"$f":"IF(AJ58 > 0,AI58/AJ58,0)","v":8.4444444444444446},{"$f":"MIN($I58:AD58)","v":6},null,9,47,"ОК"]
[null,"1114157","Егорова Анна Андреевна",481533400,"445ж","Журналистика","Комм",{"$f":"MATCH(D59,Данные!$D:$D,0)","v":46},null,null,7,6,10,null,null,8,10,null,null,null,null,null,null,null,8,7,8,null,null,10,315,{"$f":"IF(AG59 > 0, MAX(AG$12:AG$80) / AG59, 0)","v":1.125},40,{"$f":"AE59*AF59","v":354.375},74,9,{"$f":"IF(AJ59 > 0,AI59/AJ59,0)","v":8.2222222222222214},{"$f":"MIN($I59:AD59)","v":6},null,9,48,"ОК"]
[null,"1114167","Лукьянов Алексей Константинович",481534976,"445ж","Журналистика","Комм",{"$f":"MATCH(D60,Данные!$D:$D,0)","v":49},null,null,7,9,10,null,null,8,8,null,null,null,null,null,null,null,7,7,8,null,null,10,315,{"$f":"IF(AG60 > 0, MAX(AG$12:AG$80) / AG60, 0)","v":1.125},40,{"$f":"AE60*AF60","v":354.375},74,9,{"$f":"IF(AJ60 > 0,AI60/AJ60,0)","v":8.2222222222222214},{"$f":"MIN($I60:AD60)","v":7},null,9,49,"ОК"]
[50,"100036617","Зиятдинова Раина Рамилевна",475579340,"445ж","Журналистика","Бюдж",{"$f":"MATCH(D61,Данные!$D:$D,0)","v":60},null,null,6,7,9,null,null,6,10,null,null,null,null,null,null,null,7,10,9,null,null,10,313,{"$f":"IF(AG61 > 0, MAX(AG$12:AG$80) / AG61, 0)","v":1.125},40,{"$f":"AE61*AF61","v":352.125},74,9,{"$f":"IF(AJ61 > 0,AI61/AJ61,0)","v":8.2222222222222214},{"$f":"MIN($I61:AD61)","v":6},null,9,50,"ОК"]
[51,"1104104","Гернеза Варвара Андреевна",475524972,"447ж","Журналистика","Бюдж",{"$f":"MATCH(D62,Данные!$D:$D,0)","v":68},null,null,8,6,8,9,null,6,null,null,null,null,null,null,null,null,8,7,10,null,null,10,311,{"$f":"IF(AG62 > 0, MAX(AG$12:AG$80) / AG62, 0)","v":1.125},40,{"$f":"AE62*AF62","v":349.875},72,9,{"$f":"IF(AJ62 > 0,AI62/AJ62,0)","v":8},{"$f":"MIN($I62:AD62)","v":6},null,9,51,"ОК"]
["52 - 53","1104121","Максимов Егор Игоревич",475528458,"447ж","Журналистика","Бюдж",{"$f":"MATCH(D63,Данные!$D:$D,0)","v":75},null,null,8,8,9,8,null,5,null,null,null,null,null,null,null,null,9,7,9,null,null,10,310,{"$f":"IF(AG63 > 0, MAX(AG$12:AG$80) / AG63, 0)","v":1.125},40,{"$f":"AE63*AF63","v":348.75},73,9,{"$f":"IF(AJ63 > 0,AI63/AJ63,0)","v":8.1111111111111107},{"$f":"MIN($I63:AD63)","v":5},null,9,52,"ОК"]
[null,"11102454","Гудова Юлия Викторовна",481532512,"445ж","Журналистика","Комм",{"$f":"MATCH(D64,Данные!$D:$D,0)","v":6},9,null,8,6,9,null,null,7,null,null,null,null,null,null,9,null,4,8,9,null,null,10,310,{"$f":"IF(AG64 > 0, MAX(AG$12:AG$80) / AG64, 0)","v":1.125},40,{"$f":"AE64*AF64","v":348.75},79,10,{"$f":"IF(AJ64 > 0,AI64/AJ64,0)","v":7.9},{"$f":"MIN($I64:AD64)","v":4},null,10,53,"ОК"]
[54,"1114144","Андреева Мария Дмитриевна",475582475,"447ж","Журналистика","Комм",{"$f":"MATCH(D65,Данные!$D:$D,0)","v":65},null,null,6,6,8,null,null,7,null,10,null,null,null,null,null,null,6,9,10,null,null,10,308,{"$f":"IF(AG65 > 0, MAX(AG$12:AG$80) / AG65, 0)","v":1.125},40,{"$f":"AE65*AF65","v":346.5},72,9,{"$f":"IF(AJ65 > 0,AI65/AJ65,0)","v":8},{"$f":"MIN($I65:AD65)","v":6},null,9,54,"ОК"]
[55,"1104125","Носик Виктория Павловна",475520912,"446ж","Журналистика","Бюдж",{"$f":"MATCH(D66,Данные!$D:$D,0)","v":85},null,null,7,9,10,null,null,7,8,null,null,null,null,null,null,null,6,7,8,null,null,10,306,{"$f":"IF(AG66 > 0, MAX(AG$12:AG$80) / AG66, 0)","v":1.125},40,{"$f":"AE66*AF66","v":344.25},72,9,{"$f":"IF(AJ66 > 0,AI66/AJ66,0)","v":8},{"$f":"MIN($I66:AD66)","v":6},null,9,55,"ОК"]
[56,"10151075","Николаева Ирина Александровна",481542172,"446ж","Журналистика","Комм",{"$f":"MATCH(D67,Данные!$D:$D,0)","v":31},null,null,7,9,9,8,null,6,null,null,null,null,null,null,null,null,7,8,8,null,null,10,305,{"$f":"IF(AG67 > 0, MAX(AG$12:AG$80) / AG67, 0)","v":1.125},40,{"$f":"AE67*AF67","v":343.125},72,9,{"$f":"IF(AJ67 > 0,AI67/AJ67,0)","v":8},{"$f":"MIN($I67:AD67)","v":6},null,9,56,"ОК"]
[57,"1114170","Милушкова Полина Юрьевна",481549226,"447ж","Журналистика","Комм",{"$f":"MATCH(D68,Данные!$D:$D,0)","v":25},null,null,4,7,8,null,null,6,9,null,null,null,null,null,null,null,8,10,10,null,null,10,296,{"$f":"IF(AG68 > 0, MAX(AG$12:AG$80) / AG68, 0)","v":1.125},40,{"$f":"AE68*AF68","v":333},72,9,{"$f":"IF(AJ68 > 0,AI68/AJ68,0)","v":8},{"$f":"MIN($I68:AD68)","v":4},null,9,57,"ОК"]
[58,"1104142","Шанталова Александра Спартаковна",475522503,"446ж","Журналистика","Бюдж",{"$f":"MATCH(D69,Данные!$D:$D,0)","v":17},8,null,6,8,9,null,null,4,null,null,null,null,null,null,null,null,8,9,9,null,null,10,295,{"$f":"IF(AG69 > 0, MAX(AG$12:AG$80) / AG69, 0)","v":1.125},40,{"$f":"AE69*AF69","v":331.875},71,9,{"$f":"IF(AJ69 > 0,AI69/AJ69,0)","v":7.8888888888888893},{"$f":"MIN($I69:AD69)","v":4},null,9,58,"ОК"]
[59,"1104140","Хачатрян Ангелина Владиславовна",475530257,"447ж","Журналистика","Бюдж",{"$f":"MATCH(D70,Данные!$D:$D,0)","v":78},null,null,5,8,8,null,null,6,null,10,null,null,null,null,null,null,7,7,10,null,null,10,290,{"$f":"IF(AG70 > 0, MAX(AG$12:AG$80) / AG70, 0)","v":1.125},40,{"$f":"AE70*AF70","v":326.25},71,9,{"$f":"IF(AJ70 > 0,AI70/AJ70,0)","v":7.8888888888888893},{"$f":"MIN($I70:AD70)","v":5},null,9,59,"ОК"]
[60,"1104133","Рыженкова Майя Ильинична",481535470,"445ж","Журналистика","Комм",{"$f":"MATCH(D71,Данные!$D:$D,0)","v":50},null,null,7,8,8,null,null,5,null,9,null,null,null,null,null,null,6,7,8,null,null,10,286,{"$f":"IF(AG71 > 0, MAX(AG$12:AG$80) / AG71, 0)","v":1.125},40,{"$f":"AE71*AF71","v":321.75},68,9,{"$f":"IF(AJ71 > 0,AI71/AJ71,0)","v":7.5555555555555554},{"$f":"MIN($I71:AD71)","v":5},null,9,60,"ОК"]
[61,"1104137","Трубицына Александра Викторовна",475584653,"447ж","Журналистика","Комм",{"$f":"MATCH(D72,Данные!$D:$D,0)","v":43},null,null,7,5,8,8,null,7,null,null,null,null,null,null,null,"6 *",7,4,10,null,null,10,311,{"$f":"IF(AG72 > 0, MAX(AG$12:AG$80) / AG72, 0)","v":1},45,{"$f":"AE72*AF72","v":311},72,10,{"$f":"IF(AJ72 > 0,AI72/AJ72,0)","v":7.2},{"$f":"MIN($I72:AD72)","v":4},null,10,61,"ОК"]
["62 - 63","1114160","Игнатчук Ольга Ивановна",481548074,"447ж","Журналистика","Комм",{"$f":"MATCH(D73,Данные!$D:$D,0)","v":40},null,null,6,7,7,7,null,4,null,null,null,null,null,null,null,null,6,8,10,null,null,10,274,{"$f":"IF(AG73 > 0, MAX(AG$12:AG$80) / AG73, 0)","v":1.125},40,{"$f":"AE73*AF73","v":308.25},65,9,{"$f":"IF(AJ73 > 0,AI73/AJ73,0)","v":7.2222222222222223},{"$f":"MIN($I73:AD73)","v":4},null,9,62,"ОК"]
[null,"1114159","Заикина Полина Никитична",481533939,"445ж","Журналистика","Комм",{"$f":"MATCH(D74,Данные!$D:$D,0)","v":8},6,null,6,6,9,null,null,6,null,null,null,null,null,null,null,null,5,7,9,null,null,10,274,{"$f":"IF(AG74 > 0, MAX(AG$12:AG$80) / AG74, 0)","v":1.125},40,{"$f":"AE74*AF74","v":308.25},64,9,{"$f":"IF(AJ74 > 0,AI74/AJ74,0)","v":7.1111111111111107},{"$f":"MIN($I74:AD74)","v":5},null,9,63,"ОК"]
[64,"1114161","Казокина Александра Сергеевна",475579737,"445ж","Журналистика","Комм",{"$f":"MATCH(D75,Данные!$D:$D,0)","v":11},7,null,7,6,9,null,null,4,9,null,null,null,null,null,null,null,4,6,9,null,null,10,292,{"$f":"IF(AG75 > 0, MAX(AG$12:AG$80) / AG75, 0)","v":1.0465116279069768},43,{"$f":"AE75*AF75","v":305.58139534883725},71,10,{"$f":"IF(AJ75 > 0,AI75/AJ75,0)","v":7.1},{"$f":"MIN($I75:AD75)","v":4},null,10,64,"ОК"]
[65,"1114191","Кречетова Ангелина Олеговна",475580447,"445ж","Журналистика","Комм",{"$f":"MATCH(D76,Данные!$D:$D,0)","v":62},null,null,4,6,9,null,null,2,null,10,null,null,null,null,null,null,8,8,10,null,null,10,264,{"$f":"IF(AG76 > 0, MAX(AG$12:AG$80) / AG76, 0)","v":1.125},40,{"$f":"AE76*AF76","v":297},67,9,{"$f":"IF(AJ76 > 0,AI76/AJ76,0)","v":7.4444444444444446},{"$f":"MIN($I76:AD76)","v":2},"Да",8,65,"ОК"]
[66,"1114154","Голиков Александр Вячеславович",475578675,"445ж","Журналистика","Комм",{"$f":"MATCH(D77,Данные!$D:$D,0)","v":10},5,null,6,8,9,null,null,4,null,null,null,null,null,null,null,null,6,7,8,null,null,10,263,{"$f":"IF(AG77 > 0, MAX(AG$12:AG$80) / AG77, 0)","v":1.125},40,{"$f":"AE77*AF77","v":295.875},63,9,{"$f":"IF(AJ77 > 0,AI77/AJ77,0)","v":7},{"$f":"MIN($I77:AD77)","v":4},null,9,66,"ОК"]
[67,"1114164","Кириллов Евгений Александрович",481540398,"446ж","Журналистика","Комм",{"$f":"MATCH(D78,Данные!$D:$D,0)","v":54},null,null,6,8,8,6,null,4,null,null,null,null,null,null,null,null,6,7,8,null,null,10,262,{"$f":"IF(AG78 > 0, MAX(AG$12:AG$80) / AG78, 0)","v":1.125},40,{"$f":"AE78*AF78","v":294.75},63,9,{"$f":"IF(AJ78 > 0,AI78/AJ78,0)","v":7},{"$f":"MIN($I78:AD78)","v":4},null,9,67,"ОК"]
[68,"1114148","Васильева Анастасия Руслановна",475581664,"446ж","Журналистика","Комм",{"$f":"MATCH(D79,Данные!$D:$D,0)","v":12},7,null,2,10,8,null,null,3,null,null,null,null,null,null,null,null,9,8,9,null,null,10,249,{"$f":"IF(AG79 > 0, MAX(AG$12:AG$80) / AG79, 0)","v":1.125},40,{"$f":"AE79*AF79","v":280.125},66,9,{"$f":"IF(AJ79 > 0,AI79/AJ79,0)","v":7.333333333333333},{"$f":"MIN($I79:AD79)","v":2},"Да",7,68,"ОК"]
[69,"2804108","Белодедова Маргарита Геннадьевна",972492801,"446ж","Журналистика","Комм",{"$f":"MATCH(D80,Данные!$D:$D,0)","v":19},null,4,null,6,6,null,6,4,null,null,6,6,4,9,null,null,null,null,null,7,10,null,231.7,{"$f":"IF(AG80 > 0, MAX(AG$12:AG$80) / AG80, 0)","v":1.0930289045421422},41.17,{"$f":"AE80*AF80","v":253.25479718241434},68,11,{"$f":"IF(AJ80 > 0,AI80/AJ80,0)","v":6.1818181818181817},{"$f":"MIN($I80:AD80)","v":4},null,11,69,"ОК"]

{"sheet":"Данные","index":1,"n_rows":629,"n_cols":23,"rows_kept":629,"cut":false,"hidden":true,"merged":[]}
["ID","Оценка из 10 баллов до пересдач","Группа","Студент","Фамилия","Имя","Отчество","Номер студенческого билета","Строка учебного плана","Текущих кредитов за испытание","Вид испытания","Календарный период по плану","Неявка до пересдач","В текущий рейтинг","Текущих кредитов для студента","Оценка зачет/незачет до пересдач","Является бюджетным","Учебный план","Вид записи РУП","Вид записи ИУП","Номер Row"]
[1,2,3,4,5,6,7,8,9,10,11,12,13,14,15,16,17,18,19,20,21]
[565790801,10,"447ж",475529718,"Фалькон","Анастасия","Александровна","1104139","Государственная информационная политика",3,"Экзамен","2014/2015 учебный год 3 модуль",null,30,3,1,1,414659754,2098,null,"stChoosen","Журналистика",{"$f":"MATCH(D3,Отчет!$D:$D,0)","v":21}]
[565790781,10,"447ж",475523923,"Асангулова","Рахат","Талантбековна","1114192","Государственная информационная политика",3,"Экзамен","2014/2015 учебный год 3 модуль",null,30,3,1,1,414659754,2098,null,"stChoosen","Журналистика",{"$f":"MATCH(D4,Отчет!$D:$D,0)","v":56}]
[565790773,9,"446ж",481542689,"Реутова","Полина","Сергеевна","1114175","Государственная информационная политика",3,"Экзамен","2014/2015 учебный год 3 модуль",null,27,3,1,0,414659754,2098,null,"stChoosen","Журналистика",{"$f":"MATCH(D5,Отчет!$D:$D,0)","v":44}]
[716901653,9,"445ж",481532512,"Гудова","Юлия","Викторовна","11102454","Государственная информационная политика",3,"Экзамен","2014/2015 учебный год 3 модуль",null,27,3,1,0,414659754,2098,null,"stChoosen","Журналистика",{"$f":"MATCH(D6,Отчет!$D:$D,0)","v":64}]
[565790745,10,"445ж",481532910,"Данилова","Анастасия","Андреевна","1104107","Государственная информационная политика",3,"Экзамен","2014/2015 учебный год 3 модуль",null,30,3,1,0,414659754,2098,null,"stChoosen","Журналистика",{"$f":"MATCH(D7,Отчет!$D:$D,0)","v":26}]
[565790749,6,"445ж",481533939,"Заикина","Полина","Никитична","1114159","Государственная информационная политика",3,"Экзамен","2014/2015 учебный год 3 модуль",null,18,3,1,0,414659754,2098,null,"stChoosen","Журналистика",{"$f":"MATCH(D8,Отчет!$D:$D,0)","v":74}]
[716219712,9,"445ж",475518127,"Дюкарева","Мария","Юрьевна","1104109","Государственная информационная политика",3,"Экзамен","2014/2015 учебный год 3 модуль",null,27,3,1,1,414659754,2098,null,"stChoosen","Журналистика",{"$f":"MATCH(D9,Отчет!$D:$D,0)","v":43}]
[565790741,5,"445ж",475578675,"Голиков","Александр","Вячеславович","1114154","Государственная информационная политика",3,"Экзамен","2014/2015 учебный год 3 модуль",null,15,3,1,0,414659754,2098,null,"stChoosen","Журналистика",{"$f":"MATCH(D10,Отчет!$D:$D,0)","v":77}]
[565790753,7,"445ж",475579737,"Казокина","Александра","Сергеевна","1114161","Государственная информационная политика",3,"Экзамен","2014/2015 учебный год 3 модуль",null,21,3,1,0,414659754,2098,"ikPlanned","stChoosen","Журналистика",{"$f":"MATCH(D11,Отчет!$D:$D,0)","v":75}]
[565790761,7,"446ж",475581664,"Васильева","Анастасия","Руслановна","1114148","Государственная информационная политика",3,"Экзамен","2014/2015 учебный год 3 модуль",null,21,3,1,0,414659754,2098,null,"stChoosen","Журналистика",{"$f":"MATCH(D12,Отчет!$D:$D,0)","v":79}]
[565790793,10,"447ж",475583224,"Мухаметдинова","Элина","Шамилевна","1104123","Государственная информационная политика",3,"Экзамен","2014/2015 учебный год 3 модуль",null,30,3,1,1,414659754,2098,null,"stChoosen","Журналистика",{"$f":"MATCH(D13,Отчет!$D:$D,0)","v":25}]
[565790797,10,"447ж",475529260,"Разумовская","Мария","Алексеевна","1104132","Государственная информационная политика",3,"Экзамен","2014/2015 учебный год 3 модуль",null,30,3,1,1,414659754,2098,null,"stChoosen","Журналистика",{"$f":"MATCH(D14,Отчет!$D:$D,0)","v":15}]
[565790757,10,"445ж",475519046,"Латынин","Антон","Валерьевич","1114166","Государственная информационная политика",3,"Экзамен","2014/2015 учебный год 3 модуль",null,30,3,1,1,414659754,2098,null,"stChoosen","Журналистика",{"$f":"MATCH(D15,Отчет!$D:$D,0)","v":54}]
[565790765,9,"446ж",475520112,"Козырев","Макар","Денисович","1104114","Государственная информационная политика",3,"Экзамен","2014/2015 учебный год 3 модуль",null,27,3,1,1,414659754,2098,null,"stChoosen","Журналистика",{"$f":"MATCH(D16,Отчет!$D:$D,0)","v":36}]
[565790777,8,"446ж",475522503,"Шанталова","Александра","Спартаковна","1104142","Государственная информационная политика",3,"Экзамен","2014/2015 учебный год 3 модуль",null,24,3,1,1,414659754,2098,null,"stChoosen","Журналистика",{"$f":"MATCH(D17,Отчет!$D:$D,0)","v":69}]
[720412090,8,"446ж",481541627,"Мозжерова","Анна","Сергеевна","1114172","Государственная информационная политика",3,"Экзамен","2014/2015 учебный год 3 модуль",null,24,3,1,0,414659754,2098,null,"stChoosen","Журналистика",{"$f":"MATCH(D18,Отчет!$D:$D,0)","v":52}]
[974757126,4,"446ж",972492801,"Белодедова","Маргарита","Геннадьевна","2804108","Деловая журналистика",5.5,"Экзамен","2014/2015 учебный год 3 модуль",null,22,5.5,1,0,414659754,2098,"ikPassed","stCommon","Журналистика",{"$f":"MATCH(D19,Отчет!$D:$D,0)","v":80}]
[508262038,9,"446ж",475522118,"Понтус","Юлия","Игоревна","1104131","Деловая журналистика",9,"Экзамен","2014/2015 учебный год 3 модуль",null,81,9,1,1,414659754,2098,null,"stCommon","Журналистика",{"$f":"MATCH(D20,Отчет!$D:$D,0)","v":41}]
[508262145,6,"446ж",475522503,"Шанталова","Александра","Спартаковна","1104142","Деловая журналистика",9,"Экзамен","2014/2015 учебный год 3 модуль",null,54,9,1,1,414659754,2098,null,"stCommon","Журналистика",{"$f":"MATCH(D21,Отчет!$D:$D,0)","v":69}]
[508263559,9,"447ж",475522967,"Агрызкова","Юлия","Игоревна","1104101","Деловая журналистика",9,"Экзамен","2014/2015 учебный год 3 модуль",null,81,9,1,1,414659754,2098,null,"stCommon","Журналистика",{"$f":"MATCH(D22,Отчет!$D:$D,0)","v":14}]
[508267705,7,"447ж",475523457,"Акумова","Анна","Дмитриевна","1104102","Деловая журналистика",9,"Экзамен","2014/2015 учебный год 3 модуль",null,63,9,1,1,414659754,2098,null,"stCommon","Журналистика",{"$f":"MATCH(D23,Отчет!$D:$D,0)","v":32}]
[508263778,7,"447ж",475523923,"Асангулова","Рахат","Талантбековна","1114192","Деловая журналистика",9,"Экзамен","2014/2015 учебный год 3 модуль",null,63,9,1,1,414659754,2098,null,"stCommon","Журналистика",{"$f":"MATCH(D24,Отчет!$D:$D,0)","v":56}]
[508266906,4,"447ж",481549226,"Милушкова","Полина","Юрьевна","1114170","Деловая журналистика",9,"Экзамен","2014/2015 учебный год 3 модуль",null,36,9,1,0,414659754,2098,null,"stCommon","Журналистика",{"$f":"MATCH(D25,Отчет!$D:$D,0)","v":68}]
[508267089,9,"447ж",481549768,"Мирошкина","Дарья","Александровна","1114171","Деловая журналистика",9,"Экзамен","2014/2015 учебный год 3 модуль",null,81,9,1,0,414659754,2098,null,"stCommon","Журналистика",{"$f":"MATCH(D26,Отчет!$D:$D,0)","v":53}]
[508267218,10,"447ж",481550428,"Самарина","Евгения","Олеговна","1114180","Деловая журналистика",9,"Экзамен","2014/2015 учебный год 3 модуль",null,90,9,1,0,414659754,2098,null,"stCommon","Журналистика",{"$f":"MATCH(D27,Отчет!$D:$D,0)","v":33}]
[508264950,9,"447ж",475529718,"Фалькон","Анастасия","Александровна","1104139","Деловая журналистика",9,"Экзамен","2014/2015 учебный год 3 модуль",null,81,9,1,1,414659754,2098,null,"stCommon","Журналистика",{"$f":"MATCH(D28,Отчет!$D:$D,0)","v":21}]
[508262501,6,"446ж",481541119,"Мальцева","Елизавета","Олеговна","1114168","Деловая журналистика",9,"Экзамен","2014/2015 учебный год 3 модуль",null,54,9,1,0,414659754,2098,null,"stCommon","Журналистика",{"$f":"MATCH(D29,Отчет!$D:$D,0)","v":58}]
[508262686,7,"446ж",481541627,"Мозжерова","Анна","Сергеевна","1114172","Деловая журналистика",9,"Экзамен","2014/2015 учебный год 3 модуль",null,63,9,1,0,414659754,2098,null,"stCommon","Журналистика",{"$f":"MATCH(D30,Отчет!$D:$D,0)","v":52}]
[508262813,7,"446ж",481542172,"Николаева","Ирина","Александровна","10151075","Деловая журналистика",9,"Экзамен","2014/2015 учебный год 3 модуль",null,63,9,1,0,414659754,2098,"ikPlanned","stCommon","Журналистика",{"$f":"MATCH(D31,Отчет!$D:$D,0)","v":67}]
[508262917,8,"446ж",481542689,"Реутова","Полина","Сергеевна","1114175","Деловая журналистика",9,"Экзамен","2014/2015 учебный год 3 модуль",null,72,9,1,0,414659754,2098,null,"stCommon","Журналистика",{"$f":"MATCH(D32,Отчет!$D:$D,0)","v":44}]
[508263017,9,"446ж",481543173,"Романова","Юлия","Владимировна","1114176","Деловая журналистика",9,"Экзамен","2014/2015 учебный год 3 модуль",null,81,9,1,0,414659754,2098,null,"stCommon","Журналистика",{"$f":"MATCH(D33,Отчет!$D:$D,0)","v":23}]
[508263127,8,"446ж",481543686,"Ткачук","Анфиса","Сергеевна","1114185","Деловая журналистика",9,"Экзамен","2014/2015 учебный год 3 модуль",null,72,9,1,1,414659754,2098,null,"stCommon","Журналистика",{"$f":"MATCH(D34,Отчет!$D:$D,0)","v":19}]
[508263232,9,"446ж",481544213,"Федотова","Елена","Андреевна","1114186","Деловая журналистика",9,"Экзамен","2014/2015 учебный год 3 модуль",null,81,9,1,0,414659754,2098,null,"stCommon","Журналистика",{"$f":"MATCH(D35,Отчет!$D:$D,0)","v":28}]
[508265571,8,"447ж",481545222,"Асекритова","Екатерина","Александровна","1114145","Деловая журналистика",9,"Экзамен","2014/2015 учебный год 3 модуль",null,72,9,1,0,414659754,2098,null,"stCommon","Журналистика",{"$f":"MATCH(D36,Отчет!$D:$D,0)","v":48}]
[508265803,9,"447ж",481545758,"Бабаянц","Виолетта","Владимировна","1114146","Деловая журналистика",9,"Экзамен","2014/2015 учебный год 3 модуль",null,81,9,1,0,414659754,2098,null,"stCommon","Журналистика",{"$f":"MATCH(D37,Отчет!$D:$D,0)","v":18}]
[508266029,10,"447ж",481546380,"Василиади","Елена","Христоевна","1004107","Деловая журналистика",9,"Экзамен","2014/2015 учебный год 3 модуль",null,90,9,1,0,414659754,2098,null,"stCommon","Журналистика",{"$f":"MATCH(D38,Отчет!$D:$D,0)","v":22}]
[508266275,9,"447ж",481546960,"Вергазова","Анна","Тимуровна","1114149","Деловая журналистика",9,"Экзамен","2014/2015 учебный год 3 модуль",null,81,9,1,0,414659754,2098,null,"stCommon","Журналистика",{"$f":"MATCH(D39,Отчет!$D:$D,0)","v":35}]
[508266503,6,"447ж",481548074,"Игнатчук","Ольга","Ивановна","1114160","Деловая журналистика",9,"Экзамен","2014/2015 учебный год 3 модуль",null,54,9,1,0,414659754,2098,null,"stCommon","Журналистика",{"$f":"MATCH(D40,Отчет!$D:$D,0)","v":73}]
[508266701,9,"447ж",481548650,"Кардаш","Матвей","Борисович","1114163","Деловая журналистика",9,"Экзамен","2014/2015 учебный год 3 модуль",null,81,9,1,0,414659754,2098,null,"stCommon","Журналистика",{"$f":"MATCH(D41,Отчет!$D:$D,0)","v":29}]
[508267563,7,"447ж",475584015,"Соловьева","Маргарита","Владимировна","1104135","Деловая журналистика",9,"Экзамен","2014/2015 учебный год 3 модуль",null,63,9,1,1,414659754,2098,null,"stCommon","Журналистика",{"$f":"MATCH(D42,Отчет!$D:$D,0)","v":55}]
[508263668,7,"447ж",475584653,"Трубицына","Александра","Викторовна","1104137","Деловая журналистика",9,"Экзамен","2014/2015 учебный год 3 модуль",null,63,9,1,0,414659754,2098,"ikPlanned","stCommon","Журналистика",{"$f":"MATCH(D43,Отчет!$D:$D,0)","v":72}]
[508259399,8,"445ж",481532512,"Гудова","Юлия","Викторовна","11102454","Деловая журналистика",9,"Экзамен","2014/2015 учебный год 3 модуль",null,72,9,1,0,414659754,2098,null,"stCommon","Журналистика",{"$f":"MATCH(D44,Отчет!$D:$D,0)","v":64}]
[508259507,8,"445ж",481532910,"Данилова","Анастасия","Андреевна","1104107","Деловая журналистика",9,"Экзамен","2014/2015 учебный год 3 модуль",null,72,9,1,0,414659754,2098,null,"stCommon","Журналистика",{"$f":"MATCH(D45,Отчет!$D:$D,0)","v":26}]
[508259612,7,"445ж",481533400,"Егорова","Анна","Андреевна","1114157","Деловая журналистика",9,"Экзамен","2014/2015 учебный год 3 модуль",null,63,9,1,0,414659754,2098,null,"stCommon","Журналистика",{"$f":"MATCH(D46,Отчет!$D:$D,0)","v":59}]
[508259706,6,"445ж",481533939,"Заикина","Полина","Никитична","1114159","Деловая журналистика",9,"Экзамен","2014/2015 учебный год 3 модуль",null,54,9,1,0,414659754,2098,null,"stCommon","Журналистика",{"$f":"MATCH(D47,Отчет!$D:$D,0)","v":74}]
[508259806,7,"445ж",481534499,"Калачина","Анна","Андреевна","1114162","Деловая журналистика",9,"Экзамен","2014/2015 учебный год 3 модуль",null,63,9,1,0,414659754,2098,null,"stCommon","Журналистика",{"$f":"MATCH(D48,Отчет!$D:$D,0)","v":46}]
[508259942,7,"445ж",481534976,"Лукьянов","Алексей","Константинович","1114167","Деловая журналистика",9,"Экзамен","2014/2015 учебный год 3 модуль",null,63,9,1,0,414659754,2098,null,"stCommon","Журналистика",{"$f":"MATCH(D49,Отчет!$D:$D,0)","v":60}]
[508260080,7,"445ж",481535470,"Рыженкова","Майя","Ильинична","1104133","Деловая журналистика",9,"Экзамен","2014/2015 учебный год 3 модуль",null,63,9,1,0,414659754,2098,null,"stCommon","Журналистика",{"$f":"MATCH(D50,Отчет!$D:$D,0)","v":71}]
[508260187,7,"445ж",481536005,"Сарвина","Наталья","Александровна","1114181","Деловая журналистика",9,"Экзамен","2014/2015 учебный год 3 модуль",null,63,9,1,0,414659754,2098,null,"stCommon","Журналистика",{"$f":"MATCH(D51,Отчет!$D:$D,0)","v":51}]
[508260282,6,"445ж",481536522,"Старкова","Ольга","Андреевна","1114184","Деловая журналистика",9,"Экзамен","2014/2015 учебный год 3 модуль",null,54,9,1,0,414659754,2098,null,"stCommon","Журналистика",{"$f":"MATCH(D52,Отчет!$D:$D,0)","v":49}]
[508262277,8,"446ж",481539788,"Гербер","Александр","Романович","1114152","Деловая журналистика",9,"Экзамен","2014/2015 учебный год 3 модуль",null,72,9,1,0,414659754,2098,null,"stCommon","Журналистика",{"$f":"MATCH(D53,Отчет!$D:$D,0)","v":47}]
[508262380,6,"446ж",481540398,"Кириллов","Евгений","Александрович","1114164","Деловая журналистика",9,"Экзамен","2014/2015 учебный год 3 модуль",null,54,9,1,0,414659754,2098,null,"stCommon","Журналистика",{"$f":"MATCH(D54,Отчет!$D:$D,0)","v":78}]
[508265331,8,"447ж",475531344,"Юхим","Оксана","Михайловна","1104143","Деловая журналистика",9,"Экзамен","2014/2015 учебный год 3 модуль",null,72,9,1,1,414659754,2098,null,"stCommon","Журналистика",{"$f":"MATCH(D55,Отчет!$D:$D,0)","v":50}]
[508258827,5,"445ж",475517232,"Васильева","Маргарита","Николаевна","1114147","Деловая журналистика",9,"Экзамен","2014/2015 учебный год 3 модуль",null,45,9,1,1,414659754,2098,null,"stCommon","Журналистика",{"$f":"MATCH(D56,Отчет!$D:$D,0)","v":42}]
[508260674,10,"445ж",475517709,"Гликин","Константин","Максимович","1114153","Деловая журналистика",9,"Экзамен","2014/2015 учебный год 3 модуль",null,90,9,1,1,414659754,2098,null,"stCommon","Журналистика",{"$f":"MATCH(D57,Отчет!$D:$D,0)","v":13}]
[508259018,7,"445ж",475518127,"Дюкарева","Мария","Юрьевна","1104109","Деловая журналистика",9,"Экзамен","2014/2015 учебный год 3 модуль",null,63,9,1,1,414659754,2098,null,"stCommon","Журналистика",{"$f":"MATCH(D58,Отчет!$D:$D,0)","v":43}]
[508260374,6,"445ж",475578675,"Голиков","Александр","Вячеславович","1114154","Деловая журналистика",9,"Экзамен","2014/2015 учебный год 3 модуль",null,54,9,1,0,414659754,2098,null,"stCommon","Журналистика",{"$f":"MATCH(D59,Отчет!$D:$D,0)","v":77}]
[508260489,6,"445ж",475579340,"Зиятдинова","Раина","Рамилевна","100036617","Деловая журналистика",9,"Экзамен","2014/2015 учебный год 3 модуль",null,54,9,1,1,414659754,2098,null,"stCommon","Журналистика",{"$f":"MATCH(D60,Отчет!$D:$D,0)","v":61}]
[508260581,7,"445ж",475579737,"Казокина","Александра","Сергеевна","1114161","Деловая журналистика",9,"Экзамен","2014/2015 учебный год 3 модуль",null,63,9,1,0,414659754,2098,"ikPlanned","stCommon","Журналистика",{"$f":"MATCH(D61,Отчет!$D:$D,0)","v":75}]
[508258922,4,"445ж",475580447,"Кречетова","Ангелина","Олеговна","1114191","Деловая журналистика",9,"Экзамен","2014/2015 учебный год 3 модуль",null,36,9,1,0,414659754,2098,null,"stCommon","Журналистика",{"$f":"MATCH(D62,Отчет!$D:$D,0)","v":76}]
[508263347,9,"446ж",475581231,"Пожидаева","Ирина","Владимировна","1104128","Деловая журналистика",9,"Экзамен","2014/2015 учебный год 3 модуль",null,81,9,1,1,414659754,2098,null,"stCommon","Журналистика",{"$f":"MATCH(D63,Отчет!$D:$D,0)","v":20}]
[508261609,2,"446ж",475581664,"Васильева","Анастасия","Руслановна","1114148","Деловая журналистика",9,"Экзамен","2014/2015 учебный год 3 модуль",null,0,9,0,0,414659754,2098,null,"stCommon","Журналистика",{"$f":"MATCH(D64,Отчет!$D:$D,0)","v":79}]
[508267319,6,"447ж",475582475,"Андреева","Мария","Дмитриевна","1114144","Деловая журналистика",9,"Экзамен","2014/2015 учебный год 3 модуль",null,54,9,1,0,414659754,2098,"ikPlanned","stCommon","Журналистика",{"$f":"MATCH(D65,Отчет!$D:$D,0)","v":65}]
[508267455,8,"447ж",475583224,"Мухаметдинова","Элина","Шамилевна","1104123","Деловая журналистика",9,"Экзамен","2014/2015 учебный год 3 модуль",null,72,9,1,1,414659754,2098,null,"stCommon","Журналистика",{"$f":"MATCH(D66,Отчет!$D:$D,0)","v":25}]
[508263872,8,"447ж",475524374,"Бочарова","Анастасия","Денисовна","1104103","Деловая журналистика",9,"Экзамен","2014/2015 учебный год 3 модуль",null,72,9,1,1,414659754,2098,null,"stCommon","Журналистика",{"$f":"MATCH(D67,Отчет!$D:$D,0)","v":38}]
[508263966,8,"447ж",475524972,"Гернеза","Варвара","Андреевна","1104104","Деловая журналистика",9,"Экзамен","2014/2015 учебный год 3 модуль",null,72,9,1,1,414659754,2098,null,"stCommon","Журналистика",{"$f":"MATCH(D68,Отчет!$D:$D,0)","v":62}]
[508264068,9,"447ж",475525818,"Донцова","Анна","Юрьевна","1104108","Деловая журналистика",9,"Экзамен","2014/2015 учебный год 3 модуль",null,81,9,1,1,414659754,2098,null,"stCommon","Журналистика",{"$f":"MATCH(D69,Отчет!$D:$D,0)","v":31}]
[508264165,10,"447ж",475526257,"Сорокина","Мария","Михайловна","1104110","Деловая журналистика",9,"Экзамен","2014/2015 учебный год 3 модуль",null,90,9,1,1,414659754,2098,null,"stCommon","Журналистика",{"$f":"MATCH(D70,Отчет!$D:$D,0)","v":16}]
[508264272,7,"447ж",475526751,"Ихно","Дарья","Сергеевна","1104113","Деловая журналистика",9,"Экзамен","2014/2015 учебный год 3 модуль",null,63,9,1,1,414659754,2098,null,"stCommon","Журналистика",{"$f":"MATCH(D71,Отчет!$D:$D,0)","v":34}]
[508264370,9,"447ж",475527155,"Кристалинская","Мария","Валерьевна","1104115","Деловая журналистика",9,"Экзамен","2014/2015 учебный год 3 модуль",null,81,9,1,1,414659754,2098,null,"stCommon","Журналистика",{"$f":"MATCH(D72,Отчет!$D:$D,0)","v":17}]
[508264467,8,"447ж",475527601,"Кудряшова","Юлия","Ивановна","1104116","Деловая журналистика",9,"Экзамен","2014/2015 учебный год 3 модуль",null,72,9,1,1,414659754,2098,null,"stCommon","Журналистика",{"$f":"MATCH(D73,Отчет!$D:$D,0)","v":40}]
[508264565,9,"447ж",475528055,"Львова","Анастасия","Артуровна","1104120","Деловая журналистика",9,"Экзамен","2014/2015 учебный год 3 модуль",null,81,9,1,1,414659754,2098,null,"stCommon","Журналистика",{"$f":"MATCH(D74,Отчет!$D:$D,0)","v":24}]
[508264667,8,"447ж",475528458,"Максимов","Егор","Игоревич","1104121","Деловая журналистика",9,"Экзамен","2014/2015 учебный год 3 модуль",null,72,9,1,1,414659754,2098,null,"stCommon","Журналистика",{"$f":"MATCH(D75,Отчет!$D:$D,0)","v":63}]
[508264764,10,"447ж",475528836,"Павленко","Валентина","Юрьевна","1104126","Деловая журналистика",9,"Экзамен","2014/2015 учебный год 3 модуль",null,90,9,1,1,414659754,2098,null,"stCommon","Журналистика",{"$f":"MATCH(D76,Отчет!$D:$D,0)","v":12}]
[508264856,10,"447ж",475529260,"Разумовская","Мария","Алексеевна","1104132","Деловая журналистика",9,"Экзамен","2014/2015 учебный год 3 модуль",null,90,9,1,1,414659754,2098,null,"stCommon","Журналистика",{"$f":"MATCH(D77,Отчет!$D:$D,0)","v":15}]
[508265045,5,"447ж",475530257,"Хачатрян","Ангелина","Владиславовна","1104140","Деловая журналистика",9,"Экзамен","2014/2015 учебный год 3 модуль",null,45,9,1,1,414659754,2098,null,"stCommon","Журналистика",{"$f":"MATCH(D78,Отчет!$D:$D,0)","v":70}]
[508265144,7,"447ж",475530733,"Чумакова","Инга","Константиновна","1104141","Деловая журналистика",9,"Экзамен","2014/2015 учебный год 3 модуль",null,63,9,1,1,414659754,2098,null,"stCommon","Журналистика",{"$f":"MATCH(D79,Отчет!$D:$D,0)","v":37}]
[508259121,10,"445ж",475518599,"Зайцева","Екатерина","Николаевна","1104111","Деловая журналистика",9,"Экзамен","2014/2015 учебный год 3 модуль",null,90,9,1,1,414659754,2098,null,"stCommon","Журналистика",{"$f":"MATCH(D80,Отчет!$D:$D,0)","v":57}]
[508259213,7,"445ж",475519046,"Латынин","Антон","Валерьевич","1114166","Деловая журналистика",9,"Экзамен","2014/2015 учебный год 3 модуль",null,63,9,1,1,414659754,2098,null,"stCommon","Журналистика",{"$f":"MATCH(D81,Отчет!$D:$D,0)","v":54}]
[508259307,8,"445ж",475519583,"Рыхлик","Наталья","Николаевна","1104134","Деловая журналистика",9,"Экзамен","2014/2015 учебный год 3 модуль",null,72,9,1,1,414659754,2098,null,"stCommon","Журналистика",{"$f":"MATCH(D82,Отчет!$D:$D,0)","v":30}]
[508261515,7,"446ж",475520112,"Козырев","Макар","Денисович","1104114","Деловая журналистика",9,"Экзамен","2014/2015 учебный год 3 модуль",null,63,9,1,1,414659754,2098,null,"stCommon","Журналистика",{"$f":"MATCH(D83,Отчет!$D:$D,0)","v":36}]
[508263439,7,"446ж",475520518,"Нагдалиева","Злата","Фархадовна","1104124","Деловая журналистика",9,"Экзамен","2014/2015 учебный год 3 модуль",null,63,9,1,1,414659754,2098,null,"stCommon","Журналистика",{"$f":"MATCH(D84,Отчет!$D:$D,0)","v":45}]
[508261703,7,"446ж",475520912,"Носик","Виктория","Павловна","1104125","Деловая журналистика",9,"Экзамен","2014/2015 учебный год 3 модуль",null,63,9,1,1,414659754,2098,null,"stCommon","Журналистика",{"$f":"MATCH(D85,Отчет!$D:$D,0)","v":66}]
[508261798,8,"446ж",475521309,"Пенкина","Анастасия","Валерьевна","1104127","Деловая журналистика",9,"Экзамен","2014/2015 учебный год 3 модуль",null,72,9,1,1,414659754,2098,null,"stCommon","Журналистика",{"$f":"MATCH(D86,Отчет!$D:$D,0)","v":27}]
[508261894,9,"446ж",475521694,"Полибенцева","Анна","Владимировна","1104129","Деловая журналистика",9,"Экзамен","2014/2015 учебный год 3 модуль",null,81,9,1,1,414659754,2098,null,"stCommon","Журналистика",{"$f":"MATCH(D87,Отчет!$D:$D,0)","v":39}]
[508266737,8,"447ж",481548650,"Кардаш","Матвей","Борисович","1114163","Иностранный язык (английский)",3,"Экзамен","2014/2015 учебный год 3 модуль",null,24,3,1,0,414659754,4371,null,null,"Журналистика",{"$f":"MATCH(D88,Отчет!$D:$D,0)","v":29}]
[508266922,7,"447ж",481549226,"Милушкова","Полина","Юрьевна","1114170","Иностранный язык (английский)",3,"Экзамен","2014/2015 учебный год 3 модуль",null,21,3,1,0,414659754,4371,null,null,"Журналистика",{"$f":"MATCH(D89,Отчет!$D:$D,0)","v":68}]
[508267111,6,"447ж",481549768,"Мирошкина","Дарья","Александровна","1114171","Иностранный язык (английский)",3,"Экзамен","2014/2015 учебный год 3 модуль",null,18,3,1,0,414659754,4371,null,null,"Журналистика",{"$f":"MATCH(D90,Отчет!$D:$D,0)","v":53}]
[508267234,7,"447ж",481550428,"Самарина","Евгения","Олеговна","1114180","Иностранный язык (английский)",3,"Экзамен","2014/2015 учебный год 3 модуль",null,21,3,1,0,414659754,4371,null,null,"Журналистика",{"$f":"MATCH(D91,Отчет!$D:$D,0)","v":33}]
[974757237,6,"446ж",972492801,"Белодедова","Маргарита","Геннадьевна","2804108","Иностранный язык (английский)",3,"Экзамен","2014/2015 учебный год 3 модуль",null,18,3,1,0,414659754,4371,"ikPassed",null,"Журналистика",{"$f":"MATCH(D92,Отчет!$D:$D,0)","v":80}]
[508264969,10,"447ж",475529718,"Фалькон","Анастасия","Александровна","1104139","Иностранный язык (английский)",3,"Экзамен","2014/2015 учебный год 3 модуль",null,30,3,1,1,414659754,4371,null,null,"Журналистика",{"$f":"MATCH(D93,Отчет!$D:$D,0)","v":21}]
[508262531,7,"446ж",481541119,"Мальцева","Елизавета","Олеговна","1114168","Иностранный язык (английский)",3,"Экзамен","2014/2015 учебный год 3 модуль",null,21,3,1,0,414659754,4371,null,null,"Журналистика",{"$f":"MATCH(D94,Отчет!$D:$D,0)","v":58}]
[508262706,5,"446ж",481541627,"Мозжерова","Анна","Сергеевна","1114172","Иностранный язык (английский)",3,"Экзамен","2014/2015 учебный год 3 модуль",null,15,3,1,0,414659754,4371,null,null,"Журналистика",{"$f":"MATCH(D95,Отчет!$D:$D,0)","v":52}]
[508262829,9,"446ж",481542172,"Николаева","Ирина","Александровна","10151075","Иностранный язык (английский)",3,"Экзамен","2014/2015 учебный год 3 модуль",null,27,3,1,0,414659754,4371,"ikPlanned",null,"Журналистика",{"$f":"MATCH(D96,Отчет!$D:$D,0)","v":67}]
[508262935,7,"446ж",481542689,"Реутова","Полина","Сергеевна","1114175","Иностранный язык (английский)",3,"Экзамен","2014/2015 учебный год 3 модуль",null,21,3,1,0,414659754,4371,null,null,"Журналистика",{"$f":"MATCH(D97,Отчет!$D:$D,0)","v":44}]
[508263033,7,"446ж",481543173,"Романова","Юлия","Владимировна","1114176","Иностранный язык (английский)",3,"Экзамен","2014/2015 учебный год 3 модуль",null,21,3,1,0,414659754,4371,null,null,"Журналистика",{"$f":"MATCH(D98,Отчет!$D:$D,0)","v":23}]
[508263143,9,"446ж",481543686,"Ткачук","Анфиса","Сергеевна","1114185","Иностранный язык (английский)",3,"Экзамен","2014/2015 учебный год 3 модуль",null,27,3,1,1,414659754,4371,null,null,"Журналистика",{"$f":"MATCH(D99,Отчет!$D:$D,0)","v":19}]
[508263260,9,"446ж",481544213,"Федотова","Елена","Андреевна","1114186","Иностранный язык (английский)",3,"Экзамен","2014/2015 учебный год 3 модуль",null,27,3,1,0,414659754,4371,null,null,"Журналистика",{"$f":"MATCH(D100,Отчет!$D:$D,0)","v":28}]
[508265607,10,"447ж",481545222,"Асекритова","Екатерина","Александровна","1114145","Иностранный язык (английский)",3,"Экзамен","2014/2015 учебный год 3 модуль",null,30,3,1,0,414659754,4371,null,null,"Журналистика",{"$f":"MATCH(D101,Отчет!$D:$D,0)","v":48}]
[508265848,7,"447ж",481545758,"Бабаянц","Виолетта","Владимировна","1114146","Иностранный язык (английский)",3,"Экзамен","2014/2015 учебный год 3 модуль",null,21,3,1,0,414659754,4371,null,null,"Журналистика",{"$f":"MATCH(D102,Отчет!$D:$D,0)","v":18}]
[508266065,9,"447ж",481546380,"Василиади","Елена","Христоевна","1004107","Иностранный язык (английский)",3,"Экзамен","2014/2015 учебный год 3 модуль",null,27,3,1,0,414659754,4371,null,null,"Журналистика",{"$f":"MATCH(D103,Отчет!$D:$D,0)","v":22}]
[508266311,10,"447ж",481546960,"Вергазова","Анна","Тимуровна","1114149","Иностранный язык (английский)",3,"Экзамен","2014/2015 учебный год 3 модуль",null,30,3,1,0,414659754,4371,null,null,"Журналистика",{"$f":"MATCH(D104,Отчет!$D:$D,0)","v":35}]
[508266537,7,"447ж",481548074,"Игнатчук","Ольга","Ивановна","1114160","Иностранный язык (английский)",3,"Экзамен","2014/2015 учебный год 3 модуль",null,21,3,1,0,414659754,4371,null,null,"Журналистика",{"$f":"MATCH(D105,Отчет!$D:$D,0)","v":73}]
[508267586,8,"447ж",475584015,"Соловьева","Маргарита","Владимировна","1104135","Иностранный язык (английский)",3,"Экзамен","2014/2015 учебный год 3 модуль",null,24,3,1,1,414659754,4371,null,null,"Журналистика",{"$f":"MATCH(D106,Отчет!$D:$D,0)","v":55}]
[508263688,5,"447ж",475584653,"Трубицына","Александра","Викторовна","1104137","Иностранный язык (английский)",3,"Экзамен","2014/2015 учебный год 3 модуль",null,15,3,1,0,414659754,4371,"ikPlanned",null,"Журналистика",{"$f":"MATCH(D107,Отчет!$D:$D,0)","v":72}]
[508259415,6,"445ж",481532512,"Гудова","Юлия","Викторовна","11102454","Иностранный язык (английский)",3,"Экзамен","2014/2015 учебный год 3 модуль",null,18,3,1,0,414659754,4371,null,null,"Журналистика",{"$f":"MATCH(D108,Отчет!$D:$D,0)","v":64}]
[508259531,9,"445ж",481532910,"Данилова","Анастасия","Андреевна","1104107","Иностранный язык (английский)",3,"Экзамен","2014/2015 учебный год 3 модуль",null,27,3,1,0,414659754,4371,null,null,"Журналистика",{"$f":"MATCH(D109,Отчет!$D:$D,0)","v":26}]
[508259629,6,"445ж",481533400,"Егорова","Анна","Андреевна","1114157","Иностранный язык (английский)",3,"Экзамен","2014/2015 учебный год 3 модуль",null,18,3,1,0,414659754,4371,null,null,"Журналистика",{"$f":"MATCH(D110,Отчет!$D:$D,0)","v":59}]
[508259723,6,"445ж",481533939,"Заикина","Полина","Никитична","1114159","Иностранный язык (английский)",3,"Экзамен","2014/2015 учебный год 3 модуль",null,18,3,1,0,414659754,4371,null,null,"Журналистика",{"$f":"MATCH(D111,Отчет!$D:$D,0)","v":74}]
[508259822,9,"445ж",481534499,"Калачина","Анна","Андреевна","1114162","Иностранный язык (английский)",3,"Экзамен","2014/2015 учебный год 3 модуль",null,27,3,1,0,414659754,4371,null,null,"Журналистика",{"$f":"MATCH(D112,Отчет!$D:$D,0)","v":46}]
[508259960,9,"445ж",481534976,"Лукьянов","Алексей","Константинович","1114167","Иностранный язык (английский)",3,"Экзамен","2014/2015 учебный год 3 модуль",null,27,3,1,0,414659754,4371,null,null,"Журналистика",{"$f":"MATCH(D113,Отчет!$D:$D,0)","v":60}]
[508260096,8,"445ж",481535470,"Рыженкова","Майя","Ильинична","1104133","Иностранный язык (английский)",3,"Экзамен","2014/2015 учебный год 3 модуль",null,24,3,1,0,414659754,4371,null,null,"Журналистика",{"$f":"MATCH(D114,Отчет!$D:$D,0)","v":71}]
[508260203,5,"445ж",481536005,"Сарвина","Наталья","Александровна","1114181","Иностранный язык (английский)",3,"Экзамен","2014/2015 учебный год 3 модуль",null,15,3,1,0,414659754,4371,null,null,"Журналистика",{"$f":"MATCH(D115,Отчет!$D:$D,0)","v":51}]
[508260298,9,"445ж",481536522,"Старкова","Ольга","Андреевна","1114184","Иностранный язык (английский)",3,"Экзамен","2014/2015 учебный год 3 модуль",null,27,3,1,0,414659754,4371,null,null,"Журналистика",{"$f":"MATCH(D116,Отчет!$D:$D,0)","v":49}]
[508262293,8,"446ж",481539788,"Гербер","Александр","Романович","1114152","Иностранный язык (английский)",3,"Экзамен","2014/2015 учебный год 3 модуль",null,24,3,1,0,414659754,4371,null,null,"Журналистика",{"$f":"MATCH(D117,Отчет!$D:$D,0)","v":47}]
[508262406,8,"446ж",481540398,"Кириллов","Евгений","Александрович","1114164","Иностранный язык (английский)",3,"Экзамен","2014/2015 учебный год 3 модуль",null,24,3,1,0,414659754,4371,null,null,"Журналистика",{"$f":"MATCH(D118,Отчет!$D:$D,0)","v":78}]
[508265162,8,"447ж",475530733,"Чумакова","Инга","Константиновна","1104141","Иностранный язык (английский)",3,"Экзамен","2014/2015 учебный год 3 модуль",null,24,3,1,1,414659754,4371,null,null,"Журналистика",{"$f":"MATCH(D119,Отчет!$D:$D,0)","v":37}]
[508265370,10,"447ж",475531344,"Юхим","Оксана","Михайловна","1104143","Иностранный язык (английский)",3,"Экзамен","2014/2015 учебный год 3 модуль",null,30,3,1,1,414659754,4371,null,null,"Журналистика",{"$f":"MATCH(D120,Отчет!$D:$D,0)","v":50}]
[508258843,9,"445ж",475517232,"Васильева","Маргарита","Николаевна","1114147","Иностранный язык (английский)",3,"Экзамен","2014/2015 учебный год 3 модуль",null,27,3,1,1,414659754,4371,null,null,"Журналистика",{"$f":"MATCH(D121,Отчет!$D:$D,0)","v":42}]
[508260706,10,"445ж",475517709,"Гликин","Константин","Максимович","1114153","Иностранный язык (английский)",3,"Экзамен","2014/2015 учебный год 3 модуль",null,30,3,1,1,414659754,4371,null,null,"Журналистика",{"$f":"MATCH(D122,Отчет!$D:$D,0)","v":13}]
[508259034,9,"445ж",475518127,"Дюкарева","Мария","Юрьевна","1104109","Иностранный язык (английский)",3,"Экзамен","2014/2015 учебный год 3 модуль",null,27,3,1,1,414659754,4371,null,null,"Журналистика",{"$f":"MATCH(D123,Отчет!$D:$D,0)","v":43}]
[508260391,8,"445ж",475578675,"Голиков","Александр","Вячеславович","1114154","Иностранный язык (английский)",3,"Экзамен","2014/2015 учебный год 3 модуль",null,24,3,1,0,414659754,4371,null,null,"Журналистика",{"$f":"MATCH(D124,Отчет!$D:$D,0)","v":77}]
[508260505,7,"445ж",475579340,"Зиятдинова","Раина","Рамилевна","100036617","Иностранный язык (английский)",3,"Экзамен","2014/2015 учебный год 3 модуль",null,21,3,1,1,414659754,4371,null,null,"Журналистика",{"$f":"MATCH(D125,Отчет!$D:$D,0)","v":61}]
[508260597,6,"445ж",475579737,"Казокина","Александра","Сергеевна","1114161","Иностранный язык (английский)",3,"Экзамен","2014/2015 учебный год 3 модуль",null,18,3,1,0,414659754,4371,"ikPlanned",null,"Журналистика",{"$f":"MATCH(D126,Отчет!$D:$D,0)","v":75}]
[508258938,6,"445ж",475580447,"Кречетова","Ангелина","Олеговна","1114191","Иностранный язык (английский)",3,"Экзамен","2014/2015 учебный год 3 модуль",null,18,3,1,0,414659754,4371,null,null,"Журналистика",{"$f":"MATCH(D127,Отчет!$D:$D,0)","v":76}]
[508263363,9,"446ж",475581231,"Пожидаева","Ирина","Владимировна","1104128","Иностранный язык (английский)",3,"Экзамен","2014/2015 учебный год 3 модуль",null,27,3,1,1,414659754,4371,null,null,"Журналистика",{"$f":"MATCH(D128,Отчет!$D:$D,0)","v":20}]
[508261625,10,"446ж",475581664,"Васильева","Анастасия","Руслановна","1114148","Иностранный язык (английский)",3,"Экзамен","2014/2015 учебный год 3 модуль",null,30,3,1,0,414659754,4371,null,null,"Журналистика",{"$f":"MATCH(D129,Отчет!$D:$D,0)","v":79}]
[508267345,6,"447ж",475582475,"Андреева","Мария","Дмитриевна","1114144","Иностранный язык (английский)",3,"Экзамен","2014/2015 учебный год 3 модуль",null,18,3,1,0,414659754,4371,"ikPlanned",null,"Журналистика",{"$f":"MATCH(D130,Отчет!$D:$D,0)","v":65}]
[508267474,10,"447ж",475583224,"Мухаметдинова","Элина","Шамилевна","1104123","Иностранный язык (английский)",3,"Экзамен","2014/2015 учебный год 3 модуль",null,30,3,1,1,414659754,4371,null,null,"Журналистика",{"$f":"MATCH(D131,Отчет!$D:$D,0)","v":25}]
[508263794,8,"447ж",475523923,"Асангулова","Рахат","Талантбековна","1114192","Иностранный язык (английский)",3,"Экзамен","2014/2015 учебный год 3 модуль",null,24,3,1,1,414659754,4371,null,null,"Журналистика",{"$f":"MATCH(D132,Отчет!$D:$D,0)","v":56}]
[508263888,7,"447ж",475524374,"Бочарова","Анастасия","Денисовна","1104103","Иностранный язык (английский)",3,"Экзамен","2014/2015 учебный год 3 модуль",null,21,3,1,1,414659754,4371,null,null,"Журналистика",{"$f":"MATCH(D133,Отчет!$D:$D,0)","v":38}]
[508263982,6,"447ж",475524972,"Гернеза","Варвара","Андреевна","1104104","Иностранный язык (английский)",3,"Экзамен","2014/2015 учебный год 3 модуль",null,18,3,1,1,414659754,4371,null,null,"Журналистика",{"$f":"MATCH(D134,Отчет!$D:$D,0)","v":62}]
[508264084,7,"447ж",475525818,"Донцова","Анна","Юрьевна","1104108","Иностранный язык (английский)",3,"Экзамен","2014/2015 учебный год 3 модуль",null,21,3,1,1,414659754,4371,null,null,"Журналистика",{"$f":"MATCH(D135,Отчет!$D:$D,0)","v":31}]
[508264183,8,"447ж",475526257,"Сорокина","Мария","Михайловна","1104110","Иностранный язык (английский)",3,"Экзамен","2014/2015 учебный год 3 модуль",null,24,3,1,1,414659754,4371,null,null,"Журналистика",{"$f":"MATCH(D136,Отчет!$D:$D,0)","v":16}]
[508264288,8,"447ж",475526751,"Ихно","Дарья","Сергеевна","1104113","Иностранный язык (английский)",3,"Экзамен","2014/2015 учебный год 3 модуль",null,24,3,1,1,414659754,4371,null,null,"Журналистика",{"$f":"MATCH(D137,Отчет!$D:$D,0)","v":34}]
[508264388,9,"447ж",475527155,"Кристалинская","Мария","Валерьевна","1104115","Иностранный язык (английский)",3,"Экзамен","2014/2015 учебный год 3 модуль",null,27,3,1,1,414659754,4371,null,null,"Журналистика",{"$f":"MATCH(D138,Отчет!$D:$D,0)","v":17}]
[508264483,7,"447ж",475527601,"Кудряшова","Юлия","Ивановна","1104116","Иностранный язык (английский)",3,"Экзамен","2014/2015 учебный год 3 модуль",null,21,3,1,1,414659754,4371,null,null,"Журналистика",{"$f":"MATCH(D139,Отчет!$D:$D,0)","v":40}]
[508264581,10,"447ж",475528055,"Львова","Анастасия","Артуровна","1104120","Иностранный язык (английский)",3,"Экзамен","2014/2015 учебный год 3 модуль",null,30,3,1,1,414659754,4371,null,null,"Журналистика",{"$f":"MATCH(D140,Отчет!$D:$D,0)","v":24}]
[508264683,8,"447ж",475528458,"Максимов","Егор","Игоревич","1104121","Иностранный язык (английский)",3,"Экзамен","2014/2015 учебный год 3 модуль",null,24,3,1,1,414659754,4371,null,null,"Журналистика",{"$f":"MATCH(D141,Отчет!$D:$D,0)","v":63}]
[508264780,10,"447ж",475528836,"Павленко","Валентина","Юрьевна","1104126","Иностранный язык (английский)",3,"Экзамен","2014/2015 учебный год 3 модуль",null,30,3,1,1,414659754,4371,null,null,"Журналистика",{"$f":"MATCH(D142,Отчет!$D:$D,0)","v":12}]
[508264872,9,"447ж",475529260,"Разумовская","Мария","Алексеевна","1104132","Иностранный язык (английский)",3,"Экзамен","2014/2015 учебный год 3 модуль",null,27,3,1,1,414659754,4371,null,null,"Журналистика",{"$f":"MATCH(D143,Отчет!$D:$D,0)","v":15}]
[508265061,8,"447ж",475530257,"Хачатрян","Ангелина","Владиславовна","1104140","Иностранный язык (английский)",3,"Экзамен","2014/2015 учебный год 3 модуль",null,24,3,1,1,414659754,4371,null,null,"Журналистика",{"$f":"MATCH(D144,Отчет!$D:$D,0)","v":70}]
[508259137,7,"445ж",475518599,"Зайцева","Екатерина","Николаевна","1104111","Иностранный язык (английский)",3,"Экзамен","2014/2015 учебный год 3 модуль",null,21,3,1,1,414659754,4371,null,null,"Журналистика",{"$f":"MATCH(D145,Отчет!$D:$D,0)","v":57}]
[508259229,7,"445ж",475519046,"Латынин","Антон","Валерьевич","1114166","Иностранный язык (английский)",3,"Экзамен","2014/2015 учебный год 3 модуль",null,21,3,1,1,414659754,4371,null,null,"Журналистика",{"$f":"MATCH(D146,Отчет!$D:$D,0)","v":54}]
[508259323,7,"445ж",475519583,"Рыхлик","Наталья","Николаевна","1104134","Иностранный язык (английский)",3,"Экзамен","2014/2015 учебный год 3 модуль",null,21,3,1,1,414659754,4371,null,null,"Журналистика",{"$f":"MATCH(D147,Отчет!$D:$D,0)","v":30}]
[508261531,10,"446ж",475520112,"Козырев","Макар","Денисович","1104114","Иностранный язык (английский)",3,"Экзамен","2014/2015 учебный год 3 модуль",null,30,3,1,1,414659754,4371,null,null,"Журналистика",{"$f":"MATCH(D148,Отчет!$D:$D,0)","v":36}]
[508263457,6,"446ж",475520518,"Нагдалиева","Злата","Фархадовна","1104124","Иностранный язык (английский)",3,"Экзамен","2014/2015 учебный год 3 модуль",null,18,3,1,1,414659754,4371,null,null,"Журналистика",{"$f":"MATCH(D149,Отчет!$D:$D,0)","v":45}]
[508261719,9,"446ж",475520912,"Носик","Виктория","Павловна","1104125","Иностранный язык (английский)",3,"Экзамен","2014/2015 учебный год 3 модуль",null,27,3,1,1,414659754,4371,null,null,"Журналистика",{"$f":"MATCH(D150,Отчет!$D:$D,0)","v":66}]
[508261814,10,"446ж",475521309,"Пенкина","Анастасия","Валерьевна","1104127","Иностранный язык (английский)",3,"Экзамен","2014/2015 учебный год 3 модуль",null,30,3,1,1,414659754,4371,null,null,"Журналистика",{"$f":"MATCH(D151,Отчет!$D:$D,0)","v":27}]
[508261912,8,"446ж",475521694,"Полибенцева","Анна","Владимировна","1104129","Иностранный язык (английский)",3,"Экзамен","2014/2015 учебный год 3 модуль",null,24,3,1,1,414659754,4371,null,null,"Журналистика",{"$f":"MATCH(D152,Отчет!$D:$D,0)","v":39}]
[508262054,7,"446ж",475522118,"Понтус","Юлия","Игоревна","1104131","Иностранный язык (английский)",3,"Экзамен","2014/2015 учебный год 3 модуль",null,21,3,1,1,414659754,4371,null,null,"Журналистика",{"$f":"MATCH(D153,Отчет!$D:$D,0)","v":41}]
[508262193,8,"446ж",475522503,"Шанталова","Александра","Спартаковна","1104142","Иностранный язык (английский)",3,"Экзамен","2014/2015 учебный год 3 модуль",null,24,3,1,1,414659754,4371,null,null,"Журналистика",{"$f":"MATCH(D154,Отчет!$D:$D,0)","v":69}]
[508263575,8,"447ж",475522967,"Агрызкова","Юлия","Игоревна","1104101","Иностранный язык (английский)",3,"Экзамен","2014/2015 учебный год 3 модуль",null,24,3,1,1,414659754,4371,null,null,"Журналистика",{"$f":"MATCH(D155,Отчет!$D:$D,0)","v":14}]
[508267725,10,"447ж",475523457,"Акумова","Анна","Дмитриевна","1104102","Иностранный язык (английский)",3,"Экзамен","2014/2015 учебный год 3 модуль",null,30,3,1,1,414659754,4371,null,null,"Журналистика",{"$f":"MATCH(D156,Отчет!$D:$D,0)","v":32}]
[508266513,7,"447ж",481548074,"Игнатчук","Ольга","Ивановна","1114160","Иностранный язык (английский)",4,"Экзамен","2014/2015 учебный год 3 модуль",null,28,4,1,0,414659754,2098,null,"stCommon","Журналистика",{"$f":"MATCH(D157,Отчет!$D:$D,0)","v":73}]
[508267570,9,"447ж",475584015,"Соловьева","Маргарита","Владимировна","1104135","Иностранный язык (английский)",4,"Экзамен","2014/2015 учебный год 3 модуль",null,36,4,1,1,414659754,2098,null,"stCommon","Журналистика",{"$f":"MATCH(D158,Отчет!$D:$D,0)","v":55}]
[508263672,8,"447ж",475584653,"Трубицына","Александра","Викторовна","1104137","Иностранный язык (английский)",4,"Экзамен","2014/2015 учебный год 3 модуль",null,32,4,1,0,414659754,2098,"ikPlanned","stCommon","Журналистика",{"$f":"MATCH(D159,Отчет!$D:$D,0)","v":72}]
[508259403,9,"445ж",481532512,"Гудова","Юлия","Викторовна","11102454","Иностранный язык (английский)",4,"Экзамен","2014/2015 учебный год 3 модуль",null,36,4,1,0,414659754,2098,null,"stCommon","Журналистика",{"$f":"MATCH(D160,Отчет!$D:$D,0)","v":64}]
[508259513,8,"445ж",481532910,"Данилова","Анастасия","Андреевна","1104107","Иностранный язык (английский)",4,"Экзамен","2014/2015 учебный год 3 модуль",null,32,4,1,0,414659754,2098,null,"stCommon","Журналистика",{"$f":"MATCH(D161,Отчет!$D:$D,0)","v":26}]
[508263782,7,"447ж",475523923,"Асангулова","Рахат","Талантбековна","1114192","Иностранный язык (английский)",4,"Экзамен","2014/2015 учебный год 3 модуль",null,28,4,1,1,414659754,2098,null,"stCommon","Журналистика",{"$f":"MATCH(D162,Отчет!$D:$D,0)","v":56}]
[508264072,9,"447ж",475525818,"Донцова","Анна","Юрьевна","1104108","Иностранный язык (английский)",4,"Экзамен","2014/2015 учебный год 3 модуль",null,36,4,1,1,414659754,2098,null,"stCommon","Журналистика",{"$f":"MATCH(D163,Отчет!$D:$D,0)","v":31}]
[508264169,8,"447ж",475526257,"Сорокина","Мария","Михайловна","1104110","Иностранный язык (английский)",4,"Экзамен","2014/2015 учебный год 3 модуль",null,32,4,1,1,414659754,2098,null,"stCommon","Журналистика",{"$f":"MATCH(D164,Отчет!$D:$D,0)","v":16}]
[508264276,10,"447ж",475526751,"Ихно","Дарья","Сергеевна","1104113","Иностранный язык (английский)",4,"Экзамен","2014/2015 учебный год 3 модуль",null,40,4,1,1,414659754,2098,null,"stCommon","Журналистика",{"$f":"MATCH(D165,Отчет!$D:$D,0)","v":34}]
[508264375,9,"447ж",475527155,"Кристалинская","Мария","Валерьевна","1104115","Иностранный язык (английский)",4,"Экзамен","2014/2015 учебный год 3 модуль",null,36,4,1,1,414659754,2098,null,"stCommon","Журналистика",{"$f":"MATCH(D166,Отчет!$D:$D,0)","v":17}]
[508264471,8,"447ж",475527601,"Кудряшова","Юлия","Ивановна","1104116","Иностранный язык (английский)",4,"Экзамен","2014/2015 учебный год 3 модуль",null,32,4,1,1,414659754,2098,null,"stCommon","Журналистика",{"$f":"MATCH(D167,Отчет!$D:$D,0)","v":40}]
[508264569,9,"447ж",475528055,"Львова","Анастасия","Артуровна","1104120","Иностранный язык (английский)",4,"Экзамен","2014/2015 учебный год 3 модуль",null,36,4,1,1,414659754,2098,null,"stCommon","Журналистика",{"$f":"MATCH(D168,Отчет!$D:$D,0)","v":24}]
[508264671,9,"447ж",475528458,"Максимов","Егор","Игоревич","1104121","Иностранный язык (английский)",4,"Экзамен","2014/2015 учебный год 3 модуль",null,36,4,1,1,414659754,2098,null,"stCommon","Журналистика",{"$f":"MATCH(D169,Отчет!$D:$D,0)","v":63}]
[508264768,10,"447ж",475528836,"Павленко","Валентина","Юрьевна","1104126","Иностранный язык (английский)",4,"Экзамен","2014/2015 учебный год 3 модуль",null,40,4,1,1,414659754,2098,null,"stCommon","Журналистика",{"$f":"MATCH(D170,Отчет!$D:$D,0)","v":12}]
[508264860,9,"447ж",475529260,"Разумовская","Мария","Алексеевна","1104132","Иностранный язык (английский)",4,"Экзамен","2014/2015 учебный год 3 модуль",null,36,4,1,1,414659754,2098,null,"stCommon","Журналистика",{"$f":"MATCH(D171,Отчет!$D:$D,0)","v":15}]
[508265049,8,"447ж",475530257,"Хачатрян","Ангелина","Владиславовна","1104140","Иностранный язык (английский)",4,"Экзамен","2014/2015 учебный год 3 модуль",null,32,4,1,1,414659754,2098,null,"stCommon","Журналистика",{"$f":"MATCH(D172,Отчет!$D:$D,0)","v":70}]
[508259125,8,"445ж",475518599,"Зайцева","Екатерина","Николаевна","1104111","Иностранный язык (английский)",4,"Экзамен","2014/2015 учебный год 3 модуль",null,32,4,1,1,414659754,2098,null,"stCommon","Журналистика",{"$f":"MATCH(D173,Отчет!$D:$D,0)","v":57}]
[508259217,8,"445ж",475519046,"Латынин","Антон","Валерьевич","1114166","Иностранный язык (английский)",4,"Экзамен","2014/2015 учебный год 3 модуль",null,32,4,1,1,414659754,2098,null,"stCommon","Журналистика",{"$f":"MATCH(D174,Отчет!$D:$D,0)","v":54}]
[508259311,9,"445ж",475519583,"Рыхлик","Наталья","Николаевна","1104134","Иностранный язык (английский)",4,"Экзамен","2014/2015 учебный год 3 модуль",null,36,4,1,1,414659754,2098,null,"stCommon","Журналистика",{"$f":"MATCH(D175,Отчет!$D:$D,0)","v":30}]
[508261519,10,"446ж",475520112,"Козырев","Макар","Денисович","1104114","Иностранный язык (английский)",4,"Экзамен","2014/2015 учебный год 3 модуль",null,40,4,1,1,414659754,2098,null,"stCommon","Журналистика",{"$f":"MATCH(D176,Отчет!$D:$D,0)","v":36}]
[508263443,10,"446ж",475520518,"Нагдалиева","Злата","Фархадовна","1104124","Иностранный язык (английский)",4,"Экзамен","2014/2015 учебный год 3 модуль",null,40,4,1,1,414659754,2098,null,"stCommon","Журналистика",{"$f":"MATCH(D177,Отчет!$D:$D,0)","v":45}]
[508261707,10,"446ж",475520912,"Носик","Виктория","Павловна","1104125","Иностранный язык (английский)",4,"Экзамен","2014/2015 учебный год 3 модуль",null,40,4,1,1,414659754,2098,null,"stCommon","Журналистика",{"$f":"MATCH(D178,Отчет!$D:$D,0)","v":66}]
[508261802,10,"446ж",475521309,"Пенкина","Анастасия","Валерьевна","1104127","Иностранный язык (английский)",4,"Экзамен","2014/2015 учебный год 3 модуль",null,40,4,1,1,414659754,2098,null,"stCommon","Журналистика",{"$f":"MATCH(D179,Отчет!$D:$D,0)","v":27}]
[508261898,9,"446ж",475521694,"Полибенцева","Анна","Владимировна","1104129","Иностранный язык (английский)",4,"Экзамен","2014/2015 учебный год 3 модуль",null,36,4,1,1,414659754,2098,null,"stCommon","Журналистика",{"$f":"MATCH(D180,Отчет!$D:$D,0)","v":39}]
[508262042,9,"446ж",475522118,"Понтус","Юлия","Игоревна","1104131","Иностранный язык (английский)",4,"Экзамен","2014/2015 учебный год 3 модуль",null,36,4,1,1,414659754,2098,null,"stCommon","Журналистика",{"$f":"MATCH(D181,Отчет!$D:$D,0)","v":41}]
[508262160,9,"446ж",475522503,"Шанталова","Александра","Спартаковна","1104142","Иностранный язык (английский)",4,"Экзамен","2014/2015 учебный год 3 модуль",null,36,4,1,1,414659754,2098,null,"stCommon","Журналистика",{"$f":"MATCH(D182,Отчет!$D:$D,0)","v":69}]
[508263563,10,"447ж",475522967,"Агрызкова","Юлия","Игоревна","1104101","Иностранный язык (английский)",4,"Экзамен","2014/2015 учебный год 3 модуль",null,40,4,1,1,414659754,2098,null,"stCommon","Журналистика",{"$f":"MATCH(D183,Отчет!$D:$D,0)","v":14}]
[508267712,10,"447ж",475523457,"Акумова","Анна","Дмитриевна","1104102","Иностранный язык (английский)",4,"Экзамен","2014/2015 учебный год 3 модуль",null,40,4,1,1,414659754,2098,null,"stCommon","Журналистика",{"$f":"MATCH(D184,Отчет!$D:$D,0)","v":32}]
[508259616,10,"445ж",481533400,"Егорова","Анна","Андреевна","1114157","Иностранный язык (английский)",4,"Экзамен","2014/2015 учебный год 3 модуль",null,40,4,1,0,414659754,2098,null,"stCommon","Журналистика",{"$f":"MATCH(D185,Отчет!$D:$D,0)","v":59}]
[508259710,9,"445ж",481533939,"Заикина","Полина","Никитична","1114159","Иностранный язык (английский)",4,"Экзамен","2014/2015 учебный год 3 модуль",null,36,4,1,0,414659754,2098,null,"stCommon","Журналистика",{"$f":"MATCH(D186,Отчет!$D:$D,0)","v":74}]
[508259810,10,"445ж",481534499,"Калачина","Анна","Андреевна","1114162","Иностранный язык (английский)",4,"Экзамен","2014/2015 учебный год 3 модуль",null,40,4,1,0,414659754,2098,null,"stCommon","Журналистика",{"$f":"MATCH(D187,Отчет!$D:$D,0)","v":46}]
[508259946,10,"445ж",481534976,"Лукьянов","Алексей","Константинович","1114167","Иностранный язык (английский)",4,"Экзамен","2014/2015 учебный год 3 модуль",null,40,4,1,0,414659754,2098,null,"stCommon","Журналистика",{"$f":"MATCH(D188,Отчет!$D:$D,0)","v":60}]
[508260084,8,"445ж",481535470,"Рыженкова","Майя","Ильинична","1104133","Иностранный язык (английский)",4,"Экзамен","2014/2015 учебный год 3 модуль",null,32,4,1,0,414659754,2098,null,"stCommon","Журналистика",{"$f":"MATCH(D189,Отчет!$D:$D,0)","v":71}]
[508260191,8,"445ж",481536005,"Сарвина","Наталья","Александровна","1114181","Иностранный язык (английский)",4,"Экзамен","2014/2015 учебный год 3 модуль",null,32,4,1,0,414659754,2098,null,"stCommon","Журналистика",{"$f":"MATCH(D190,Отчет!$D:$D,0)","v":51}]
[508260286,9,"445ж",481536522,"Старкова","Ольга","Андреевна","1114184","Иностранный язык (английский)",4,"Экзамен","2014/2015 учебный год 3 модуль",null,36,4,1,0,414659754,2098,null,"stCommon","Журналистика",{"$f":"MATCH(D191,Отчет!$D:$D,0)","v":49}]
[508262281,10,"446ж",481539788,"Гербер","Александр","Романович","1114152","Иностранный язык (английский)",4,"Экзамен","2014/2015 учебный год 3 модуль",null,40,4,1,0,414659754,2098,null,"stCommon","Журналистика",{"$f":"MATCH(D192,Отчет!$D:$D,0)","v":47}]
[508262384,8,"446ж",481540398,"Кириллов","Евгений","Александрович","1114164","Иностранный язык (английский)",4,"Экзамен","2014/2015 учебный год 3 модуль",null,32,4,1,0,414659754,2098,null,"stCommon","Журналистика",{"$f":"MATCH(D193,Отчет!$D:$D,0)","v":78}]
[508265148,10,"447ж",475530733,"Чумакова","Инга","Константиновна","1104141","Иностранный язык (английский)",4,"Экзамен","2014/2015 учебный год 3 модуль",null,40,4,1,1,414659754,2098,null,"stCommon","Журналистика",{"$f":"MATCH(D194,Отчет!$D:$D,0)","v":37}]
[508265344,9,"447ж",475531344,"Юхим","Оксана","Михайловна","1104143","Иностранный язык (английский)",4,"Экзамен","2014/2015 учебный год 3 модуль",null,36,4,1,1,414659754,2098,null,"stCommon","Журналистика",{"$f":"MATCH(D195,Отчет!$D:$D,0)","v":50}]
[508258831,10,"445ж",475517232,"Васильева","Маргарита","Николаевна","1114147","Иностранный язык (английский)",4,"Экзамен","2014/2015 учебный год 3 модуль",null,40,4,1,1,414659754,2098,null,"stCommon","Журналистика",{"$f":"MATCH(D196,Отчет!$D:$D,0)","v":42}]
[508260678,10,"445ж",475517709,"Гликин","Константин","Максимович","1114153","Иностранный язык (английский)",4,"Экзамен","2014/2015 учебный год 3 модуль",null,40,4,1,1,414659754,2098,null,"stCommon","Журналистика",{"$f":"MATCH(D197,Отчет!$D:$D,0)","v":13}]
[508259022,10,"445ж",475518127,"Дюкарева","Мария","Юрьевна","1104109","Иностранный язык (английский)",4,"Экзамен","2014/2015 учебный год 3 модуль",null,40,4,1,1,414659754,2098,null,"stCommon","Журналистика",{"$f":"MATCH(D198,Отчет!$D:$D,0)","v":43}]
[508260378,9,"445ж",475578675,"Голиков","Александр","Вячеславович","1114154","Иностранный язык (английский)",4,"Экзамен","2014/2015 учебный год 3 модуль",null,36,4,1,0,414659754,2098,null,"stCommon","Журналистика",{"$f":"MATCH(D199,Отчет!$D:$D,0)","v":77}]
[508260493,9,"445ж",475579340,"Зиятдинова","Раина","Рамилевна","100036617","Иностранный язык (английский)",4,"Экзамен","2014/2015 учебный год 3 модуль",null,36,4,1,1,414659754,2098,null,"stCommon","Журналистика",{"$f":"MATCH(D200,Отчет!$D:$D,0)","v":61}]
[508260585,9,"445ж",475579737,"Казокина","Александра","Сергеевна","1114161","Иностранный язык (английский)",4,"Экзамен","2014/2015 учебный год 3 модуль",null,36,4,1,0,414659754,2098,"ikPlanned","stCommon","Журналистика",{"$f":"MATCH(D201,Отчет!$D:$D,0)","v":75}]
[508258926,9,"445ж",475580447,"Кречетова","Ангелина","Олеговна","1114191","Иностранный язык (английский)",4,"Экзамен","2014/2015 учебный год 3 модуль",null,36,4,1,0,414659754,2098,null,"stCommon","Журналистика",{"$f":"MATCH(D202,Отчет!$D:$D,0)","v":76}]
[508263351,10,"446ж",475581231,"Пожидаева","Ирина","Владимировна","1104128","Иностранный язык (английский)",4,"Экзамен","2014/2015 учебный год 3 модуль",null,40,4,1,1,414659754,2098,null,"stCommon","Журналистика",{"$f":"MATCH(D203,Отчет!$D:$D,0)","v":20}]
[508261613,8,"446ж",475581664,"Васильева","Анастасия","Руслановна","1114148","Иностранный язык (английский)",4,"Экзамен","2014/2015 учебный год 3 модуль",null,32,4,1,0,414659754,2098,null,"stCommon","Журналистика",{"$f":"MATCH(D204,Отчет!$D:$D,0)","v":79}]
[508267325,8,"447ж",475582475,"Андреева","Мария","Дмитриевна","1114144","Иностранный язык (английский)",4,"Экзамен","2014/2015 учебный год 3 модуль",null,32,4,1,0,414659754,2098,"ikPlanned","stCommon","Журналистика",{"$f":"MATCH(D205,Отчет!$D:$D,0)","v":65}]
[508267459,9,"447ж",475583224,"Мухаметдинова","Элина","Шамилевна","1104123","Иностранный язык (английский)",4,"Экзамен","2014/2015 учебный год 3 модуль",null,36,4,1,1,414659754,2098,null,"stCommon","Журналистика",{"$f":"MATCH(D206,Отчет!$D:$D,0)","v":25}]
[508263876,9,"447ж",475524374,"Бочарова","Анастасия","Денисовна","1104103","Иностранный язык (английский)",4,"Экзамен","2014/2015 учебный год 3 модуль",null,36,4,1,1,414659754,2098,null,"stCommon","Журналистика",{"$f":"MATCH(D207,Отчет!$D:$D,0)","v":38}]
[508263970,8,"447ж",475524972,"Гернеза","Варвара","Андреевна","1104104","Иностранный язык (английский)",4,"Экзамен","2014/2015 учебный год 3 модуль",null,32,4,1,1,414659754,2098,null,"stCommon","Журналистика",{"$f":"MATCH(D208,Отчет!$D:$D,0)","v":62}]
[508266711,9,"447ж",481548650,"Кардаш","Матвей","Борисович","1114163","Иностранный язык (английский)",4,"Экзамен","2014/2015 учебный год 3 модуль",null,36,4,1,0,414659754,2098,null,"stCommon","Журналистика",{"$f":"MATCH(D209,Отчет!$D:$D,0)","v":29}]
[508266910,8,"447ж",481549226,"Милушкова","Полина","Юрьевна","1114170","Иностранный язык (английский)",4,"Экзамен","2014/2015 учебный год 3 модуль",null,32,4,1,0,414659754,2098,null,"stCommon","Журналистика",{"$f":"MATCH(D210,Отчет!$D:$D,0)","v":68}]
[508267096,7,"447ж",481549768,"Мирошкина","Дарья","Александровна","1114171","Иностранный язык (английский)",4,"Экзамен","2014/2015 учебный год 3 модуль",null,28,4,1,0,414659754,2098,null,"stCommon","Журналистика",{"$f":"MATCH(D211,Отчет!$D:$D,0)","v":53}]
[508267222,8,"447ж",481550428,"Самарина","Евгения","Олеговна","1114180","Иностранный язык (английский)",4,"Экзамен","2014/2015 учебный год 3 модуль",null,32,4,1,0,414659754,2098,null,"stCommon","Журналистика",{"$f":"MATCH(D212,Отчет!$D:$D,0)","v":33}]
[974757133,6,"446ж",972492801,"Белодедова","Маргарита","Геннадьевна","2804108","Иностранный язык (английский)",4,"Экзамен","2014/2015 учебный год 3 модуль",null,24,4,1,0,414659754,2098,"ikPassed","stCommon","Журналистика",{"$f":"MATCH(D213,Отчет!$D:$D,0)","v":80}]
[508264954,10,"447ж",475529718,"Фалькон","Анастасия","Александровна","1104139","Иностранный язык (английский)",4,"Экзамен","2014/2015 учебный год 3 модуль",null,40,4,1,1,414659754,2098,null,"stCommon","Журналистика",{"$f":"MATCH(D214,Отчет!$D:$D,0)","v":21}]
[508262505,9,"446ж",481541119,"Мальцева","Елизавета","Олеговна","1114168","Иностранный язык (английский)",4,"Экзамен","2014/2015 учебный год 3 модуль",null,36,4,1,0,414659754,2098,null,"stCommon","Журналистика",{"$f":"MATCH(D215,Отчет!$D:$D,0)","v":58}]
[508262690,9,"446ж",481541627,"Мозжерова","Анна","Сергеевна","1114172","Иностранный язык (английский)",4,"Экзамен","2014/2015 учебный год 3 модуль",null,36,4,1,0,414659754,2098,null,"stCommon","Журналистика",{"$f":"MATCH(D216,Отчет!$D:$D,0)","v":52}]
[508262817,9,"446ж",481542172,"Николаева","Ирина","Александровна","10151075","Иностранный язык (английский)",4,"Экзамен","2014/2015 учебный год 3 модуль",null,36,4,1,0,414659754,2098,"ikPlanned","stCommon","Журналистика",{"$f":"MATCH(D217,Отчет!$D:$D,0)","v":67}]
[508262923,8,"446ж",481542689,"Реутова","Полина","Сергеевна","1114175","Иностранный язык (английский)",4,"Экзамен","2014/2015 учебный год 3 модуль",null,32,4,1,0,414659754,2098,null,"stCommon","Журналистика",{"$f":"MATCH(D218,Отчет!$D:$D,0)","v":44}]
[508263021,9,"446ж",481543173,"Романова","Юлия","Владимировна","1114176","Иностранный язык (английский)",4,"Экзамен","2014/2015 учебный год 3 модуль",null,36,4,1,0,414659754,2098,null,"stCommon","Журналистика",{"$f":"MATCH(D219,Отчет!$D:$D,0)","v":23}]
[508263131,10,"446ж",481543686,"Ткачук","Анфиса","Сергеевна","1114185","Иностранный язык (английский)",4,"Экзамен","2014/2015 учебный год 3 модуль",null,40,4,1,1,414659754,2098,null,"stCommon","Журналистика",{"$f":"MATCH(D220,Отчет!$D:$D,0)","v":19}]
[508263239,9,"446ж",481544213,"Федотова","Елена","Андреевна","1114186","Иностранный язык (английский)",4,"Экзамен","2014/2015 учебный год 3 модуль",null,36,4,1,0,414659754,2098,null,"stCommon","Журналистика",{"$f":"MATCH(D221,Отчет!$D:$D,0)","v":28}]
[508265581,8,"447ж",481545222,"Асекритова","Екатерина","Александровна","1114145","Иностранный язык (английский)",4,"Экзамен","2014/2015 учебный год 3 модуль",null,32,4,1,0,414659754,2098,null,"stCommon","Журналистика",{"$f":"MATCH(D222,Отчет!$D:$D,0)","v":48}]
[508265816,10,"447ж",481545758,"Бабаянц","Виолетта","Владимировна","1114146","Иностранный язык (английский)",4,"Экзамен","2014/2015 учебный год 3 модуль",null,40,4,1,0,414659754,2098,null,"stCommon","Журналистика",{"$f":"MATCH(D223,Отчет!$D:$D,0)","v":18}]
[508266039,10,"447ж",481546380,"Василиади","Елена","Христоевна","1004107","Иностранный язык (английский)",4,"Экзамен","2014/2015 учебный год 3 модуль",null,40,4,1,0,414659754,2098,null,"stCommon","Журналистика",{"$f":"MATCH(D224,Отчет!$D:$D,0)","v":22}]
[508266287,8,"447ж",481546960,"Вергазова","Анна","Тимуровна","1114149","Иностранный язык (английский)",4,"Экзамен","2014/2015 учебный год 3 модуль",null,32,4,1,0,414659754,2098,null,"stCommon","Журналистика",{"$f":"MATCH(D225,Отчет!$D:$D,0)","v":35}]
[565794496,10,"447ж",475526257,"Сорокина","Мария","Михайловна","1104110","Мастерство ведущего теле- и радио программ",3,"Экзамен","2014/2015 учебный год 3 модуль",null,30,3,1,1,414659754,2098,null,"stChoosen","Журналистика",{"$f":"MATCH(D226,Отчет!$D:$D,0)","v":16}]
[565794508,8,"447ж",475528458,"Максимов","Егор","Игоревич","1104121","Мастерство ведущего теле- и радио программ",3,"Экзамен","2014/2015 учебный год 3 модуль",null,24,3,1,1,414659754,2098,null,"stChoosen","Журналистика",{"$f":"MATCH(D227,Отчет!$D:$D,0)","v":63}]
[565794469,8,"446ж",481539788,"Гербер","Александр","Романович","1114152","Мастерство ведущего теле- и радио программ",3,"Экзамен","2014/2015 учебный год 3 модуль",null,24,3,1,0,414659754,2098,null,"stChoosen","Журналистика",{"$f":"MATCH(D228,Отчет!$D:$D,0)","v":47}]
[565794520,8,"447ж",475531344,"Юхим","Оксана","Михайловна","1104143","Мастерство ведущего теле- и радио программ",3,"Экзамен","2014/2015 учебный год 3 модуль",null,24,3,1,1,414659754,2098,null,"stChoosen","Журналистика",{"$f":"MATCH(D229,Отчет!$D:$D,0)","v":50}]
[565794492,9,"447ж",475524972,"Гернеза","Варвара","Андреевна","1104104","Мастерство ведущего теле- и радио программ",3,"Экзамен","2014/2015 учебный год 3 модуль",null,27,3,1,1,414659754,2098,null,"stChoosen","Журналистика",{"$f":"MATCH(D230,Отчет!$D:$D,0)","v":62}]
[565794512,9,"447ж",481550428,"Самарина","Евгения","Олеговна","1114180","Мастерство ведущего теле- и радио программ",3,"Экзамен","2014/2015 учебный год 3 модуль",null,27,3,1,0,414659754,2098,null,"stChoosen","Журналистика",{"$f":"MATCH(D231,Отчет!$D:$D,0)","v":33}]
[565794516,8,"447ж",475584653,"Трубицына","Александра","Викторовна","1104137","Мастерство ведущего теле- и радио программ",3,"Экзамен","2014/2015 учебный год 3 модуль",null,24,3,1,0,414659754,2098,"ikPlanned","stChoosen","Журналистика",{"$f":"MATCH(D232,Отчет!$D:$D,0)","v":72}]
[565794477,8,"446ж",481542172,"Николаева","Ирина","Александровна","10151075","Мастерство ведущего теле- и радио программ",3,"Экзамен","2014/2015 учебный год 3 модуль",null,24,3,1,0,414659754,2098,"ikPlanned","stChoosen","Журналистика",{"$f":"MATCH(D233,Отчет!$D:$D,0)","v":67}]
[565794484,10,"447ж",481545758,"Бабаянц","Виолетта","Владимировна","1114146","Мастерство ведущего теле- и радио программ",3,"Экзамен","2014/2015 учебный год 3 модуль",null,30,3,1,0,414659754,2098,null,"stChoosen","Журналистика",{"$f":"MATCH(D234,Отчет!$D:$D,0)","v":18}]
[565794488,10,"447ж",481546380,"Василиади","Елена","Христоевна","1004107","Мастерство ведущего теле- и радио программ",3,"Экзамен","2014/2015 учебный год 3 модуль",null,30,3,1,0,414659754,2098,null,"stChoosen","Журналистика",{"$f":"MATCH(D235,Отчет!$D:$D,0)","v":22}]
[565794500,7,"447ж",481548074,"Игнатчук","Ольга","Ивановна","1114160","Мастерство ведущего теле- и радио программ",3,"Экзамен","2014/2015 учебный год 3 модуль",null,21,3,1,0,414659754,2098,null,"stChoosen","Журналистика",{"$f":"MATCH(D236,Отчет!$D:$D,0)","v":73}]
[565794504,8,"447ж",481548650,"Кардаш","Матвей","Борисович","1114163","Мастерство ведущего теле- и радио программ",3,"Экзамен","2014/2015 учебный год 3 модуль",null,24,3,1,0,414659754,2098,null,"stChoosen","Журналистика",{"$f":"MATCH(D237,Отчет!$D:$D,0)","v":29}]
[565794473,6,"446ж",481540398,"Кириллов","Евгений","Александрович","1114164","Мастерство ведущего теле- и радио программ",3,"Экзамен","2014/2015 учебный год 3 модуль",null,18,3,1,0,414659754,2098,null,"stChoosen","Журналистика",{"$f":"MATCH(D238,Отчет!$D:$D,0)","v":78}]
[974757168,6,"446ж",972492801,"Белодедова","Маргарита","Геннадьевна","2804108","Современные коммуникативные технологии",5.5,"Экзамен","2014/2015 учебный год 3 модуль",null,33,5.5,1,0,414659754,2098,"ikPassed","stChoosen","Журналистика",{"$f":"MATCH(D239,Отчет!$D:$D,0)","v":80}]
[508263770,7,"447ж",475523923,"Асангулова","Рахат","Талантбековна","1114192","Теория и практика русского литературного языка",6,"Экзамен","2014/2015 учебный год 3 модуль",null,42,6,1,1,414659754,2098,null,"stCommon","Журналистика",{"$f":"MATCH(D240,Отчет!$D:$D,0)","v":56}]
[508264060,8,"447ж",475525818,"Донцова","Анна","Юрьевна","1104108","Теория и практика русского литературного языка",6,"Экзамен","2014/2015 учебный год 3 модуль",null,48,6,1,1,414659754,2098,null,"stCommon","Журналистика",{"$f":"MATCH(D241,Отчет!$D:$D,0)","v":31}]
[508264155,8,"447ж",475526257,"Сорокина","Мария","Михайловна","1104110","Теория и практика русского литературного языка",6,"Экзамен","2014/2015 учебный год 3 модуль",null,48,6,1,1,414659754,2098,null,"stCommon","Журналистика",{"$f":"MATCH(D242,Отчет!$D:$D,0)","v":16}]
[508264260,9,"447ж",475526751,"Ихно","Дарья","Сергеевна","1104113","Теория и практика русского литературного языка",6,"Экзамен","2014/2015 учебный год 3 модуль",null,54,6,1,1,414659754,2098,null,"stCommon","Журналистика",{"$f":"MATCH(D243,Отчет!$D:$D,0)","v":34}]
[508264361,8,"447ж",475527155,"Кристалинская","Мария","Валерьевна","1104115","Теория и практика русского литературного языка",6,"Экзамен","2014/2015 учебный год 3 модуль",null,48,6,1,1,414659754,2098,null,"stCommon","Журналистика",{"$f":"MATCH(D244,Отчет!$D:$D,0)","v":17}]
[508264459,7,"447ж",475527601,"Кудряшова","Юлия","Ивановна","1104116","Теория и практика русского литературного языка",6,"Экзамен","2014/2015 учебный год 3 модуль",null,42,6,1,1,414659754,2098,null,"stCommon","Журналистика",{"$f":"MATCH(D245,Отчет!$D:$D,0)","v":40}]
[508264555,8,"447ж",475528055,"Львова","Анастасия","Артуровна","1104120","Теория и практика русского литературного языка",6,"Экзамен","2014/2015 учебный год 3 модуль",null,48,6,1,1,414659754,2098,null,"stCommon","Журналистика",{"$f":"MATCH(D246,Отчет!$D:$D,0)","v":24}]
[508264658,5,"447ж",475528458,"Максимов","Егор","Игоревич","1104121","Теория и практика русского литературного языка",6,"Экзамен","2014/2015 учебный год 3 модуль",null,30,6,1,1,414659754,2098,null,"stCommon","Журналистика",{"$f":"MATCH(D247,Отчет!$D:$D,0)","v":63}]
[508264756,10,"447ж",475528836,"Павленко","Валентина","Юрьевна","1104126","Теория и практика русского литературного языка",6,"Экзамен","2014/2015 учебный год 3 модуль",null,60,6,1,1,414659754,2098,null,"stCommon","Журналистика",{"$f":"MATCH(D248,Отчет!$D:$D,0)","v":12}]
[508264848,9,"447ж",475529260,"Разумовская","Мария","Алексеевна","1104132","Теория и практика русского литературного языка",6,"Экзамен","2014/2015 учебный год 3 модуль",null,54,6,1,1,414659754,2098,null,"stCommon","Журналистика",{"$f":"MATCH(D249,Отчет!$D:$D,0)","v":15}]
[508265037,6,"447ж",475530257,"Хачатрян","Ангелина","Владиславовна","1104140","Теория и практика русского литературного языка",6,"Экзамен","2014/2015 учебный год 3 модуль",null,36,6,1,1,414659754,2098,null,"stCommon","Журналистика",{"$f":"MATCH(D250,Отчет!$D:$D,0)","v":70}]
[508265135,8,"447ж",475530733,"Чумакова","Инга","Константиновна","1104141","Теория и практика русского литературного языка",6,"Экзамен","2014/2015 учебный год 3 модуль",null,48,6,1,1,414659754,2098,null,"stCommon","Журналистика",{"$f":"MATCH(D251,Отчет!$D:$D,0)","v":37}]
[508259111,7,"445ж",475518599,"Зайцева","Екатерина","Николаевна","1104111","Теория и практика русского литературного языка",6,"Экзамен","2014/2015 учебный год 3 модуль",null,42,6,1,1,414659754,2098,null,"stCommon","Журналистика",{"$f":"MATCH(D252,Отчет!$D:$D,0)","v":57}]
[508259205,7,"445ж",475519046,"Латынин","Антон","Валерьевич","1114166","Теория и практика русского литературного языка",6,"Экзамен","2014/2015 учебный год 3 модуль",null,42,6,1,1,414659754,2098,null,"stCommon","Журналистика",{"$f":"MATCH(D253,Отчет!$D:$D,0)","v":54}]
[508259299,10,"445ж",475519583,"Рыхлик","Наталья","Николаевна","1104134","Теория и практика русского литературного языка",6,"Экзамен","2014/2015 учебный год 3 модуль",null,60,6,1,1,414659754,2098,null,"stCommon","Журналистика",{"$f":"MATCH(D254,Отчет!$D:$D,0)","v":30}]
[508261507,6,"446ж",475520112,"Козырев","Макар","Денисович","1104114","Теория и практика русского литературного языка",6,"Экзамен","2014/2015 учебный год 3 модуль",null,36,6,1,1,414659754,2098,null,"stCommon","Журналистика",{"$f":"MATCH(D255,Отчет!$D:$D,0)","v":36}]
[508263431,8,"446ж",475520518,"Нагдалиева","Злата","Фархадовна","1104124","Теория и практика русского литературного языка",6,"Экзамен","2014/2015 учебный год 3 модуль",null,48,6,1,1,414659754,2098,null,"stCommon","Журналистика",{"$f":"MATCH(D256,Отчет!$D:$D,0)","v":45}]
[508261693,7,"446ж",475520912,"Носик","Виктория","Павловна","1104125","Теория и практика русского литературного языка",6,"Экзамен","2014/2015 учебный год 3 модуль",null,42,6,1,1,414659754,2098,null,"stCommon","Журналистика",{"$f":"MATCH(D257,Отчет!$D:$D,0)","v":66}]
[508261788,10,"446ж",475521309,"Пенкина","Анастасия","Валерьевна","1104127","Теория и практика русского литературного языка",6,"Экзамен","2014/2015 учебный год 3 модуль",null,60,6,1,1,414659754,2098,null,"stCommon","Журналистика",{"$f":"MATCH(D258,Отчет!$D:$D,0)","v":27}]
[508261886,8,"446ж",475521694,"Полибенцева","Анна","Владимировна","1104129","Теория и практика русского литературного языка",6,"Экзамен","2014/2015 учебный год 3 модуль",null,48,6,1,1,414659754,2098,null,"stCommon","Журналистика",{"$f":"MATCH(D259,Отчет!$D:$D,0)","v":39}]
[508262030,8,"446ж",475522118,"Понтус","Юлия","Игоревна","1104131","Теория и практика русского литературного языка",6,"Экзамен","2014/2015 учебный год 3 модуль",null,48,6,1,1,414659754,2098,null,"stCommon","Журналистика",{"$f":"MATCH(D260,Отчет!$D:$D,0)","v":41}]
[508262128,4,"446ж",475522503,"Шанталова","Александра","Спартаковна","1104142","Теория и практика русского литературного языка",6,"Экзамен","2014/2015 учебный год 3 модуль",null,24,6,1,1,414659754,2098,null,"stCommon","Журналистика",{"$f":"MATCH(D261,Отчет!$D:$D,0)","v":69}]
[508263527,8,"447ж",475522967,"Агрызкова","Юлия","Игоревна","1104101","Теория и практика русского литературного языка",6,"Экзамен","2014/2015 учебный год 3 модуль",null,48,6,1,1,414659754,2098,null,"stCommon","Журналистика",{"$f":"MATCH(D262,Отчет!$D:$D,0)","v":14}]
[508267690,8,"447ж",475523457,"Акумова","Анна","Дмитриевна","1104102","Теория и практика русского литературного языка",6,"Экзамен","2014/2015 учебный год 3 модуль",null,48,6,1,1,414659754,2098,null,"stCommon","Журналистика",{"$f":"MATCH(D263,Отчет!$D:$D,0)","v":32}]
[508259698,6,"445ж",481533939,"Заикина","Полина","Никитична","1114159","Теория и практика русского литературного языка",6,"Экзамен","2014/2015 учебный год 3 модуль",null,36,6,1,0,414659754,2098,null,"stCommon","Журналистика",{"$f":"MATCH(D264,Отчет!$D:$D,0)","v":74}]
[508259798,7,"445ж",481534499,"Калачина","Анна","Андреевна","1114162","Теория и практика русского литературного языка",6,"Экзамен","2014/2015 учебный год 3 модуль",null,42,6,1,0,414659754,2098,null,"stCommon","Журналистика",{"$f":"MATCH(D265,Отчет!$D:$D,0)","v":46}]
[508259934,8,"445ж",481534976,"Лукьянов","Алексей","Константинович","1114167","Теория и практика русского литературного языка",6,"Экзамен","2014/2015 учебный год 3 модуль",null,48,6,1,0,414659754,2098,null,"stCommon","Журналистика",{"$f":"MATCH(D266,Отчет!$D:$D,0)","v":60}]
[508260072,5,"445ж",481535470,"Рыженкова","Майя","Ильинична","1104133","Теория и практика русского литературного языка",6,"Экзамен","2014/2015 учебный год 3 модуль",null,30,6,1,0,414659754,2098,null,"stCommon","Журналистика",{"$f":"MATCH(D267,Отчет!$D:$D,0)","v":71}]
[508260179,8,"445ж",481536005,"Сарвина","Наталья","Александровна","1114181","Теория и практика русского литературного языка",6,"Экзамен","2014/2015 учебный год 3 модуль",null,48,6,1,0,414659754,2098,null,"stCommon","Журналистика",{"$f":"MATCH(D268,Отчет!$D:$D,0)","v":51}]
[508260274,8,"445ж",481536522,"Старкова","Ольга","Андреевна","1114184","Теория и практика русского литературного языка",6,"Экзамен","2014/2015 учебный год 3 модуль",null,48,6,1,0,414659754,2098,null,"stCommon","Журналистика",{"$f":"MATCH(D269,Отчет!$D:$D,0)","v":49}]
[508262269,8,"446ж",481539788,"Гербер","Александр","Романович","1114152","Теория и практика русского литературного языка",6,"Экзамен","2014/2015 учебный год 3 модуль",null,48,6,1,0,414659754,2098,null,"stCommon","Журналистика",{"$f":"MATCH(D270,Отчет!$D:$D,0)","v":47}]
[508262372,4,"446ж",481540398,"Кириллов","Евгений","Александрович","1114164","Теория и практика русского литературного языка",6,"Экзамен","2014/2015 учебный год 3 модуль",null,24,6,1,0,414659754,2098,null,"stCommon","Журналистика",{"$f":"MATCH(D271,Отчет!$D:$D,0)","v":78}]
[508265309,7,"447ж",475531344,"Юхим","Оксана","Михайловна","1104143","Теория и практика русского литературного языка",6,"Экзамен","2014/2015 учебный год 3 модуль",null,42,6,1,1,414659754,2098,null,"stCommon","Журналистика",{"$f":"MATCH(D272,Отчет!$D:$D,0)","v":50}]
[508258819,8,"445ж",475517232,"Васильева","Маргарита","Николаевна","1114147","Теория и практика русского литературного языка",6,"Экзамен","2014/2015 учебный год 3 модуль",null,48,6,1,1,414659754,2098,null,"stCommon","Журналистика",{"$f":"MATCH(D273,Отчет!$D:$D,0)","v":42}]
[508260666,9,"445ж",475517709,"Гликин","Константин","Максимович","1114153","Теория и практика русского литературного языка",6,"Экзамен","2014/2015 учебный год 3 модуль",null,54,6,1,1,414659754,2098,null,"stCommon","Журналистика",{"$f":"MATCH(D274,Отчет!$D:$D,0)","v":13}]
[508259010,8,"445ж",475518127,"Дюкарева","Мария","Юрьевна","1104109","Теория и практика русского литературного языка",6,"Экзамен","2014/2015 учебный год 3 модуль",null,48,6,1,1,414659754,2098,null,"stCommon","Журналистика",{"$f":"MATCH(D275,Отчет!$D:$D,0)","v":43}]
[508260366,4,"445ж",475578675,"Голиков","Александр","Вячеславович","1114154","Теория и практика русского литературного языка",6,"Экзамен","2014/2015 учебный год 3 модуль",null,24,6,1,0,414659754,2098,null,"stCommon","Журналистика",{"$f":"MATCH(D276,Отчет!$D:$D,0)","v":77}]
[508260481,6,"445ж",475579340,"Зиятдинова","Раина","Рамилевна","100036617","Теория и практика русского литературного языка",6,"Экзамен","2014/2015 учебный год 3 модуль",null,36,6,1,1,414659754,2098,null,"stCommon","Журналистика",{"$f":"MATCH(D277,Отчет!$D:$D,0)","v":61}]
[508260573,4,"445ж",475579737,"Казокина","Александра","Сергеевна","1114161","Теория и практика русского литературного языка",6,"Экзамен","2014/2015 учебный год 3 модуль",null,24,6,1,0,414659754,2098,"ikPlanned","stCommon","Журналистика",{"$f":"MATCH(D278,Отчет!$D:$D,0)","v":75}]
[508258914,2,"445ж",475580447,"Кречетова","Ангелина","Олеговна","1114191","Теория и практика русского литературного языка",6,"Экзамен","2014/2015 учебный год 3 модуль",null,0,6,0,0,414659754,2098,null,"stCommon","Журналистика",{"$f":"MATCH(D279,Отчет!$D:$D,0)","v":76}]
[508263339,8,"446ж",475581231,"Пожидаева","Ирина","Владимировна","1104128","Теория и практика русского литературного языка",6,"Экзамен","2014/2015 учебный год 3 модуль",null,48,6,1,1,414659754,2098,null,"stCommon","Журналистика",{"$f":"MATCH(D280,Отчет!$D:$D,0)","v":20}]
[508261601,3,"446ж",475581664,"Васильева","Анастасия","Руслановна","1114148","Теория и практика русского литературного языка",6,"Экзамен","2014/2015 учебный год 3 модуль",null,0,6,0,0,414659754,2098,null,"stCommon","Журналистика",{"$f":"MATCH(D281,Отчет!$D:$D,0)","v":79}]
[508267311,7,"447ж",475582475,"Андреева","Мария","Дмитриевна","1114144","Теория и практика русского литературного языка",6,"Экзамен","2014/2015 учебный год 3 модуль",null,42,6,1,0,414659754,2098,"ikPlanned","stCommon","Журналистика",{"$f":"MATCH(D282,Отчет!$D:$D,0)","v":65}]
[508267446,8,"447ж",475583224,"Мухаметдинова","Элина","Шамилевна","1104123","Теория и практика русского литературного языка",6,"Экзамен","2014/2015 учебный год 3 модуль",null,48,6,1,1,414659754,2098,null,"stCommon","Журналистика",{"$f":"MATCH(D283,Отчет!$D:$D,0)","v":25}]
[508263864,8,"447ж",475524374,"Бочарова","Анастасия","Денисовна","1104103","Теория и практика русского литературного языка",6,"Экзамен","2014/2015 учебный год 3 модуль",null,48,6,1,1,414659754,2098,null,"stCommon","Журналистика",{"$f":"MATCH(D284,Отчет!$D:$D,0)","v":38}]
[508263958,6,"447ж",475524972,"Гернеза","Варвара","Андреевна","1104104","Теория и практика русского литературного языка",6,"Экзамен","2014/2015 учебный год 3 модуль",null,36,6,1,1,414659754,2098,null,"stCommon","Журналистика",{"$f":"MATCH(D285,Отчет!$D:$D,0)","v":62}]
[508266898,6,"447ж",481549226,"Милушкова","Полина","Юрьевна","1114170","Теория и практика русского литературного языка",6,"Экзамен","2014/2015 учебный год 3 модуль",null,36,6,1,0,414659754,2098,null,"stCommon","Журналистика",{"$f":"MATCH(D286,Отчет!$D:$D,0)","v":68}]
[508267079,4,"447ж",481549768,"Мирошкина","Дарья","Александровна","1114171","Теория и практика русского литературного языка",6,"Экзамен","2014/2015 учебный год 3 модуль",null,24,6,1,0,414659754,2098,null,"stCommon","Журналистика",{"$f":"MATCH(D287,Отчет!$D:$D,0)","v":53}]
[508267210,7,"447ж",481550428,"Самарина","Евгения","Олеговна","1114180","Теория и практика русского литературного языка",6,"Экзамен","2014/2015 учебный год 3 модуль",null,42,6,1,0,414659754,2098,null,"stCommon","Журналистика",{"$f":"MATCH(D288,Отчет!$D:$D,0)","v":33}]
[974757113,4,"446ж",972492801,"Белодедова","Маргарита","Геннадьевна","2804108","Теория и практика русского литературного языка",6,"Экзамен","2014/2015 учебный год 3 модуль",null,24,6,1,0,414659754,2098,"ikPassed","stCommon","Журналистика",{"$f":"MATCH(D289,Отчет!$D:$D,0)","v":80}]
[508264942,7,"447ж",475529718,"Фалькон","Анастасия","Александровна","1104139","Теория и практика русского литературного языка",6,"Экзамен","2014/2015 учебный год 3 модуль",null,42,6,1,1,414659754,2098,null,"stCommon","Журналистика",{"$f":"MATCH(D290,Отчет!$D:$D,0)","v":21}]
[508262493,6,"446ж",481541119,"Мальцева","Елизавета","Олеговна","1114168","Теория и практика русского литературного языка",6,"Экзамен","2014/2015 учебный год 3 модуль",null,36,6,1,0,414659754,2098,null,"stCommon","Журналистика",{"$f":"MATCH(D291,Отчет!$D:$D,0)","v":58}]
[508262672,7,"446ж",481541627,"Мозжерова","Анна","Сергеевна","1114172","Теория и практика русского литературного языка",6,"Экзамен","2014/2015 учебный год 3 модуль",null,42,6,1,0,414659754,2098,null,"stCommon","Журналистика",{"$f":"MATCH(D292,Отчет!$D:$D,0)","v":52}]
[508262804,6,"446ж",481542172,"Николаева","Ирина","Александровна","10151075","Теория и практика русского литературного языка",6,"Экзамен","2014/2015 учебный год 3 модуль",null,36,6,1,0,414659754,2098,"ikPlanned","stCommon","Журналистика",{"$f":"MATCH(D293,Отчет!$D:$D,0)","v":67}]
[508262909,9,"446ж",481542689,"Реутова","Полина","Сергеевна","1114175","Теория и практика русского литературного языка",6,"Экзамен","2014/2015 учебный год 3 модуль",null,54,6,1,0,414659754,2098,null,"stCommon","Журналистика",{"$f":"MATCH(D294,Отчет!$D:$D,0)","v":44}]
[508263009,8,"446ж",481543173,"Романова","Юлия","Владимировна","1114176","Теория и практика русского литературного языка",6,"Экзамен","2014/2015 учебный год 3 модуль",null,48,6,1,0,414659754,2098,null,"stCommon","Журналистика",{"$f":"MATCH(D295,Отчет!$D:$D,0)","v":23}]
[508263118,10,"446ж",481543686,"Ткачук","Анфиса","Сергеевна","1114185","Теория и практика русского литературного языка",6,"Экзамен","2014/2015 учебный год 3 модуль",null,60,6,1,1,414659754,2098,null,"stCommon","Журналистика",{"$f":"MATCH(D296,Отчет!$D:$D,0)","v":19}]
[508263218,6,"446ж",481544213,"Федотова","Елена","Андреевна","1114186","Теория и практика русского литературного языка",6,"Экзамен","2014/2015 учебный год 3 модуль",null,36,6,1,0,414659754,2098,null,"stCommon","Журналистика",{"$f":"MATCH(D297,Отчет!$D:$D,0)","v":28}]
[508265551,8,"447ж",481545222,"Асекритова","Екатерина","Александровна","1114145","Теория и практика русского литературного языка",6,"Экзамен","2014/2015 учебный год 3 модуль",null,48,6,1,0,414659754,2098,null,"stCommon","Журналистика",{"$f":"MATCH(D298,Отчет!$D:$D,0)","v":48}]
[508265782,9,"447ж",481545758,"Бабаянц","Виолетта","Владимировна","1114146","Теория и практика русского литературного языка",6,"Экзамен","2014/2015 учебный год 3 модуль",null,54,6,1,0,414659754,2098,null,"stCommon","Журналистика",{"$f":"MATCH(D299,Отчет!$D:$D,0)","v":18}]
[508266011,8,"447ж",481546380,"Василиади","Елена","Христоевна","1004107","Теория и практика русского литературного языка",6,"Экзамен","2014/2015 учебный год 3 модуль",null,48,6,1,0,414659754,2098,null,"stCommon","Журналистика",{"$f":"MATCH(D300,Отчет!$D:$D,0)","v":22}]
[508266255,8,"447ж",481546960,"Вергазова","Анна","Тимуровна","1114149","Теория и практика русского литературного языка",6,"Экзамен","2014/2015 учебный год 3 модуль",null,48,6,1,0,414659754,2098,null,"stCommon","Журналистика",{"$f":"MATCH(D301,Отчет!$D:$D,0)","v":35}]
[508266485,4,"447ж",481548074,"Игнатчук","Ольга","Ивановна","1114160","Теория и практика русского литературного языка",6,"Экзамен","2014/2015 учебный год 3 модуль",null,24,6,1,0,414659754,2098,null,"stCommon","Журналистика",{"$f":"MATCH(D302,Отчет!$D:$D,0)","v":73}]
[508266685,7,"447ж",481548650,"Кардаш","Матвей","Борисович","1114163","Теория и практика русского литературного языка",6,"Экзамен","2014/2015 учебный год 3 модуль",null,42,6,1,0,414659754,2098,null,"stCommon","Журналистика",{"$f":"MATCH(D303,Отчет!$D:$D,0)","v":29}]
[508267553,6,"447ж",475584015,"Соловьева","Маргарита","Владимировна","1104135","Теория и практика русского литературного языка",6,"Экзамен","2014/2015 учебный год 3 модуль",null,36,6,1,1,414659754,2098,null,"stCommon","Журналистика",{"$f":"MATCH(D304,Отчет!$D:$D,0)","v":55}]
[508263658,7,"447ж",475584653,"Трубицына","Александра","Викторовна","1104137","Теория и практика русского литературного языка",6,"Экзамен","2014/2015 учебный год 3 модуль",null,42,6,1,0,414659754,2098,"ikPlanned","stCommon","Журналистика",{"$f":"MATCH(D305,Отчет!$D:$D,0)","v":72}]
[508259391,7,"445ж",481532512,"Гудова","Юлия","Викторовна","11102454","Теория и практика русского литературного языка",6,"Экзамен","2014/2015 учебный год 3 модуль",null,42,6,1,0,414659754,2098,null,"stCommon","Журналистика",{"$f":"MATCH(D306,Отчет!$D:$D,0)","v":64}]
[508259496,9,"445ж",481532910,"Данилова","Анастасия","Андреевна","1104107","Теория и практика русского литературного языка",6,"Экзамен","2014/2015 учебный год 3 модуль",null,54,6,1,0,414659754,2098,null,"stCommon","Журналистика",{"$f":"MATCH(D307,Отчет!$D:$D,0)","v":26}]
[508259604,8,"445ж",481533400,"Егорова","Анна","Андреевна","1114157","Теория и практика русского литературного языка",6,"Экзамен","2014/2015 учебный год 3 модуль",null,48,6,1,0,414659754,2098,null,"stCommon","Журналистика",{"$f":"MATCH(D308,Отчет!$D:$D,0)","v":59}]
[565793242,9,"446ж",481543686,"Ткачук","Анфиса","Сергеевна","1114185","Цифровой кинематограф: новые концепции визуального",3,"Экзамен","2014/2015 учебный год 3 модуль",null,27,3,1,1,414659754,2098,null,"stChoosen","Журналистика",{"$f":"MATCH(D309,Отчет!$D:$D,0)","v":19}]
[565793210,8,"445ж",481536522,"Старкова","Ольга","Андреевна","1114184","Цифровой кинематограф: новые концепции визуального",3,"Экзамен","2014/2015 учебный год 3 модуль",null,24,3,1,0,414659754,2098,null,"stChoosen","Журналистика",{"$f":"MATCH(D310,Отчет!$D:$D,0)","v":49}]
[565793255,10,"447ж",475526751,"Ихно","Дарья","Сергеевна","1104113","Цифровой кинематограф: новые концепции визуального",3,"Экзамен","2014/2015 учебный год 3 модуль",null,30,3,1,1,414659754,2098,null,"stChoosen","Журналистика",{"$f":"MATCH(D311,Отчет!$D:$D,0)","v":34}]
[565793246,8,"446ж",481544213,"Федотова","Елена","Андреевна","1114186","Цифровой кинематограф: новые концепции визуального",3,"Экзамен","2014/2015 учебный год 3 модуль",null,24,3,1,0,414659754,2098,null,"stChoosen","Журналистика",{"$f":"MATCH(D312,Отчет!$D:$D,0)","v":28}]
[565793232,8,"446ж",475521694,"Полибенцева","Анна","Владимировна","1104129","Цифровой кинематограф: новые концепции визуального",3,"Экзамен","2014/2015 учебный год 3 модуль",null,24,3,1,1,414659754,2098,null,"stChoosen","Журналистика",{"$f":"MATCH(D313,Отчет!$D:$D,0)","v":39}]
[565793259,9,"447ж",481549226,"Милушкова","Полина","Юрьевна","1114170","Цифровой кинематограф: новые концепции визуального",3,"Экзамен","2014/2015 учебный год 3 модуль",null,27,3,1,0,414659754,2098,null,"stChoosen","Журналистика",{"$f":"MATCH(D314,Отчет!$D:$D,0)","v":68}]
[565793223,8,"446ж",475521309,"Пенкина","Анастасия","Валерьевна","1104127","Цифровой кинематограф: новые концепции визуального",3,"Экзамен","2014/2015 учебный год 3 модуль",null,24,3,1,1,414659754,2098,null,"stChoosen","Журналистика",{"$f":"MATCH(D315,Отчет!$D:$D,0)","v":27}]
[565793219,8,"446ж",475520912,"Носик","Виктория","Павловна","1104125","Цифровой кинематограф: новые концепции визуального",3,"Экзамен","2014/2015 учебный год 3 модуль",null,24,3,1,1,414659754,2098,null,"stChoosen","Журналистика",{"$f":"MATCH(D316,Отчет!$D:$D,0)","v":66}]
[565793227,10,"446ж",475581231,"Пожидаева","Ирина","Владимировна","1104128","Цифровой кинематограф: новые концепции визуального",3,"Экзамен","2014/2015 учебный год 3 модуль",null,30,3,1,1,414659754,2098,null,"stChoosen","Журналистика",{"$f":"MATCH(D317,Отчет!$D:$D,0)","v":20}]
[565793215,8,"446ж",475520518,"Нагдалиева","Злата","Фархадовна","1104124","Цифровой кинематограф: новые концепции визуального",3,"Экзамен","2014/2015 учебный год 3 модуль",null,24,3,1,1,414659754,2098,null,"stChoosen","Журналистика",{"$f":"MATCH(D318,Отчет!$D:$D,0)","v":45}]
[828794903,9,"445ж",475579737,"Казокина","Александра","Сергеевна","1114161","Цифровой кинематограф: новые концепции визуального",3,"Экзамен","2014/2015 учебный год 3 модуль",null,27,3,1,0,414659754,2098,null,"stChoosen","Журналистика",{"$f":"MATCH(D319,Отчет!$D:$D,0)","v":75}]
[565793191,10,"445ж",475579340,"Зиятдинова","Раина","Рамилевна","100036617","Цифровой кинематограф: новые концепции визуального",3,"Экзамен","2014/2015 учебный год 3 модуль",null,30,3,1,1,414659754,2098,null,"stChoosen","Журналистика",{"$f":"MATCH(D320,Отчет!$D:$D,0)","v":61}]
[828794907,9,"445ж",475518127,"Дюкарева","Мария","Юрьевна","1104109","Цифровой кинематограф: новые концепции визуального",3,"Экзамен","2014/2015 учебный год 3 модуль",null,27,3,1,1,414659754,2098,null,"stChoosen","Журналистика",{"$f":"MATCH(D321,Отчет!$D:$D,0)","v":43}]
[565793206,10,"445ж",475519583,"Рыхлик","Наталья","Николаевна","1104134","Цифровой кинематограф: новые концепции визуального",3,"Экзамен","2014/2015 учебный год 3 модуль",null,30,3,1,1,414659754,2098,null,"stChoosen","Журналистика",{"$f":"MATCH(D322,Отчет!$D:$D,0)","v":30}]
[565793173,10,"445ж",475517232,"Васильева","Маргарита","Николаевна","1114147","Цифровой кинематограф: новые концепции визуального",3,"Экзамен","2014/2015 учебный год 3 модуль",null,30,3,1,1,414659754,2098,null,"stChoosen","Журналистика",{"$f":"MATCH(D323,Отчет!$D:$D,0)","v":42}]
[836263346,9,"447ж",475528055,"Львова","Анастасия","Артуровна","1104120","Цифровой кинематограф: новые концепции визуального",3,"Экзамен","2014/2015 учебный год 3 модуль",null,27,3,1,1,414659754,2098,null,"stChoosen","Журналистика",{"$f":"MATCH(D324,Отчет!$D:$D,0)","v":24}]
[565793250,9,"447ж",475523457,"Акумова","Анна","Дмитриевна","1104102","Цифровой кинематограф: новые концепции визуального",3,"Экзамен","2014/2015 учебный год 3 модуль",null,27,3,1,1,414659754,2098,null,"stChoosen","Журналистика",{"$f":"MATCH(D325,Отчет!$D:$D,0)","v":32}]
[565793182,10,"445ж",481533400,"Егорова","Анна","Андреевна","1114157","Цифровой кинематограф: новые концепции визуального",3,"Экзамен","2014/2015 учебный год 3 модуль",null,30,3,1,0,414659754,2098,null,"stChoosen","Журналистика",{"$f":"MATCH(D326,Отчет!$D:$D,0)","v":59}]
[565793197,9,"445ж",481534499,"Калачина","Анна","Андреевна","1114162","Цифровой кинематограф: новые концепции визуального",3,"Экзамен","2014/2015 учебный год 3 модуль",null,27,3,1,0,414659754,2098,null,"stChoosen","Журналистика",{"$f":"MATCH(D327,Отчет!$D:$D,0)","v":46}]
[565793201,8,"445ж",481534976,"Лукьянов","Алексей","Константинович","1114167","Цифровой кинематограф: новые концепции визуального",3,"Экзамен","2014/2015 учебный год 3 модуль",null,24,3,1,0,414659754,2098,null,"stChoosen","Журналистика",{"$f":"MATCH(D328,Отчет!$D:$D,0)","v":60}]
[565793264,9,"447ж",475530733,"Чумакова","Инга","Константиновна","1104141","Цифровой кинематограф: новые концепции визуального",3,"Экзамен","2014/2015 учебный год 3 модуль",null,27,3,1,1,414659754,2098,null,"stChoosen","Журналистика",{"$f":"MATCH(D329,Отчет!$D:$D,0)","v":37}]
[565793178,8,"445ж",475518599,"Зайцева","Екатерина","Николаевна","1104111","Цифровой кинематограф: новые концепции визуального",3,"Экзамен","2014/2015 учебный год 3 модуль",null,24,3,1,1,414659754,2098,null,"stChoosen","Журналистика",{"$f":"MATCH(D330,Отчет!$D:$D,0)","v":57}]
[565793237,10,"446ж",481543173,"Романова","Юлия","Владимировна","1114176","Цифровой кинематограф: новые концепции визуального",3,"Экзамен","2014/2015 учебный год 3 модуль",null,30,3,1,0,414659754,2098,null,"stChoosen","Журналистика",{"$f":"MATCH(D331,Отчет!$D:$D,0)","v":23}]
[565792035,10,"446ж",481541119,"Мальцева","Елизавета","Олеговна","1114168","Эволюция взаимоотношений медиа и бизнеса в России",3,"Экзамен","2014/2015 учебный год 3 модуль",null,30,3,1,0,414659754,2098,null,"stChoosen","Журналистика",{"$f":"MATCH(D332,Отчет!$D:$D,0)","v":58}]
[565792069,10,"447ж",481549768,"Мирошкина","Дарья","Александровна","1114171","Эволюция взаимоотношений медиа и бизнеса в России",3,"Экзамен","2014/2015 учебный год 3 модуль",null,30,3,1,0,414659754,2098,null,"stChoosen","Журналистика",{"$f":"MATCH(D333,Отчет!$D:$D,0)","v":53}]
[565792053,9,"447ж",475524374,"Бочарова","Анастасия","Денисовна","1104103","Эволюция взаимоотношений медиа и бизнеса в России",3,"Экзамен","2014/2015 учебный год 3 модуль",null,27,3,1,1,414659754,2098,null,"stChoosen","Журналистика",{"$f":"MATCH(D334,Отчет!$D:$D,0)","v":38}]
[565792044,10,"447ж",475582475,"Андреева","Мария","Дмитриевна","1114144","Эволюция взаимоотношений медиа и бизнеса в России",3,"Экзамен","2014/2015 учебный год 3 модуль",null,30,3,1,0,414659754,2098,"ikPlanned","stChoosen","Журналистика",{"$f":"MATCH(D335,Отчет!$D:$D,0)","v":65}]
[565792025,10,"445ж",475580447,"Кречетова","Ангелина","Олеговна","1114191","Эволюция взаимоотношений медиа и бизнеса в России",3,"Экзамен","2014/2015 учебный год 3 модуль",null,30,3,1,0,414659754,2098,null,"stChoosen","Журналистика",{"$f":"MATCH(D336,Отчет!$D:$D,0)","v":76}]
[718355935,10,"445ж",475517709,"Гликин","Константин","Максимович","1114153","Эволюция взаимоотношений медиа и бизнеса в России",3,"Экзамен","2014/2015 учебный год 3 модуль",null,30,3,1,1,414659754,2098,null,"stChoosen","Журналистика",{"$f":"MATCH(D337,Отчет!$D:$D,0)","v":13}]
[565814340,10,"445ж",481536005,"Сарвина","Наталья","Александровна","1114181","Эволюция взаимоотношений медиа и бизнеса в России",3,"Экзамен","2014/2015 учебный год 3 модуль",null,30,3,1,0,414659754,2098,null,"stChoosen","Журналистика",{"$f":"MATCH(D338,Отчет!$D:$D,0)","v":51}]
[565814539,10,"447ж",475584015,"Соловьева","Маргарита","Владимировна","1104135","Эволюция взаимоотношений медиа и бизнеса в России",3,"Экзамен","2014/2015 учебный год 3 модуль",null,30,3,1,1,414659754,2098,null,"stChoosen","Журналистика",{"$f":"MATCH(D339,Отчет!$D:$D,0)","v":55}]
[565792039,10,"447ж",475522967,"Агрызкова","Юлия","Игоревна","1104101","Эволюция взаимоотношений медиа и бизнеса в России",3,"Экзамен","2014/2015 учебный год 3 модуль",null,30,3,1,1,414659754,2098,null,"stChoosen","Журналистика",{"$f":"MATCH(D340,Отчет!$D:$D,0)","v":14}]
[715909777,10,"446ж",475522118,"Понтус","Юлия","Игоревна","1104131","Эволюция взаимоотношений медиа и бизнеса в России",3,"Экзамен","2014/2015 учебный год 3 модуль",null,30,3,1,1,414659754,2098,null,"stChoosen","Журналистика",{"$f":"MATCH(D341,Отчет!$D:$D,0)","v":41}]
[565792077,10,"447ж",475530257,"Хачатрян","Ангелина","Владиславовна","1104140","Эволюция взаимоотношений медиа и бизнеса в России",3,"Экзамен","2014/2015 учебный год 3 модуль",null,30,3,1,1,414659754,2098,null,"stChoosen","Журналистика",{"$f":"MATCH(D342,Отчет!$D:$D,0)","v":70}]
[565792073,10,"447ж",475528836,"Павленко","Валентина","Юрьевна","1104126","Эволюция взаимоотношений медиа и бизнеса в России",3,"Экзамен","2014/2015 учебный год 3 модуль",null,30,3,1,1,414659754,2098,null,"stChoosen","Журналистика",{"$f":"MATCH(D343,Отчет!$D:$D,0)","v":12}]
[565792065,10,"447ж",475527601,"Кудряшова","Юлия","Ивановна","1104116","Эволюция взаимоотношений медиа и бизнеса в России",3,"Экзамен","2014/2015 учебный год 3 модуль",null,30,3,1,1,414659754,2098,null,"stChoosen","Журналистика",{"$f":"MATCH(D344,Отчет!$D:$D,0)","v":40}]
[565792061,10,"447ж",475527155,"Кристалинская","Мария","Валерьевна","1104115","Эволюция взаимоотношений медиа и бизнеса в России",3,"Экзамен","2014/2015 учебный год 3 модуль",null,30,3,1,1,414659754,2098,null,"stChoosen","Журналистика",{"$f":"MATCH(D345,Отчет!$D:$D,0)","v":17}]
[717207825,10,"447ж",475525818,"Донцова","Анна","Юрьевна","1104108","Эволюция взаимоотношений медиа и бизнеса в России",3,"Экзамен","2014/2015 учебный год 3 модуль",null,30,3,1,1,414659754,2098,null,"stChoosen","Журналистика",{"$f":"MATCH(D346,Отчет!$D:$D,0)","v":31}]
[565792030,9,"445ж",481535470,"Рыженкова","Майя","Ильинична","1104133","Эволюция взаимоотношений медиа и бизнеса в России",3,"Экзамен","2014/2015 учебный год 3 модуль",null,27,3,1,0,414659754,2098,null,"stChoosen","Журналистика",{"$f":"MATCH(D347,Отчет!$D:$D,0)","v":71}]
[565792049,10,"447ж",481545222,"Асекритова","Екатерина","Александровна","1114145","Эволюция взаимоотношений медиа и бизнеса в России",3,"Экзамен","2014/2015 учебный год 3 модуль",null,30,3,1,0,414659754,2098,null,"stChoosen","Журналистика",{"$f":"MATCH(D348,Отчет!$D:$D,0)","v":48}]
[565792057,10,"447ж",481546960,"Вергазова","Анна","Тимуровна","1114149","Эволюция взаимоотношений медиа и бизнеса в России",3,"Экзамен","2014/2015 учебный год 3 модуль",null,30,3,1,0,414659754,2098,null,"stChoosen","Журналистика",{"$f":"MATCH(D349,Отчет!$D:$D,0)","v":35}]
[974757213,6,"446ж",972492801,"Белодедова","Маргарита","Геннадьевна","2804108","Эволюция взаимоотношений медиа и бизнеса в России",4,"Экзамен","2014/2015 учебный год 3 модуль",null,24,4,1,0,414659754,2098,"ikPassed","stChoosen","Журналистика",{"$f":"MATCH(D350,Отчет!$D:$D,0)","v":80}]
[974757231,6,"446ж",972492801,"Белодедова","Маргарита","Геннадьевна","2804108","Мастерство ведущего теле- и радио программ",3,"Зачет","2014/2015 учебный год 3 модуль",null,18,3,1,0,414659754,2098,"ikPassed","stChoosen","Журналистика",{"$f":"MATCH(D351,Отчет!$D:$D,0)","v":80}]
[974757225,4,"446ж",972492801,"Белодедова","Маргарита","Геннадьевна","2804108","Продюсерское мастерство",3,"Зачет","2014/2015 учебный год 3 модуль",null,12,3,1,0,414659754,2098,"ikPassed","stChoosen","Журналистика",{"$f":"MATCH(D352,Отчет!$D:$D,0)","v":80}]
[974757219,9,"446ж",972492801,"Белодедова","Маргарита","Геннадьевна","2804108","Цифровой кинематограф: новые концепции визуального",3,"Зачет","2014/2015 учебный год 3 модуль",null,27,3,1,0,414659754,2098,"ikPassed","stChoosen","Журналистика",{"$f":"MATCH(D353,Отчет!$D:$D,0)","v":80}]
[722415564,9,"445ж",481532512,"Гудова","Юлия","Викторовна","11102454","Второй иностранный язык (французский)",4.1399999999999997,"Экзамен","2014/2015 учебный год 4 модуль",null,0,0,1,0,480222599,2098,null,"stChoosen","Журналистика",{"$f":"MATCH(D354,Отчет!$D:$D,0)","v":64}]
[616427068,6,"447ж",475584653,"Трубицына","Александра","Викторовна","1104137","Курсовая работа",5,"Экзамен","2014/2015 учебный год 4 модуль",null,30,5,1,0,414659448,4308,"ikRepeat",null,"Журналистика",{"$f":"MATCH(D355,Отчет!$D:$D,0)","v":72}]
[508266545,6,"447ж",481548074,"Игнатчук","Ольга","Ивановна","1114160","Междисциплинарный экзамен по направлению подготовки",3,"Экзамен","2014/2015 учебный год 4 модуль",null,18,3,1,0,414659754,4371,null,null,"Журналистика",{"$f":"MATCH(D356,Отчет!$D:$D,0)","v":73}]
[508266749,7,"447ж",481548650,"Кардаш","Матвей","Борисович","1114163","Междисциплинарный экзамен по направлению подготовки",3,"Экзамен","2014/2015 учебный год 4 модуль",null,21,3,1,0,414659754,4371,null,null,"Журналистика",{"$f":"MATCH(D357,Отчет!$D:$D,0)","v":29}]
[508266926,8,"447ж",481549226,"Милушкова","Полина","Юрьевна","1114170","Междисциплинарный экзамен по направлению подготовки",3,"Экзамен","2014/2015 учебный год 4 модуль",null,24,3,1,0,414659754,4371,null,null,"Журналистика",{"$f":"MATCH(D358,Отчет!$D:$D,0)","v":68}]
[508267119,8,"447ж",481549768,"Мирошкина","Дарья","Александровна","1114171","Междисциплинарный экзамен по направлению подготовки",3,"Экзамен","2014/2015 учебный год 4 модуль",null,24,3,1,0,414659754,4371,null,null,"Журналистика",{"$f":"MATCH(D359,Отчет!$D:$D,0)","v":53}]
[508267238,10,"447ж",481550428,"Самарина","Евгения","Олеговна","1114180","Междисциплинарный экзамен по направлению подготовки",3,"Экзамен","2014/2015 учебный год 4 модуль",null,30,3,1,0,414659754,4371,null,null,"Журналистика",{"$f":"MATCH(D360,Отчет!$D:$D,0)","v":33}]
[508264973,8,"447ж",475529718,"Фалькон","Анастасия","Александровна","1104139","Междисциплинарный экзамен по направлению подготовки",3,"Экзамен","2014/2015 учебный год 4 модуль",null,24,3,1,1,414659754,4371,null,null,"Журналистика",{"$f":"MATCH(D361,Отчет!$D:$D,0)","v":21}]
[508259141,5,"445ж",475518599,"Зайцева","Екатерина","Николаевна","1104111","Междисциплинарный экзамен по направлению подготовки",3,"Экзамен","2014/2015 учебный год 4 модуль",null,15,3,1,1,414659754,4371,null,null,"Журналистика",{"$f":"MATCH(D362,Отчет!$D:$D,0)","v":57}]
[508259233,10,"445ж",475519046,"Латынин","Антон","Валерьевич","1114166","Междисциплинарный экзамен по направлению подготовки",3,"Экзамен","2014/2015 учебный год 4 модуль",null,30,3,1,1,414659754,4371,null,null,"Журналистика",{"$f":"MATCH(D363,Отчет!$D:$D,0)","v":54}]
[508259327,8,"445ж",475519583,"Рыхлик","Наталья","Николаевна","1104134","Междисциплинарный экзамен по направлению подготовки",3,"Экзамен","2014/2015 учебный год 4 модуль",null,24,3,1,1,414659754,4371,null,null,"Журналистика",{"$f":"MATCH(D364,Отчет!$D:$D,0)","v":30}]
[508261535,10,"446ж",475520112,"Козырев","Макар","Денисович","1104114","Междисциплинарный экзамен по направлению подготовки",3,"Экзамен","2014/2015 учебный год 4 модуль",null,30,3,1,1,414659754,4371,null,null,"Журналистика",{"$f":"MATCH(D365,Отчет!$D:$D,0)","v":36}]
[508263461,8,"446ж",475520518,"Нагдалиева","Злата","Фархадовна","1104124","Междисциплинарный экзамен по направлению подготовки",3,"Экзамен","2014/2015 учебный год 4 модуль",null,24,3,1,1,414659754,4371,null,null,"Журналистика",{"$f":"MATCH(D366,Отчет!$D:$D,0)","v":45}]
[508261723,6,"446ж",475520912,"Носик","Виктория","Павловна","1104125","Междисциплинарный экзамен по направлению подготовки",3,"Экзамен","2014/2015 учебный год 4 модуль",null,18,3,1,1,414659754,4371,null,null,"Журналистика",{"$f":"MATCH(D367,Отчет!$D:$D,0)","v":66}]
[508261818,9,"446ж",475521309,"Пенкина","Анастасия","Валерьевна","1104127","Междисциплинарный экзамен по направлению подготовки",3,"Экзамен","2014/2015 учебный год 4 модуль",null,27,3,1,1,414659754,4371,null,null,"Журналистика",{"$f":"MATCH(D368,Отчет!$D:$D,0)","v":27}]
[508261916,8,"446ж",475521694,"Полибенцева","Анна","Владимировна","1104129","Междисциплинарный экзамен по направлению подготовки",3,"Экзамен","2014/2015 учебный год 4 модуль",null,24,3,1,1,414659754,4371,null,null,"Журналистика",{"$f":"MATCH(D369,Отчет!$D:$D,0)","v":39}]
[508262058,6,"446ж",475522118,"Понтус","Юлия","Игоревна","1104131","Междисциплинарный экзамен по направлению подготовки",3,"Экзамен","2014/2015 учебный год 4 модуль",null,18,3,1,1,414659754,4371,null,null,"Журналистика",{"$f":"MATCH(D370,Отчет!$D:$D,0)","v":41}]
[508262199,8,"446ж",475522503,"Шанталова","Александра","Спартаковна","1104142","Междисциплинарный экзамен по направлению подготовки",3,"Экзамен","2014/2015 учебный год 4 модуль",null,24,3,1,1,414659754,4371,null,null,"Журналистика",{"$f":"MATCH(D371,Отчет!$D:$D,0)","v":69}]
[508263579,10,"447ж",475522967,"Агрызкова","Юлия","Игоревна","1104101","Междисциплинарный экзамен по направлению подготовки",3,"Экзамен","2014/2015 учебный год 4 модуль",null,30,3,1,1,414659754,4371,null,null,"Журналистика",{"$f":"MATCH(D372,Отчет!$D:$D,0)","v":14}]
[508267730,7,"447ж",475523457,"Акумова","Анна","Дмитриевна","1104102","Междисциплинарный экзамен по направлению подготовки",3,"Экзамен","2014/2015 учебный год 4 модуль",null,21,3,1,1,414659754,4371,null,null,"Журналистика",{"$f":"MATCH(D373,Отчет!$D:$D,0)","v":32}]
[508263798,5,"447ж",475523923,"Асангулова","Рахат","Талантбековна","1114192","Междисциплинарный экзамен по направлению подготовки",3,"Экзамен","2014/2015 учебный год 4 модуль",null,15,3,1,1,414659754,4371,null,null,"Журналистика",{"$f":"MATCH(D374,Отчет!$D:$D,0)","v":56}]
[508263892,7,"447ж",475524374,"Бочарова","Анастасия","Денисовна","1104103","Междисциплинарный экзамен по направлению подготовки",3,"Экзамен","2014/2015 учебный год 4 модуль",null,21,3,1,1,414659754,4371,null,null,"Журналистика",{"$f":"MATCH(D375,Отчет!$D:$D,0)","v":38}]
[508263986,8,"447ж",475524972,"Гернеза","Варвара","Андреевна","1104104","Междисциплинарный экзамен по направлению подготовки",3,"Экзамен","2014/2015 учебный год 4 модуль",null,24,3,1,1,414659754,4371,null,null,"Журналистика",{"$f":"MATCH(D376,Отчет!$D:$D,0)","v":62}]
[508264088,7,"447ж",475525818,"Донцова","Анна","Юрьевна","1104108","Междисциплинарный экзамен по направлению подготовки",3,"Экзамен","2014/2015 учебный год 4 модуль",null,21,3,1,1,414659754,4371,null,null,"Журналистика",{"$f":"MATCH(D377,Отчет!$D:$D,0)","v":31}]
[508264187,10,"447ж",475526257,"Сорокина","Мария","Михайловна","1104110","Междисциплинарный экзамен по направлению подготовки",3,"Экзамен","2014/2015 учебный год 4 модуль",null,30,3,1,1,414659754,4371,null,null,"Журналистика",{"$f":"MATCH(D378,Отчет!$D:$D,0)","v":16}]
[508264292,8,"447ж",475526751,"Ихно","Дарья","Сергеевна","1104113","Междисциплинарный экзамен по направлению подготовки",3,"Экзамен","2014/2015 учебный год 4 модуль",null,24,3,1,1,414659754,4371,null,null,"Журналистика",{"$f":"MATCH(D379,Отчет!$D:$D,0)","v":34}]
[508264392,10,"447ж",475527155,"Кристалинская","Мария","Валерьевна","1104115","Междисциплинарный экзамен по направлению подготовки",3,"Экзамен","2014/2015 учебный год 4 модуль",null,30,3,1,1,414659754,4371,null,null,"Журналистика",{"$f":"MATCH(D380,Отчет!$D:$D,0)","v":17}]
[508264487,9,"447ж",475527601,"Кудряшова","Юлия","Ивановна","1104116","Междисциплинарный экзамен по направлению подготовки",3,"Экзамен","2014/2015 учебный год 4 модуль",null,27,3,1,1,414659754,4371,null,null,"Журналистика",{"$f":"MATCH(D381,Отчет!$D:$D,0)","v":40}]
[508264585,10,"447ж",475528055,"Львова","Анастасия","Артуровна","1104120","Междисциплинарный экзамен по направлению подготовки",3,"Экзамен","2014/2015 учебный год 4 модуль",null,30,3,1,1,414659754,4371,null,null,"Журналистика",{"$f":"MATCH(D382,Отчет!$D:$D,0)","v":24}]
[508264687,9,"447ж",475528458,"Максимов","Егор","Игоревич","1104121","Междисциплинарный экзамен по направлению подготовки",3,"Экзамен","2014/2015 учебный год 4 модуль",null,27,3,1,1,414659754,4371,null,null,"Журналистика",{"$f":"MATCH(D383,Отчет!$D:$D,0)","v":63}]
[508264784,10,"447ж",475528836,"Павленко","Валентина","Юрьевна","1104126","Междисциплинарный экзамен по направлению подготовки",3,"Экзамен","2014/2015 учебный год 4 модуль",null,30,3,1,1,414659754,4371,null,null,"Журналистика",{"$f":"MATCH(D384,Отчет!$D:$D,0)","v":12}]
[508264876,9,"447ж",475529260,"Разумовская","Мария","Алексеевна","1104132","Междисциплинарный экзамен по направлению подготовки",3,"Экзамен","2014/2015 учебный год 4 модуль",null,27,3,1,1,414659754,4371,null,null,"Журналистика",{"$f":"MATCH(D385,Отчет!$D:$D,0)","v":15}]
[508265065,7,"447ж",475530257,"Хачатрян","Ангелина","Владиславовна","1104140","Междисциплинарный экзамен по направлению подготовки",3,"Экзамен","2014/2015 учебный год 4 модуль",null,21,3,1,1,414659754,4371,null,null,"Журналистика",{"$f":"MATCH(D386,Отчет!$D:$D,0)","v":70}]
[508265166,8,"447ж",475530733,"Чумакова","Инга","Константиновна","1104141","Междисциплинарный экзамен по направлению подготовки",3,"Экзамен","2014/2015 учебный год 4 модуль",null,24,3,1,1,414659754,4371,null,null,"Журналистика",{"$f":"MATCH(D387,Отчет!$D:$D,0)","v":37}]
[508265378,7,"447ж",475531344,"Юхим","Оксана","Михайловна","1104143","Междисциплинарный экзамен по направлению подготовки",3,"Экзамен","2014/2015 учебный год 4 модуль",null,21,3,1,1,414659754,4371,null,null,"Журналистика",{"$f":"MATCH(D388,Отчет!$D:$D,0)","v":50}]
[508258847,9,"445ж",475517232,"Васильева","Маргарита","Николаевна","1114147","Междисциплинарный экзамен по направлению подготовки",3,"Экзамен","2014/2015 учебный год 4 модуль",null,27,3,1,1,414659754,4371,null,null,"Журналистика",{"$f":"MATCH(D389,Отчет!$D:$D,0)","v":42}]
[508260710,10,"445ж",475517709,"Гликин","Константин","Максимович","1114153","Междисциплинарный экзамен по направлению подготовки",3,"Экзамен","2014/2015 учебный год 4 модуль",null,30,3,1,1,414659754,4371,null,null,"Журналистика",{"$f":"MATCH(D390,Отчет!$D:$D,0)","v":13}]
[508259039,7,"445ж",475518127,"Дюкарева","Мария","Юрьевна","1104109","Междисциплинарный экзамен по направлению подготовки",3,"Экзамен","2014/2015 учебный год 4 модуль",null,21,3,1,1,414659754,4371,null,null,"Журналистика",{"$f":"MATCH(D391,Отчет!$D:$D,0)","v":43}]
[508260403,6,"445ж",475578675,"Голиков","Александр","Вячеславович","1114154","Междисциплинарный экзамен по направлению подготовки",3,"Экзамен","2014/2015 учебный год 4 модуль",null,18,3,1,0,414659754,4371,null,null,"Журналистика",{"$f":"MATCH(D392,Отчет!$D:$D,0)","v":77}]
[508260509,7,"445ж",475579340,"Зиятдинова","Раина","Рамилевна","100036617","Междисциплинарный экзамен по направлению подготовки",3,"Экзамен","2014/2015 учебный год 4 модуль",null,21,3,1,1,414659754,4371,null,null,"Журналистика",{"$f":"MATCH(D393,Отчет!$D:$D,0)","v":61}]
[508260601,4,"445ж",475579737,"Казокина","Александра","Сергеевна","1114161","Междисциплинарный экзамен по направлению подготовки",3,"Экзамен","2014/2015 учебный год 4 модуль",null,12,3,1,0,414659754,4371,"ikPlanned",null,"Журналистика",{"$f":"MATCH(D394,Отчет!$D:$D,0)","v":75}]
[508258942,8,"445ж",475580447,"Кречетова","Ангелина","Олеговна","1114191","Междисциплинарный экзамен по направлению подготовки",3,"Экзамен","2014/2015 учебный год 4 модуль",null,24,3,1,0,414659754,4371,null,null,"Журналистика",{"$f":"MATCH(D395,Отчет!$D:$D,0)","v":76}]
[508263367,6,"446ж",475581231,"Пожидаева","Ирина","Владимировна","1104128","Междисциплинарный экзамен по направлению подготовки",3,"Экзамен","2014/2015 учебный год 4 модуль",null,18,3,1,1,414659754,4371,null,null,"Журналистика",{"$f":"MATCH(D396,Отчет!$D:$D,0)","v":20}]
[508261629,9,"446ж",475581664,"Васильева","Анастасия","Руслановна","1114148","Междисциплинарный экзамен по направлению подготовки",3,"Экзамен","2014/2015 учебный год 4 модуль",null,27,3,1,0,414659754,4371,null,null,"Журналистика",{"$f":"MATCH(D397,Отчет!$D:$D,0)","v":79}]
[508267352,6,"447ж",475582475,"Андреева","Мария","Дмитриевна","1114144","Междисциплинарный экзамен по направлению подготовки",3,"Экзамен","2014/2015 учебный год 4 модуль",null,18,3,1,0,414659754,4371,"ikPlanned",null,"Журналистика",{"$f":"MATCH(D398,Отчет!$D:$D,0)","v":65}]
[508267478,8,"447ж",475583224,"Мухаметдинова","Элина","Шамилевна","1104123","Междисциплинарный экзамен по направлению подготовки",3,"Экзамен","2014/2015 учебный год 4 модуль",null,24,3,1,1,414659754,4371,null,null,"Журналистика",{"$f":"MATCH(D399,Отчет!$D:$D,0)","v":25}]
[508267592,8,"447ж",475584015,"Соловьева","Маргарита","Владимировна","1104135","Междисциплинарный экзамен по направлению подготовки",3,"Экзамен","2014/2015 учебный год 4 модуль",null,24,3,1,1,414659754,4371,null,null,"Журналистика",{"$f":"MATCH(D400,Отчет!$D:$D,0)","v":55}]
[508263693,7,"447ж",475584653,"Трубицына","Александра","Викторовна","1104137","Междисциплинарный экзамен по направлению подготовки",3,"Экзамен","2014/2015 учебный год 4 модуль",null,21,3,1,0,414659754,4371,"ikPlanned",null,"Журналистика",{"$f":"MATCH(D401,Отчет!$D:$D,0)","v":72}]
[508259419,4,"445ж",481532512,"Гудова","Юлия","Викторовна","11102454","Междисциплинарный экзамен по направлению подготовки",3,"Экзамен","2014/2015 учебный год 4 модуль",null,12,3,1,0,414659754,4371,null,null,"Журналистика",{"$f":"MATCH(D402,Отчет!$D:$D,0)","v":64}]
[508259535,8,"445ж",481532910,"Данилова","Анастасия","Андреевна","1104107","Междисциплинарный экзамен по направлению подготовки",3,"Экзамен","2014/2015 учебный год 4 модуль",null,24,3,1,0,414659754,4371,null,null,"Журналистика",{"$f":"MATCH(D403,Отчет!$D:$D,0)","v":26}]
[508259633,8,"445ж",481533400,"Егорова","Анна","Андреевна","1114157","Междисциплинарный экзамен по направлению подготовки",3,"Экзамен","2014/2015 учебный год 4 модуль",null,24,3,1,0,414659754,4371,null,null,"Журналистика",{"$f":"MATCH(D404,Отчет!$D:$D,0)","v":59}]
[508259728,5,"445ж",481533939,"Заикина","Полина","Никитична","1114159","Междисциплинарный экзамен по направлению подготовки",3,"Экзамен","2014/2015 учебный год 4 модуль",null,15,3,1,0,414659754,4371,null,null,"Журналистика",{"$f":"MATCH(D405,Отчет!$D:$D,0)","v":74}]
[508259826,10,"445ж",481534499,"Калачина","Анна","Андреевна","1114162","Междисциплинарный экзамен по направлению подготовки",3,"Экзамен","2014/2015 учебный год 4 модуль",null,30,3,1,0,414659754,4371,null,null,"Журналистика",{"$f":"MATCH(D406,Отчет!$D:$D,0)","v":46}]
[508259964,7,"445ж",481534976,"Лукьянов","Алексей","Константинович","1114167","Междисциплинарный экзамен по направлению подготовки",3,"Экзамен","2014/2015 учебный год 4 модуль",null,21,3,1,0,414659754,4371,null,null,"Журналистика",{"$f":"MATCH(D407,Отчет!$D:$D,0)","v":60}]
[508260100,6,"445ж",481535470,"Рыженкова","Майя","Ильинична","1104133","Междисциплинарный экзамен по направлению подготовки",3,"Экзамен","2014/2015 учебный год 4 модуль",null,18,3,1,0,414659754,4371,null,null,"Журналистика",{"$f":"MATCH(D408,Отчет!$D:$D,0)","v":71}]
[508260207,10,"445ж",481536005,"Сарвина","Наталья","Александровна","1114181","Междисциплинарный экзамен по направлению подготовки",3,"Экзамен","2014/2015 учебный год 4 модуль",null,30,3,1,0,414659754,4371,null,null,"Журналистика",{"$f":"MATCH(D409,Отчет!$D:$D,0)","v":51}]
[508260302,8,"445ж",481536522,"Старкова","Ольга","Андреевна","1114184","Междисциплинарный экзамен по направлению подготовки",3,"Экзамен","2014/2015 учебный год 4 модуль",null,24,3,1,0,414659754,4371,null,null,"Журналистика",{"$f":"MATCH(D410,Отчет!$D:$D,0)","v":49}]
[508262298,8,"446ж",481539788,"Гербер","Александр","Романович","1114152","Междисциплинарный экзамен по направлению подготовки",3,"Экзамен","2014/2015 учебный год 4 модуль",null,24,3,1,0,414659754,4371,null,null,"Журналистика",{"$f":"MATCH(D411,Отчет!$D:$D,0)","v":47}]
[508262416,6,"446ж",481540398,"Кириллов","Евгений","Александрович","1114164","Междисциплинарный экзамен по направлению подготовки",3,"Экзамен","2014/2015 учебный год 4 модуль",null,18,3,1,0,414659754,4371,null,null,"Журналистика",{"$f":"MATCH(D412,Отчет!$D:$D,0)","v":78}]
[508262545,10,"446ж",481541119,"Мальцева","Елизавета","Олеговна","1114168","Междисциплинарный экзамен по направлению подготовки",3,"Экзамен","2014/2015 учебный год 4 модуль",null,30,3,1,0,414659754,4371,null,null,"Журналистика",{"$f":"MATCH(D413,Отчет!$D:$D,0)","v":58}]
[508262710,9,"446ж",481541627,"Мозжерова","Анна","Сергеевна","1114172","Междисциплинарный экзамен по направлению подготовки",3,"Экзамен","2014/2015 учебный год 4 модуль",null,27,3,1,0,414659754,4371,null,null,"Журналистика",{"$f":"MATCH(D414,Отчет!$D:$D,0)","v":52}]
[508262833,7,"446ж",481542172,"Николаева","Ирина","Александровна","10151075","Междисциплинарный экзамен по направлению подготовки",3,"Экзамен","2014/2015 учебный год 4 модуль",null,21,3,1,0,414659754,4371,"ikPlanned",null,"Журналистика",{"$f":"MATCH(D415,Отчет!$D:$D,0)","v":67}]
[508262939,7,"446ж",481542689,"Реутова","Полина","Сергеевна","1114175","Междисциплинарный экзамен по направлению подготовки",3,"Экзамен","2014/2015 учебный год 4 модуль",null,21,3,1,0,414659754,4371,null,null,"Журналистика",{"$f":"MATCH(D416,Отчет!$D:$D,0)","v":44}]
[508263038,7,"446ж",481543173,"Романова","Юлия","Владимировна","1114176","Междисциплинарный экзамен по направлению подготовки",3,"Экзамен","2014/2015 учебный год 4 модуль",null,21,3,1,0,414659754,4371,null,null,"Журналистика",{"$f":"MATCH(D417,Отчет!$D:$D,0)","v":23}]
[508263147,9,"446ж",481543686,"Ткачук","Анфиса","Сергеевна","1114185","Междисциплинарный экзамен по направлению подготовки",3,"Экзамен","2014/2015 учебный год 4 модуль",null,27,3,1,1,414659754,4371,null,null,"Журналистика",{"$f":"MATCH(D418,Отчет!$D:$D,0)","v":19}]
[508263264,9,"446ж",481544213,"Федотова","Елена","Андреевна","1114186","Междисциплинарный экзамен по направлению подготовки",3,"Экзамен","2014/2015 учебный год 4 модуль",null,27,3,1,0,414659754,4371,null,null,"Журналистика",{"$f":"MATCH(D419,Отчет!$D:$D,0)","v":28}]
[508265617,7,"447ж",481545222,"Асекритова","Екатерина","Александровна","1114145","Междисциплинарный экзамен по направлению подготовки",3,"Экзамен","2014/2015 учебный год 4 модуль",null,21,3,1,0,414659754,4371,null,null,"Журналистика",{"$f":"MATCH(D420,Отчет!$D:$D,0)","v":48}]
[508265857,10,"447ж",481545758,"Бабаянц","Виолетта","Владимировна","1114146","Междисциплинарный экзамен по направлению подготовки",3,"Экзамен","2014/2015 учебный год 4 модуль",null,30,3,1,0,414659754,4371,null,null,"Журналистика",{"$f":"MATCH(D421,Отчет!$D:$D,0)","v":18}]
[508266075,6,"447ж",481546380,"Василиади","Елена","Христоевна","1004107","Междисциплинарный экзамен по направлению подготовки",3,"Экзамен","2014/2015 учебный год 4 модуль",null,18,3,1,0,414659754,4371,null,null,"Журналистика",{"$f":"MATCH(D422,Отчет!$D:$D,0)","v":22}]
[508266323,10,"447ж",481546960,"Вергазова","Анна","Тимуровна","1114149","Междисциплинарный экзамен по направлению подготовки",3,"Экзамен","2014/2015 учебный год 4 модуль",null,30,3,1,0,414659754,4371,null,null,"Журналистика",{"$f":"MATCH(D423,Отчет!$D:$D,0)","v":35}]
[508259145,7,"445ж",475518599,"Зайцева","Екатерина","Николаевна","1104111","Подготовка и защита выпускной квалификационной работы",6,"Экзамен","2014/2015 учебный год 4 модуль",null,42,6,1,1,414659754,4354,null,null,"Журналистика",{"$f":"MATCH(D424,Отчет!$D:$D,0)","v":57}]
[508259237,8,"445ж",475519046,"Латынин","Антон","Валерьевич","1114166","Подготовка и защита выпускной квалификационной работы",6,"Экзамен","2014/2015 учебный год 4 модуль",null,48,6,1,1,414659754,4354,null,null,"Журналистика",{"$f":"MATCH(D425,Отчет!$D:$D,0)","v":54}]
[508259331,8,"445ж",475519583,"Рыхлик","Наталья","Николаевна","1104134","Подготовка и защита выпускной квалификационной работы",6,"Экзамен","2014/2015 учебный год 4 модуль",null,48,6,1,1,414659754,4354,null,null,"Журналистика",{"$f":"MATCH(D426,Отчет!$D:$D,0)","v":30}]
[508261539,10,"446ж",475520112,"Козырев","Макар","Денисович","1104114","Подготовка и защита выпускной квалификационной работы",6,"Экзамен","2014/2015 учебный год 4 модуль",null,60,6,1,1,414659754,4354,null,null,"Журналистика",{"$f":"MATCH(D427,Отчет!$D:$D,0)","v":36}]
[508263465,10,"446ж",475520518,"Нагдалиева","Злата","Фархадовна","1104124","Подготовка и защита выпускной квалификационной работы",6,"Экзамен","2014/2015 учебный год 4 модуль",null,60,6,1,1,414659754,4354,null,null,"Журналистика",{"$f":"MATCH(D428,Отчет!$D:$D,0)","v":45}]
[508261727,7,"446ж",475520912,"Носик","Виктория","Павловна","1104125","Подготовка и защита выпускной квалификационной работы",6,"Экзамен","2014/2015 учебный год 4 модуль",null,42,6,1,1,414659754,4354,null,null,"Журналистика",{"$f":"MATCH(D429,Отчет!$D:$D,0)","v":66}]
[508261822,8,"446ж",475521309,"Пенкина","Анастасия","Валерьевна","1104127","Подготовка и защита выпускной квалификационной работы",6,"Экзамен","2014/2015 учебный год 4 модуль",null,48,6,1,1,414659754,4354,null,null,"Журналистика",{"$f":"MATCH(D430,Отчет!$D:$D,0)","v":27}]
[508261920,7,"446ж",475521694,"Полибенцева","Анна","Владимировна","1104129","Подготовка и защита выпускной квалификационной работы",6,"Экзамен","2014/2015 учебный год 4 модуль",null,42,6,1,1,414659754,4354,null,null,"Журналистика",{"$f":"MATCH(D431,Отчет!$D:$D,0)","v":39}]
[508262062,9,"446ж",475522118,"Понтус","Юлия","Игоревна","1104131","Подготовка и защита выпускной квалификационной работы",6,"Экзамен","2014/2015 учебный год 4 модуль",null,54,6,1,1,414659754,4354,null,null,"Журналистика",{"$f":"MATCH(D432,Отчет!$D:$D,0)","v":41}]
[508262204,9,"446ж",475522503,"Шанталова","Александра","Спартаковна","1104142","Подготовка и защита выпускной квалификационной работы",6,"Экзамен","2014/2015 учебный год 4 модуль",null,54,6,1,1,414659754,4354,null,null,"Журналистика",{"$f":"MATCH(D433,Отчет!$D:$D,0)","v":69}]
[508263584,10,"447ж",475522967,"Агрызкова","Юлия","Игоревна","1104101","Подготовка и защита выпускной квалификационной работы",6,"Экзамен","2014/2015 учебный год 4 модуль",null,60,6,1,1,414659754,4354,null,null,"Журналистика",{"$f":"MATCH(D434,Отчет!$D:$D,0)","v":14}]
[508267734,10,"447ж",475523457,"Акумова","Анна","Дмитриевна","1104102","Подготовка и защита выпускной квалификационной работы",6,"Экзамен","2014/2015 учебный год 4 модуль",null,60,6,1,1,414659754,4354,null,null,"Журналистика",{"$f":"MATCH(D435,Отчет!$D:$D,0)","v":32}]
[508263802,9,"447ж",475523923,"Асангулова","Рахат","Талантбековна","1114192","Подготовка и защита выпускной квалификационной работы",6,"Экзамен","2014/2015 учебный год 4 модуль",null,54,6,1,1,414659754,4354,null,null,"Журналистика",{"$f":"MATCH(D436,Отчет!$D:$D,0)","v":56}]
[508263896,9,"447ж",475524374,"Бочарова","Анастасия","Денисовна","1104103","Подготовка и защита выпускной квалификационной работы",6,"Экзамен","2014/2015 учебный год 4 модуль",null,54,6,1,1,414659754,4354,null,null,"Журналистика",{"$f":"MATCH(D437,Отчет!$D:$D,0)","v":38}]
[508263990,7,"447ж",475524972,"Гернеза","Варвара","Андреевна","1104104","Подготовка и защита выпускной квалификационной работы",6,"Экзамен","2014/2015 учебный год 4 модуль",null,42,6,1,1,414659754,4354,null,null,"Журналистика",{"$f":"MATCH(D438,Отчет!$D:$D,0)","v":62}]
[508264092,8,"447ж",475525818,"Донцова","Анна","Юрьевна","1104108","Подготовка и защита выпускной квалификационной работы",6,"Экзамен","2014/2015 учебный год 4 модуль",null,48,6,1,1,414659754,4354,null,null,"Журналистика",{"$f":"MATCH(D439,Отчет!$D:$D,0)","v":31}]
[508264191,9,"447ж",475526257,"Сорокина","Мария","Михайловна","1104110","Подготовка и защита выпускной квалификационной работы",6,"Экзамен","2014/2015 учебный год 4 модуль",null,54,6,1,1,414659754,4354,null,null,"Журналистика",{"$f":"MATCH(D440,Отчет!$D:$D,0)","v":16}]
[508264296,8,"447ж",475526751,"Ихно","Дарья","Сергеевна","1104113","Подготовка и защита выпускной квалификационной работы",6,"Экзамен","2014/2015 учебный год 4 модуль",null,48,6,1,1,414659754,4354,null,null,"Журналистика",{"$f":"MATCH(D441,Отчет!$D:$D,0)","v":34}]
[508264396,9,"447ж",475527155,"Кристалинская","Мария","Валерьевна","1104115","Подготовка и защита выпускной квалификационной работы",6,"Экзамен","2014/2015 учебный год 4 модуль",null,54,6,1,1,414659754,4354,null,null,"Журналистика",{"$f":"MATCH(D442,Отчет!$D:$D,0)","v":17}]
[508264491,9,"447ж",475527601,"Кудряшова","Юлия","Ивановна","1104116","Подготовка и защита выпускной квалификационной работы",6,"Экзамен","2014/2015 учебный год 4 модуль",null,54,6,1,1,414659754,4354,null,null,"Журналистика",{"$f":"MATCH(D443,Отчет!$D:$D,0)","v":40}]
[508264589,8,"447ж",475528055,"Львова","Анастасия","Артуровна","1104120","Подготовка и защита выпускной квалификационной работы",6,"Экзамен","2014/2015 учебный год 4 модуль",null,48,6,1,1,414659754,4354,null,null,"Журналистика",{"$f":"MATCH(D444,Отчет!$D:$D,0)","v":24}]
[508264691,7,"447ж",475528458,"Максимов","Егор","Игоревич","1104121","Подготовка и защита выпускной квалификационной работы",6,"Экзамен","2014/2015 учебный год 4 модуль",null,42,6,1,1,414659754,4354,null,null,"Журналистика",{"$f":"MATCH(D445,Отчет!$D:$D,0)","v":63}]
[508264788,10,"447ж",475528836,"Павленко","Валентина","Юрьевна","1104126","Подготовка и защита выпускной квалификационной работы",6,"Экзамен","2014/2015 учебный год 4 модуль",null,60,6,1,1,414659754,4354,null,null,"Журналистика",{"$f":"MATCH(D446,Отчет!$D:$D,0)","v":12}]
[508264880,8,"447ж",475529260,"Разумовская","Мария","Алексеевна","1104132","Подготовка и защита выпускной квалификационной работы",6,"Экзамен","2014/2015 учебный год 4 модуль",null,48,6,1,1,414659754,4354,null,null,"Журналистика",{"$f":"MATCH(D447,Отчет!$D:$D,0)","v":15}]
[508265069,7,"447ж",475530257,"Хачатрян","Ангелина","Владиславовна","1104140","Подготовка и защита выпускной квалификационной работы",6,"Экзамен","2014/2015 учебный год 4 модуль",null,42,6,1,1,414659754,4354,null,null,"Журналистика",{"$f":"MATCH(D448,Отчет!$D:$D,0)","v":70}]
[508265176,10,"447ж",475530733,"Чумакова","Инга","Константиновна","1104141","Подготовка и защита выпускной квалификационной работы",6,"Экзамен","2014/2015 учебный год 4 модуль",null,60,6,1,1,414659754,4354,null,null,"Журналистика",{"$f":"MATCH(D449,Отчет!$D:$D,0)","v":37}]
[508265390,7,"447ж",475531344,"Юхим","Оксана","Михайловна","1104143","Подготовка и защита выпускной квалификационной работы",6,"Экзамен","2014/2015 учебный год 4 модуль",null,42,6,1,1,414659754,4354,null,null,"Журналистика",{"$f":"MATCH(D450,Отчет!$D:$D,0)","v":50}]
[508258853,10,"445ж",475517232,"Васильева","Маргарита","Николаевна","1114147","Подготовка и защита выпускной квалификационной работы",6,"Экзамен","2014/2015 учебный год 4 модуль",null,60,6,1,1,414659754,4354,null,null,"Журналистика",{"$f":"MATCH(D451,Отчет!$D:$D,0)","v":42}]
[508260714,10,"445ж",475517709,"Гликин","Константин","Максимович","1114153","Подготовка и защита выпускной квалификационной работы",6,"Экзамен","2014/2015 учебный год 4 модуль",null,60,6,1,1,414659754,4354,null,null,"Журналистика",{"$f":"MATCH(D452,Отчет!$D:$D,0)","v":13}]
[508259043,8,"445ж",475518127,"Дюкарева","Мария","Юрьевна","1104109","Подготовка и защита выпускной квалификационной работы",6,"Экзамен","2014/2015 учебный год 4 модуль",null,48,6,1,1,414659754,4354,null,null,"Журналистика",{"$f":"MATCH(D453,Отчет!$D:$D,0)","v":43}]
[508260408,7,"445ж",475578675,"Голиков","Александр","Вячеславович","1114154","Подготовка и защита выпускной квалификационной работы",6,"Экзамен","2014/2015 учебный год 4 модуль",null,42,6,1,0,414659754,4354,null,null,"Журналистика",{"$f":"MATCH(D454,Отчет!$D:$D,0)","v":77}]
[508260513,10,"445ж",475579340,"Зиятдинова","Раина","Рамилевна","100036617","Подготовка и защита выпускной квалификационной работы",6,"Экзамен","2014/2015 учебный год 4 модуль",null,60,6,1,1,414659754,4354,null,null,"Журналистика",{"$f":"MATCH(D455,Отчет!$D:$D,0)","v":61}]
[508260606,6,"445ж",475579737,"Казокина","Александра","Сергеевна","1114161","Подготовка и защита выпускной квалификационной работы",6,"Экзамен","2014/2015 учебный год 4 модуль",null,36,6,1,0,414659754,4354,"ikPlanned",null,"Журналистика",{"$f":"MATCH(D456,Отчет!$D:$D,0)","v":75}]
[508258946,8,"445ж",475580447,"Кречетова","Ангелина","Олеговна","1114191","Подготовка и защита выпускной квалификационной работы",6,"Экзамен","2014/2015 учебный год 4 модуль",null,48,6,1,0,414659754,4354,null,null,"Журналистика",{"$f":"MATCH(D457,Отчет!$D:$D,0)","v":76}]
[508263371,9,"446ж",475581231,"Пожидаева","Ирина","Владимировна","1104128","Подготовка и защита выпускной квалификационной работы",6,"Экзамен","2014/2015 учебный год 4 модуль",null,54,6,1,1,414659754,4354,null,null,"Журналистика",{"$f":"MATCH(D458,Отчет!$D:$D,0)","v":20}]
[508261633,8,"446ж",475581664,"Васильева","Анастасия","Руслановна","1114148","Подготовка и защита выпускной квалификационной работы",6,"Экзамен","2014/2015 учебный год 4 модуль",null,48,6,1,0,414659754,4354,null,null,"Журналистика",{"$f":"MATCH(D459,Отчет!$D:$D,0)","v":79}]
[508267356,9,"447ж",475582475,"Андреева","Мария","Дмитриевна","1114144","Подготовка и защита выпускной квалификационной работы",6,"Экзамен","2014/2015 учебный год 4 модуль",null,54,6,1,0,414659754,4354,"ikPlanned",null,"Журналистика",{"$f":"MATCH(D460,Отчет!$D:$D,0)","v":65}]
[508267482,9,"447ж",475583224,"Мухаметдинова","Элина","Шамилевна","1104123","Подготовка и защита выпускной квалификационной работы",6,"Экзамен","2014/2015 учебный год 4 модуль",null,54,6,1,1,414659754,4354,null,null,"Журналистика",{"$f":"MATCH(D461,Отчет!$D:$D,0)","v":25}]
[508267596,8,"447ж",475584015,"Соловьева","Маргарита","Владимировна","1104135","Подготовка и защита выпускной квалификационной работы",6,"Экзамен","2014/2015 учебный год 4 модуль",null,48,6,1,1,414659754,4354,null,null,"Журналистика",{"$f":"MATCH(D462,Отчет!$D:$D,0)","v":55}]
[508263698,4,"447ж",475584653,"Трубицына","Александра","Викторовна","1104137","Подготовка и защита выпускной квалификационной работы",6,"Экзамен","2014/2015 учебный год 4 модуль",null,24,6,1,0,414659754,4354,"ikPlanned",null,"Журналистика",{"$f":"MATCH(D463,Отчет!$D:$D,0)","v":72}]
[508259423,8,"445ж",481532512,"Гудова","Юлия","Викторовна","11102454","Подготовка и защита выпускной квалификационной работы",6,"Экзамен","2014/2015 учебный год 4 модуль",null,48,6,1,0,414659754,4354,null,null,"Журналистика",{"$f":"MATCH(D464,Отчет!$D:$D,0)","v":64}]
[508259540,10,"445ж",481532910,"Данилова","Анастасия","Андреевна","1104107","Подготовка и защита выпускной квалификационной работы",6,"Экзамен","2014/2015 учебный год 4 модуль",null,60,6,1,0,414659754,4354,null,null,"Журналистика",{"$f":"MATCH(D465,Отчет!$D:$D,0)","v":26}]
[508259637,7,"445ж",481533400,"Егорова","Анна","Андреевна","1114157","Подготовка и защита выпускной квалификационной работы",6,"Экзамен","2014/2015 учебный год 4 модуль",null,42,6,1,0,414659754,4354,null,null,"Журналистика",{"$f":"MATCH(D466,Отчет!$D:$D,0)","v":59}]
[508259732,7,"445ж",481533939,"Заикина","Полина","Никитична","1114159","Подготовка и защита выпускной квалификационной работы",6,"Экзамен","2014/2015 учебный год 4 модуль",null,42,6,1,0,414659754,4354,null,null,"Журналистика",{"$f":"MATCH(D467,Отчет!$D:$D,0)","v":74}]
[508259831,7,"445ж",481534499,"Калачина","Анна","Андреевна","1114162","Подготовка и защита выпускной квалификационной работы",6,"Экзамен","2014/2015 учебный год 4 модуль",null,42,6,1,0,414659754,4354,null,null,"Журналистика",{"$f":"MATCH(D468,Отчет!$D:$D,0)","v":46}]
[508259969,7,"445ж",481534976,"Лукьянов","Алексей","Константинович","1114167","Подготовка и защита выпускной квалификационной работы",6,"Экзамен","2014/2015 учебный год 4 модуль",null,42,6,1,0,414659754,4354,null,null,"Журналистика",{"$f":"MATCH(D469,Отчет!$D:$D,0)","v":60}]
[508260104,7,"445ж",481535470,"Рыженкова","Майя","Ильинична","1104133","Подготовка и защита выпускной квалификационной работы",6,"Экзамен","2014/2015 учебный год 4 модуль",null,42,6,1,0,414659754,4354,null,null,"Журналистика",{"$f":"MATCH(D470,Отчет!$D:$D,0)","v":71}]
[508260211,8,"445ж",481536005,"Сарвина","Наталья","Александровна","1114181","Подготовка и защита выпускной квалификационной работы",6,"Экзамен","2014/2015 учебный год 4 модуль",null,48,6,1,0,414659754,4354,null,null,"Журналистика",{"$f":"MATCH(D471,Отчет!$D:$D,0)","v":51}]
[508260306,10,"445ж",481536522,"Старкова","Ольга","Андреевна","1114184","Подготовка и защита выпускной квалификационной работы",6,"Экзамен","2014/2015 учебный год 4 модуль",null,60,6,1,0,414659754,4354,null,null,"Журналистика",{"$f":"MATCH(D472,Отчет!$D:$D,0)","v":49}]
[508262302,7,"446ж",481539788,"Гербер","Александр","Романович","1114152","Подготовка и защита выпускной квалификационной работы",6,"Экзамен","2014/2015 учебный год 4 модуль",null,42,6,1,0,414659754,4354,null,null,"Журналистика",{"$f":"MATCH(D473,Отчет!$D:$D,0)","v":47}]
[508262425,7,"446ж",481540398,"Кириллов","Евгений","Александрович","1114164","Подготовка и защита выпускной квалификационной работы",6,"Экзамен","2014/2015 учебный год 4 модуль",null,42,6,1,0,414659754,4354,null,null,"Журналистика",{"$f":"MATCH(D474,Отчет!$D:$D,0)","v":78}]
[508262559,8,"446ж",481541119,"Мальцева","Елизавета","Олеговна","1114168","Подготовка и защита выпускной квалификационной работы",6,"Экзамен","2014/2015 учебный год 4 модуль",null,48,6,1,0,414659754,4354,null,null,"Журналистика",{"$f":"MATCH(D475,Отчет!$D:$D,0)","v":58}]
[508262722,9,"446ж",481541627,"Мозжерова","Анна","Сергеевна","1114172","Подготовка и защита выпускной квалификационной работы",6,"Экзамен","2014/2015 учебный год 4 модуль",null,54,6,1,0,414659754,4354,null,null,"Журналистика",{"$f":"MATCH(D476,Отчет!$D:$D,0)","v":52}]
[508262839,8,"446ж",481542172,"Николаева","Ирина","Александровна","10151075","Подготовка и защита выпускной квалификационной работы",6,"Экзамен","2014/2015 учебный год 4 модуль",null,48,6,1,0,414659754,4354,"ikPlanned",null,"Журналистика",{"$f":"MATCH(D477,Отчет!$D:$D,0)","v":67}]
[508262943,8,"446ж",481542689,"Реутова","Полина","Сергеевна","1114175","Подготовка и защита выпускной квалификационной работы",6,"Экзамен","2014/2015 учебный год 4 модуль",null,48,6,1,0,414659754,4354,null,null,"Журналистика",{"$f":"MATCH(D478,Отчет!$D:$D,0)","v":44}]
[508263042,10,"446ж",481543173,"Романова","Юлия","Владимировна","1114176","Подготовка и защита выпускной квалификационной работы",6,"Экзамен","2014/2015 учебный год 4 модуль",null,60,6,1,0,414659754,4354,null,null,"Журналистика",{"$f":"MATCH(D479,Отчет!$D:$D,0)","v":23}]
[508263151,8,"446ж",481543686,"Ткачук","Анфиса","Сергеевна","1114185","Подготовка и защита выпускной квалификационной работы",6,"Экзамен","2014/2015 учебный год 4 модуль",null,48,6,1,1,414659754,4354,null,null,"Журналистика",{"$f":"MATCH(D480,Отчет!$D:$D,0)","v":19}]
[508263268,10,"446ж",481544213,"Федотова","Елена","Андреевна","1114186","Подготовка и защита выпускной квалификационной работы",6,"Экзамен","2014/2015 учебный год 4 модуль",null,60,6,1,0,414659754,4354,null,null,"Журналистика",{"$f":"MATCH(D481,Отчет!$D:$D,0)","v":28}]
[508265625,5,"447ж",481545222,"Асекритова","Екатерина","Александровна","1114145","Подготовка и защита выпускной квалификационной работы",6,"Экзамен","2014/2015 учебный год 4 модуль",null,30,6,1,0,414659754,4354,null,null,"Журналистика",{"$f":"MATCH(D482,Отчет!$D:$D,0)","v":48}]
[508265868,10,"447ж",481545758,"Бабаянц","Виолетта","Владимировна","1114146","Подготовка и защита выпускной квалификационной работы",6,"Экзамен","2014/2015 учебный год 4 модуль",null,60,6,1,0,414659754,4354,null,null,"Журналистика",{"$f":"MATCH(D483,Отчет!$D:$D,0)","v":18}]
[508266085,9,"447ж",481546380,"Василиади","Елена","Христоевна","1004107","Подготовка и защита выпускной квалификационной работы",6,"Экзамен","2014/2015 учебный год 4 модуль",null,54,6,1,0,414659754,4354,null,null,"Журналистика",{"$f":"MATCH(D484,Отчет!$D:$D,0)","v":22}]
[508266333,6,"447ж",481546960,"Вергазова","Анна","Тимуровна","1114149","Подготовка и защита выпускной квалификационной работы",6,"Экзамен","2014/2015 учебный год 4 модуль",null,36,6,1,0,414659754,4354,null,null,"Журналистика",{"$f":"MATCH(D485,Отчет!$D:$D,0)","v":35}]
[508266553,8,"447ж",481548074,"Игнатчук","Ольга","Ивановна","1114160","Подготовка и защита выпускной квалификационной работы",6,"Экзамен","2014/2015 учебный год 4 модуль",null,48,6,1,0,414659754,4354,null,null,"Журналистика",{"$f":"MATCH(D486,Отчет!$D:$D,0)","v":73}]
[508266759,10,"447ж",481548650,"Кардаш","Матвей","Борисович","1114163","Подготовка и защита выпускной квалификационной работы",6,"Экзамен","2014/2015 учебный год 4 модуль",null,60,6,1,0,414659754,4354,null,null,"Журналистика",{"$f":"MATCH(D487,Отчет!$D:$D,0)","v":29}]
[508266930,10,"447ж",481549226,"Милушкова","Полина","Юрьевна","1114170","Подготовка и защита выпускной квалификационной работы",6,"Экзамен","2014/2015 учебный год 4 модуль",null,60,6,1,0,414659754,4354,null,null,"Журналистика",{"$f":"MATCH(D488,Отчет!$D:$D,0)","v":68}]
[508267125,9,"447ж",481549768,"Мирошкина","Дарья","Александровна","1114171","Подготовка и защита выпускной квалификационной работы",6,"Экзамен","2014/2015 учебный год 4 модуль",null,54,6,1,0,414659754,4354,null,null,"Журналистика",{"$f":"MATCH(D489,Отчет!$D:$D,0)","v":53}]
[508267242,7,"447ж",481550428,"Самарина","Евгения","Олеговна","1114180","Подготовка и защита выпускной квалификационной работы",6,"Экзамен","2014/2015 учебный год 4 модуль",null,42,6,1,0,414659754,4354,null,null,"Журналистика",{"$f":"MATCH(D490,Отчет!$D:$D,0)","v":33}]
[508264977,10,"447ж",475529718,"Фалькон","Анастасия","Александровна","1104139","Подготовка и защита выпускной квалификационной работы",6,"Экзамен","2014/2015 учебный год 4 модуль",null,60,6,1,1,414659754,4354,null,null,"Журналистика",{"$f":"MATCH(D491,Отчет!$D:$D,0)","v":21}]
[508266914,10,"447ж",481549226,"Милушкова","Полина","Юрьевна","1114170","Преддипломная практика",5,"Экзамен","2014/2015 учебный год 4 модуль",null,50,5,1,0,414659754,4347,null,null,"Журналистика",{"$f":"MATCH(D492,Отчет!$D:$D,0)","v":68}]
[508267100,10,"447ж",481549768,"Мирошкина","Дарья","Александровна","1114171","Преддипломная практика",5,"Экзамен","2014/2015 учебный год 4 модуль",null,50,5,1,0,414659754,4347,null,null,"Журналистика",{"$f":"MATCH(D493,Отчет!$D:$D,0)","v":53}]
[508267226,10,"447ж",481550428,"Самарина","Евгения","Олеговна","1114180","Преддипломная практика",5,"Экзамен","2014/2015 учебный год 4 модуль",null,50,5,1,0,414659754,4347,null,null,"Журналистика",{"$f":"MATCH(D494,Отчет!$D:$D,0)","v":33}]
[508264961,8,"447ж",475529718,"Фалькон","Анастасия","Александровна","1104139","Преддипломная практика",5,"Экзамен","2014/2015 учебный год 4 модуль",null,40,5,1,1,414659754,4347,null,null,"Журналистика",{"$f":"MATCH(D495,Отчет!$D:$D,0)","v":21}]
[508259129,8,"445ж",475518599,"Зайцева","Екатерина","Николаевна","1104111","Преддипломная практика",5,"Экзамен","2014/2015 учебный год 4 модуль",null,40,5,1,1,414659754,4347,null,null,"Журналистика",{"$f":"MATCH(D496,Отчет!$D:$D,0)","v":57}]
[508259221,8,"445ж",475519046,"Латынин","Антон","Валерьевич","1114166","Преддипломная практика",5,"Экзамен","2014/2015 учебный год 4 модуль",null,40,5,1,1,414659754,4347,null,null,"Журналистика",{"$f":"MATCH(D497,Отчет!$D:$D,0)","v":54}]
[508259315,9,"445ж",475519583,"Рыхлик","Наталья","Николаевна","1104134","Преддипломная практика",5,"Экзамен","2014/2015 учебный год 4 модуль",null,45,5,1,1,414659754,4347,null,null,"Журналистика",{"$f":"MATCH(D498,Отчет!$D:$D,0)","v":30}]
[508261523,9,"446ж",475520112,"Козырев","Макар","Денисович","1104114","Преддипломная практика",5,"Экзамен","2014/2015 учебный год 4 модуль",null,45,5,1,1,414659754,4347,null,null,"Журналистика",{"$f":"MATCH(D499,Отчет!$D:$D,0)","v":36}]
[508263449,8,"446ж",475520518,"Нагдалиева","Злата","Фархадовна","1104124","Преддипломная практика",5,"Экзамен","2014/2015 учебный год 4 модуль",null,40,5,1,1,414659754,4347,null,null,"Журналистика",{"$f":"MATCH(D500,Отчет!$D:$D,0)","v":45}]
[508261711,8,"446ж",475520912,"Носик","Виктория","Павловна","1104125","Преддипломная практика",5,"Экзамен","2014/2015 учебный год 4 модуль",null,40,5,1,1,414659754,4347,null,null,"Журналистика",{"$f":"MATCH(D501,Отчет!$D:$D,0)","v":66}]
[508261806,8,"446ж",475521309,"Пенкина","Анастасия","Валерьевна","1104127","Преддипломная практика",5,"Экзамен","2014/2015 учебный год 4 модуль",null,40,5,1,1,414659754,4347,null,null,"Журналистика",{"$f":"MATCH(D502,Отчет!$D:$D,0)","v":27}]
[508261902,10,"446ж",475521694,"Полибенцева","Анна","Владимировна","1104129","Преддипломная практика",5,"Экзамен","2014/2015 учебный год 4 модуль",null,50,5,1,1,414659754,4347,null,null,"Журналистика",{"$f":"MATCH(D503,Отчет!$D:$D,0)","v":39}]
[508262046,8,"446ж",475522118,"Понтус","Юлия","Игоревна","1104131","Преддипломная практика",5,"Экзамен","2014/2015 учебный год 4 модуль",null,40,5,1,1,414659754,4347,null,null,"Журналистика",{"$f":"MATCH(D504,Отчет!$D:$D,0)","v":41}]
[508262176,9,"446ж",475522503,"Шанталова","Александра","Спартаковна","1104142","Преддипломная практика",5,"Экзамен","2014/2015 учебный год 4 модуль",null,45,5,1,1,414659754,4347,null,null,"Журналистика",{"$f":"MATCH(D505,Отчет!$D:$D,0)","v":69}]
[508263567,10,"447ж",475522967,"Агрызкова","Юлия","Игоревна","1104101","Преддипломная практика",5,"Экзамен","2014/2015 учебный год 4 модуль",null,50,5,1,1,414659754,4347,null,null,"Журналистика",{"$f":"MATCH(D506,Отчет!$D:$D,0)","v":14}]
[508267717,9,"447ж",475523457,"Акумова","Анна","Дмитриевна","1104102","Преддипломная практика",5,"Экзамен","2014/2015 учебный год 4 модуль",null,45,5,1,1,414659754,4347,null,null,"Журналистика",{"$f":"MATCH(D507,Отчет!$D:$D,0)","v":32}]
[508263786,10,"447ж",475523923,"Асангулова","Рахат","Талантбековна","1114192","Преддипломная практика",5,"Экзамен","2014/2015 учебный год 4 модуль",null,50,5,1,1,414659754,4347,null,null,"Журналистика",{"$f":"MATCH(D508,Отчет!$D:$D,0)","v":56}]
[508263880,10,"447ж",475524374,"Бочарова","Анастасия","Денисовна","1104103","Преддипломная практика",5,"Экзамен","2014/2015 учебный год 4 модуль",null,50,5,1,1,414659754,4347,null,null,"Журналистика",{"$f":"MATCH(D509,Отчет!$D:$D,0)","v":38}]
[508263974,10,"447ж",475524972,"Гернеза","Варвара","Андреевна","1104104","Преддипломная практика",5,"Экзамен","2014/2015 учебный год 4 модуль",null,50,5,1,1,414659754,4347,null,null,"Журналистика",{"$f":"MATCH(D510,Отчет!$D:$D,0)","v":62}]
[508264076,10,"447ж",475525818,"Донцова","Анна","Юрьевна","1104108","Преддипломная практика",5,"Экзамен","2014/2015 учебный год 4 модуль",null,50,5,1,1,414659754,4347,null,null,"Журналистика",{"$f":"MATCH(D511,Отчет!$D:$D,0)","v":31}]
[508264174,10,"447ж",475526257,"Сорокина","Мария","Михайловна","1104110","Преддипломная практика",5,"Экзамен","2014/2015 учебный год 4 модуль",null,50,5,1,1,414659754,4347,null,null,"Журналистика",{"$f":"MATCH(D512,Отчет!$D:$D,0)","v":16}]
[508264280,10,"447ж",475526751,"Ихно","Дарья","Сергеевна","1104113","Преддипломная практика",5,"Экзамен","2014/2015 учебный год 4 модуль",null,50,5,1,1,414659754,4347,null,null,"Журналистика",{"$f":"MATCH(D513,Отчет!$D:$D,0)","v":34}]
[508264379,10,"447ж",475527155,"Кристалинская","Мария","Валерьевна","1104115","Преддипломная практика",5,"Экзамен","2014/2015 учебный год 4 модуль",null,50,5,1,1,414659754,4347,null,null,"Журналистика",{"$f":"MATCH(D514,Отчет!$D:$D,0)","v":17}]
[508264475,10,"447ж",475527601,"Кудряшова","Юлия","Ивановна","1104116","Преддипломная практика",5,"Экзамен","2014/2015 учебный год 4 модуль",null,50,5,1,1,414659754,4347,null,null,"Журналистика",{"$f":"MATCH(D515,Отчет!$D:$D,0)","v":40}]
[508264573,9,"447ж",475528055,"Львова","Анастасия","Артуровна","1104120","Преддипломная практика",5,"Экзамен","2014/2015 учебный год 4 модуль",null,45,5,1,1,414659754,4347,null,null,"Журналистика",{"$f":"MATCH(D516,Отчет!$D:$D,0)","v":24}]
[508264675,9,"447ж",475528458,"Максимов","Егор","Игоревич","1104121","Преддипломная практика",5,"Экзамен","2014/2015 учебный год 4 модуль",null,45,5,1,1,414659754,4347,null,null,"Журналистика",{"$f":"MATCH(D517,Отчет!$D:$D,0)","v":63}]
[508264772,10,"447ж",475528836,"Павленко","Валентина","Юрьевна","1104126","Преддипломная практика",5,"Экзамен","2014/2015 учебный год 4 модуль",null,50,5,1,1,414659754,4347,null,null,"Журналистика",{"$f":"MATCH(D518,Отчет!$D:$D,0)","v":12}]
[508264864,10,"447ж",475529260,"Разумовская","Мария","Алексеевна","1104132","Преддипломная практика",5,"Экзамен","2014/2015 учебный год 4 модуль",null,50,5,1,1,414659754,4347,null,null,"Журналистика",{"$f":"MATCH(D519,Отчет!$D:$D,0)","v":15}]
[508265053,10,"447ж",475530257,"Хачатрян","Ангелина","Владиславовна","1104140","Преддипломная практика",5,"Экзамен","2014/2015 учебный год 4 модуль",null,50,5,1,1,414659754,4347,null,null,"Журналистика",{"$f":"MATCH(D520,Отчет!$D:$D,0)","v":70}]
[508265152,9,"447ж",475530733,"Чумакова","Инга","Константиновна","1104141","Преддипломная практика",5,"Экзамен","2014/2015 учебный год 4 модуль",null,45,5,1,1,414659754,4347,null,null,"Журналистика",{"$f":"MATCH(D521,Отчет!$D:$D,0)","v":37}]
[508265354,9,"447ж",475531344,"Юхим","Оксана","Михайловна","1104143","Преддипломная практика",5,"Экзамен","2014/2015 учебный год 4 модуль",null,45,5,1,1,414659754,4347,null,null,"Журналистика",{"$f":"MATCH(D522,Отчет!$D:$D,0)","v":50}]
[508258835,9,"445ж",475517232,"Васильева","Маргарита","Николаевна","1114147","Преддипломная практика",5,"Экзамен","2014/2015 учебный год 4 модуль",null,45,5,1,1,414659754,4347,null,null,"Журналистика",{"$f":"MATCH(D523,Отчет!$D:$D,0)","v":42}]
[508260698,10,"445ж",475517709,"Гликин","Константин","Максимович","1114153","Преддипломная практика",5,"Экзамен","2014/2015 учебный год 4 модуль",null,50,5,1,1,414659754,4347,null,null,"Журналистика",{"$f":"MATCH(D524,Отчет!$D:$D,0)","v":13}]
[508259026,9,"445ж",475518127,"Дюкарева","Мария","Юрьевна","1104109","Преддипломная практика",5,"Экзамен","2014/2015 учебный год 4 модуль",null,45,5,1,1,414659754,4347,null,null,"Журналистика",{"$f":"MATCH(D525,Отчет!$D:$D,0)","v":43}]
[508260382,8,"445ж",475578675,"Голиков","Александр","Вячеславович","1114154","Преддипломная практика",5,"Экзамен","2014/2015 учебный год 4 модуль",null,40,5,1,0,414659754,4347,null,null,"Журналистика",{"$f":"MATCH(D526,Отчет!$D:$D,0)","v":77}]
[508260497,9,"445ж",475579340,"Зиятдинова","Раина","Рамилевна","100036617","Преддипломная практика",5,"Экзамен","2014/2015 учебный год 4 модуль",null,45,5,1,1,414659754,4347,null,null,"Журналистика",{"$f":"MATCH(D527,Отчет!$D:$D,0)","v":61}]
[508260589,9,"445ж",475579737,"Казокина","Александра","Сергеевна","1114161","Преддипломная практика",5,"Экзамен","2014/2015 учебный год 4 модуль",null,45,5,1,0,414659754,4347,"ikPlanned",null,"Журналистика",{"$f":"MATCH(D528,Отчет!$D:$D,0)","v":75}]
[508258930,10,"445ж",475580447,"Кречетова","Ангелина","Олеговна","1114191","Преддипломная практика",5,"Экзамен","2014/2015 учебный год 4 модуль",null,50,5,1,0,414659754,4347,null,null,"Журналистика",{"$f":"MATCH(D529,Отчет!$D:$D,0)","v":76}]
[508263355,10,"446ж",475581231,"Пожидаева","Ирина","Владимировна","1104128","Преддипломная практика",5,"Экзамен","2014/2015 учебный год 4 модуль",null,50,5,1,1,414659754,4347,null,null,"Журналистика",{"$f":"MATCH(D530,Отчет!$D:$D,0)","v":20}]
[508261617,9,"446ж",475581664,"Васильева","Анастасия","Руслановна","1114148","Преддипломная практика",5,"Экзамен","2014/2015 учебный год 4 модуль",null,45,5,1,0,414659754,4347,null,null,"Журналистика",{"$f":"MATCH(D531,Отчет!$D:$D,0)","v":79}]
[508267331,10,"447ж",475582475,"Андреева","Мария","Дмитриевна","1114144","Преддипломная практика",5,"Экзамен","2014/2015 учебный год 4 модуль",null,50,5,1,0,414659754,4347,"ikPlanned",null,"Журналистика",{"$f":"MATCH(D532,Отчет!$D:$D,0)","v":65}]
[508267466,10,"447ж",475583224,"Мухаметдинова","Элина","Шамилевна","1104123","Преддипломная практика",5,"Экзамен","2014/2015 учебный год 4 модуль",null,50,5,1,1,414659754,4347,null,null,"Журналистика",{"$f":"MATCH(D533,Отчет!$D:$D,0)","v":25}]
[508267575,9,"447ж",475584015,"Соловьева","Маргарита","Владимировна","1104135","Преддипломная практика",5,"Экзамен","2014/2015 учебный год 4 модуль",null,45,5,1,1,414659754,4347,null,null,"Журналистика",{"$f":"MATCH(D534,Отчет!$D:$D,0)","v":55}]
[508263679,10,"447ж",475584653,"Трубицына","Александра","Викторовна","1104137","Преддипломная практика",5,"Экзамен","2014/2015 учебный год 4 модуль",null,50,5,1,0,414659754,4347,"ikPlanned",null,"Журналистика",{"$f":"MATCH(D535,Отчет!$D:$D,0)","v":72}]
[508259407,9,"445ж",481532512,"Гудова","Юлия","Викторовна","11102454","Преддипломная практика",5,"Экзамен","2014/2015 учебный год 4 модуль",null,45,5,1,0,414659754,4347,null,null,"Журналистика",{"$f":"MATCH(D536,Отчет!$D:$D,0)","v":64}]
[508259519,9,"445ж",481532910,"Данилова","Анастасия","Андреевна","1104107","Преддипломная практика",5,"Экзамен","2014/2015 учебный год 4 модуль",null,45,5,1,0,414659754,4347,null,null,"Журналистика",{"$f":"MATCH(D537,Отчет!$D:$D,0)","v":26}]
[508259620,8,"445ж",481533400,"Егорова","Анна","Андреевна","1114157","Преддипломная практика",5,"Экзамен","2014/2015 учебный год 4 модуль",null,40,5,1,0,414659754,4347,null,null,"Журналистика",{"$f":"MATCH(D538,Отчет!$D:$D,0)","v":59}]
[508259715,9,"445ж",481533939,"Заикина","Полина","Никитична","1114159","Преддипломная практика",5,"Экзамен","2014/2015 учебный год 4 модуль",null,45,5,1,0,414659754,4347,null,null,"Журналистика",{"$f":"MATCH(D539,Отчет!$D:$D,0)","v":74}]
[508259814,9,"445ж",481534499,"Калачина","Анна","Андреевна","1114162","Преддипломная практика",5,"Экзамен","2014/2015 учебный год 4 модуль",null,45,5,1,0,414659754,4347,null,null,"Журналистика",{"$f":"MATCH(D540,Отчет!$D:$D,0)","v":46}]
[508259950,8,"445ж",481534976,"Лукьянов","Алексей","Константинович","1114167","Преддипломная практика",5,"Экзамен","2014/2015 учебный год 4 модуль",null,40,5,1,0,414659754,4347,null,null,"Журналистика",{"$f":"MATCH(D541,Отчет!$D:$D,0)","v":60}]
[508260088,8,"445ж",481535470,"Рыженкова","Майя","Ильинична","1104133","Преддипломная практика",5,"Экзамен","2014/2015 учебный год 4 модуль",null,40,5,1,0,414659754,4347,null,null,"Журналистика",{"$f":"MATCH(D542,Отчет!$D:$D,0)","v":71}]
[508260195,9,"445ж",481536005,"Сарвина","Наталья","Александровна","1114181","Преддипломная практика",5,"Экзамен","2014/2015 учебный год 4 модуль",null,45,5,1,0,414659754,4347,null,null,"Журналистика",{"$f":"MATCH(D543,Отчет!$D:$D,0)","v":51}]
[508260290,8,"445ж",481536522,"Старкова","Ольга","Андреевна","1114184","Преддипломная практика",5,"Экзамен","2014/2015 учебный год 4 модуль",null,40,5,1,0,414659754,4347,null,null,"Журналистика",{"$f":"MATCH(D544,Отчет!$D:$D,0)","v":49}]
[508262285,8,"446ж",481539788,"Гербер","Александр","Романович","1114152","Преддипломная практика",5,"Экзамен","2014/2015 учебный год 4 модуль",null,40,5,1,0,414659754,4347,null,null,"Журналистика",{"$f":"MATCH(D545,Отчет!$D:$D,0)","v":47}]
[508262389,8,"446ж",481540398,"Кириллов","Евгений","Александрович","1114164","Преддипломная практика",5,"Экзамен","2014/2015 учебный год 4 модуль",null,40,5,1,0,414659754,4347,null,null,"Журналистика",{"$f":"MATCH(D546,Отчет!$D:$D,0)","v":78}]
[508262510,10,"446ж",481541119,"Мальцева","Елизавета","Олеговна","1114168","Преддипломная практика",5,"Экзамен","2014/2015 учебный год 4 модуль",null,50,5,1,0,414659754,4347,null,null,"Журналистика",{"$f":"MATCH(D547,Отчет!$D:$D,0)","v":58}]
[508262694,10,"446ж",481541627,"Мозжерова","Анна","Сергеевна","1114172","Преддипломная практика",5,"Экзамен","2014/2015 учебный год 4 модуль",null,50,5,1,0,414659754,4347,null,null,"Журналистика",{"$f":"MATCH(D548,Отчет!$D:$D,0)","v":52}]
[508262821,8,"446ж",481542172,"Николаева","Ирина","Александровна","10151075","Преддипломная практика",5,"Экзамен","2014/2015 учебный год 4 модуль",null,40,5,1,0,414659754,4347,"ikPlanned",null,"Журналистика",{"$f":"MATCH(D549,Отчет!$D:$D,0)","v":67}]
[508262927,9,"446ж",481542689,"Реутова","Полина","Сергеевна","1114175","Преддипломная практика",5,"Экзамен","2014/2015 учебный год 4 модуль",null,45,5,1,0,414659754,4347,null,null,"Журналистика",{"$f":"MATCH(D550,Отчет!$D:$D,0)","v":44}]
[508263025,10,"446ж",481543173,"Романова","Юлия","Владимировна","1114176","Преддипломная практика",5,"Экзамен","2014/2015 учебный год 4 модуль",null,50,5,1,0,414659754,4347,null,null,"Журналистика",{"$f":"MATCH(D551,Отчет!$D:$D,0)","v":23}]
[508263135,10,"446ж",481543686,"Ткачук","Анфиса","Сергеевна","1114185","Преддипломная практика",5,"Экзамен","2014/2015 учебный год 4 модуль",null,50,5,1,1,414659754,4347,null,null,"Журналистика",{"$f":"MATCH(D552,Отчет!$D:$D,0)","v":19}]
[508263251,10,"446ж",481544213,"Федотова","Елена","Андреевна","1114186","Преддипломная практика",5,"Экзамен","2014/2015 учебный год 4 модуль",null,50,5,1,0,414659754,4347,null,null,"Журналистика",{"$f":"MATCH(D553,Отчет!$D:$D,0)","v":28}]
[508265591,10,"447ж",481545222,"Асекритова","Екатерина","Александровна","1114145","Преддипломная практика",5,"Экзамен","2014/2015 учебный год 4 модуль",null,50,5,1,0,414659754,4347,null,null,"Журналистика",{"$f":"MATCH(D554,Отчет!$D:$D,0)","v":48}]
[508265831,8,"447ж",481545758,"Бабаянц","Виолетта","Владимировна","1114146","Преддипломная практика",5,"Экзамен","2014/2015 учебный год 4 модуль",null,40,5,1,0,414659754,4347,null,null,"Журналистика",{"$f":"MATCH(D555,Отчет!$D:$D,0)","v":18}]
[508266051,8,"447ж",481546380,"Василиади","Елена","Христоевна","1004107","Преддипломная практика",5,"Экзамен","2014/2015 учебный год 4 модуль",null,40,5,1,0,414659754,4347,null,null,"Журналистика",{"$f":"MATCH(D556,Отчет!$D:$D,0)","v":22}]
[508266299,9,"447ж",481546960,"Вергазова","Анна","Тимуровна","1114149","Преддипломная практика",5,"Экзамен","2014/2015 учебный год 4 модуль",null,45,5,1,0,414659754,4347,null,null,"Журналистика",{"$f":"MATCH(D557,Отчет!$D:$D,0)","v":35}]
[508266525,10,"447ж",481548074,"Игнатчук","Ольга","Ивановна","1114160","Преддипломная практика",5,"Экзамен","2014/2015 учебный год 4 модуль",null,50,5,1,0,414659754,4347,null,null,"Журналистика",{"$f":"MATCH(D558,Отчет!$D:$D,0)","v":73}]
[508266721,10,"447ж",481548650,"Кардаш","Матвей","Борисович","1114163","Преддипломная практика",5,"Экзамен","2014/2015 учебный год 4 модуль",null,50,5,1,0,414659754,4347,null,null,"Журналистика",{"$f":"MATCH(D559,Отчет!$D:$D,0)","v":29}]
[974757174,7,"446ж",972492801,"Белодедова","Маргарита","Геннадьевна","2804108","Преддипломная практика",4,"Зачет","2014/2015 учебный год 4 модуль",null,28,4,1,0,414659754,4347,"ikPassed",null,"Журналистика",{"$f":"MATCH(D560,Отчет!$D:$D,0)","v":80}]
[974757191,10,"446ж",972492801,"Белодедова","Маргарита","Геннадьевна","2804108","Физическая культура",0.17,"Зачет","2014/2015 учебный год 4 модуль",null,1.7,0.17,1,0,414659754,2098,"ikPassed","stCommon","Журналистика",{"$f":"MATCH(D561,Отчет!$D:$D,0)","v":80}]
[508266797,10,"447ж",481549226,"Милушкова","Полина","Юрьевна","1114170","Физическая культура",1,"Зачет","2014/2015 учебный год 4 модуль",null,10,1,1,0,414659754,2098,null,"stCommon","Журналистика",{"$f":"MATCH(D562,Отчет!$D:$D,0)","v":68}]
[508266974,10,"447ж",481549768,"Мирошкина","Дарья","Александровна","1114171","Физическая культура",1,"Зачет","2014/2015 учебный год 4 модуль",null,10,1,1,0,414659754,2098,null,"stCommon","Журналистика",{"$f":"MATCH(D563,Отчет!$D:$D,0)","v":53}]
[508267154,10,"447ж",481550428,"Самарина","Евгения","Олеговна","1114180","Физическая культура",1,"Зачет","2014/2015 учебный год 4 модуль",null,10,1,1,0,414659754,2098,null,"stCommon","Журналистика",{"$f":"MATCH(D564,Отчет!$D:$D,0)","v":33}]
[508264895,10,"447ж",475529718,"Фалькон","Анастасия","Александровна","1104139","Физическая культура",1,"Зачет","2014/2015 учебный год 4 модуль",null,10,1,1,1,414659754,2098,null,"stCommon","Журналистика",{"$f":"MATCH(D565,Отчет!$D:$D,0)","v":21}]
[508259059,10,"445ж",475518599,"Зайцева","Екатерина","Николаевна","1104111","Физическая культура",1,"Зачет","2014/2015 учебный год 4 модуль",null,10,1,1,1,414659754,2098,null,"stCommon","Журналистика",{"$f":"MATCH(D566,Отчет!$D:$D,0)","v":57}]
[508259159,10,"445ж",475519046,"Латынин","Антон","Валерьевич","1114166","Физическая культура",1,"Зачет","2014/2015 учебный год 4 модуль",null,10,1,1,1,414659754,2098,null,"stCommon","Журналистика",{"$f":"MATCH(D567,Отчет!$D:$D,0)","v":54}]
[508259251,10,"445ж",475519583,"Рыхлик","Наталья","Николаевна","1104134","Физическая культура",1,"Зачет","2014/2015 учебный год 4 модуль",null,10,1,1,1,414659754,2098,null,"stCommon","Журналистика",{"$f":"MATCH(D568,Отчет!$D:$D,0)","v":30}]
[508261461,10,"446ж",475520112,"Козырев","Макар","Денисович","1104114","Физическая культура",1,"Зачет","2014/2015 учебный год 4 модуль",null,10,1,1,1,414659754,2098,null,"stCommon","Журналистика",{"$f":"MATCH(D569,Отчет!$D:$D,0)","v":36}]
[508263385,10,"446ж",475520518,"Нагдалиева","Злата","Фархадовна","1104124","Физическая культура",1,"Зачет","2014/2015 учебный год 4 модуль",null,10,1,1,1,414659754,2098,null,"stCommon","Журналистика",{"$f":"MATCH(D570,Отчет!$D:$D,0)","v":45}]
[508261647,10,"446ж",475520912,"Носик","Виктория","Павловна","1104125","Физическая культура",1,"Зачет","2014/2015 учебный год 4 модуль",null,10,1,1,1,414659754,2098,null,"stCommon","Журналистика",{"$f":"MATCH(D571,Отчет!$D:$D,0)","v":66}]
[508261741,10,"446ж",475521309,"Пенкина","Анастасия","Валерьевна","1104127","Физическая культура",1,"Зачет","2014/2015 учебный год 4 модуль",null,10,1,1,1,414659754,2098,null,"stCommon","Журналистика",{"$f":"MATCH(D572,Отчет!$D:$D,0)","v":27}]
[508261836,10,"446ж",475521694,"Полибенцева","Анна","Владимировна","1104129","Физическая культура",1,"Зачет","2014/2015 учебный год 4 модуль",null,10,1,1,1,414659754,2098,null,"stCommon","Журналистика",{"$f":"MATCH(D573,Отчет!$D:$D,0)","v":39}]
[508261950,10,"446ж",475522118,"Понтус","Юлия","Игоревна","1104131","Физическая культура",1,"Зачет","2014/2015 учебный год 4 модуль",null,10,1,1,1,414659754,2098,null,"stCommon","Журналистика",{"$f":"MATCH(D574,Отчет!$D:$D,0)","v":41}]
[508262079,10,"446ж",475522503,"Шанталова","Александра","Спартаковна","1104142","Физическая культура",1,"Зачет","2014/2015 учебный год 4 модуль",null,10,1,1,1,414659754,2098,null,"stCommon","Журналистика",{"$f":"MATCH(D575,Отчет!$D:$D,0)","v":69}]
[508263479,10,"447ж",475522967,"Агрызкова","Юлия","Игоревна","1104101","Физическая культура",1,"Зачет","2014/2015 учебный год 4 модуль",null,10,1,1,1,414659754,2098,null,"stCommon","Журналистика",{"$f":"MATCH(D576,Отчет!$D:$D,0)","v":14}]
[508267616,10,"447ж",475523457,"Акумова","Анна","Дмитриевна","1104102","Физическая культура",1,"Зачет","2014/2015 учебный год 4 модуль",null,10,1,1,1,414659754,2098,null,"stCommon","Журналистика",{"$f":"MATCH(D577,Отчет!$D:$D,0)","v":32}]
[508263719,10,"447ж",475523923,"Асангулова","Рахат","Талантбековна","1114192","Физическая культура",1,"Зачет","2014/2015 учебный год 4 модуль",null,10,1,1,1,414659754,2098,null,"stCommon","Журналистика",{"$f":"MATCH(D578,Отчет!$D:$D,0)","v":56}]
[508263818,10,"447ж",475524374,"Бочарова","Анастасия","Денисовна","1104103","Физическая культура",1,"Зачет","2014/2015 учебный год 4 модуль",null,10,1,1,1,414659754,2098,null,"stCommon","Журналистика",{"$f":"MATCH(D579,Отчет!$D:$D,0)","v":38}]
[508263910,10,"447ж",475524972,"Гернеза","Варвара","Андреевна","1104104","Физическая культура",1,"Зачет","2014/2015 учебный год 4 модуль",null,10,1,1,1,414659754,2098,null,"stCommon","Журналистика",{"$f":"MATCH(D580,Отчет!$D:$D,0)","v":62}]
[508264012,10,"447ж",475525818,"Донцова","Анна","Юрьевна","1104108","Физическая культура",1,"Зачет","2014/2015 учебный год 4 модуль",null,10,1,1,1,414659754,2098,null,"stCommon","Журналистика",{"$f":"MATCH(D581,Отчет!$D:$D,0)","v":31}]
[508264106,10,"447ж",475526257,"Сорокина","Мария","Михайловна","1104110","Физическая культура",1,"Зачет","2014/2015 учебный год 4 модуль",null,10,1,1,1,414659754,2098,null,"stCommon","Журналистика",{"$f":"MATCH(D582,Отчет!$D:$D,0)","v":16}]
[508264207,10,"447ж",475526751,"Ихно","Дарья","Сергеевна","1104113","Физическая культура",1,"Зачет","2014/2015 учебный год 4 модуль",null,10,1,1,1,414659754,2098,null,"stCommon","Журналистика",{"$f":"MATCH(D583,Отчет!$D:$D,0)","v":34}]
[508264310,10,"447ж",475527155,"Кристалинская","Мария","Валерьевна","1104115","Физическая культура",1,"Зачет","2014/2015 учебный год 4 модуль",null,10,1,1,1,414659754,2098,null,"stCommon","Журналистика",{"$f":"MATCH(D584,Отчет!$D:$D,0)","v":17}]
[508264411,10,"447ж",475527601,"Кудряшова","Юлия","Ивановна","1104116","Физическая культура",1,"Зачет","2014/2015 учебный год 4 модуль",null,10,1,1,1,414659754,2098,null,"stCommon","Журналистика",{"$f":"MATCH(D585,Отчет!$D:$D,0)","v":40}]
[508264506,10,"447ж",475528055,"Львова","Анастасия","Артуровна","1104120","Физическая культура",1,"Зачет","2014/2015 учебный год 4 модуль",null,10,1,1,1,414659754,2098,null,"stCommon","Журналистика",{"$f":"MATCH(D586,Отчет!$D:$D,0)","v":24}]
[508264605,10,"447ж",475528458,"Максимов","Егор","Игоревич","1104121","Физическая культура",1,"Зачет","2014/2015 учебный год 4 модуль",null,10,1,1,1,414659754,2098,null,"stCommon","Журналистика",{"$f":"MATCH(D587,Отчет!$D:$D,0)","v":63}]
[508264706,10,"447ж",475528836,"Павленко","Валентина","Юрьевна","1104126","Физическая культура",1,"Зачет","2014/2015 учебный год 4 модуль",null,10,1,1,1,414659754,2098,null,"stCommon","Журналистика",{"$f":"MATCH(D588,Отчет!$D:$D,0)","v":12}]
[508264802,10,"447ж",475529260,"Разумовская","Мария","Алексеевна","1104132","Физическая культура",1,"Зачет","2014/2015 учебный год 4 модуль",null,10,1,1,1,414659754,2098,null,"stCommon","Журналистика",{"$f":"MATCH(D589,Отчет!$D:$D,0)","v":15}]
[508264991,10,"447ж",475530257,"Хачатрян","Ангелина","Владиславовна","1104140","Физическая культура",1,"Зачет","2014/2015 учебный год 4 модуль",null,10,1,1,1,414659754,2098,null,"stCommon","Журналистика",{"$f":"MATCH(D590,Отчет!$D:$D,0)","v":70}]
[508265087,10,"447ж",475530733,"Чумакова","Инга","Константиновна","1104141","Физическая культура",1,"Зачет","2014/2015 учебный год 4 модуль",null,10,1,1,1,414659754,2098,null,"stCommon","Журналистика",{"$f":"MATCH(D591,Отчет!$D:$D,0)","v":37}]
[508265195,10,"447ж",475531344,"Юхим","Оксана","Михайловна","1104143","Физическая культура",1,"Зачет","2014/2015 учебный год 4 модуль",null,10,1,1,1,414659754,2098,null,"stCommon","Журналистика",{"$f":"MATCH(D592,Отчет!$D:$D,0)","v":50}]
[508258768,10,"445ж",475517232,"Васильева","Маргарита","Николаевна","1114147","Физическая культура",1,"Зачет","2014/2015 учебный год 4 модуль",null,10,1,1,1,414659754,2098,null,"stCommon","Журналистика",{"$f":"MATCH(D593,Отчет!$D:$D,0)","v":42}]
[508260620,10,"445ж",475517709,"Гликин","Константин","Максимович","1114153","Физическая культура",1,"Зачет","2014/2015 учебный год 4 модуль",null,10,1,1,1,414659754,2098,null,"stCommon","Журналистика",{"$f":"MATCH(D594,Отчет!$D:$D,0)","v":13}]
[508258960,10,"445ж",475518127,"Дюкарева","Мария","Юрьевна","1104109","Физическая культура",1,"Зачет","2014/2015 учебный год 4 модуль",null,10,1,1,1,414659754,2098,null,"stCommon","Журналистика",{"$f":"MATCH(D595,Отчет!$D:$D,0)","v":43}]
[508260320,10,"445ж",475578675,"Голиков","Александр","Вячеславович","1114154","Физическая культура",1,"Зачет","2014/2015 учебный год 4 модуль",null,10,1,1,0,414659754,2098,null,"stCommon","Журналистика",{"$f":"MATCH(D596,Отчет!$D:$D,0)","v":77}]
[508260426,10,"445ж",475579340,"Зиятдинова","Раина","Рамилевна","100036617","Физическая культура",1,"Зачет","2014/2015 учебный год 4 модуль",null,10,1,1,1,414659754,2098,null,"stCommon","Журналистика",{"$f":"MATCH(D597,Отчет!$D:$D,0)","v":61}]
[508260527,10,"445ж",475579737,"Казокина","Александра","Сергеевна","1114161","Физическая культура",1,"Зачет","2014/2015 учебный год 4 модуль",null,10,1,1,0,414659754,2098,"ikPlanned","stCommon","Журналистика",{"$f":"MATCH(D598,Отчет!$D:$D,0)","v":75}]
[508258867,10,"445ж",475580447,"Кречетова","Ангелина","Олеговна","1114191","Физическая культура",1,"Зачет","2014/2015 учебный год 4 модуль",null,10,1,1,0,414659754,2098,null,"stCommon","Журналистика",{"$f":"MATCH(D599,Отчет!$D:$D,0)","v":76}]
[508263286,10,"446ж",475581231,"Пожидаева","Ирина","Владимировна","1104128","Физическая культура",1,"Зачет","2014/2015 учебный год 4 модуль",null,10,1,1,1,414659754,2098,null,"stCommon","Журналистика",{"$f":"MATCH(D600,Отчет!$D:$D,0)","v":20}]
[508261553,10,"446ж",475581664,"Васильева","Анастасия","Руслановна","1114148","Физическая культура",1,"Зачет","2014/2015 учебный год 4 модуль",null,10,1,1,0,414659754,2098,null,"stCommon","Журналистика",{"$f":"MATCH(D601,Отчет!$D:$D,0)","v":79}]
[508267256,10,"447ж",475582475,"Андреева","Мария","Дмитриевна","1114144","Физическая культура",1,"Зачет","2014/2015 учебный год 4 модуль",null,10,1,1,0,414659754,2098,"ikPlanned","stCommon","Журналистика",{"$f":"MATCH(D602,Отчет!$D:$D,0)","v":65}]
[508267394,10,"447ж",475583224,"Мухаметдинова","Элина","Шамилевна","1104123","Физическая культура",1,"Зачет","2014/2015 учебный год 4 модуль",null,10,1,1,1,414659754,2098,null,"stCommon","Журналистика",{"$f":"MATCH(D603,Отчет!$D:$D,0)","v":25}]
[508267496,10,"447ж",475584015,"Соловьева","Маргарита","Владимировна","1104135","Физическая культура",1,"Зачет","2014/2015 учебный год 4 модуль",null,10,1,1,1,414659754,2098,null,"stCommon","Журналистика",{"$f":"MATCH(D604,Отчет!$D:$D,0)","v":55}]
[508263600,10,"447ж",475584653,"Трубицына","Александра","Викторовна","1104137","Физическая культура",1,"Зачет","2014/2015 учебный год 4 модуль",null,10,1,1,0,414659754,2098,"ikPlanned","stCommon","Журналистика",{"$f":"MATCH(D605,Отчет!$D:$D,0)","v":72}]
[508259345,10,"445ж",481532512,"Гудова","Юлия","Викторовна","11102454","Физическая культура",1,"Зачет","2014/2015 учебный год 4 модуль",null,10,1,1,0,414659754,2098,null,"stCommon","Журналистика",{"$f":"MATCH(D606,Отчет!$D:$D,0)","v":64}]
[508259437,10,"445ж",481532910,"Данилова","Анастасия","Андреевна","1104107","Физическая культура",1,"Зачет","2014/2015 учебный год 4 модуль",null,10,1,1,0,414659754,2098,null,"stCommon","Журналистика",{"$f":"MATCH(D607,Отчет!$D:$D,0)","v":26}]
[508259557,10,"445ж",481533400,"Егорова","Анна","Андреевна","1114157","Физическая культура",1,"Зачет","2014/2015 учебный год 4 модуль",null,10,1,1,0,414659754,2098,null,"stCommon","Журналистика",{"$f":"MATCH(D608,Отчет!$D:$D,0)","v":59}]
[508259651,10,"445ж",481533939,"Заикина","Полина","Никитична","1114159","Физическая культура",1,"Зачет","2014/2015 учебный год 4 модуль",null,10,1,1,0,414659754,2098,null,"stCommon","Журналистика",{"$f":"MATCH(D609,Отчет!$D:$D,0)","v":74}]
[508259746,10,"445ж",481534499,"Калачина","Анна","Андреевна","1114162","Физическая культура",1,"Зачет","2014/2015 учебный год 4 модуль",null,10,1,1,0,414659754,2098,null,"stCommon","Журналистика",{"$f":"MATCH(D610,Отчет!$D:$D,0)","v":46}]
[508259848,10,"445ж",481534976,"Лукьянов","Алексей","Константинович","1114167","Физическая культура",1,"Зачет","2014/2015 учебный год 4 модуль",null,10,1,1,0,414659754,2098,null,"stCommon","Журналистика",{"$f":"MATCH(D611,Отчет!$D:$D,0)","v":60}]
[508259988,10,"445ж",481535470,"Рыженкова","Майя","Ильинична","1104133","Физическая культура",1,"Зачет","2014/2015 учебный год 4 модуль",null,10,1,1,0,414659754,2098,null,"stCommon","Журналистика",{"$f":"MATCH(D612,Отчет!$D:$D,0)","v":71}]
[508260121,10,"445ж",481536005,"Сарвина","Наталья","Александровна","1114181","Физическая культура",1,"Зачет","2014/2015 учебный год 4 модуль",null,10,1,1,0,414659754,2098,null,"stCommon","Журналистика",{"$f":"MATCH(D613,Отчет!$D:$D,0)","v":51}]
[508260225,10,"445ж",481536522,"Старкова","Ольга","Андреевна","1114184","Физическая культура",1,"Зачет","2014/2015 учебный год 4 модуль",null,10,1,1,0,414659754,2098,null,"stCommon","Журналистика",{"$f":"MATCH(D614,Отчет!$D:$D,0)","v":49}]
[508262221,10,"446ж",481539788,"Гербер","Александр","Романович","1114152","Физическая культура",1,"Зачет","2014/2015 учебный год 4 модуль",null,10,1,1,0,414659754,2098,null,"stCommon","Журналистика",{"$f":"MATCH(D615,Отчет!$D:$D,0)","v":47}]
[508262318,10,"446ж",481540398,"Кириллов","Евгений","Александрович","1114164","Физическая культура",1,"Зачет","2014/2015 учебный год 4 модуль",null,10,1,1,0,414659754,2098,null,"stCommon","Журналистика",{"$f":"MATCH(D616,Отчет!$D:$D,0)","v":78}]
[508262444,10,"446ж",481541119,"Мальцева","Елизавета","Олеговна","1114168","Физическая культура",1,"Зачет","2014/2015 учебный год 4 модуль",null,10,1,1,0,414659754,2098,null,"stCommon","Журналистика",{"$f":"MATCH(D617,Отчет!$D:$D,0)","v":58}]
[508262598,10,"446ж",481541627,"Мозжерова","Анна","Сергеевна","1114172","Физическая культура",1,"Зачет","2014/2015 учебный год 4 модуль",null,10,1,1,0,414659754,2098,null,"stCommon","Журналистика",{"$f":"MATCH(D618,Отчет!$D:$D,0)","v":52}]
[508262745,10,"446ж",481542172,"Николаева","Ирина","Александровна","10151075","Физическая культура",1,"Зачет","2014/2015 учебный год 4 модуль",null,10,1,1,0,414659754,2098,"ikPlanned","stCommon","Журналистика",{"$f":"MATCH(D619,Отчет!$D:$D,0)","v":67}]
[508262853,10,"446ж",481542689,"Реутова","Полина","Сергеевна","1114175","Физическая культура",1,"Зачет","2014/2015 учебный год 4 модуль",null,10,1,1,0,414659754,2098,null,"stCommon","Журналистика",{"$f":"MATCH(D620,Отчет!$D:$D,0)","v":44}]
[508262958,10,"446ж",481543173,"Романова","Юлия","Владимировна","1114176","Физическая культура",1,"Зачет","2014/2015 учебный год 4 модуль",null,10,1,1,0,414659754,2098,null,"stCommon","Журналистика",{"$f":"MATCH(D621,Отчет!$D:$D,0)","v":23}]
[508263058,10,"446ж",481543686,"Ткачук","Анфиса","Сергеевна","1114185","Физическая культура",1,"Зачет","2014/2015 учебный год 4 модуль",null,10,1,1,1,414659754,2098,null,"stCommon","Журналистика",{"$f":"MATCH(D622,Отчет!$D:$D,0)","v":19}]
[508263165,10,"446ж",481544213,"Федотова","Елена","Андреевна","1114186","Физическая культура",1,"Зачет","2014/2015 учебный год 4 модуль",null,10,1,1,0,414659754,2098,null,"stCommon","Журналистика",{"$f":"MATCH(D623,Отчет!$D:$D,0)","v":28}]
[508265429,10,"447ж",481545222,"Асекритова","Екатерина","Александровна","1114145","Физическая культура",1,"Зачет","2014/2015 учебный год 4 модуль",null,10,1,1,0,414659754,2098,null,"stCommon","Журналистика",{"$f":"MATCH(D624,Отчет!$D:$D,0)","v":48}]
[508265660,10,"447ж",481545758,"Бабаянц","Виолетта","Владимировна","1114146","Физическая культура",1,"Зачет","2014/2015 учебный год 4 модуль",null,10,1,1,0,414659754,2098,null,"stCommon","Журналистика",{"$f":"MATCH(D625,Отчет!$D:$D,0)","v":18}]
[508265905,10,"447ж",481546380,"Василиади","Елена","Христоевна","1004107","Физическая культура",1,"Зачет","2014/2015 учебный год 4 модуль",null,10,1,1,0,414659754,2098,null,"stCommon","Журналистика",{"$f":"MATCH(D626,Отчет!$D:$D,0)","v":22}]
[508266127,10,"447ж",481546960,"Вергазова","Анна","Тимуровна","1114149","Физическая культура",1,"Зачет","2014/2015 учебный год 4 модуль",null,10,1,1,0,414659754,2098,null,"stCommon","Журналистика",{"$f":"MATCH(D627,Отчет!$D:$D,0)","v":35}]
[508266369,10,"447ж",481548074,"Игнатчук","Ольга","Ивановна","1114160","Физическая культура",1,"Зачет","2014/2015 учебный год 4 модуль",null,10,1,1,0,414659754,2098,null,"stCommon","Журналистика",{"$f":"MATCH(D628,Отчет!$D:$D,0)","v":73}]
[508266583,10,"447ж",481548650,"Кардаш","Матвей","Борисович","1114163","Физическая культура",1,"Зачет","2014/2015 учебный год 4 модуль",null,10,1,1,0,414659754,2098,null,"stCommon","Журналистика",{"$f":"MATCH(D629,Отчет!$D:$D,0)","v":29}]