{"text_format":"1","workbook":"xlsx","n_sheets":2,"sheets":["Отчет","Данные"],"not_rendered":{"charts":0,"images":1,"macros":1,"external_links":0,"defined_names":0,"comments":0,"pivot_tables":0},"unopened":[],"bounds":{"document_bytes":16777216,"sheet_cells":100000,"rows_first":2000,"rows_last":500,"rows_between":2000,"halvings":0,"cell_chars":16384,"cell_head_chars":4096},"cells_cut":0,"cells_raw":0,"read":"whole","date_system":"1900"}

{"sheet":"Отчет","index":0,"n_rows":110,"n_cols":58,"rows_kept":110,"cut":false,"hidden":false,"merged":[[17,0,18,0],[7,1,9,1],[7,5,7,11],[8,5,8,11],[8,12,8,39],[7,12,7,45],[8,40,8,45],[7,50,10,50],[7,0,9,0],[1,52,2,55],[0,52,0,55],[7,53,10,53],[7,51,10,51],[7,2,9,2],[7,3,9,3],[7,56,10,56],[10,0,10,3],[7,55,10,55],[7,46,10,46],[7,49,10,49],[7,52,10,52],[7,47,10,47],[7,54,10,54],[7,48,10,48]]}
["Текущий рейтинг студентов (до пересдач)",null,null,null,null,null,null,null,null,null,null,null,null,null,null,null,null,null,null,null,null,null,null,null,null,null,null,null,null,null,null,null,null,null,null,null,null,null,null,null,null,null,null,null,null,null,null,null,null,null,null,null,"Приложение 3"]
["Дата выгрузки: 20.07.2015",null,null,null,null,null,null,null,null,null,null,null,null,null,null,null,null,null,null,null,null,null,null,null,null,null,null,null,null,null,null,null,null,null,null,null,null,null,null,null,null,null,null,null,null,null,null,null,null,null,null,null,"к Положению о рейтинговой системе комплексной оценки знаний студентов "]
["Период: c 2014/2015 учебный год II семестр по 2014/2015 учебный год II семестр"]
["Факультет/отделение: Факультет коммуникаций, медиа и дизайна"]
["Направление  подготовки: Направление \"Журналистика\""]
["Уровень образования, номер курса: Бакалавриат 2 курс",null,null,null,null,null," - студенты имеющие задолженности"]
[null,null,null,null,null,"*"," - изучение по ИУП"]
["Место","Студент","ID","Образовательная программа студента",null,"2014/2015 учебный год 3 модуль",null,null,null,null,null,null,"2014/2015 учебный год 4 модуль",null,null,null,null,null,null,null,null,null,null,null,null,null,null,null,null,null,null,null,null,null,null,null,null,null,null,null,null,null,null,null,null,null,"Кредитно-рейтинговая оценка","Нормировочный коэффициент","Сумма всех кредитов ","Нормированная кредитно-рейтинговая оценка","Сумма всех оценок","Количество всех оценок","Средний балл","Минимальный балл","Наличие неудовлетворительных оценок и неявок","Количество удовлетворительных оценок","Номер места"]
[null,null,null,null,null,"Экзамен",null,null,null,null,null,null,"Экзамен",null,null,null,null,null,null,null,null,null,null,null,null,null,null,null,null,null,null,null,null,null,null,null,null,null,null,null,"Зачет"]
[null,null,null,null,"Номер Row","Иностранный язык (английский)","Иностранный язык (английский)","Иностранный язык (английский)","Мегаполисы мира","Психология (включая основы социальной психологии)","Создание Интернет-проектов. Уровень 2. Язык CSS","Создание Интернет-проектов. Уровень 3. Основы языка программирования JavaScript","«Мягкая сила» и «управляемый хаос» - инструменты современной мировой политики","Визуальная информация и визуализация данных","Европейская музыка от античности до XXI века: исторические этюды","Земное и внеземное: космос в науке, мифологии, искусстве и политике","Иностранный язык (немецкий)","Иностранный язык (немецкий)","Иностранный язык (французский)","Иностранный язык (французский)","Иностранный язык (французский)","Исследование медиа-процессов","Исследование медиа-процессов","История","История","История и теория литературы","История и теория литературы","Курсовая работа","Основы операторской и режиссерской культуры для тележурналистов","Психология (включая основы социальной психологии)","Психология (включая основы социальной психологии)","Современные телевизионные форматы","Создание Интернет-проектов. Уровень 4. Основы языка программирования PHP","Теория и практика русского литературного языка","Теория и практика русского литературного языка","Техника речи","Техника речи","Технологии манипулирования в СМИ: выявление, анализ, противодействие","Технология работы журналиста (платформы)","Язык и политика","История и теория литературы","Теория и практика русского литературного языка","Физическая культура","Физическая культура","Физическая культура","Язык и политика"]
["Число текущих кредитов:",null,null,null,null,1.92,3,5,0,3,0,0,0,4.5,0,0,0,5,0,5,6,1.67,1.96,3.6,7,3.72,4.03,5,3,3,6,3,0,3,4,0,5,3,4.78,3,3.31,3,0,0.25,0.28000000000000003,1.5]
[1,"Правдюк Анна Сергеевна",481500535,"Журналистика",{"$f":"MATCH(C12,Данные!$D:$D,0)","v":93},10,null,null,10,10,null,null,null,null,null,null,10,null,null,null,null,10,null,10,null,10,null,10,null,10,null,10,null,10,null,null,null,null,9,null,null,null,10,null,null,null,322.12,{"$f":"IF(AW12 > 0, MAX(AW$12:AW$110) / AW12, 0)","v":1.3144692566534109},32.69,{"$f":"AU12*AV12","v":423.41683695319671},129,13,{"$f":"IF(AZ12 > 0,AY12/AZ12,0)","v":9.9230769230769234},{"$f":"MIN($F12:AT12)","v":9},null,13,1,"ОК"]
[2,"Суханова Юлия Александровна",475503448,"Журналистика",{"$f":"MATCH(C13,Данные!$D:$D,0)","v":35},9,null,null,null,9,null,null,null,null,null,null,9,null,null,null,null,9,null,9,null,10,null,10,null,10,null,null,null,10,null,9,null,10,10,null,null,null,10,null,null,null,316.71000000000004,{"$f":"IF(AW13 > 0, MAX(AW$12:AW$110) / AW13, 0)","v":1.3144692566534109},32.69,{"$f":"AU13*AV13","v":416.30555827470181},124,13,{"$f":"IF(AZ13 > 0,AY13/AZ13,0)","v":9.5384615384615383},{"$f":"MIN($F13:AT13)","v":9},null,13,2,"ОК"]
[3,"Королева Ольга Викторовна",481504458,"Журналистика",{"$f":"MATCH(C14,Данные!$D:$D,0)","v":39},9,null,null,null,9,8,9,null,null,null,null,10,null,null,null,null,9,null,9,null,10,null,10,null,10,null,9,9,10,null,8,null,null,10,null,null,null,10,null,null,null,313.71000000000004,{"$f":"IF(AW14 > 0, MAX(AW$12:AW$110) / AW14, 0)","v":1.3144692566534109},32.69,{"$f":"AU14*AV14","v":412.36215050474158},149,16,{"$f":"IF(AZ14 > 0,AY14/AZ14,0)","v":9.3125},{"$f":"MIN($F14:AT14)","v":8},null,16,3,"ОК"]
[4,"Лебедева Ксения Кирилловна",481500039,"Журналистика",{"$f":"MATCH(C15,Данные!$D:$D,0)","v":90},10,null,null,null,9,null,null,null,null,null,null,null,null,9,null,null,9,null,10,null,10,null,9,null,10,null,10,null,10,null,null,null,null,9,null,null,null,10,null,null,null,312.45,{"$f":"IF(AW15 > 0, MAX(AW$12:AW$110) / AW15, 0)","v":1.3144692566534109},32.69,{"$f":"AU15*AV15","v":410.70591924135823},115,12,{"$f":"IF(AZ15 > 0,AY15/AZ15,0)","v":9.5833333333333339},{"$f":"MIN($F15:AT15)","v":9},null,12,4,"ОК"]
[5,"Королькова Елизавета Дмитриевна",481499652,"Журналистика",{"$f":"MATCH(C16,Данные!$D:$D,0)","v":89},9,null,null,null,9,null,null,null,null,null,null,7,null,null,null,null,9,null,10,null,10,null,10,null,10,null,9,null,9,null,9,null,null,9,null,null,null,10,null,null,null,309.52999999999997,{"$f":"IF(AW16 > 0, MAX(AW$12:AW$110) / AW16, 0)","v":1.3144692566534109},32.69,{"$f":"AU16*AV16","v":406.86766901193022},120,13,{"$f":"IF(AZ16 > 0,AY16/AZ16,0)","v":9.2307692307692299},{"$f":"MIN($F16:AT16)","v":7},null,13,5,"ОК"]
[6,"Скворцова Дарья Андреевна",475498901,"Журналистика",{"$f":"MATCH(C17,Данные!$D:$D,0)","v":65},9,null,null,null,9,null,null,null,null,null,null,9,null,null,null,null,10,null,9,null,10,null,10,9,10,null,null,null,9,null,8,null,null,9,null,null,null,10,null,null,null,307.59999999999997,{"$f":"IF(AW17 > 0, MAX(AW$12:AW$110) / AW17, 0)","v":1.3144692566534109},32.69,{"$f":"AU17*AV17","v":404.33074334658914},121,13,{"$f":"IF(AZ17 > 0,AY17/AZ17,0)","v":9.3076923076923084},{"$f":"MIN($F17:AT17)","v":8},null,13,6,"ОК"]
["7 - 8","Кокорева Мария Викторовна",481504306,"Журналистика",{"$f":"MATCH(C18,Данные!$D:$D,0)","v":38},9,null,null,null,9,null,null,null,null,null,null,null,null,null,null,null,9,null,9,null,10,null,8,null,10,null,null,null,10,null,null,null,10,10,null,null,null,10,null,null,null,306.71000000000004,{"$f":"IF(AW18 > 0, MAX(AW$12:AW$110) / AW18, 0)","v":1.3144692566534109},32.69,{"$f":"AU18*AV18","v":403.16086570816771},104,11,{"$f":"IF(AZ18 > 0,AY18/AZ18,0)","v":9.454545454545455},{"$f":"MIN($F18:AT18)","v":8},null,11,7,"ОК"]
[null,"Савина София Леонидовна",481505031,"Журналистика",{"$f":"MATCH(C19,Данные!$D:$D,0)","v":47},9,null,null,null,9,null,null,null,null,null,null,9,null,9,null,null,9,null,9,null,10,null,8,null,10,null,null,null,10,null,8,null,10,10,null,null,null,10,null,null,null,306.71000000000004,{"$f":"IF(AW19 > 0, MAX(AW$12:AW$110) / AW19, 0)","v":1.3144692566534109},32.69,{"$f":"AU19*AV19","v":403.16086570816771},130,14,{"$f":"IF(AZ19 > 0,AY19/AZ19,0)","v":9.2857142857142865},{"$f":"MIN($F19:AT19)","v":8},null,14,8,"ОК"]
[9,"Липчанская Анастасия Алексеевна",475501239,"Журналистика",{"$f":"MATCH(C20,Данные!$D:$D,0)","v":12},9,null,null,null,10,null,null,null,null,null,null,null,null,null,null,null,10,null,8,null,10,null,10,null,10,null,9,null,10,null,9,null,null,8,null,null,null,10,null,null,null,305.22000000000003,{"$f":"IF(AW20 > 0, MAX(AW$12:AW$110) / AW20, 0)","v":1.3144692566534109},32.69,{"$f":"AU20*AV20","v":401.20230651575412},113,12,{"$f":"IF(AZ20 > 0,AY20/AZ20,0)","v":9.4166666666666661},{"$f":"MIN($F20:AT20)","v":8},null,12,9,"ОК"]
[10,"Рудакова Юлия Владиславовна",475498778,"Журналистика",{"$f":"MATCH(C21,Данные!$D:$D,0)","v":64},9,null,null,null,9,null,null,null,null,null,null,9,null,null,null,null,10,null,9,null,10,null,10,9,10,null,null,null,8,null,8,null,null,9,null,null,null,10,null,null,null,304.59999999999997,{"$f":"IF(AW21 > 0, MAX(AW$12:AW$110) / AW21, 0)","v":1.3144692566534109},32.69,{"$f":"AU21*AV21","v":400.38733557662891},120,13,{"$f":"IF(AZ21 > 0,AY21/AZ21,0)","v":9.2307692307692299},{"$f":"MIN($F21:AT21)","v":8},null,13,10,"ОК"]
[11,"Морозова Николь Дмитриевна",481497225,"Журналистика",{"$f":"MATCH(C22,Данные!$D:$D,0)","v":83},9,null,null,null,9,null,null,null,null,9,null,9,null,null,null,null,9,null,8,null,9,null,10,10,9,null,null,null,10,null,10,null,null,9,null,null,null,10,null,null,null,301.61,{"$f":"IF(AW22 > 0, MAX(AW$12:AW$110) / AW22, 0)","v":1.3144692566534109},32.69,{"$f":"AU22*AV22","v":396.45707249923527},130,14,{"$f":"IF(AZ22 > 0,AY22/AZ22,0)","v":9.2857142857142865},{"$f":"MIN($F22:AT22)","v":8},null,14,11,"ОК"]
[12,"Ревоненко Анна Николаевна",481500688,"Журналистика",{"$f":"MATCH(C23,Данные!$D:$D,0)","v":94},9,null,null,null,9,null,null,null,null,null,null,null,null,9,null,null,8,null,8,null,10,null,10,null,9,null,null,null,9,null,10,null,8,10,null,null,null,10,null,null,null,299.44,{"$f":"IF(AW23 > 0, MAX(AW$12:AW$110) / AW23, 0)","v":1.3144692566534109},32.69,{"$f":"AU23*AV23","v":393.60467421229737},119,13,{"$f":"IF(AZ23 > 0,AY23/AZ23,0)","v":9.1538461538461533},{"$f":"MIN($F23:AT23)","v":8},null,13,12,"ОК"]
[13,"Чернова Кристина Валериевна",475501776,"Журналистика",{"$f":"MATCH(C24,Данные!$D:$D,0)","v":16},9,null,null,null,8,null,null,null,null,9,null,8,null,9,null,null,9,null,8,null,10,null,10,null,8,null,8,null,10,null,null,null,8,10,null,null,null,10,null,null,null,298.11,{"$f":"IF(AW24 > 0, MAX(AW$12:AW$110) / AW24, 0)","v":1.3144692566534109},32.69,{"$f":"AU24*AV24","v":391.85643010094833},134,15,{"$f":"IF(AZ24 > 0,AY24/AZ24,0)","v":8.9333333333333336},{"$f":"MIN($F24:AT24)","v":8},null,15,13,"ОК"]
[14,"Рублева Милена Валерьевна",475501513,"Журналистика",{"$f":"MATCH(C25,Данные!$D:$D,0)","v":14},10,null,null,null,9,null,null,null,null,null,null,null,null,10,null,null,9,null,9,null,10,null,10,null,8,null,null,null,10,null,8,null,8,8,null,null,null,10,null,null,null,297.07,{"$f":"IF(AW25 > 0, MAX(AW$12:AW$110) / AW25, 0)","v":1.3144692566534109},32.69,{"$f":"AU25*AV25","v":390.48938207402875},119,13,{"$f":"IF(AZ25 > 0,AY25/AZ25,0)","v":9.1538461538461533},{"$f":"MIN($F25:AT25)","v":8},null,13,14,"ОК"]
[15,"Мусина Юлия Маратовна",475563331,"Журналистика",{"$f":"MATCH(C26,Данные!$D:$D,0)","v":63},9,null,null,null,9,null,null,null,null,null,null,null,null,9,null,null,9,null,8,null,8,null,10,10,9,null,null,null,8,null,9,null,null,10,null,null,null,10,null,null,null,296.67,{"$f":"IF(AW26 > 0, MAX(AW$12:AW$110) / AW26, 0)","v":1.3144692566534109},32.69,{"$f":"AU26*AV26","v":389.96359437136744},118,13,{"$f":"IF(AZ26 > 0,AY26/AZ26,0)","v":9.0769230769230766},{"$f":"MIN($F26:AT26)","v":8},null,13,15,"ОК"]
[16,"Яковец Елизавета Николаевна",475497867,"Журналистика",{"$f":"MATCH(C27,Данные!$D:$D,0)","v":75},9,null,null,null,7,null,null,null,null,null,null,null,null,null,null,null,9,null,9,null,9,null,10,null,10,null,8,null,10,null,7,null,null,9,null,null,null,10,null,null,null,296.20999999999998,{"$f":"IF(AW27 > 0, MAX(AW$12:AW$110) / AW27, 0)","v":1.3144692566534109},32.69,{"$f":"AU27*AV27","v":389.35893851330678},107,12,{"$f":"IF(AZ27 > 0,AY27/AZ27,0)","v":8.9166666666666661},{"$f":"MIN($F27:AT27)","v":7},null,12,16,"ОК"]
[17,"Герасимова Мария Александровна",475562579,"Журналистика",{"$f":"MATCH(C28,Данные!$D:$D,0)","v":59},9,null,null,null,10,null,null,null,null,null,null,null,null,null,null,null,9,null,9,null,9,null,10,null,8,null,null,null,9,null,null,null,9,8,null,null,null,10,null,null,null,294.43,{"$f":"IF(AW28 > 0, MAX(AW$12:AW$110) / AW28, 0)","v":1.3144692566534109},32.69,{"$f":"AU28*AV28","v":387.01918323646379},100,11,{"$f":"IF(AZ28 > 0,AY28/AZ28,0)","v":9.0909090909090917},{"$f":"MIN($F28:AT28)","v":8},null,11,17,"ОК"]
[18,"Николаева Мария Дмитриевна",475497479,"Журналистика",{"$f":"MATCH(C29,Данные!$D:$D,0)","v":72},9,null,null,null,7,null,null,null,null,null,null,9,null,null,null,null,9,null,8,null,9,null,10,null,8,null,10,null,10,null,null,null,null,9,null,null,null,10,null,null,null,292.61,{"$f":"IF(AW29 > 0, MAX(AW$12:AW$110) / AW29, 0)","v":1.3144692566534109},32.69,{"$f":"AU29*AV29","v":384.62684918935457},108,12,{"$f":"IF(AZ29 > 0,AY29/AZ29,0)","v":9},{"$f":"MIN($F29:AT29)","v":7},null,12,18,"ОК"]
[19,"Федорова Анастасия Александровна",475499056,"Журналистика",{"$f":"MATCH(C30,Данные!$D:$D,0)","v":66},9,null,null,null,9,null,null,null,null,null,null,null,null,8,null,null,10,null,8,null,9,null,9,null,10,null,9,null,8,null,7,null,null,9,null,null,null,10,null,null,null,292.27999999999997,{"$f":"IF(AW30 > 0, MAX(AW$12:AW$110) / AW30, 0)","v":1.3144692566534109},32.69,{"$f":"AU30*AV30","v":384.19307433465889},115,13,{"$f":"IF(AZ30 > 0,AY30/AZ30,0)","v":8.8461538461538467},{"$f":"MIN($F30:AT30)","v":7},null,13,19,"ОК"]
[20,"Вильшанская Елена Андреевна",475500480,"Журналистика",{"$f":"MATCH(C31,Данные!$D:$D,0)","v":7},9,null,null,null,9,null,null,null,null,null,null,9,null,8,null,null,8,null,8,null,8,null,10,10,8,null,null,null,8,null,9,null,null,10,null,null,null,10,null,null,null,292,{"$f":"IF(AW31 > 0, MAX(AW$12:AW$110) / AW31, 0)","v":1.3144692566534109},32.69,{"$f":"AU31*AV31","v":383.82502294279595},124,14,{"$f":"IF(AZ31 > 0,AY31/AZ31,0)","v":8.8571428571428577},{"$f":"MIN($F31:AT31)","v":8},null,14,20,"ОК"]
[21,"Круглова Ирина Викторовна",481504593,"Журналистика",{"$f":"MATCH(C32,Данные!$D:$D,0)","v":40},8,null,null,null,9,null,null,null,null,null,null,null,null,null,null,null,7,null,9,null,9,null,8,null,8,null,null,null,10,null,7,null,10,10,null,null,null,10,null,null,null,291.73,{"$f":"IF(AW32 > 0, MAX(AW$12:AW$110) / AW32, 0)","v":1.3144692566534109},32.69,{"$f":"AU32*AV32","v":383.47011624349955},105,12,{"$f":"IF(AZ32 > 0,AY32/AZ32,0)","v":8.75},{"$f":"MIN($F32:AT32)","v":7},null,12,21,"ОК"]
[22,"Афанасьева Татьяна Валерьевна",481496658,"Журналистика",{"$f":"MATCH(C33,Данные!$D:$D,0)","v":80},9,null,null,null,8,null,null,null,null,null,null,null,null,8,null,null,8,null,8,null,9,null,10,null,10,null,null,null,9,null,null,null,null,9,8,null,null,10,null,null,null,290.94,{"$f":"IF(AW33 > 0, MAX(AW$12:AW$110) / AW33, 0)","v":1.3144692566534109},32.69,{"$f":"AU33*AV33","v":382.43168553074338},106,12,{"$f":"IF(AZ33 > 0,AY33/AZ33,0)","v":8.8333333333333339},{"$f":"MIN($F33:AT33)","v":8},null,12,22,"ОК"]
[23,"Булатова Катерина Николаевна",475498195,"Журналистика",{"$f":"MATCH(C34,Данные!$D:$D,0)","v":76},9,null,null,null,8,null,null,null,null,null,null,9,null,null,null,null,9,null,7,null,9,null,9,10,10,null,null,null,9,null,9,null,null,9,null,null,null,10,null,null,null,290.01,{"$f":"IF(AW34 > 0, MAX(AW$12:AW$110) / AW34, 0)","v":1.3144692566534109},32.69,{"$f":"AU34*AV34","v":381.20922912205566},117,13,{"$f":"IF(AZ34 > 0,AY34/AZ34,0)","v":9},{"$f":"MIN($F34:AT34)","v":7},null,13,23,"ОК"]
[24,"Молоствова Анна Александровна",481501975,"Журналистика",{"$f":"MATCH(C35,Данные!$D:$D,0)","v":98},9,null,null,null,9,null,null,null,null,null,null,8,null,null,null,null,10,null,9,null,10,null,8,null,10,null,9,null,8,null,9,null,null,8,null,null,null,10,null,null,null,289.82,{"$f":"IF(AW35 > 0, MAX(AW$12:AW$110) / AW35, 0)","v":1.3144692566534109},32.69,{"$f":"AU35*AV35","v":380.95947996329153},117,13,{"$f":"IF(AZ35 > 0,AY35/AZ35,0)","v":9},{"$f":"MIN($F35:AT35)","v":8},null,13,24,"ОК"]
[25,"Литвякова Евдокия Алексеевна",475502924,"Журналистика",{"$f":"MATCH(C36,Данные!$D:$D,0)","v":20},9,null,null,null,8,null,null,null,null,null,null,7,null,null,null,null,8,null,8,null,10,null,7,null,10,null,null,null,9,null,9,null,9,10,null,null,null,10,null,null,null,287.44,{"$f":"IF(AW36 > 0, MAX(AW$12:AW$110) / AW36, 0)","v":1.3144692566534109},32.69,{"$f":"AU36*AV36","v":377.83104313245639},114,13,{"$f":"IF(AZ36 > 0,AY36/AZ36,0)","v":8.7692307692307701},{"$f":"MIN($F36:AT36)","v":7},null,13,25,"ОК"]
[26,"Огурцова Евгения Алексеевна",475498638,"Журналистика",{"$f":"MATCH(C37,Данные!$D:$D,0)","v":78},9,null,null,null,9,null,null,null,null,null,null,null,null,10,null,null,9,null,9,null,10,null,8,9,8,null,null,null,8,null,null,null,null,9,null,null,null,10,null,null,null,286.93,{"$f":"IF(AW37 > 0, MAX(AW$12:AW$110) / AW37, 0)","v":1.3144692566534109},32.69,{"$f":"AU37*AV37","v":377.16066381156321},108,12,{"$f":"IF(AZ37 > 0,AY37/AZ37,0)","v":9},{"$f":"MIN($F37:AT37)","v":8},null,12,26,"ОК"]
[27,"Робул Павел Константинович",475503187,"Журналистика",{"$f":"MATCH(C38,Данные!$D:$D,0)","v":22},8,null,null,null,8,null,null,null,null,null,null,null,null,null,null,null,8,null,8,null,10,null,9,null,7,null,null,null,8,null,null,null,10,10,null,null,null,10,null,null,null,286.52,{"$f":"IF(AW38 > 0, MAX(AW$12:AW$110) / AW38, 0)","v":1.3144692566534109},32.69,{"$f":"AU38*AV38","v":376.62173141633525},96,11,{"$f":"IF(AZ38 > 0,AY38/AZ38,0)","v":8.7272727272727266},{"$f":"MIN($F38:AT38)","v":7},null,11,27,"ОК"]
[28,"Аммосова Людмила Михайловна",475562216,"Журналистика",{"$f":"MATCH(C39,Данные!$D:$D,0)","v":57},9,null,null,null,8,null,null,null,null,null,null,null,null,9,null,null,8,null,6,null,8,null,9,10,10,null,null,null,9,null,9,null,null,10,null,null,null,10,null,null,null,285.8,{"$f":"IF(AW39 > 0, MAX(AW$12:AW$110) / AW39, 0)","v":1.3144692566534109},32.69,{"$f":"AU39*AV39","v":375.67531355154483},115,13,{"$f":"IF(AZ39 > 0,AY39/AZ39,0)","v":8.8461538461538467},{"$f":"MIN($F39:AT39)","v":6},null,13,28,"ОК"]
[29,"Дмитриева Екатерина Александровна",475500772,"Журналистика",{"$f":"MATCH(C40,Данные!$D:$D,0)","v":9},9,null,null,null,9,null,null,null,null,null,null,9,null,null,null,null,8,null,8,null,8,null,10,null,9,null,null,null,9,null,9,null,8,8,null,null,null,10,null,null,null,282.44,{"$f":"IF(AW40 > 0, MAX(AW$12:AW$110) / AW40, 0)","v":1.3144692566534109},32.69,{"$f":"AU40*AV40","v":371.25869684918933},114,13,{"$f":"IF(AZ40 > 0,AY40/AZ40,0)","v":8.7692307692307701},{"$f":"MIN($F40:AT40)","v":8},null,13,29,"ОК"]
[30,"Головина Евгения Павловна",475500628,"Журналистика",{"$f":"MATCH(C41,Данные!$D:$D,0)","v":8},9,null,null,null,8,null,null,null,null,null,null,null,null,null,null,null,8,null,8,null,10,null,9,null,10,null,null,null,9,null,null,null,7,8,7,null,null,10,null,null,null,281.88,{"$f":"IF(AW41 > 0, MAX(AW$12:AW$110) / AW41, 0)","v":1.3144692566534109},32.69,{"$f":"AU41*AV41","v":370.52259406546347},103,12,{"$f":"IF(AZ41 > 0,AY41/AZ41,0)","v":8.5833333333333339},{"$f":"MIN($F41:AT41)","v":7},null,12,30,"ОК"]
[31,"Чернышева Евгения Эдуардовна",475501916,"Журналистика",{"$f":"MATCH(C42,Данные!$D:$D,0)","v":17},9,null,null,null,8,null,null,10,null,null,null,8,null,null,null,null,7,null,8,null,9,null,10,null,9,null,null,null,8,null,8,null,9,8,null,null,null,10,null,null,null,281.49,{"$f":"IF(AW42 > 0, MAX(AW$12:AW$110) / AW42, 0)","v":1.3144692566534109},32.69,{"$f":"AU42*AV42","v":370.00995105536862},121,14,{"$f":"IF(AZ42 > 0,AY42/AZ42,0)","v":8.6428571428571423},{"$f":"MIN($F42:AT42)","v":7},null,14,31,"ОК"]
[32,"Вагапова Юлия Рстамовна",475502663,"Журналистика",{"$f":"MATCH(C43,Данные!$D:$D,0)","v":18},8,null,null,null,7,null,null,null,null,null,null,8,null,null,null,null,7,null,8,null,9,null,10,null,9,null,9,null,8,null,null,null,null,9,null,null,null,10,null,null,null,281.34999999999997,{"$f":"IF(AW43 > 0, MAX(AW$12:AW$110) / AW43, 0)","v":1.3144692566534109},32.69,{"$f":"AU43*AV43","v":369.82592535943712},102,12,{"$f":"IF(AZ43 > 0,AY43/AZ43,0)","v":8.5},{"$f":"MIN($F43:AT43)","v":7},null,12,32,"ОК"]
[33,"Астапенко Ольга Юрьевна",474332631,"Журналистика",{"$f":"MATCH(C44,Данные!$D:$D,0)","v":79},9,null,null,null,8,null,null,null,null,null,null,null,null,null,null,null,6,null,5,null,9,null,10,null,9,null,9,null,10,null,5,null,null,9,null,null,null,10,null,null,null,279.8,{"$f":"IF(AW44 > 0, MAX(AW$12:AW$110) / AW44, 0)","v":1.3144692566534109},32.69,{"$f":"AU44*AV44","v":367.78849801162437},99,12,{"$f":"IF(AZ44 > 0,AY44/AZ44,0)","v":8.25},{"$f":"MIN($F44:AT44)","v":5},null,12,33,"ОК"]
[34,"Русских Арина Сергеевна",481504898,"Журналистика",{"$f":"MATCH(C45,Данные!$D:$D,0)","v":42},9,null,null,null,6,null,null,null,null,null,null,null,null,null,null,null,9,null,8,null,7,null,9,null,10,null,8,null,10,null,null,null,null,9,null,null,null,10,null,null,null,277.17,{"$f":"IF(AW45 > 0, MAX(AW$12:AW$110) / AW45, 0)","v":1.3144692566534109},32.69,{"$f":"AU45*AV45","v":364.33144386662593},95,11,{"$f":"IF(AZ45 > 0,AY45/AZ45,0)","v":8.6363636363636367},{"$f":"MIN($F45:AT45)","v":6},null,11,34,"ОК"]
[35,"Голованов Сергей Сергеевич",481499019,"Журналистика",{"$f":"MATCH(C46,Данные!$D:$D,0)","v":87},9,null,null,null,8,null,null,null,null,null,null,null,null,null,null,null,7,null,6,null,9,null,9,10,9,null,null,null,8,null,null,null,null,9,null,null,null,10,null,null,null,277.07,{"$f":"IF(AW46 > 0, MAX(AW$12:AW$110) / AW46, 0)","v":1.3144692566534109},32.69,{"$f":"AU46*AV46","v":364.19999694096055},94,11,{"$f":"IF(AZ46 > 0,AY46/AZ46,0)","v":8.545454545454545},{"$f":"MIN($F46:AT46)","v":6},null,11,35,"ОК"]
[36,"Маленкова Мария Александровна",475565410,"Журналистика",{"$f":"MATCH(C47,Данные!$D:$D,0)","v":31},7,null,null,null,6,null,null,null,null,null,null,null,null,"н/я",null,null,7,null,8,null,8,null,8,null,10,null,9,null,10,null,null,null,null,10,null,null,null,10,null,null,null,276.49,{"$f":"IF(AW47 > 0, MAX(AW$12:AW$110) / AW47, 0)","v":1.3144692566534109},32.69,{"$f":"AU47*AV47","v":363.43760477210157},93,11,{"$f":"IF(AZ47 > 0,AY47/AZ47,0)","v":8.454545454545455},{"$f":"MIN($F47:AT47)","v":6},null,11,36,"ОК"]
[37,"Кокшарова Александра Игоревна",475501085,"Журналистика",{"$f":"MATCH(C48,Данные!$D:$D,0)","v":11},8,null,null,null,8,null,null,null,null,null,null,6,null,null,null,null,8,null,6,null,7,null,10,null,9,null,null,null,8,null,7,null,null,10,9,null,null,10,null,null,null,276.16000000000003,{"$f":"IF(AW48 > 0, MAX(AW$12:AW$110) / AW48, 0)","v":1.3144692566534109},32.69,{"$f":"AU48*AV48","v":363.00382991740599},106,13,{"$f":"IF(AZ48 > 0,AY48/AZ48,0)","v":8.1538461538461533},{"$f":"MIN($F48:AT48)","v":6},null,13,37,"ОК"]
[38,"Зражаева Алина Сергеевна",475565084,"Журналистика",{"$f":"MATCH(C49,Данные!$D:$D,0)","v":29},8,null,null,null,9,null,null,null,null,null,null,8,null,null,null,null,8,null,6,null,10,null,7,null,9,null,null,null,10,null,null,null,10,8,null,null,null,10,null,null,null,274.76,{"$f":"IF(AW49 > 0, MAX(AW$12:AW$110) / AW49, 0)","v":1.3144692566534109},32.69,{"$f":"AU49*AV49","v":361.16357295809115},103,12,{"$f":"IF(AZ49 > 0,AY49/AZ49,0)","v":8.5833333333333339},{"$f":"MIN($F49:AT49)","v":6},null,12,38,"ОК"]
[39,"Ставрианиди Анна Георгиевна",475497611,"Журналистика",{"$f":"MATCH(C50,Данные!$D:$D,0)","v":73},9,null,null,null,8,null,null,null,null,null,null,6,null,7,null,null,9,null,6,null,8,null,9,10,6,null,null,null,10,null,8,null,null,9,null,null,null,10,null,null,null,273.69,{"$f":"IF(AW50 > 0, MAX(AW$12:AW$110) / AW50, 0)","v":1.3144692566534109},32.69,{"$f":"AU50*AV50","v":359.75709085347199},115,14,{"$f":"IF(AZ50 > 0,AY50/AZ50,0)","v":8.2142857142857135},{"$f":"MIN($F50:AT50)","v":6},null,14,39,"ОК"]
[40,"Гимаева Жанна Эмзаровна",475564642,"Журналистика",{"$f":"MATCH(C51,Данные!$D:$D,0)","v":26},8,null,null,null,6,null,null,null,null,null,null,null,null,null,null,null,8,null,8,null,9,null,8,null,10,null,8,null,9,null,9,null,null,9,null,null,null,10,null,null,null,273.02,{"$f":"IF(AW51 > 0, MAX(AW$12:AW$110) / AW51, 0)","v":1.3144692566534109},32.69,{"$f":"AU51*AV51","v":358.87639645151421},102,12,{"$f":"IF(AZ51 > 0,AY51/AZ51,0)","v":8.5},{"$f":"MIN($F51:AT51)","v":6},null,12,40,"ОК"]
[41,"Тищенко Виктория Андреевна",475497743,"Журналистика",{"$f":"MATCH(C52,Данные!$D:$D,0)","v":74},9,null,null,null,8,null,null,null,null,null,null,null,null,9,null,null,7,null,8,null,9,null,9,10,5,null,null,null,8,null,null,null,null,9,null,null,null,10,null,null,null,272.27,{"$f":"IF(AW52 > 0, MAX(AW$12:AW$110) / AW52, 0)","v":1.3144692566534109},32.69,{"$f":"AU52*AV52","v":357.89054450902415},101,12,{"$f":"IF(AZ52 > 0,AY52/AZ52,0)","v":8.4166666666666661},{"$f":"MIN($F52:AT52)","v":5},null,12,41,"ОК"]
[42,"Таиров Ринат Маратович",475503575,"Журналистика",{"$f":"MATCH(C53,Данные!$D:$D,0)","v":36},8,null,null,null,7,null,null,null,null,null,null,9,null,null,null,null,8,null,8,null,10,null,7,null,7,null,9,null,10,null,9,null,null,9,null,null,null,10,null,null,null,271.74,{"$f":"IF(AW53 > 0, MAX(AW$12:AW$110) / AW53, 0)","v":1.3144692566534109},32.69,{"$f":"AU53*AV53","v":357.19387580299787},111,13,{"$f":"IF(AZ53 > 0,AY53/AZ53,0)","v":8.5384615384615383},{"$f":"MIN($F53:AT53)","v":7},null,13,42,"ОК"]
[43,"Нещадимова Дарья Викторовна",481497484,"Журналистика",{"$f":"MATCH(C54,Данные!$D:$D,0)","v":85},0,null,null,null,8,null,null,null,null,null,null,null,null,9,null,null,9,null,8,null,9,null,9,null,8,null,9,null,10,null,8,null,null,9,null,null,null,10,null,null,null,270.33,{"$f":"IF(AW54 > 0, MAX(AW$12:AW$110) / AW54, 0)","v":1.3144692566534109},32.69,{"$f":"AU54*AV54","v":355.34047415111655},106,13,{"$f":"IF(AZ54 > 0,AY54/AZ54,0)","v":8.1538461538461533},{"$f":"MIN($F54:AT54)","v":0},"Да",12,43,"ОК"]
[44,"Пржевальская Анастасия Всеволодовна",475558722,"Журналистика",{"$f":"MATCH(C55,Данные!$D:$D,0)","v":46},9,null,null,null,6,null,null,null,null,null,10,7,null,null,null,null,8,null,8,null,10,null,8,null,7,null,null,null,8,null,null,null,null,9,9,null,null,10,null,null,null,269.65999999999997,{"$f":"IF(AW55 > 0, MAX(AW$12:AW$110) / AW55, 0)","v":1.3144692566534109},32.69,{"$f":"AU55*AV55","v":354.45977974915871},109,13,{"$f":"IF(AZ55 > 0,AY55/AZ55,0)","v":8.384615384615385},{"$f":"MIN($F55:AT55)","v":6},null,13,44,"ОК"]
[45,"Муратова Анастасия Александровна",481497357,"Журналистика",{"$f":"MATCH(C56,Данные!$D:$D,0)","v":84},8,null,null,null,8,null,null,null,null,null,null,null,null,null,null,null,8,null,7,null,6,null,9,null,7,null,null,null,9,null,null,null,10,9,null,null,null,10,null,null,null,266.26,{"$f":"IF(AW56 > 0, MAX(AW$12:AW$110) / AW56, 0)","v":1.3144692566534109},32.69,{"$f":"AU56*AV56","v":349.99058427653716},91,11,{"$f":"IF(AZ56 > 0,AY56/AZ56,0)","v":8.2727272727272734},{"$f":"MIN($F56:AT56)","v":6},null,11,45,"ОК"]
[46,"Пятибратова Екатерина Васильевна",475501379,"Журналистика",{"$f":"MATCH(C57,Данные!$D:$D,0)","v":13},9,null,null,null,8,null,null,null,null,null,null,null,null,null,null,null,7,null,8,null,8,null,7,null,10,null,null,null,9,null,null,null,8,8,null,null,null,10,null,null,null,265.77,{"$f":"IF(AW57 > 0, MAX(AW$12:AW$110) / AW57, 0)","v":1.3144692566534109},32.69,{"$f":"AU57*AV57","v":349.34649434077699},92,11,{"$f":"IF(AZ57 > 0,AY57/AZ57,0)","v":8.3636363636363633},{"$f":"MIN($F57:AT57)","v":7},null,11,46,"ОК"]
[47,"Титов Игорь Игоревич",481502259,"Журналистика",{"$f":"MATCH(C58,Данные!$D:$D,0)","v":37},9,null,null,null,7,null,null,null,null,7,null,null,null,8,null,null,7,null,7,null,8,null,10,8,7,null,null,null,8,null,null,null,null,8,null,null,null,10,null,null,null,262.17,{"$f":"IF(AW58 > 0, MAX(AW$12:AW$110) / AW58, 0)","v":1.3144692566534109},32.69,{"$f":"AU58*AV58","v":344.61440501682472},104,13,{"$f":"IF(AZ58 > 0,AY58/AZ58,0)","v":8},{"$f":"MIN($F58:AT58)","v":7},null,13,47,"ОК"]
[48,"Дмитриева Ольга Олеговна",475498343,"Журналистика",{"$f":"MATCH(C59,Данные!$D:$D,0)","v":77},9,null,null,null,8,null,null,null,null,null,null,null,null,6,null,null,5,null,5,null,7,null,9,10,7,null,null,null,8,null,6,null,null,10,null,null,null,10,null,null,null,261.47000000000003,{"$f":"IF(AW59 > 0, MAX(AW$12:AW$110) / AW59, 0)","v":1.3144692566534109},32.69,{"$f":"AU59*AV59","v":343.69427653716735},100,13,{"$f":"IF(AZ59 > 0,AY59/AZ59,0)","v":7.6923076923076925},{"$f":"MIN($F59:AT59)","v":5},null,13,48,"ОК"]
[49,"Сидоров Всеволод Дмитриевич",481502112,"Журналистика",{"$f":"MATCH(C60,Данные!$D:$D,0)","v":99},9,null,null,null,8,null,null,null,null,null,null,7,null,null,null,null,6,null,8,null,7,null,9,8,8,null,null,null,8,null,8,null,null,8,null,null,null,10,null,null,null,261.38,{"$f":"IF(AW60 > 0, MAX(AW$12:AW$110) / AW60, 0)","v":1.3144692566534109},32.69,{"$f":"AU60*AV60","v":343.5759743040685},104,13,{"$f":"IF(AZ60 > 0,AY60/AZ60,0)","v":8},{"$f":"MIN($F60:AT60)","v":6},null,13,49,"ОК"]
[50,"Цегалко Яна Николаевна",481500835,"Журналистика",{"$f":"MATCH(C61,Данные!$D:$D,0)","v":95},8,null,null,null,7,null,null,null,null,8,null,null,null,null,null,null,8,null,8,null,9,null,6,null,10,null,null,null,9,null,9,null,8,8,null,null,null,10,null,null,null,261.24,{"$f":"IF(AW61 > 0, MAX(AW$12:AW$110) / AW61, 0)","v":1.3144692566534109},32.69,{"$f":"AU61*AV61","v":343.39194860813706},108,13,{"$f":"IF(AZ61 > 0,AY61/AZ61,0)","v":8.3076923076923084},{"$f":"MIN($F61:AT61)","v":6},null,13,50,"ОК"]
[51,"Дергалов Руслан Сергеевич",475502790,"Журналистика",{"$f":"MATCH(C62,Данные!$D:$D,0)","v":19},8,null,null,null,6,null,null,null,null,null,null,10,null,null,null,null,7,null,6,null,8,null,9,null,8,null,null,null,8,null,9,null,8,10,null,null,null,10,null,null,null,261.21000000000004,{"$f":"IF(AW62 > 0, MAX(AW$12:AW$110) / AW62, 0)","v":1.3144692566534109},32.69,{"$f":"AU62*AV62","v":343.35251453043747},107,13,{"$f":"IF(AZ62 > 0,AY62/AZ62,0)","v":8.2307692307692299},{"$f":"MIN($F62:AT62)","v":6},null,13,51,"ОК"]
[52,"Якубович Анастасия Александровна",475499320,"Журналистика",{"$f":"MATCH(C63,Данные!$D:$D,0)","v":6},8,null,null,null,8,null,null,null,null,null,null,null,null,9,null,null,8,null,5,null,10,null,8,null,7,null,9,null,9,null,null,null,null,8,null,null,null,10,null,null,null,261.16000000000003,{"$f":"IF(AW63 > 0, MAX(AW$12:AW$110) / AW63, 0)","v":1.3144692566534109},32.69,{"$f":"AU63*AV63","v":343.28679106760484},99,12,{"$f":"IF(AZ63 > 0,AY63/AZ63,0)","v":8.25},{"$f":"MIN($F63:AT63)","v":5},null,12,52,"ОК"]
[53,"Стрельцова Наталья Сергеевна",475501641,"Журналистика",{"$f":"MATCH(C64,Данные!$D:$D,0)","v":15},9,null,null,null,8,null,null,null,null,null,null,null,null,9,null,null,7,null,9,null,7,null,9,null,6,null,null,null,8,null,null,null,8,8,null,null,null,10,null,null,null,260.65000000000003,{"$f":"IF(AW64 > 0, MAX(AW$12:AW$110) / AW64, 0)","v":1.3144692566534109},32.69,{"$f":"AU64*AV64","v":342.61641174671161},98,12,{"$f":"IF(AZ64 > 0,AY64/AZ64,0)","v":8.1666666666666661},{"$f":"MIN($F64:AT64)","v":6},null,12,53,"ОК"]
[54,"Дымчишина Александра Юрьевна",475497099,"Журналистика",{"$f":"MATCH(C65,Данные!$D:$D,0)","v":70},9,null,null,null,6,null,null,null,null,null,null,6,null,null,null,null,7,null,6,null,9,null,8,null,7,null,null,null,10,null,null,null,8,9,null,null,null,10,null,null,null,260.07,{"$f":"IF(AW65 > 0, MAX(AW$12:AW$110) / AW65, 0)","v":1.3144692566534109},32.69,{"$f":"AU65*AV65","v":341.85401957785257},95,12,{"$f":"IF(AZ65 > 0,AY65/AZ65,0)","v":7.916666666666667},{"$f":"MIN($F65:AT65)","v":6},null,12,54,"ОК"]
[55,"Малышева Ирина Александровна",475563206,"Журналистика",{"$f":"MATCH(C66,Данные!$D:$D,0)","v":62},9,null,null,null,8,null,null,null,null,null,null,9,null,null,null,null,8,null,8,null,7,null,6,8,9,null,null,null,10,null,null,null,null,8,null,null,null,10,null,null,null,258.72000000000003,{"$f":"IF(AW66 > 0, MAX(AW$12:AW$110) / AW66, 0)","v":1.3144692566534109},32.69,{"$f":"AU66*AV66","v":340.07948608137048},100,12,{"$f":"IF(AZ66 > 0,AY66/AZ66,0)","v":8.3333333333333339},{"$f":"MIN($F66:AT66)","v":6},null,12,55,"ОК"]
[56,"Атасунцев Александр Григорьевич",481501546,"Журналистика",{"$f":"MATCH(C67,Данные!$D:$D,0)","v":96},8,null,null,null,9,null,null,null,null,null,null,null,null,7,null,null,5,null,9,null,9,null,6,7,6,null,null,null,8,null,7,null,null,10,null,null,null,10,null,null,null,257.39,{"$f":"IF(AW67 > 0, MAX(AW$12:AW$110) / AW67, 0)","v":1.3144692566534109},32.69,{"$f":"AU67*AV67","v":338.33124197002138},101,13,{"$f":"IF(AZ67 > 0,AY67/AZ67,0)","v":7.7692307692307692},{"$f":"MIN($F67:AT67)","v":5},null,13,56,"ОК"]
[57,"Голубева Анастасия Павловна",475496297,"Журналистика",{"$f":"MATCH(C68,Данные!$D:$D,0)","v":68},9,null,null,null,7,null,null,null,null,null,null,6,null,null,null,null,5,null,8,null,6,null,9,null,6,null,null,null,9,null,null,null,null,9,8,null,null,10,null,null,null,254.77,{"$f":"IF(AW68 > 0, MAX(AW$12:AW$110) / AW68, 0)","v":1.3144692566534109},32.69,{"$f":"AU68*AV68","v":334.88733251758947},92,12,{"$f":"IF(AZ68 > 0,AY68/AZ68,0)","v":7.666666666666667},{"$f":"MIN($F68:AT68)","v":5},null,12,57,"ОК"]
[58,"Афян Мария Геннадьевна",475562419,"Журналистика",{"$f":"MATCH(C69,Данные!$D:$D,0)","v":58},8,null,null,null,7,null,null,null,null,null,null,null,"н/я",null,null,null,8,null,5,"5 *",7,null,7,null,null,9,null,null,9,null,null,null,10,8,null,null,null,10,null,null,null,278,{"$f":"IF(AW69 > 0, MAX(AW$12:AW$110) / AW69, 0)","v":1.2039787055197535},35.69,{"$f":"AU69*AV69","v":334.70608013449146},93,12,{"$f":"IF(AZ69 > 0,AY69/AZ69,0)","v":7.75},{"$f":"MIN($F69:AT69)","v":5},null,12,58,"ОК"]
[59,"Макарова Юлия Валерьевна",475565231,"Журналистика",{"$f":"MATCH(C70,Данные!$D:$D,0)","v":30},8,null,null,null,7,null,null,null,null,null,null,null,null,null,null,null,6,null,7,null,10,null,6,null,7,null,9,null,8,null,9,null,null,9,null,null,null,10,null,null,null,253.8,{"$f":"IF(AW70 > 0, MAX(AW$12:AW$110) / AW70, 0)","v":1.3144692566534109},32.69,{"$f":"AU70*AV70","v":333.6122973386357},96,12,{"$f":"IF(AZ70 > 0,AY70/AZ70,0)","v":8},{"$f":"MIN($F70:AT70)","v":6},null,12,59,"ОК"]
[60,"Осипова Светлана Витальевна",475563521,"Журналистика",{"$f":"MATCH(C71,Данные!$D:$D,0)","v":23},9,null,null,null,7,null,null,null,null,null,null,null,null,10,null,null,7,null,4,null,7,null,10,8,8,null,null,null,8,null,null,null,null,8,null,null,null,10,null,null,null,250.65000000000003,{"$f":"IF(AW71 > 0, MAX(AW$12:AW$110) / AW71, 0)","v":1.3144692566534109},32.69,{"$f":"AU71*AV71","v":329.4717191801775},96,12,{"$f":"IF(AZ71 > 0,AY71/AZ71,0)","v":8},{"$f":"MIN($F71:AT71)","v":4},null,12,60,"ОК"]
[61,"Ероносов Александр Эдуардович",481496795,"Журналистика",{"$f":"MATCH(C72,Данные!$D:$D,0)","v":81},9,null,null,null,6,null,null,null,null,null,null,null,null,null,null,null,7,null,4,null,7,null,9,null,7,null,10,null,8,null,8,null,null,9,null,null,null,10,null,null,null,250.43,{"$f":"IF(AW72 > 0, MAX(AW$12:AW$110) / AW72, 0)","v":1.3144692566534109},32.69,{"$f":"AU72*AV72","v":329.18253594371367},94,12,{"$f":"IF(AZ72 > 0,AY72/AZ72,0)","v":7.833333333333333},{"$f":"MIN($F72:AT72)","v":4},null,12,61,"ОК"]
[62,"Бурцева Анастасия Юрьевна",475560670,"Журналистика",{"$f":"MATCH(C73,Данные!$D:$D,0)","v":51},8,null,null,null,7,null,null,null,null,null,null,5,null,null,null,null,7,null,5,null,6,null,9,null,7,null,null,null,9,null,null,null,7,10,null,null,null,10,null,null,null,250.17000000000002,{"$f":"IF(AW73 > 0, MAX(AW$12:AW$110) / AW73, 0)","v":1.3144692566534109},32.69,{"$f":"AU73*AV73","v":328.84077393698379},90,12,{"$f":"IF(AZ73 > 0,AY73/AZ73,0)","v":7.5},{"$f":"MIN($F73:AT73)","v":5},null,12,62,"ОК"]
[63,"Аветисян Виолетта Александровна",475557752,"Журналистика",{"$f":"MATCH(C74,Данные!$D:$D,0)","v":43},8,null,null,null,7,null,null,null,null,null,null,null,null,6,null,null,8,null,5,null,6,null,9,null,7,null,9,null,8,null,7,null,null,9,null,null,null,10,null,null,null,250.06,{"$f":"IF(AW74 > 0, MAX(AW$12:AW$110) / AW74, 0)","v":1.3144692566534109},32.69,{"$f":"AU74*AV74","v":328.69618231875194},99,13,{"$f":"IF(AZ74 > 0,AY74/AZ74,0)","v":7.615384615384615},{"$f":"MIN($F74:AT74)","v":5},null,13,63,"ОК"]
[64,"Животнёв Владислав Николаевич",475564933,"Журналистика",{"$f":"MATCH(C75,Данные!$D:$D,0)","v":28},8,null,null,null,9,null,null,null,null,null,null,null,null,null,null,null,6,null,6,null,7,null,9,null,5,null,8,null,9,null,null,null,null,8,null,null,null,10,null,null,null,249.26,{"$f":"IF(AW75 > 0, MAX(AW$12:AW$110) / AW75, 0)","v":1.3144692566534109},32.69,{"$f":"AU75*AV75","v":327.64460691342919},85,11,{"$f":"IF(AZ75 > 0,AY75/AZ75,0)","v":7.7272727272727275},{"$f":"MIN($F75:AT75)","v":5},null,11,64,"ОК"]
[65,"Маркова Кристина Алексеевна",475503059,"Журналистика",{"$f":"MATCH(C76,Данные!$D:$D,0)","v":21},7,null,null,null,6,null,null,null,null,null,null,null,null,5,null,null,6,null,5,null,8,null,9,7,7,null,null,null,8,null,null,null,null,10,null,null,null,10,null,null,null,248.02,{"$f":"IF(AW76 > 0, MAX(AW$12:AW$110) / AW76, 0)","v":1.3144692566534109},32.69,{"$f":"AU76*AV76","v":326.01466503517895},88,12,{"$f":"IF(AZ76 > 0,AY76/AZ76,0)","v":7.333333333333333},{"$f":"MIN($F76:AT76)","v":5},null,12,65,"ОК"]
[66,"Вишнякова Екатерина Владимировна",475561061,"Журналистика",{"$f":"MATCH(C77,Данные!$D:$D,0)","v":53},0,null,null,null,9,null,null,null,null,null,null,null,null,5,null,null,7,null,8,null,7,null,6,null,9,null,10,null,8,null,null,null,null,9,null,null,null,10,null,null,null,247.55,{"$f":"IF(AW77 > 0, MAX(AW$12:AW$110) / AW77, 0)","v":1.3144692566534109},32.69,{"$f":"AU77*AV77","v":325.39686448455188},88,12,{"$f":"IF(AZ77 > 0,AY77/AZ77,0)","v":7.333333333333333},{"$f":"MIN($F77:AT77)","v":0},"Да",11,66,"ОК"]
[67,"Нарушевич Анастасия Александровна",475565551,"Журналистика",{"$f":"MATCH(C78,Данные!$D:$D,0)","v":32},7,null,null,null,7,null,null,null,null,null,null,null,null,null,null,null,5,null,8,null,10,null,6,null,5,null,null,null,8,null,6,null,7,10,null,null,null,10,null,null,null,246.59000000000003,{"$f":"IF(AW78 > 0, MAX(AW$12:AW$110) / AW78, 0)","v":1.3144692566534109},32.69,{"$f":"AU78*AV78","v":324.13497399816464},89,12,{"$f":"IF(AZ78 > 0,AY78/AZ78,0)","v":7.416666666666667},{"$f":"MIN($F78:AT78)","v":5},null,12,67,"ОК"]
[68,"Стешенкова Александра Евгеньевна",475565869,"Журналистика",{"$f":"MATCH(C79,Данные!$D:$D,0)","v":33},7,null,null,null,6,null,null,null,null,null,null,null,null,null,null,null,5,null,7,null,9,null,8,null,7,null,null,null,8,null,null,null,8,8,null,null,null,10,null,null,null,245.71,{"$f":"IF(AW79 > 0, MAX(AW$12:AW$110) / AW79, 0)","v":1.3144692566534109},32.69,{"$f":"AU79*AV79","v":322.97824105230961},83,11,{"$f":"IF(AZ79 > 0,AY79/AZ79,0)","v":7.5454545454545459},{"$f":"MIN($F79:AT79)","v":5},null,11,68,"ОК"]
[69,"Басиладзе Мариами Рамазиевна",475564485,"Журналистика",{"$f":"MATCH(C80,Данные!$D:$D,0)","v":25},8,null,null,null,6,null,null,null,null,null,null,null,null,null,5,null,6,null,7,"7 *",7,null,4,6,null,10,null,null,9,null,null,6,null,10,null,null,null,10,null,null,null,267.42,{"$f":"IF(AW80 > 0, MAX(AW$12:AW$110) / AW80, 0)","v":1.2039787055197535},35.69,{"$f":"AU80*AV80","v":321.96798543009248},101,14,{"$f":"IF(AZ80 > 0,AY80/AZ80,0)","v":7.2142857142857144},{"$f":"MIN($F80:AT80)","v":4},null,14,69,"ОК"]
[70,"Чехонадских Дарья Александровна",475563678,"Журналистика",{"$f":"MATCH(C81,Данные!$D:$D,0)","v":24},10,null,null,null,8,null,null,null,null,9,null,8,null,null,null,null,6,null,4,null,8,null,9,8,4,null,null,null,8,null,null,null,null,8,null,null,null,10,null,null,null,240.62,{"$f":"IF(AW81 > 0, MAX(AW$12:AW$110) / AW81, 0)","v":1.3144692566534109},32.69,{"$f":"AU81*AV81","v":316.2875925359437},100,13,{"$f":"IF(AZ81 > 0,AY81/AZ81,0)","v":7.6923076923076925},{"$f":"MIN($F81:AT81)","v":4},null,13,70,"ОК"]
[71,"Королева Виолетта Николаевна",481499520,"Журналистика",{"$f":"MATCH(C82,Данные!$D:$D,0)","v":88},9,null,null,null,7,null,null,null,null,7,null,null,null,9,null,null,7,null,6,null,7,null,7,null,6,null,9,null,8,null,null,null,null,8,null,null,null,10,null,null,null,239.85000000000002,{"$f":"IF(AW82 > 0, MAX(AW$12:AW$110) / AW82, 0)","v":1.3144692566534109},32.69,{"$f":"AU82*AV82","v":315.27545120832065},100,13,{"$f":"IF(AZ82 > 0,AY82/AZ82,0)","v":7.6923076923076925},{"$f":"MIN($F82:AT82)","v":6},null,13,71,"ОК"]
[72,"Селиванова Ксения Александровна",475503320,"Журналистика",{"$f":"MATCH(C83,Данные!$D:$D,0)","v":34},8,null,null,null,6,null,null,null,null,null,null,null,null,null,null,null,5,null,8,null,8,null,7,null,6,null,null,null,8,null,null,null,8,8,null,null,null,10,null,null,null,239.51000000000002,{"$f":"IF(AW83 > 0, MAX(AW$12:AW$110) / AW83, 0)","v":1.3144692566534109},32.69,{"$f":"AU83*AV83","v":314.82853166105843},82,11,{"$f":"IF(AZ83 > 0,AY83/AZ83,0)","v":7.4545454545454541},{"$f":"MIN($F83:AT83)","v":5},null,11,72,"ОК"]
[73,"Устюжанинова Анна Александровна",475499184,"Журналистика",{"$f":"MATCH(C84,Данные!$D:$D,0)","v":67},8,null,null,null,7,null,null,null,null,null,null,null,null,null,null,null,5,null,6,null,7,null,9,null,6,null,7,null,8,null,null,null,null,8,null,null,null,10,null,null,null,238.59000000000003,{"$f":"IF(AW84 > 0, MAX(AW$12:AW$110) / AW84, 0)","v":1.3144692566534109},32.69,{"$f":"AU84*AV84","v":313.61921994493736},81,11,{"$f":"IF(AZ84 > 0,AY84/AZ84,0)","v":7.3636363636363633},{"$f":"MIN($F84:AT84)","v":5},null,11,73,"ОК"]
[74,"Винокур Дана Витальевна",475560846,"Журналистика",{"$f":"MATCH(C85,Данные!$D:$D,0)","v":52},9,null,null,null,6,null,null,null,null,null,null,null,null,7,null,null,5,null,6,null,7,null,7,null,7,null,null,null,8,null,null,null,8,9,null,null,null,10,null,null,null,238.29000000000002,{"$f":"IF(AW85 > 0, MAX(AW$12:AW$110) / AW85, 0)","v":1.3144692566534109},32.69,{"$f":"AU85*AV85","v":313.22487916794131},89,12,{"$f":"IF(AZ85 > 0,AY85/AZ85,0)","v":7.416666666666667},{"$f":"MIN($F85:AT85)","v":5},null,12,74,"ОК"]
[75,"Швецова Екатерина Константиновна",481505154,"Журналистика",{"$f":"MATCH(C86,Данные!$D:$D,0)","v":48},8,null,null,null,7,null,null,null,null,null,null,null,null,null,null,null,6,null,5,null,8,null,7,null,7,null,6,null,9,null,8,null,null,9,null,null,null,10,null,null,null,238.16,{"$f":"IF(AW86 > 0, MAX(AW$12:AW$110) / AW86, 0)","v":1.3144692566534109},32.69,{"$f":"AU86*AV86","v":313.05399816457634},90,12,{"$f":"IF(AZ86 > 0,AY86/AZ86,0)","v":7.5},{"$f":"MIN($F86:AT86)","v":5},null,12,75,"ОК"]
[76,"Шевелёва Кристина Дмитриевна",475561559,"Журналистика",{"$f":"MATCH(C87,Данные!$D:$D,0)","v":56},8,null,null,null,8,null,null,null,null,null,null,null,null,null,null,null,6,null,6,"5 *",6,null,6,null,null,7,9,null,8,null,null,6,null,9,null,null,null,10,null,null,null,259.32,{"$f":"IF(AW87 > 0, MAX(AW$12:AW$110) / AW87, 0)","v":1.2039787055197535},35.69,{"$f":"AU87*AV87","v":312.21575791538248},94,13,{"$f":"IF(AZ87 > 0,AY87/AZ87,0)","v":7.2307692307692308},{"$f":"MIN($F87:AT87)","v":6},null,13,76,"ОК"]
[77,"Петренко Валерия Денисовна",481504754,"Журналистика",{"$f":"MATCH(C88,Данные!$D:$D,0)","v":41},8,null,null,null,7,null,null,null,null,null,null,null,null,null,null,null,5,null,7,null,7,null,7,null,5,null,8,null,8,null,null,null,null,9,null,null,null,10,null,null,null,236.97,{"$f":"IF(AW88 > 0, MAX(AW$12:AW$110) / AW88, 0)","v":1.3144692566534109},32.69,{"$f":"AU88*AV88","v":311.48977974915874},81,11,{"$f":"IF(AZ88 > 0,AY88/AZ88,0)","v":7.3636363636363633},{"$f":"MIN($F88:AT88)","v":5},null,11,77,"ОК"]
[78,"Павлова Алиса Павловна",481500392,"Журналистика",{"$f":"MATCH(C89,Данные!$D:$D,0)","v":92},8,null,null,null,7,null,null,null,null,null,null,null,null,null,null,null,6,null,6,null,7,null,8,8,5,null,null,null,8,null,8,null,null,8,null,null,null,10,null,null,null,235.26,{"$f":"IF(AW89 > 0, MAX(AW$12:AW$110) / AW89, 0)","v":1.3144692566534109},32.69,{"$f":"AU89*AV89","v":309.24203732028144},89,12,{"$f":"IF(AZ89 > 0,AY89/AZ89,0)","v":7.416666666666667},{"$f":"MIN($F89:AT89)","v":5},null,12,78,"ОК"]
[79,"Бидзионашвили Кетеван -",475560308,"Журналистика",{"$f":"MATCH(C90,Данные!$D:$D,0)","v":49},8,null,null,null,7,null,null,null,null,null,null,null,null,null,null,null,6,null,6,"7 *",8,null,7,null,null,7,null,null,8,null,null,6,7,8,null,null,null,10,null,null,null,306.98,{"$f":"IF(AW90 > 0, MAX(AW$12:AW$110) / AW90, 0)","v":1.0065589130944015},42.69,{"$f":"AU90*AV90","v":308.99345514171938},95,13,{"$f":"IF(AZ90 > 0,AY90/AZ90,0)","v":7.3076923076923075},{"$f":"MIN($F90:AT90)","v":6},null,13,79,"ОК"]
[80,"Люля Арина Артемовна",475563046,"Журналистика",{"$f":"MATCH(C91,Данные!$D:$D,0)","v":61},9,null,null,null,6,null,null,null,null,null,null,null,null,null,null,null,7,null,4,"5 *",6,null,10,null,null,6,null,null,8,null,null,6,7,8,null,null,null,10,null,null,null,252.93,{"$f":"IF(AW91 > 0, MAX(AW$12:AW$110) / AW91, 0)","v":1.2039787055197535},35.69,{"$f":"AU91*AV91","v":304.52233398711127},92,13,{"$f":"IF(AZ91 > 0,AY91/AZ91,0)","v":7.0769230769230766},{"$f":"MIN($F91:AT91)","v":4},null,13,80,"ОК"]
[81,"Масалова Анна Владиславовна",752764364,"Журналистика",{"$f":"MATCH(C92,Данные!$D:$D,0)","v":3},7,null,null,null,8,null,null,null,null,null,null,null,null,9,null,null,4,null,5,null,null,6,7,null,null,7,null,null,8,null,null,8,8,8,8,null,null,10,null,null,null,273.54000000000002,{"$f":"IF(AW92 > 0, MAX(AW$12:AW$110) / AW92, 0)","v":1.1017948717948718},39,{"$f":"AU92*AV92","v":301.38496923076923},103,14,{"$f":"IF(AZ92 > 0,AY92/AZ92,0)","v":7.3571428571428568},{"$f":"MIN($F92:AT92)","v":4},null,14,81,"ОК"]
[82,"Джгаркава Нино Звиадиевна",475496974,"Журналистика",{"$f":"MATCH(C93,Данные!$D:$D,0)","v":69},7,null,null,null,7,null,null,null,null,null,null,null,null,null,null,null,6,null,4,null,6,null,8,null,6,null,null,null,8,null,null,null,7,9,null,null,null,10,null,null,null,227.20000000000002,{"$f":"IF(AW93 > 0, MAX(AW$12:AW$110) / AW93, 0)","v":1.3144692566534109},32.69,{"$f":"AU93*AV93","v":298.64741511165499},78,11,{"$f":"IF(AZ93 > 0,AY93/AZ93,0)","v":7.0909090909090908},{"$f":"MIN($F93:AT93)","v":4},null,11,82,"ОК"]
[83,"Еремина Анастасия Алексеевна",475500939,"Журналистика",{"$f":"MATCH(C94,Данные!$D:$D,0)","v":10},7,null,null,null,7,null,null,null,null,null,null,null,null,null,null,null,5,null,4,null,6,null,9,null,6,null,null,null,9,null,9,null,6,8,null,null,null,10,null,null,null,225.75,{"$f":"IF(AW94 > 0, MAX(AW$12:AW$110) / AW94, 0)","v":1.3144692566534109},32.69,{"$f":"AU94*AV94","v":296.74143468950751},86,12,{"$f":"IF(AZ94 > 0,AY94/AZ94,0)","v":7.166666666666667},{"$f":"MIN($F94:AT94)","v":4},null,12,83,"ОК"]
[84,"Халилова Арзу Идаятовна",615125946,"Журналистика",{"$f":"MATCH(C95,Данные!$D:$D,0)","v":4},9,null,null,null,7,null,null,null,null,null,null,8,null,null,null,7,7,null,6,null,6,null,8,null,null,6,8,null,null,4,null,null,null,9,null,null,null,10,null,null,null,252.91,{"$f":"IF(AW95 > 0, MAX(AW$12:AW$110) / AW95, 0)","v":1.1711638048514581},36.69,{"$f":"AU95*AV95","v":296.19903788498226},95,13,{"$f":"IF(AZ95 > 0,AY95/AZ95,0)","v":7.3076923076923075},{"$f":"MIN($F95:AT95)","v":4},null,13,84,"ОК"]
[85,"Буримова Александра Сергеевна",475560500,"Журналистика",{"$f":"MATCH(C96,Данные!$D:$D,0)","v":50},8,null,null,null,7,null,null,null,null,null,null,null,null,4,null,null,4,null,5,null,8,null,6,8,4,null,null,null,8,null,null,null,null,9,null,null,null,10,null,null,null,223.82000000000002,{"$f":"IF(AW96 > 0, MAX(AW$12:AW$110) / AW96, 0)","v":1.3144692566534109},32.69,{"$f":"AU96*AV96","v":294.20450902416644},81,12,{"$f":"IF(AZ96 > 0,AY96/AZ96,0)","v":6.75},{"$f":"MIN($F96:AT96)","v":4},null,12,85,"ОК"]
[86,"Волчек Никита Алексеевич",475561255,"Журналистика",{"$f":"MATCH(C97,Данные!$D:$D,0)","v":54},8,null,null,null,9,null,null,null,null,null,null,null,null,null,null,null,8,null,5,null,8,null,0,null,null,6,9,null,8,null,null,7,8,10,null,null,null,10,null,null,null,238.28000000000003,{"$f":"IF(AW97 > 0, MAX(AW$12:AW$110) / AW97, 0)","v":1.2039787055197535},35.69,{"$f":"AU97*AV97","v":286.88404595124689},96,13,{"$f":"IF(AZ97 > 0,AY97/AZ97,0)","v":7.384615384615385},{"$f":"MIN($F97:AT97)","v":0},"Да",12,86,"ОК"]
[87,"Немкова Екатерина Дмитриевна",580462633,"Журналистика",{"$f":"MATCH(C98,Данные!$D:$D,0)","v":101},null,null,8,null,8,null,null,null,null,null,null,null,null,null,null,null,8,null,4,null,6,null,5,null,null,6,9,null,null,4,null,null,null,9,null,null,null,10,null,null,9,274.60000000000002,{"$f":"IF(AW98 > 0, MAX(AW$12:AW$110) / AW98, 0)","v":1.0411921492609644},41.269999999999996,{"$f":"AU98*AV98","v":285.91136418706083},86,12,{"$f":"IF(AZ98 > 0,AY98/AZ98,0)","v":7.166666666666667},{"$f":"MIN($F98:AT98)","v":4},null,12,87,"ОК"]
[88,"Досий Зоряна Владимировна",475564787,"Журналистика",{"$f":"MATCH(C99,Данные!$D:$D,0)","v":27},7,null,null,null,5,null,null,null,null,null,null,null,null,null,6,null,4,null,4,null,7,null,7,6,null,6,null,null,8,null,null,null,null,9,null,null,null,10,null,null,null,231.58,{"$f":"IF(AW99 > 0, MAX(AW$12:AW$110) / AW99, 0)","v":1.2039787055197535},35.69,{"$f":"AU99*AV99","v":278.81738862426454},79,12,{"$f":"IF(AZ99 > 0,AY99/AZ99,0)","v":6.583333333333333},{"$f":"MIN($F99:AT99)","v":4},null,12,88,"ОК"]
[89,"Алешкина Александрина Александровна",475564380,"Журналистика",{"$f":"MATCH(C100,Данные!$D:$D,0)","v":100},null,"н/я (ув)",null,null,6,null,null,null,null,null,null,null,null,null,null,null,5,null,4,null,8,null,9,6,null,5,null,null,8,null,null,null,null,10,null,null,null,10,null,null,null,235.31,{"$f":"IF(AW100 > 0, MAX(AW$12:AW$110) / AW100, 0)","v":1.1686157193364155},36.770000000000003,{"$f":"AU100*AV100","v":274.98696491705192},71,10,{"$f":"IF(AZ100 > 0,AY100/AZ100,0)","v":7.1},{"$f":"MIN($F100:AT100)","v":4},null,10,89,"ОК"]
[90,"Маммаева Фарида Сулеймановна",475558344,"Журналистика",{"$f":"MATCH(C101,Данные!$D:$D,0)","v":45},7,null,null,null,5,null,null,null,null,null,null,null,null,"н/я",null,null,7,null,2,null,6,null,7,null,4,null,7,null,8,null,null,null,null,9,null,null,null,10,null,null,null,204.67000000000002,{"$f":"IF(AW101 > 0, MAX(AW$12:AW$110) / AW101, 0)","v":1.3144692566534109},32.69,{"$f":"AU101*AV101","v":269.03242275925362},72,11,{"$f":"IF(AZ101 > 0,AY101/AZ101,0)","v":6.5454545454545459},{"$f":"MIN($F101:AT101)","v":2},"Да",10,90,"ОК"]
[91,"Гранкова Ксения Сергеевна",475561427,"Журналистика",{"$f":"MATCH(C102,Данные!$D:$D,0)","v":55},8,null,null,null,6,null,null,null,null,null,null,null,null,null,null,null,4,null,5,"3 *",5,null,6,10,null,4,null,null,6,null,null,null,null,8,null,null,null,10,null,null,null,216.88,{"$f":"IF(AW102 > 0, MAX(AW$12:AW$110) / AW102, 0)","v":1.2039787055197535},35.69,{"$f":"AU102*AV102","v":261.11890165312411},75,12,{"$f":"IF(AZ102 > 0,AY102/AZ102,0)","v":6.25},{"$f":"MIN($F102:AT102)","v":4},"Да",11,91,"ОК"]
[92,"Немченко Илья Михайлович",481500235,"Журналистика",{"$f":"MATCH(C103,Данные!$D:$D,0)","v":91},8,null,null,null,6,null,null,null,null,null,null,5,null,null,null,null,7,null,4,null,7,null,4,null,5,null,5,null,8,null,5,null,null,8,null,null,null,10,null,null,null,197.73000000000002,{"$f":"IF(AW103 > 0, MAX(AW$12:AW$110) / AW103, 0)","v":1.3144692566534109},32.69,{"$f":"AU103*AV103","v":259.91000611807897},82,13,{"$f":"IF(AZ103 > 0,AY103/AZ103,0)","v":6.3076923076923075},{"$f":"MIN($F103:AT103)","v":4},null,13,92,"ОК"]
[93,"Зубкевич Андрей Вадимович",481496924,"Журналистика",{"$f":"MATCH(C104,Данные!$D:$D,0)","v":82},8,null,null,null,6,null,null,null,null,null,null,null,null,null,null,null,5,null,4,null,6,null,6,null,5,null,null,null,5,null,null,null,null,9,5,null,null,10,null,null,null,196.45000000000002,{"$f":"IF(AW104 > 0, MAX(AW$12:AW$110) / AW104, 0)","v":1.3144692566534109},32.69,{"$f":"AU104*AV104","v":258.22748546956257},69,11,{"$f":"IF(AZ104 > 0,AY104/AZ104,0)","v":6.2727272727272725},{"$f":"MIN($F104:AT104)","v":4},null,11,93,"ОК"]
[94,"Кистерев Алексей Валерьевич",475562897,"Журналистика",{"$f":"MATCH(C105,Данные!$D:$D,0)","v":60},8,null,null,null,4,null,null,null,null,null,null,null,"н/я (ув)",null,null,null,7,null,3,"3 *",6,null,7,8,null,6,null,null,8,null,null,null,null,5,null,null,null,10,null,null,null,236.07,{"$f":"IF(AW105 > 0, MAX(AW$12:AW$110) / AW105, 0)","v":1.0065589130944015},42.69,{"$f":"AU105*AV105","v":237.61836261419535},75,12,{"$f":"IF(AZ105 > 0,AY105/AZ105,0)","v":6.25},{"$f":"MIN($F105:AT105)","v":3},"Да",10,94,"ОК"]
[95,"Глазунов Никита Сергеевич",481498934,"Журналистика",{"$f":"MATCH(C106,Данные!$D:$D,0)","v":86},8,null,null,null,6,null,null,null,null,null,null,null,null,null,null,null,6,null,6,4,6,null,6,null,null,6,null,null,5,null,null,null,"н/я",8,null,null,null,null,null,10,null,237.34,{"$f":"IF(AW106 > 0, MAX(AW$12:AW$110) / AW106, 0)","v":1},42.97,{"$f":"AU106*AV106","v":237.34},71,11,{"$f":"IF(AZ106 > 0,AY106/AZ106,0)","v":6.4545454545454541},{"$f":"MIN($F106:AT106)","v":4},"Да",11,95,"ОК"]
[96,"Белобеева Ангелина Анатольевна",475557886,"Журналистика",{"$f":"MATCH(C107,Данные!$D:$D,0)","v":44},7,null,null,null,5,null,null,null,null,null,null,null,null,null,5,null,6,null,4,"6 *",6,null,0,null,null,5,null,null,9,null,null,null,5,9,null,null,null,10,null,null,null,232.2,{"$f":"IF(AW107 > 0, MAX(AW$12:AW$110) / AW107, 0)","v":1.0065589130944015},42.69,{"$f":"AU107*AV107","v":233.72297962052002},77,13,{"$f":"IF(AZ107 > 0,AY107/AZ107,0)","v":5.9230769230769234},{"$f":"MIN($F107:AT107)","v":0},"Да",12,96,"ОК"]
[97,"Лымарева Мария Андреевна",481501825,"Журналистика",{"$f":"MATCH(C108,Данные!$D:$D,0)","v":97},8,null,null,null,4,null,null,null,null,null,null,null,null,null,null,null,7,null,5,null,7,null,0,8,6,null,null,null,7,null,null,null,null,5,null,null,null,10,null,null,null,169.99,{"$f":"IF(AW108 > 0, MAX(AW$12:AW$110) / AW108, 0)","v":1.3144692566534109},32.69,{"$f":"AU108*AV108","v":223.44662893851333},67,11,{"$f":"IF(AZ108 > 0,AY108/AZ108,0)","v":6.0909090909090908},{"$f":"MIN($F108:AT108)","v":0},"Да",10,97,"ОК"]
[98,"Тесфайе Анна-Мария Синтайе",796834861,"Журналистика",{"$f":"MATCH(C109,Данные!$D:$D,0)","v":5},4,null,null,null,"н/я",null,null,null,4,null,null,null,null,null,null,null,null,4,3,null,null,null,9,null,null,"н/я (ув)",null,null,null,null,null,null,4,8,null,4,4,null,10,null,null,167.3,{"$f":"IF(AW109 > 0, MAX(AW$12:AW$110) / AW109, 0)","v":1.0657242063492063},40.32,{"$f":"AU109*AV109","v":178.29565972222221},54,10,{"$f":"IF(AZ109 > 0,AY109/AZ109,0)","v":5.4},{"$f":"MIN($F109:AT109)","v":3},"Да",9,98,"ОК"]
[99,"Жвик Анастасия Николаевна",475497229,"Журналистика",{"$f":"MATCH(C110,Данные!$D:$D,0)","v":71},"н/я (ув)",null,null,null,"н/я (ув)",null,null,null,null,null,null,"н/я (ув)",null,null,null,null,"н/я (ув)",null,"н/я (ув)",null,"н/я (ув)",null,10,null,"н/я (ув)",null,null,null,"н/я (ув)",null,null,null,"н/я (ув)","н/я (ув)",null,null,null,10,null,null,null,50,{"$f":"IF(AW110 > 0, MAX(AW$12:AW$110) / AW110, 0)","v":1.3144692566534109},32.69,{"$f":"AU110*AV110","v":65.723462832670549},20,2,{"$f":"IF(AZ110 > 0,AY110/AZ110,0)","v":10},{"$f":"MIN($F110:AT110)","v":10},"Да",2,99,"ОК"]

{"sheet":"Данные","index":1,"n_rows":1231,"n_cols":23,"rows_kept":1231,"cut":false,"hidden":true,"merged":[]}
["ID","Оценка из 10 баллов до пересдач","Группа","Студент","Фамилия","Имя","Отчество","Номер студенческого билета","Строка учебного плана","Текущих кредитов за испытание","Вид испытания","Календарный период по плану","Неявка до пересдач","В текущий рейтинг","Текущих кредитов для студента","Оценка зачет/незачет до пересдач","Является бюджетным","Учебный план","Вид записи РУП","Вид записи ИУП","Номер Row"]
[1,2,3,4,5,6,7,8,9,10,11,12,13,14,15,16,17,18,19,20,21]
[771504574,7,"БЖУР131",752764364,"Масалова","Анна","Владиславовна","131232133","Иностранный язык (английский)",1.92,"Экзамен","2014/2015 учебный год 3 модуль",null,13.44,1.92,1,0,508316804,2098,"ikPlanned","stCommon","Журналистика",{"$f":"MATCH(D3,Отчет!$C:$C,0)","v":92}]
[617795941,9,"БЖУР131",615125946,"Халилова","Арзу","Идаятовна","131232230","Иностранный язык (английский)",1.92,"Экзамен","2014/2015 учебный год 3 модуль",null,17.28,1.92,1,0,508316804,2098,"ikPlanned","stCommon","Журналистика",{"$f":"MATCH(D4,Отчет!$C:$C,0)","v":95}]
[796966708,4,"БЖУР131",796834861,"Тесфайе","Анна-Мария","Синтайе","10701175","Иностранный язык (английский)",1.92,"Экзамен","2014/2015 учебный год 3 модуль",null,7.68,1.92,1,0,508316804,2098,"ikPlanned","stCommon","Журналистика",{"$f":"MATCH(D5,Отчет!$C:$C,0)","v":109}]
[525601346,8,"БЖУР132",475499320,"Якубович","Анастасия","Александровна","1301219108","Иностранный язык (английский)",1.92,"Экзамен","2014/2015 учебный год 3 модуль",null,15.36,1.92,1,1,508316804,2098,null,"stCommon","Журналистика",{"$f":"MATCH(D6,Отчет!$C:$C,0)","v":63}]
[525601830,9,"БЖУР133",475500480,"Вильшанская","Елена","Андреевна","1301219017","Иностранный язык (английский)",1.92,"Экзамен","2014/2015 учебный год 3 модуль",null,17.28,1.92,1,1,508316804,2098,null,"stCommon","Журналистика",{"$f":"MATCH(D7,Отчет!$C:$C,0)","v":31}]
[525601962,9,"БЖУР133",475500628,"Головина","Евгения","Павловна","1301219023","Иностранный язык (английский)",1.92,"Экзамен","2014/2015 учебный год 3 модуль",null,17.28,1.92,1,1,508316804,2098,null,"stCommon","Журналистика",{"$f":"MATCH(D8,Отчет!$C:$C,0)","v":41}]
[525602028,9,"БЖУР133",475500772,"Дмитриева","Екатерина","Александровна","1301219030","Иностранный язык (английский)",1.92,"Экзамен","2014/2015 учебный год 3 модуль",null,17.28,1.92,1,1,508316804,2098,null,"stCommon","Журналистика",{"$f":"MATCH(D9,Отчет!$C:$C,0)","v":40}]
[525602097,7,"БЖУР133",475500939,"Еремина","Анастасия","Алексеевна","1301219033","Иностранный язык (английский)",1.92,"Экзамен","2014/2015 учебный год 3 модуль",null,13.44,1.92,1,1,508316804,2098,null,"stCommon","Журналистика",{"$f":"MATCH(D10,Отчет!$C:$C,0)","v":94}]
[525602259,8,"БЖУР133",475501085,"Кокшарова","Александра","Игоревна","1301219041","Иностранный язык (английский)",1.92,"Экзамен","2014/2015 учебный год 3 модуль",null,15.36,1.92,1,1,508316804,2098,null,"stCommon","Журналистика",{"$f":"MATCH(D11,Отчет!$C:$C,0)","v":48}]
[525602327,9,"БЖУР133",475501239,"Липчанская","Анастасия","Алексеевна","1301219049","Иностранный язык (английский)",1.92,"Экзамен","2014/2015 учебный год 3 модуль",null,17.28,1.92,1,1,508316804,2098,null,"stCommon","Журналистика",{"$f":"MATCH(D12,Отчет!$C:$C,0)","v":20}]
[525602803,9,"БЖУР133",475501379,"Пятибратова","Екатерина","Васильевна","1301219077","Иностранный язык (английский)",1.92,"Экзамен","2014/2015 учебный год 3 модуль",null,17.28,1.92,1,1,508316804,2098,null,"stCommon","Журналистика",{"$f":"MATCH(D13,Отчет!$C:$C,0)","v":57}]
[525602869,10,"БЖУР133",475501513,"Рублева","Милена","Валерьевна","1301219080","Иностранный язык (английский)",1.92,"Экзамен","2014/2015 учебный год 3 модуль",null,19.2,1.92,1,1,508316804,2098,null,"stCommon","Журналистика",{"$f":"MATCH(D14,Отчет!$C:$C,0)","v":25}]
[525603001,9,"БЖУР133",475501641,"Стрельцова","Наталья","Сергеевна","1301219089","Иностранный язык (английский)",1.92,"Экзамен","2014/2015 учебный год 3 модуль",null,17.28,1.92,1,1,508316804,2098,null,"stCommon","Журналистика",{"$f":"MATCH(D15,Отчет!$C:$C,0)","v":64}]
[525603135,9,"БЖУР133",475501776,"Чернова","Кристина","Валериевна","1301219102","Иностранный язык (английский)",1.92,"Экзамен","2014/2015 учебный год 3 модуль",null,17.28,1.92,1,1,508316804,2098,null,"stCommon","Журналистика",{"$f":"MATCH(D16,Отчет!$C:$C,0)","v":24}]
[525603201,9,"БЖУР133",475501916,"Чернышева","Евгения","Эдуардовна","1301219103","Иностранный язык (английский)",1.92,"Экзамен","2014/2015 учебный год 3 модуль",null,17.28,1.92,1,1,508316804,2098,null,"stCommon","Журналистика",{"$f":"MATCH(D17,Отчет!$C:$C,0)","v":42}]
[525603723,8,"БЖУР134",475502663,"Вагапова","Юлия","Рстамовна","1301219016","Иностранный язык (английский)",1.92,"Экзамен","2014/2015 учебный год 3 модуль",null,15.36,1.92,1,1,508316804,2098,null,"stCommon","Журналистика",{"$f":"MATCH(D18,Отчет!$C:$C,0)","v":43}]
[525603855,8,"БЖУР134",475502790,"Дергалов","Руслан","Сергеевич","1301219028","Иностранный язык (английский)",1.92,"Экзамен","2014/2015 учебный год 3 модуль",null,15.36,1.92,1,1,508316804,2098,null,"stCommon","Журналистика",{"$f":"MATCH(D19,Отчет!$C:$C,0)","v":62}]
[525604321,9,"БЖУР134",475502924,"Литвякова","Евдокия","Алексеевна","1301219050","Иностранный язык (английский)",1.92,"Экзамен","2014/2015 учебный год 3 модуль",null,17.28,1.92,1,1,508316804,2098,null,"stCommon","Журналистика",{"$f":"MATCH(D20,Отчет!$C:$C,0)","v":36}]
[525604530,7,"БЖУР134",475503059,"Маркова","Кристина","Алексеевна","1301219058","Иностранный язык (английский)",1.92,"Экзамен","2014/2015 учебный год 3 модуль",null,13.44,1.92,1,1,508316804,2098,null,"stCommon","Журналистика",{"$f":"MATCH(D21,Отчет!$C:$C,0)","v":76}]
[525604798,8,"БЖУР134",475503187,"Робул","Павел","Константинович","1301219079","Иностранный язык (английский)",1.92,"Экзамен","2014/2015 учебный год 3 модуль",null,15.36,1.92,1,1,508316804,2098,null,"stCommon","Журналистика",{"$f":"MATCH(D22,Отчет!$C:$C,0)","v":38}]
[525602737,9,"БЖУР133",475563521,"Осипова","Светлана","Витальевна","1311219070","Иностранный язык (английский)",1.92,"Экзамен","2014/2015 учебный год 3 модуль",null,17.28,1.92,1,0,508316804,2098,null,"stCommon","Журналистика",{"$f":"MATCH(D23,Отчет!$C:$C,0)","v":71}]
[525603269,10,"БЖУР133",475563678,"Чехонадских","Дарья","Александровна","1301219104","Иностранный язык (английский)",1.92,"Экзамен","2014/2015 учебный год 3 модуль",null,19.2,1.92,1,1,508316804,2098,null,"stCommon","Журналистика",{"$f":"MATCH(D24,Отчет!$C:$C,0)","v":81}]
[525603654,8,"БЖУР134",475564485,"Басиладзе","Мариами","Рамазиевна","1311219007","Иностранный язык (английский)",1.92,"Экзамен","2014/2015 учебный год 3 модуль",null,15.36,1.92,1,0,508316804,2098,"ikPlanned","stCommon","Журналистика",{"$f":"MATCH(D25,Отчет!$C:$C,0)","v":80}]
[525603789,8,"БЖУР134",475564642,"Гимаева","Жанна","Эмзаровна","1311219021","Иностранный язык (английский)",1.92,"Экзамен","2014/2015 учебный год 3 модуль",null,15.36,1.92,1,0,508316804,2098,null,"stCommon","Журналистика",{"$f":"MATCH(D26,Отчет!$C:$C,0)","v":51}]
[525603921,7,"БЖУР134",475564787,"Досий","Зоряна","Владимировна","1301219109","Иностранный язык (английский)",1.92,"Экзамен","2014/2015 учебный год 3 модуль",null,13.44,1.92,1,1,508316804,2098,"ikPlanned","stCommon","Журналистика",{"$f":"MATCH(D27,Отчет!$C:$C,0)","v":99}]
[525603987,8,"БЖУР134",475564933,"Животнёв","Владислав","Николаевич","1311219035","Иностранный язык (английский)",1.92,"Экзамен","2014/2015 учебный год 3 модуль",null,15.36,1.92,1,0,508316804,2098,null,"stCommon","Журналистика",{"$f":"MATCH(D28,Отчет!$C:$C,0)","v":75}]
[525604053,8,"БЖУР134",475565084,"Зражаева","Алина","Сергеевна","1311219036","Иностранный язык (английский)",1.92,"Экзамен","2014/2015 учебный год 3 модуль",null,15.36,1.92,1,0,508316804,2098,null,"stCommon","Журналистика",{"$f":"MATCH(D29,Отчет!$C:$C,0)","v":49}]
[525604387,8,"БЖУР134",475565231,"Макарова","Юлия","Валерьевна","1311219054","Иностранный язык (английский)",1.92,"Экзамен","2014/2015 учебный год 3 модуль",null,15.36,1.92,1,0,508316804,2098,null,"stCommon","Журналистика",{"$f":"MATCH(D30,Отчет!$C:$C,0)","v":70}]
[525604453,7,"БЖУР134",475565410,"Маленкова","Мария","Александровна","1301219055","Иностранный язык (английский)",1.92,"Экзамен","2014/2015 учебный год 3 модуль",null,13.44,1.92,1,1,508316804,2098,null,"stCommon","Журналистика",{"$f":"MATCH(D31,Отчет!$C:$C,0)","v":47}]
[525604597,7,"БЖУР134",475565551,"Нарушевич","Анастасия","Александровна","1311219065","Иностранный язык (английский)",1.92,"Экзамен","2014/2015 учебный год 3 модуль",null,13.44,1.92,1,0,508316804,2098,null,"stCommon","Журналистика",{"$f":"MATCH(D32,Отчет!$C:$C,0)","v":78}]
[525605089,7,"БЖУР134",475565869,"Стешенкова","Александра","Евгеньевна","1301219088","Иностранный язык (английский)",1.92,"Экзамен","2014/2015 учебный год 3 модуль",null,13.44,1.92,1,1,508316804,2098,null,"stCommon","Журналистика",{"$f":"MATCH(D33,Отчет!$C:$C,0)","v":79}]
[525605021,8,"БЖУР134",475503320,"Селиванова","Ксения","Александровна","1301219084","Иностранный язык (английский)",1.92,"Экзамен","2014/2015 учебный год 3 модуль",null,15.36,1.92,1,1,508316804,2098,null,"stCommon","Журналистика",{"$f":"MATCH(D34,Отчет!$C:$C,0)","v":83}]
[525605160,9,"БЖУР134",475503448,"Суханова","Юлия","Александровна","1301219090","Иностранный язык (английский)",1.92,"Экзамен","2014/2015 учебный год 3 модуль",null,17.28,1.92,1,1,508316804,2098,null,"stCommon","Журналистика",{"$f":"MATCH(D35,Отчет!$C:$C,0)","v":13}]
[525605233,8,"БЖУР134",475503575,"Таиров","Ринат","Маратович","1301219091","Иностранный язык (английский)",1.92,"Экзамен","2014/2015 учебный год 3 модуль",null,15.36,1.92,1,1,508316804,2098,null,"stCommon","Журналистика",{"$f":"MATCH(D36,Отчет!$C:$C,0)","v":53}]
[525603067,9,"БЖУР133",481502259,"Титов","Игорь","Игоревич","1311219092","Иностранный язык (английский)",1.92,"Экзамен","2014/2015 учебный год 3 модуль",null,17.28,1.92,1,0,508316804,2098,null,"stCommon","Журналистика",{"$f":"MATCH(D37,Отчет!$C:$C,0)","v":58}]
[525604123,9,"БЖУР134",481504306,"Кокорева","Мария","Викторовна","1311219040","Иностранный язык (английский)",1.92,"Экзамен","2014/2015 учебный год 3 модуль",null,17.28,1.92,1,0,508316804,2098,null,"stCommon","Журналистика",{"$f":"MATCH(D38,Отчет!$C:$C,0)","v":18}]
[525604189,9,"БЖУР134",481504458,"Королева","Ольга","Викторовна","1311219044","Иностранный язык (английский)",1.92,"Экзамен","2014/2015 учебный год 3 модуль",null,17.28,1.92,1,0,508316804,2098,null,"stCommon","Журналистика",{"$f":"MATCH(D39,Отчет!$C:$C,0)","v":14}]
[525604255,8,"БЖУР134",481504593,"Круглова","Ирина","Викторовна","1311219047","Иностранный язык (английский)",1.92,"Экзамен","2014/2015 учебный год 3 модуль",null,15.36,1.92,1,0,508316804,2098,null,"stCommon","Журналистика",{"$f":"MATCH(D40,Отчет!$C:$C,0)","v":32}]
[525604665,8,"БЖУР134",481504754,"Петренко","Валерия","Денисовна","1311219073","Иностранный язык (английский)",1.92,"Экзамен","2014/2015 учебный год 3 модуль",null,15.36,1.92,1,0,508316804,2098,null,"stCommon","Журналистика",{"$f":"MATCH(D41,Отчет!$C:$C,0)","v":88}]
[525604876,9,"БЖУР134",481504898,"Русских","Арина","Сергеевна","1311219082","Иностранный язык (английский)",1.92,"Экзамен","2014/2015 учебный год 3 модуль",null,17.28,1.92,1,0,508316804,2098,null,"stCommon","Журналистика",{"$f":"MATCH(D42,Отчет!$C:$C,0)","v":45}]
[525597636,8,"БЖУР131",475557752,"Аветисян","Виолетта","Александровна","1311219001","Иностранный язык (английский)",1.92,"Экзамен","2014/2015 учебный год 3 модуль",null,15.36,1.92,1,0,508316804,2098,null,"stCommon","Журналистика",{"$f":"MATCH(D43,Отчет!$C:$C,0)","v":74}]
[525597978,7,"БЖУР131",475557886,"Белобеева","Ангелина","Анатольевна","1311219008","Иностранный язык (английский)",1.92,"Экзамен","2014/2015 учебный год 3 модуль",null,13.44,1.92,1,0,508316804,2098,"ikPlanned","stCommon","Журналистика",{"$f":"MATCH(D44,Отчет!$C:$C,0)","v":107}]
[525598582,7,"БЖУР131",475558344,"Маммаева","Фарида","Сулеймановна","1301219057","Иностранный язык (английский)",1.92,"Экзамен","2014/2015 учебный год 3 модуль",null,13.44,1.92,1,1,508316804,2098,null,"stCommon","Журналистика",{"$f":"MATCH(D45,Отчет!$C:$C,0)","v":101}]
[525598990,9,"БЖУР131",475558722,"Пржевальская","Анастасия","Всеволодовна","1301219076","Иностранный язык (английский)",1.92,"Экзамен","2014/2015 учебный год 3 модуль",null,17.28,1.92,1,1,508316804,2098,null,"stCommon","Журналистика",{"$f":"MATCH(D46,Отчет!$C:$C,0)","v":55}]
[525604955,9,"БЖУР134",481505031,"Савина","София","Леонидовна","1311219083","Иностранный язык (английский)",1.92,"Экзамен","2014/2015 учебный год 3 модуль",null,17.28,1.92,1,0,508316804,2098,null,"stCommon","Журналистика",{"$f":"MATCH(D47,Отчет!$C:$C,0)","v":19}]
[525605299,8,"БЖУР134",481505154,"Швецова","Екатерина","Константиновна","1311219105","Иностранный язык (английский)",1.92,"Экзамен","2014/2015 учебный год 3 модуль",null,15.36,1.92,1,0,508316804,2098,null,"stCommon","Журналистика",{"$f":"MATCH(D48,Отчет!$C:$C,0)","v":86}]
[525599435,8,"БЖУР132",475560308,"Бидзионашвили","Кетеван","-","1301219111","Иностранный язык (английский)",1.92,"Экзамен","2014/2015 учебный год 3 модуль",null,15.36,1.92,1,1,508316804,2098,"ikPlanned","stCommon","Журналистика",{"$f":"MATCH(D49,Отчет!$C:$C,0)","v":90}]
[525599571,8,"БЖУР132",475560500,"Буримова","Александра","Сергеевна","1311219014","Иностранный язык (английский)",1.92,"Экзамен","2014/2015 учебный год 3 модуль",null,15.36,1.92,1,0,508316804,2098,null,"stCommon","Журналистика",{"$f":"MATCH(D50,Отчет!$C:$C,0)","v":96}]
[523091844,8,"БЖУР132",475560670,"Бурцева","Анастасия","Юрьевна","1311219015","Иностранный язык (английский)",1.92,"Экзамен","2014/2015 учебный год 3 модуль",null,15.36,1.92,1,0,508316804,2098,null,"stCommon","Журналистика",{"$f":"MATCH(D51,Отчет!$C:$C,0)","v":73}]
[525599802,9,"БЖУР132",475560846,"Винокур","Дана","Витальевна","1311219018","Иностранный язык (английский)",1.92,"Экзамен","2014/2015 учебный год 3 модуль",null,17.28,1.92,1,0,508316804,2098,null,"stCommon","Журналистика",{"$f":"MATCH(D52,Отчет!$C:$C,0)","v":85}]
[525599868,0,"БЖУР132",475561061,"Вишнякова","Екатерина","Владимировна","1311219019","Иностранный язык (английский)",1.92,"Экзамен","2014/2015 учебный год 3 модуль",null,0,1.92,0,0,508316804,2098,null,"stCommon","Журналистика",{"$f":"MATCH(D53,Отчет!$C:$C,0)","v":77}]
[525599944,8,"БЖУР132",475561255,"Волчек","Никита","Алексеевич","1311219112","Иностранный язык (английский)",1.92,"Экзамен","2014/2015 учебный год 3 модуль",null,15.36,1.92,1,0,508316804,2098,"ikPlanned","stCommon","Журналистика",{"$f":"MATCH(D54,Отчет!$C:$C,0)","v":97}]
[525600145,8,"БЖУР132",475561427,"Гранкова","Ксения","Сергеевна","1311219027","Иностранный язык (английский)",1.92,"Экзамен","2014/2015 учебный год 3 модуль",null,15.36,1.92,1,0,508316804,2098,"ikPlanned","stCommon","Журналистика",{"$f":"MATCH(D55,Отчет!$C:$C,0)","v":102}]
[525601278,8,"БЖУР132",475561559,"Шевелёва","Кристина","Дмитриевна","1311219106","Иностранный язык (английский)",1.92,"Экзамен","2014/2015 учебный год 3 модуль",null,15.36,1.92,1,0,508316804,2098,"ikPlanned","stCommon","Журналистика",{"$f":"MATCH(D56,Отчет!$C:$C,0)","v":87}]
[525601623,9,"БЖУР133",475562216,"Аммосова","Людмила","Михайловна","1311219002","Иностранный язык (английский)",1.92,"Экзамен","2014/2015 учебный год 3 модуль",null,17.28,1.92,1,0,508316804,2098,null,"stCommon","Журналистика",{"$f":"MATCH(D57,Отчет!$C:$C,0)","v":39}]
[525601755,8,"БЖУР133",475562419,"Афян","Мария","Геннадьевна","1311219006","Иностранный язык (английский)",1.92,"Экзамен","2014/2015 учебный год 3 модуль",null,15.36,1.92,1,0,508316804,2098,"ikPlanned","stCommon","Журналистика",{"$f":"MATCH(D58,Отчет!$C:$C,0)","v":69}]
[525601896,9,"БЖУР133",475562579,"Герасимова","Мария","Александровна","1311219020","Иностранный язык (английский)",1.92,"Экзамен","2014/2015 учебный год 3 модуль",null,17.28,1.92,1,0,508316804,2098,null,"stCommon","Журналистика",{"$f":"MATCH(D59,Отчет!$C:$C,0)","v":28}]
[525602165,8,"БЖУР133",475562897,"Кистерев","Алексей","Валерьевич","12701089","Иностранный язык (английский)",1.92,"Экзамен","2014/2015 учебный год 3 модуль",null,15.36,1.92,1,0,508316804,2098,"ikPlanned","stCommon","Журналистика",{"$f":"MATCH(D60,Отчет!$C:$C,0)","v":105}]
[525602463,9,"БЖУР133",475563046,"Люля","Арина","Артемовна","1311219053","Иностранный язык (английский)",1.92,"Экзамен","2014/2015 учебный год 3 модуль",null,17.28,1.92,1,0,508316804,2098,"ikPlanned","stCommon","Журналистика",{"$f":"MATCH(D61,Отчет!$C:$C,0)","v":91}]
[525602529,9,"БЖУР133",475563206,"Малышева","Ирина","Александровна","1301219056","Иностранный язык (английский)",1.92,"Экзамен","2014/2015 учебный год 3 модуль",null,17.28,1.92,1,1,508316804,2098,null,"stCommon","Журналистика",{"$f":"MATCH(D62,Отчет!$C:$C,0)","v":66}]
[525602670,9,"БЖУР133",475563331,"Мусина","Юлия","Маратовна","1301219064","Иностранный язык (английский)",1.92,"Экзамен","2014/2015 учебный год 3 модуль",null,17.28,1.92,1,1,508316804,2098,null,"stCommon","Журналистика",{"$f":"MATCH(D63,Отчет!$C:$C,0)","v":26}]
[525600942,9,"БЖУР132",475498778,"Рудакова","Юлия","Владиславовна","1301219081","Иностранный язык (английский)",1.92,"Экзамен","2014/2015 учебный год 3 модуль",null,17.28,1.92,1,1,508316804,2098,null,"stCommon","Журналистика",{"$f":"MATCH(D64,Отчет!$C:$C,0)","v":21}]
[525601010,9,"БЖУР132",475498901,"Скворцова","Дарья","Андреевна","1301219086","Иностранный язык (английский)",1.92,"Экзамен","2014/2015 учебный год 3 модуль",null,17.28,1.92,1,1,508316804,2098,null,"stCommon","Журналистика",{"$f":"MATCH(D65,Отчет!$C:$C,0)","v":17}]
[525601146,9,"БЖУР132",475499056,"Федорова","Анастасия","Александровна","1301219096","Иностранный язык (английский)",1.92,"Экзамен","2014/2015 учебный год 3 модуль",null,17.28,1.92,1,1,508316804,2098,null,"stCommon","Журналистика",{"$f":"MATCH(D66,Отчет!$C:$C,0)","v":30}]
[525601080,8,"БЖУР132",475499184,"Устюжанинова","Анна","Александровна","1301219095","Иностранный язык (английский)",1.92,"Экзамен","2014/2015 учебный год 3 модуль",null,15.36,1.92,1,1,508316804,2098,null,"stCommon","Журналистика",{"$f":"MATCH(D67,Отчет!$C:$C,0)","v":84}]
[525598047,9,"БЖУР131",475496297,"Голубева","Анастасия","Павловна","1301219024","Иностранный язык (английский)",1.92,"Экзамен","2014/2015 учебный год 3 модуль",null,17.28,1.92,1,1,508316804,2098,null,"stCommon","Журналистика",{"$f":"MATCH(D68,Отчет!$C:$C,0)","v":68}]
[525598116,7,"БЖУР131",475496974,"Джгаркава","Нино","Звиадиевна","1301219029","Иностранный язык (английский)",1.92,"Экзамен","2014/2015 учебный год 3 модуль",null,13.44,1.92,1,1,508316804,2098,null,"stCommon","Журналистика",{"$f":"MATCH(D69,Отчет!$C:$C,0)","v":93}]
[525598183,9,"БЖУР131",475497099,"Дымчишина","Александра","Юрьевна","1301219032","Иностранный язык (английский)",1.92,"Экзамен","2014/2015 учебный год 3 модуль",null,17.28,1.92,1,1,508316804,2098,null,"stCommon","Журналистика",{"$f":"MATCH(D70,Отчет!$C:$C,0)","v":65}]
[525598316,null,"БЖУР131",475497229,"Жвик","Анастасия","Николаевна","1301219110","Иностранный язык (английский)",1.92,"Экзамен","2014/2015 учебный год 3 модуль",1,0,1.92,null,1,508316804,2098,null,"stCommon","Журналистика",{"$f":"MATCH(D71,Отчет!$C:$C,0)","v":110}]
[525598856,9,"БЖУР131",475497479,"Николаева","Мария","Дмитриевна","1301219068","Иностранный язык (английский)",1.92,"Экзамен","2014/2015 учебный год 3 модуль",null,17.28,1.92,1,1,508316804,2098,null,"stCommon","Журналистика",{"$f":"MATCH(D72,Отчет!$C:$C,0)","v":29}]
[525599056,9,"БЖУР131",475497611,"Ставрианиди","Анна","Георгиевна","1301219087","Иностранный язык (английский)",1.92,"Экзамен","2014/2015 учебный год 3 модуль",null,17.28,1.92,1,1,508316804,2098,null,"stCommon","Журналистика",{"$f":"MATCH(D73,Отчет!$C:$C,0)","v":50}]
[525599122,9,"БЖУР131",475497743,"Тищенко","Виктория","Андреевна","1301219093","Иностранный язык (английский)",1.92,"Экзамен","2014/2015 учебный год 3 модуль",null,17.28,1.92,1,1,508316804,2098,null,"stCommon","Журналистика",{"$f":"MATCH(D74,Отчет!$C:$C,0)","v":52}]
[525599264,9,"БЖУР131",475497867,"Яковец","Елизавета","Николаевна","1301219107","Иностранный язык (английский)",1.92,"Экзамен","2014/2015 учебный год 3 модуль",null,17.28,1.92,1,1,508316804,2098,null,"stCommon","Журналистика",{"$f":"MATCH(D75,Отчет!$C:$C,0)","v":27}]
[525599505,9,"БЖУР132",475498195,"Булатова","Катерина","Николаевна","1301219012","Иностранный язык (английский)",1.92,"Экзамен","2014/2015 учебный год 3 модуль",null,17.28,1.92,1,1,508316804,2098,null,"stCommon","Журналистика",{"$f":"MATCH(D76,Отчет!$C:$C,0)","v":34}]
[525600211,9,"БЖУР132",475498343,"Дмитриева","Ольга","Олеговна","1301219031","Иностранный язык (английский)",1.92,"Экзамен","2014/2015 учебный год 3 модуль",null,17.28,1.92,1,1,508316804,2098,null,"stCommon","Журналистика",{"$f":"MATCH(D77,Отчет!$C:$C,0)","v":59}]
[525600676,9,"БЖУР132",475498638,"Огурцова","Евгения","Алексеевна","1301219069","Иностранный язык (английский)",1.92,"Экзамен","2014/2015 учебный год 3 модуль",null,17.28,1.92,1,1,508316804,2098,null,"stCommon","Журналистика",{"$f":"MATCH(D78,Отчет!$C:$C,0)","v":37}]
[525597826,9,"БЖУР131",474332631,"Астапенко","Ольга","Юрьевна","1301219003","Иностранный язык (английский)",1.92,"Экзамен","2014/2015 учебный год 3 модуль",null,17.28,1.92,1,1,508316804,2098,null,"stCommon","Журналистика",{"$f":"MATCH(D79,Отчет!$C:$C,0)","v":44}]
[525597901,9,"БЖУР131",481496658,"Афанасьева","Татьяна","Валерьевна","1311219005","Иностранный язык (английский)",1.92,"Экзамен","2014/2015 учебный год 3 модуль",null,17.28,1.92,1,0,508316804,2098,null,"stCommon","Журналистика",{"$f":"MATCH(D80,Отчет!$C:$C,0)","v":33}]
[525598249,9,"БЖУР131",481496795,"Ероносов","Александр","Эдуардович","1311219034","Иностранный язык (английский)",1.92,"Экзамен","2014/2015 учебный год 3 модуль",null,17.28,1.92,1,0,508316804,2098,null,"stCommon","Журналистика",{"$f":"MATCH(D81,Отчет!$C:$C,0)","v":72}]
[525598382,8,"БЖУР131",481496924,"Зубкевич","Андрей","Вадимович","1311219037","Иностранный язык (английский)",1.92,"Экзамен","2014/2015 учебный год 3 модуль",null,15.36,1.92,1,0,508316804,2098,null,"stCommon","Журналистика",{"$f":"MATCH(D82,Отчет!$C:$C,0)","v":104}]
[525598648,9,"БЖУР131",481497225,"Морозова","Николь","Дмитриевна","1311219062","Иностранный язык (английский)",1.92,"Экзамен","2014/2015 учебный год 3 модуль",null,17.28,1.92,1,0,508316804,2098,null,"stCommon","Журналистика",{"$f":"MATCH(D83,Отчет!$C:$C,0)","v":22}]
[525598714,8,"БЖУР131",481497357,"Муратова","Анастасия","Александровна","1311219063","Иностранный язык (английский)",1.92,"Экзамен","2014/2015 учебный год 3 модуль",null,15.36,1.92,1,0,508316804,2098,null,"stCommon","Журналистика",{"$f":"MATCH(D84,Отчет!$C:$C,0)","v":56}]
[525598780,0,"БЖУР131",481497484,"Нещадимова","Дарья","Викторовна","1311219067","Иностранный язык (английский)",1.92,"Экзамен","2014/2015 учебный год 3 модуль",null,0,1.92,0,0,508316804,2098,null,"stCommon","Журналистика",{"$f":"MATCH(D85,Отчет!$C:$C,0)","v":54}]
[525600010,8,"БЖУР132",481498934,"Глазунов","Никита","Сергеевич","116-24/12-036","Иностранный язык (английский)",1.92,"Экзамен","2014/2015 учебный год 3 модуль",null,15.36,1.92,1,0,508316804,2098,"ikPlanned","stCommon","Журналистика",{"$f":"MATCH(D86,Отчет!$C:$C,0)","v":106}]
[525600076,9,"БЖУР132",481499019,"Голованов","Сергей","Сергеевич","1311219022","Иностранный язык (английский)",1.92,"Экзамен","2014/2015 учебный год 3 модуль",null,17.28,1.92,1,0,508316804,2098,null,"stCommon","Журналистика",{"$f":"MATCH(D87,Отчет!$C:$C,0)","v":46}]
[525600410,9,"БЖУР132",481499520,"Королева","Виолетта","Николаевна","1311219043","Иностранный язык (английский)",1.92,"Экзамен","2014/2015 учебный год 3 модуль",null,17.28,1.92,1,0,508316804,2098,null,"stCommon","Журналистика",{"$f":"MATCH(D88,Отчет!$C:$C,0)","v":82}]
[525600478,9,"БЖУР132",481499652,"Королькова","Елизавета","Дмитриевна","1311219045","Иностранный язык (английский)",1.92,"Экзамен","2014/2015 учебный год 3 модуль",null,17.28,1.92,1,0,508316804,2098,null,"stCommon","Журналистика",{"$f":"MATCH(D89,Отчет!$C:$C,0)","v":16}]
[525600544,10,"БЖУР132",481500039,"Лебедева","Ксения","Кирилловна","1311219048","Иностранный язык (английский)",1.92,"Экзамен","2014/2015 учебный год 3 модуль",null,19.2,1.92,1,0,508316804,2098,null,"stCommon","Журналистика",{"$f":"MATCH(D90,Отчет!$C:$C,0)","v":15}]
[525600610,8,"БЖУР132",481500235,"Немченко","Илья","Михайлович","1311219066","Иностранный язык (английский)",1.92,"Экзамен","2014/2015 учебный год 3 модуль",null,15.36,1.92,1,0,508316804,2098,null,"stCommon","Журналистика",{"$f":"MATCH(D91,Отчет!$C:$C,0)","v":103}]
[525600742,8,"БЖУР132",481500392,"Павлова","Алиса","Павловна","1311219071","Иностранный язык (английский)",1.92,"Экзамен","2014/2015 учебный год 3 модуль",null,15.36,1.92,1,0,508316804,2098,null,"stCommon","Журналистика",{"$f":"MATCH(D92,Отчет!$C:$C,0)","v":89}]
[525600808,10,"БЖУР132",481500535,"Правдюк","Анна","Сергеевна","1311219075","Иностранный язык (английский)",1.92,"Экзамен","2014/2015 учебный год 3 модуль",null,19.2,1.92,1,0,508316804,2098,null,"stCommon","Журналистика",{"$f":"MATCH(D93,Отчет!$C:$C,0)","v":12}]
[525600876,9,"БЖУР132",481500688,"Ревоненко","Анна","Николаевна","1311219078","Иностранный язык (английский)",1.92,"Экзамен","2014/2015 учебный год 3 модуль",null,17.28,1.92,1,0,508316804,2098,null,"stCommon","Журналистика",{"$f":"MATCH(D94,Отчет!$C:$C,0)","v":23}]
[525601212,8,"БЖУР132",481500835,"Цегалко","Яна","Николаевна","1311219101","Иностранный язык (английский)",1.92,"Экзамен","2014/2015 учебный год 3 модуль",null,15.36,1.92,1,0,508316804,2098,null,"stCommon","Журналистика",{"$f":"MATCH(D95,Отчет!$C:$C,0)","v":61}]
[525601689,8,"БЖУР133",481501546,"Атасунцев","Александр","Григорьевич","1311219004","Иностранный язык (английский)",1.92,"Экзамен","2014/2015 учебный год 3 модуль",null,15.36,1.92,1,0,508316804,2098,null,"stCommon","Журналистика",{"$f":"MATCH(D96,Отчет!$C:$C,0)","v":67}]
[525602397,8,"БЖУР133",481501825,"Лымарева","Мария","Андреевна","1311219052","Иностранный язык (английский)",1.92,"Экзамен","2014/2015 учебный год 3 модуль",null,15.36,1.92,1,0,508316804,2098,null,"stCommon","Журналистика",{"$f":"MATCH(D97,Отчет!$C:$C,0)","v":108}]
[525602596,9,"БЖУР133",481501975,"Молоствова","Анна","Александровна","1311219061","Иностранный язык (английский)",1.92,"Экзамен","2014/2015 учебный год 3 модуль",null,17.28,1.92,1,0,508316804,2098,null,"stCommon","Журналистика",{"$f":"MATCH(D98,Отчет!$C:$C,0)","v":35}]
[525602935,9,"БЖУР133",481502112,"Сидоров","Всеволод","Дмитриевич","1311219085","Иностранный язык (английский)",1.92,"Экзамен","2014/2015 учебный год 3 модуль",null,17.28,1.92,1,0,508316804,2098,null,"stCommon","Журналистика",{"$f":"MATCH(D99,Отчет!$C:$C,0)","v":60}]
[974751900,null,"248ж",475564380,"Алешкина","Александрина","Александровна","231210002","Иностранный язык (английский)",3,"Экзамен","2014/2015 учебный год 3 модуль",1,0,3,null,0,508316804,2098,"ikPlanned","stFacultative","Журналистика",{"$f":"MATCH(D100,Отчет!$C:$C,0)","v":100}]
[617793306,8,"БЖУР131",580462633,"Немкова","Екатерина","Дмитриевна","131232209","Иностранный язык (английский)",5,"Экзамен","2014/2015 учебный год 3 модуль",null,40,5,1,0,508316804,2098,"ikPlanned","stCommon","Журналистика",{"$f":"MATCH(D101,Отчет!$C:$C,0)","v":98}]
[717898594,10,"БЖУР132",481500535,"Правдюк","Анна","Сергеевна","1311219075","Мегаполисы мира",0,"Экзамен","2014/2015 учебный год 3 модуль",null,0,0,1,0,null,5028,null,"stFacultative","Журналистика",{"$f":"MATCH(D102,Отчет!$C:$C,0)","v":12}]
[828844212,9,"БЖУР133",475563331,"Мусина","Юлия","Маратовна","1301219064","Психология (включая основы социальной психологии)",3,"Экзамен","2014/2015 учебный год 3 модуль",null,27,3,1,1,508316804,2098,null,"stCommon","Журналистика",{"$f":"MATCH(D103,Отчет!$C:$C,0)","v":26}]
[828844166,9,"БЖУР132",475498778,"Рудакова","Юлия","Владиславовна","1301219081","Психология (включая основы социальной психологии)",3,"Экзамен","2014/2015 учебный год 3 модуль",null,27,3,1,1,508316804,2098,null,"stCommon","Журналистика",{"$f":"MATCH(D104,Отчет!$C:$C,0)","v":21}]
[828844168,9,"БЖУР132",475498901,"Скворцова","Дарья","Андреевна","1301219086","Психология (включая основы социальной психологии)",3,"Экзамен","2014/2015 учебный год 3 модуль",null,27,3,1,1,508316804,2098,null,"stCommon","Журналистика",{"$f":"MATCH(D105,Отчет!$C:$C,0)","v":17}]
[828844172,9,"БЖУР132",475499056,"Федорова","Анастасия","Александровна","1301219096","Психология (включая основы социальной психологии)",3,"Экзамен","2014/2015 учебный год 3 модуль",null,27,3,1,1,508316804,2098,null,"stCommon","Журналистика",{"$f":"MATCH(D106,Отчет!$C:$C,0)","v":30}]
[828844286,7,"БЖУР131",475496297,"Голубева","Анастасия","Павловна","1301219024","Психология (включая основы социальной психологии)",3,"Экзамен","2014/2015 учебный год 3 модуль",null,21,3,1,1,508316804,2098,null,"stCommon","Журналистика",{"$f":"MATCH(D107,Отчет!$C:$C,0)","v":68}]
[828844288,7,"БЖУР131",475496974,"Джгаркава","Нино","Звиадиевна","1301219029","Психология (включая основы социальной психологии)",3,"Экзамен","2014/2015 учебный год 3 модуль",null,21,3,1,1,508316804,2098,null,"stCommon","Журналистика",{"$f":"MATCH(D108,Отчет!$C:$C,0)","v":93}]
[828844064,6,"БЖУР131",475497099,"Дымчишина","Александра","Юрьевна","1301219032","Психология (включая основы социальной психологии)",3,"Экзамен","2014/2015 учебный год 3 модуль",null,18,3,1,1,508316804,2098,null,"stCommon","Журналистика",{"$f":"MATCH(D109,Отчет!$C:$C,0)","v":65}]
[828844070,null,"БЖУР131",475497229,"Жвик","Анастасия","Николаевна","1301219110","Психология (включая основы социальной психологии)",3,"Экзамен","2014/2015 учебный год 3 модуль",1,0,3,null,1,508316804,2098,null,"stCommon","Журналистика",{"$f":"MATCH(D110,Отчет!$C:$C,0)","v":110}]
[828844089,7,"БЖУР131",475497479,"Николаева","Мария","Дмитриевна","1301219068","Психология (включая основы социальной психологии)",3,"Экзамен","2014/2015 учебный год 3 модуль",null,21,3,1,1,508316804,2098,null,"stCommon","Журналистика",{"$f":"MATCH(D111,Отчет!$C:$C,0)","v":29}]
[828844100,8,"БЖУР131",475497611,"Ставрианиди","Анна","Георгиевна","1301219087","Психология (включая основы социальной психологии)",3,"Экзамен","2014/2015 учебный год 3 модуль",null,24,3,1,1,508316804,2098,null,"stCommon","Журналистика",{"$f":"MATCH(D112,Отчет!$C:$C,0)","v":50}]
[828844103,8,"БЖУР131",475497743,"Тищенко","Виктория","Андреевна","1301219093","Психология (включая основы социальной психологии)",3,"Экзамен","2014/2015 учебный год 3 модуль",null,24,3,1,1,508316804,2098,null,"stCommon","Журналистика",{"$f":"MATCH(D113,Отчет!$C:$C,0)","v":52}]
[828844107,7,"БЖУР131",475497867,"Яковец","Елизавета","Николаевна","1301219107","Психология (включая основы социальной психологии)",3,"Экзамен","2014/2015 учебный год 3 модуль",null,21,3,1,1,508316804,2098,null,"stCommon","Журналистика",{"$f":"MATCH(D114,Отчет!$C:$C,0)","v":27}]
[828844119,8,"БЖУР132",475498195,"Булатова","Катерина","Николаевна","1301219012","Психология (включая основы социальной психологии)",3,"Экзамен","2014/2015 учебный год 3 модуль",null,24,3,1,1,508316804,2098,null,"stCommon","Журналистика",{"$f":"MATCH(D115,Отчет!$C:$C,0)","v":34}]
[828844143,8,"БЖУР132",475498343,"Дмитриева","Ольга","Олеговна","1301219031","Психология (включая основы социальной психологии)",3,"Экзамен","2014/2015 учебный год 3 модуль",null,24,3,1,1,508316804,2098,null,"stCommon","Журналистика",{"$f":"MATCH(D116,Отчет!$C:$C,0)","v":59}]
[828844158,9,"БЖУР132",475498638,"Огурцова","Евгения","Алексеевна","1301219069","Психология (включая основы социальной психологии)",3,"Экзамен","2014/2015 учебный год 3 модуль",null,27,3,1,1,508316804,2098,null,"stCommon","Журналистика",{"$f":"MATCH(D117,Отчет!$C:$C,0)","v":37}]
[828844280,8,"БЖУР131",474332631,"Астапенко","Ольга","Юрьевна","1301219003","Психология (включая основы социальной психологии)",3,"Экзамен","2014/2015 учебный год 3 модуль",null,24,3,1,1,508316804,2098,null,"stCommon","Журналистика",{"$f":"MATCH(D118,Отчет!$C:$C,0)","v":44}]
[828844282,8,"БЖУР131",481496658,"Афанасьева","Татьяна","Валерьевна","1311219005","Психология (включая основы социальной психологии)",3,"Экзамен","2014/2015 учебный год 3 модуль",null,24,3,1,0,508316804,2098,null,"stCommon","Журналистика",{"$f":"MATCH(D119,Отчет!$C:$C,0)","v":33}]
[828844068,6,"БЖУР131",481496795,"Ероносов","Александр","Эдуардович","1311219034","Психология (включая основы социальной психологии)",3,"Экзамен","2014/2015 учебный год 3 модуль",null,18,3,1,0,508316804,2098,null,"stCommon","Журналистика",{"$f":"MATCH(D120,Отчет!$C:$C,0)","v":72}]
[828844072,6,"БЖУР131",481496924,"Зубкевич","Андрей","Вадимович","1311219037","Психология (включая основы социальной психологии)",3,"Экзамен","2014/2015 учебный год 3 модуль",null,18,3,1,0,508316804,2098,null,"stCommon","Журналистика",{"$f":"MATCH(D121,Отчет!$C:$C,0)","v":104}]
[828844083,9,"БЖУР131",481497225,"Морозова","Николь","Дмитриевна","1311219062","Психология (включая основы социальной психологии)",3,"Экзамен","2014/2015 учебный год 3 модуль",null,27,3,1,0,508316804,2098,null,"stCommon","Журналистика",{"$f":"MATCH(D122,Отчет!$C:$C,0)","v":22}]
[828844085,8,"БЖУР131",481497357,"Муратова","Анастасия","Александровна","1311219063","Психология (включая основы социальной психологии)",3,"Экзамен","2014/2015 учебный год 3 модуль",null,24,3,1,0,508316804,2098,null,"stCommon","Журналистика",{"$f":"MATCH(D123,Отчет!$C:$C,0)","v":56}]
[828844087,8,"БЖУР131",481497484,"Нещадимова","Дарья","Викторовна","1311219067","Психология (включая основы социальной психологии)",3,"Экзамен","2014/2015 учебный год 3 модуль",null,24,3,1,0,508316804,2098,null,"stCommon","Журналистика",{"$f":"MATCH(D124,Отчет!$C:$C,0)","v":54}]
[828844134,6,"БЖУР132",481498934,"Глазунов","Никита","Сергеевич","116-24/12-036","Психология (включая основы социальной психологии)",3,"Экзамен","2014/2015 учебный год 3 модуль",null,18,3,1,0,508316804,2098,null,"stCommon","Журналистика",{"$f":"MATCH(D125,Отчет!$C:$C,0)","v":106}]
[828844137,8,"БЖУР132",481499019,"Голованов","Сергей","Сергеевич","1311219022","Психология (включая основы социальной психологии)",3,"Экзамен","2014/2015 учебный год 3 модуль",null,24,3,1,0,508316804,2098,null,"stCommon","Журналистика",{"$f":"MATCH(D126,Отчет!$C:$C,0)","v":46}]
[828844150,7,"БЖУР132",481499520,"Королева","Виолетта","Николаевна","1311219043","Психология (включая основы социальной психологии)",3,"Экзамен","2014/2015 учебный год 3 модуль",null,21,3,1,0,508316804,2098,null,"stCommon","Журналистика",{"$f":"MATCH(D127,Отчет!$C:$C,0)","v":82}]
[828844152,9,"БЖУР132",481499652,"Королькова","Елизавета","Дмитриевна","1311219045","Психология (включая основы социальной психологии)",3,"Экзамен","2014/2015 учебный год 3 модуль",null,27,3,1,0,508316804,2098,null,"stCommon","Журналистика",{"$f":"MATCH(D128,Отчет!$C:$C,0)","v":16}]
[828844154,9,"БЖУР132",481500039,"Лебедева","Ксения","Кирилловна","1311219048","Психология (включая основы социальной психологии)",3,"Экзамен","2014/2015 учебный год 3 модуль",null,27,3,1,0,508316804,2098,null,"stCommon","Журналистика",{"$f":"MATCH(D129,Отчет!$C:$C,0)","v":15}]
[828844156,6,"БЖУР132",481500235,"Немченко","Илья","Михайлович","1311219066","Психология (включая основы социальной психологии)",3,"Экзамен","2014/2015 учебный год 3 модуль",null,18,3,1,0,508316804,2098,null,"stCommon","Журналистика",{"$f":"MATCH(D130,Отчет!$C:$C,0)","v":103}]
[828844160,7,"БЖУР132",481500392,"Павлова","Алиса","Павловна","1311219071","Психология (включая основы социальной психологии)",3,"Экзамен","2014/2015 учебный год 3 модуль",null,21,3,1,0,508316804,2098,null,"stCommon","Журналистика",{"$f":"MATCH(D131,Отчет!$C:$C,0)","v":89}]
[828844162,10,"БЖУР132",481500535,"Правдюк","Анна","Сергеевна","1311219075","Психология (включая основы социальной психологии)",3,"Экзамен","2014/2015 учебный год 3 модуль",null,30,3,1,0,508316804,2098,null,"stCommon","Журналистика",{"$f":"MATCH(D132,Отчет!$C:$C,0)","v":12}]
[828844164,9,"БЖУР132",481500688,"Ревоненко","Анна","Николаевна","1311219078","Психология (включая основы социальной психологии)",3,"Экзамен","2014/2015 учебный год 3 модуль",null,27,3,1,0,508316804,2098,null,"stCommon","Журналистика",{"$f":"MATCH(D133,Отчет!$C:$C,0)","v":23}]
[828844174,7,"БЖУР132",481500835,"Цегалко","Яна","Николаевна","1311219101","Психология (включая основы социальной психологии)",3,"Экзамен","2014/2015 учебный год 3 модуль",null,21,3,1,0,508316804,2098,null,"stCommon","Журналистика",{"$f":"MATCH(D134,Отчет!$C:$C,0)","v":61}]
[828844183,9,"БЖУР133",481501546,"Атасунцев","Александр","Григорьевич","1311219004","Психология (включая основы социальной психологии)",3,"Экзамен","2014/2015 учебный год 3 модуль",null,27,3,1,0,508316804,2098,null,"stCommon","Журналистика",{"$f":"MATCH(D135,Отчет!$C:$C,0)","v":67}]
[828844204,4,"БЖУР133",481501825,"Лымарева","Мария","Андреевна","1311219052","Психология (включая основы социальной психологии)",3,"Экзамен","2014/2015 учебный год 3 модуль",null,12,3,1,0,508316804,2098,null,"stCommon","Журналистика",{"$f":"MATCH(D136,Отчет!$C:$C,0)","v":108}]
[828844210,9,"БЖУР133",481501975,"Молоствова","Анна","Александровна","1311219061","Психология (включая основы социальной психологии)",3,"Экзамен","2014/2015 учебный год 3 модуль",null,27,3,1,0,508316804,2098,null,"stCommon","Журналистика",{"$f":"MATCH(D137,Отчет!$C:$C,0)","v":35}]
[828844296,7,"БЖУР134",475503575,"Таиров","Ринат","Маратович","1301219091","Психология (включая основы социальной психологии)",3,"Экзамен","2014/2015 учебный год 3 модуль",null,21,3,1,1,508316804,2098,null,"stCommon","Журналистика",{"$f":"MATCH(D138,Отчет!$C:$C,0)","v":53}]
[828876098,8,"БЖУР131",752764364,"Масалова","Анна","Владиславовна","131232133","Психология (включая основы социальной психологии)",3,"Экзамен","2014/2015 учебный год 3 модуль",null,24,3,1,0,508316804,2098,null,"stCommon","Журналистика",{"$f":"MATCH(D139,Отчет!$C:$C,0)","v":92}]
[828879964,8,"БЖУР131",580462633,"Немкова","Екатерина","Дмитриевна","131232209","Психология (включая основы социальной психологии)",3,"Экзамен","2014/2015 учебный год 3 модуль",null,24,3,1,0,508316804,2098,null,"stCommon","Журналистика",{"$f":"MATCH(D140,Отчет!$C:$C,0)","v":98}]
[828880097,7,"БЖУР131",615125946,"Халилова","Арзу","Идаятовна","131232230","Психология (включая основы социальной психологии)",3,"Экзамен","2014/2015 учебный год 3 модуль",null,21,3,1,0,508316804,2098,null,"stCommon","Журналистика",{"$f":"MATCH(D141,Отчет!$C:$C,0)","v":95}]
[828880135,null,"БЖУР131",796834861,"Тесфайе","Анна-Мария","Синтайе","10701175","Психология (включая основы социальной психологии)",3,"Экзамен","2014/2015 учебный год 3 модуль",0,0,3,null,0,508316804,2098,null,"stCommon","Журналистика",{"$f":"MATCH(D142,Отчет!$C:$C,0)","v":109}]
[828844170,7,"БЖУР132",475499184,"Устюжанинова","Анна","Александровна","1301219095","Психология (включая основы социальной психологии)",3,"Экзамен","2014/2015 учебный год 3 модуль",null,21,3,1,1,508316804,2098,null,"stCommon","Журналистика",{"$f":"MATCH(D143,Отчет!$C:$C,0)","v":84}]
[828844179,8,"БЖУР132",475499320,"Якубович","Анастасия","Александровна","1301219108","Психология (включая основы социальной психологии)",3,"Экзамен","2014/2015 учебный год 3 модуль",null,24,3,1,1,508316804,2098,null,"stCommon","Журналистика",{"$f":"MATCH(D144,Отчет!$C:$C,0)","v":63}]
[828844188,9,"БЖУР133",475500480,"Вильшанская","Елена","Андреевна","1301219017","Психология (включая основы социальной психологии)",3,"Экзамен","2014/2015 учебный год 3 модуль",null,27,3,1,1,508316804,2098,null,"stCommon","Журналистика",{"$f":"MATCH(D145,Отчет!$C:$C,0)","v":31}]
[828844192,8,"БЖУР133",475500628,"Головина","Евгения","Павловна","1301219023","Психология (включая основы социальной психологии)",3,"Экзамен","2014/2015 учебный год 3 модуль",null,24,3,1,1,508316804,2098,null,"stCommon","Журналистика",{"$f":"MATCH(D146,Отчет!$C:$C,0)","v":41}]
[828844194,9,"БЖУР133",475500772,"Дмитриева","Екатерина","Александровна","1301219030","Психология (включая основы социальной психологии)",3,"Экзамен","2014/2015 учебный год 3 модуль",null,27,3,1,1,508316804,2098,null,"stCommon","Журналистика",{"$f":"MATCH(D147,Отчет!$C:$C,0)","v":40}]
[828844196,7,"БЖУР133",475500939,"Еремина","Анастасия","Алексеевна","1301219033","Психология (включая основы социальной психологии)",3,"Экзамен","2014/2015 учебный год 3 модуль",null,21,3,1,1,508316804,2098,null,"stCommon","Журналистика",{"$f":"MATCH(D148,Отчет!$C:$C,0)","v":94}]
[828844200,8,"БЖУР133",475501085,"Кокшарова","Александра","Игоревна","1301219041","Психология (включая основы социальной психологии)",3,"Экзамен","2014/2015 учебный год 3 модуль",null,24,3,1,1,508316804,2098,null,"stCommon","Журналистика",{"$f":"MATCH(D149,Отчет!$C:$C,0)","v":48}]
[828844202,10,"БЖУР133",475501239,"Липчанская","Анастасия","Алексеевна","1301219049","Психология (включая основы социальной психологии)",3,"Экзамен","2014/2015 учебный год 3 модуль",null,30,3,1,1,508316804,2098,null,"stCommon","Журналистика",{"$f":"MATCH(D150,Отчет!$C:$C,0)","v":20}]
[828844217,8,"БЖУР133",475501379,"Пятибратова","Екатерина","Васильевна","1301219077","Психология (включая основы социальной психологии)",3,"Экзамен","2014/2015 учебный год 3 модуль",null,24,3,1,1,508316804,2098,null,"stCommon","Журналистика",{"$f":"MATCH(D151,Отчет!$C:$C,0)","v":57}]
[828844219,9,"БЖУР133",475501513,"Рублева","Милена","Валерьевна","1301219080","Психология (включая основы социальной психологии)",3,"Экзамен","2014/2015 учебный год 3 модуль",null,27,3,1,1,508316804,2098,null,"stCommon","Журналистика",{"$f":"MATCH(D152,Отчет!$C:$C,0)","v":25}]
[828844223,8,"БЖУР133",475501641,"Стрельцова","Наталья","Сергеевна","1301219089","Психология (включая основы социальной психологии)",3,"Экзамен","2014/2015 учебный год 3 модуль",null,24,3,1,1,508316804,2098,null,"stCommon","Журналистика",{"$f":"MATCH(D153,Отчет!$C:$C,0)","v":64}]
[828844227,8,"БЖУР133",475501776,"Чернова","Кристина","Валериевна","1301219102","Психология (включая основы социальной психологии)",3,"Экзамен","2014/2015 учебный год 3 модуль",null,24,3,1,1,508316804,2098,null,"stCommon","Журналистика",{"$f":"MATCH(D154,Отчет!$C:$C,0)","v":24}]
[828844229,8,"БЖУР133",475501916,"Чернышева","Евгения","Эдуардовна","1301219103","Психология (включая основы социальной психологии)",3,"Экзамен","2014/2015 учебный год 3 модуль",null,24,3,1,1,508316804,2098,null,"stCommon","Журналистика",{"$f":"MATCH(D155,Отчет!$C:$C,0)","v":42}]
[828844239,7,"БЖУР134",475502663,"Вагапова","Юлия","Рстамовна","1301219016","Психология (включая основы социальной психологии)",3,"Экзамен","2014/2015 учебный год 3 модуль",null,21,3,1,1,508316804,2098,null,"stCommon","Журналистика",{"$f":"MATCH(D156,Отчет!$C:$C,0)","v":43}]
[828844243,6,"БЖУР134",475502790,"Дергалов","Руслан","Сергеевич","1301219028","Психология (включая основы социальной психологии)",3,"Экзамен","2014/2015 учебный год 3 модуль",null,18,3,1,1,508316804,2098,null,"stCommon","Журналистика",{"$f":"MATCH(D157,Отчет!$C:$C,0)","v":62}]
[828844257,8,"БЖУР134",475502924,"Литвякова","Евдокия","Алексеевна","1301219050","Психология (включая основы социальной психологии)",3,"Экзамен","2014/2015 учебный год 3 модуль",null,24,3,1,1,508316804,2098,null,"stCommon","Журналистика",{"$f":"MATCH(D158,Отчет!$C:$C,0)","v":36}]
[828844264,6,"БЖУР134",475503059,"Маркова","Кристина","Алексеевна","1301219058","Психология (включая основы социальной психологии)",3,"Экзамен","2014/2015 учебный год 3 модуль",null,18,3,1,1,508316804,2098,null,"stCommon","Журналистика",{"$f":"MATCH(D159,Отчет!$C:$C,0)","v":76}]
[828844272,8,"БЖУР134",475503187,"Робул","Павел","Константинович","1301219079","Психология (включая основы социальной психологии)",3,"Экзамен","2014/2015 учебный год 3 модуль",null,24,3,1,1,508316804,2098,null,"stCommon","Журналистика",{"$f":"MATCH(D160,Отчет!$C:$C,0)","v":38}]
[828844214,7,"БЖУР133",475563521,"Осипова","Светлана","Витальевна","1311219070","Психология (включая основы социальной психологии)",3,"Экзамен","2014/2015 учебный год 3 модуль",null,21,3,1,0,508316804,2098,null,"stCommon","Журналистика",{"$f":"MATCH(D161,Отчет!$C:$C,0)","v":71}]
[828844231,8,"БЖУР133",475563678,"Чехонадских","Дарья","Александровна","1301219104","Психология (включая основы социальной психологии)",3,"Экзамен","2014/2015 учебный год 3 модуль",null,24,3,1,1,508316804,2098,null,"stCommon","Журналистика",{"$f":"MATCH(D162,Отчет!$C:$C,0)","v":81}]
[828844233,6,"248ж",475564380,"Алешкина","Александрина","Александровна","231210002","Психология (включая основы социальной психологии)",3,"Экзамен","2014/2015 учебный год 3 модуль",null,18,3,1,0,508316804,2098,null,"stCommon","Журналистика",{"$f":"MATCH(D163,Отчет!$C:$C,0)","v":100}]
[828844235,6,"БЖУР134",475564485,"Басиладзе","Мариами","Рамазиевна","1311219007","Психология (включая основы социальной психологии)",3,"Экзамен","2014/2015 учебный год 3 модуль",null,18,3,1,0,508316804,2098,null,"stCommon","Журналистика",{"$f":"MATCH(D164,Отчет!$C:$C,0)","v":80}]
[828844241,6,"БЖУР134",475564642,"Гимаева","Жанна","Эмзаровна","1311219021","Психология (включая основы социальной психологии)",3,"Экзамен","2014/2015 учебный год 3 модуль",null,18,3,1,0,508316804,2098,null,"stCommon","Журналистика",{"$f":"MATCH(D165,Отчет!$C:$C,0)","v":51}]
[828844245,5,"БЖУР134",475564787,"Досий","Зоряна","Владимировна","1301219109","Психология (включая основы социальной психологии)",3,"Экзамен","2014/2015 учебный год 3 модуль",null,15,3,1,1,508316804,2098,null,"stCommon","Журналистика",{"$f":"MATCH(D166,Отчет!$C:$C,0)","v":99}]
[828844247,9,"БЖУР134",475564933,"Животнёв","Владислав","Николаевич","1311219035","Психология (включая основы социальной психологии)",3,"Экзамен","2014/2015 учебный год 3 модуль",null,27,3,1,0,508316804,2098,null,"stCommon","Журналистика",{"$f":"MATCH(D167,Отчет!$C:$C,0)","v":75}]
[828844249,9,"БЖУР134",475565084,"Зражаева","Алина","Сергеевна","1311219036","Психология (включая основы социальной психологии)",3,"Экзамен","2014/2015 учебный год 3 модуль",null,27,3,1,0,508316804,2098,null,"stCommon","Журналистика",{"$f":"MATCH(D168,Отчет!$C:$C,0)","v":49}]
[828844259,7,"БЖУР134",475565231,"Макарова","Юлия","Валерьевна","1311219054","Психология (включая основы социальной психологии)",3,"Экзамен","2014/2015 учебный год 3 модуль",null,21,3,1,0,508316804,2098,null,"stCommon","Журналистика",{"$f":"MATCH(D169,Отчет!$C:$C,0)","v":70}]
[828844262,6,"БЖУР134",475565410,"Маленкова","Мария","Александровна","1301219055","Психология (включая основы социальной психологии)",3,"Экзамен","2014/2015 учебный год 3 модуль",null,18,3,1,1,508316804,2098,null,"stCommon","Журналистика",{"$f":"MATCH(D170,Отчет!$C:$C,0)","v":47}]
[828844266,7,"БЖУР134",475565551,"Нарушевич","Анастасия","Александровна","1311219065","Психология (включая основы социальной психологии)",3,"Экзамен","2014/2015 учебный год 3 модуль",null,21,3,1,0,508316804,2098,null,"stCommon","Журналистика",{"$f":"MATCH(D171,Отчет!$C:$C,0)","v":78}]
[828844292,6,"БЖУР134",475565869,"Стешенкова","Александра","Евгеньевна","1301219088","Психология (включая основы социальной психологии)",3,"Экзамен","2014/2015 учебный год 3 модуль",null,18,3,1,1,508316804,2098,null,"stCommon","Журналистика",{"$f":"MATCH(D172,Отчет!$C:$C,0)","v":79}]
[828844290,6,"БЖУР134",475503320,"Селиванова","Ксения","Александровна","1301219084","Психология (включая основы социальной психологии)",3,"Экзамен","2014/2015 учебный год 3 модуль",null,18,3,1,1,508316804,2098,null,"stCommon","Журналистика",{"$f":"MATCH(D173,Отчет!$C:$C,0)","v":83}]
[828844294,9,"БЖУР134",475503448,"Суханова","Юлия","Александровна","1301219090","Психология (включая основы социальной психологии)",3,"Экзамен","2014/2015 учебный год 3 модуль",null,27,3,1,1,508316804,2098,null,"stCommon","Журналистика",{"$f":"MATCH(D174,Отчет!$C:$C,0)","v":13}]
[828844221,8,"БЖУР133",481502112,"Сидоров","Всеволод","Дмитриевич","1311219085","Психология (включая основы социальной психологии)",3,"Экзамен","2014/2015 учебный год 3 модуль",null,24,3,1,0,508316804,2098,null,"stCommon","Журналистика",{"$f":"MATCH(D175,Отчет!$C:$C,0)","v":60}]
[828844225,7,"БЖУР133",481502259,"Титов","Игорь","Игоревич","1311219092","Психология (включая основы социальной психологии)",3,"Экзамен","2014/2015 учебный год 3 модуль",null,21,3,1,0,508316804,2098,null,"stCommon","Журналистика",{"$f":"MATCH(D176,Отчет!$C:$C,0)","v":58}]
[828844251,9,"БЖУР134",481504306,"Кокорева","Мария","Викторовна","1311219040","Психология (включая основы социальной психологии)",3,"Экзамен","2014/2015 учебный год 3 модуль",null,27,3,1,0,508316804,2098,null,"stCommon","Журналистика",{"$f":"MATCH(D177,Отчет!$C:$C,0)","v":18}]
[828844253,9,"БЖУР134",481504458,"Королева","Ольга","Викторовна","1311219044","Психология (включая основы социальной психологии)",3,"Экзамен","2014/2015 учебный год 3 модуль",null,27,3,1,0,508316804,2098,null,"stCommon","Журналистика",{"$f":"MATCH(D178,Отчет!$C:$C,0)","v":14}]
[828844255,9,"БЖУР134",481504593,"Круглова","Ирина","Викторовна","1311219047","Психология (включая основы социальной психологии)",3,"Экзамен","2014/2015 учебный год 3 модуль",null,27,3,1,0,508316804,2098,null,"stCommon","Журналистика",{"$f":"MATCH(D179,Отчет!$C:$C,0)","v":32}]
[828844268,7,"БЖУР134",481504754,"Петренко","Валерия","Денисовна","1311219073","Психология (включая основы социальной психологии)",3,"Экзамен","2014/2015 учебный год 3 модуль",null,21,3,1,0,508316804,2098,null,"stCommon","Журналистика",{"$f":"MATCH(D180,Отчет!$C:$C,0)","v":88}]
[828844274,6,"БЖУР134",481504898,"Русских","Арина","Сергеевна","1311219082","Психология (включая основы социальной психологии)",3,"Экзамен","2014/2015 учебный год 3 модуль",null,18,3,1,0,508316804,2098,null,"stCommon","Журналистика",{"$f":"MATCH(D181,Отчет!$C:$C,0)","v":45}]
[828844278,7,"БЖУР131",475557752,"Аветисян","Виолетта","Александровна","1311219001","Психология (включая основы социальной психологии)",3,"Экзамен","2014/2015 учебный год 3 модуль",null,21,3,1,0,508316804,2098,null,"stCommon","Журналистика",{"$f":"MATCH(D182,Отчет!$C:$C,0)","v":74}]
[828844284,5,"БЖУР131",475557886,"Белобеева","Ангелина","Анатольевна","1311219008","Психология (включая основы социальной психологии)",3,"Экзамен","2014/2015 учебный год 3 модуль",null,15,3,1,0,508316804,2098,null,"stCommon","Журналистика",{"$f":"MATCH(D183,Отчет!$C:$C,0)","v":107}]
[828844080,5,"БЖУР131",475558344,"Маммаева","Фарида","Сулеймановна","1301219057","Психология (включая основы социальной психологии)",3,"Экзамен","2014/2015 учебный год 3 модуль",null,15,3,1,1,508316804,2098,null,"stCommon","Журналистика",{"$f":"MATCH(D184,Отчет!$C:$C,0)","v":101}]
[828844098,6,"БЖУР131",475558722,"Пржевальская","Анастасия","Всеволодовна","1301219076","Психология (включая основы социальной психологии)",3,"Экзамен","2014/2015 учебный год 3 модуль",null,18,3,1,1,508316804,2098,null,"stCommon","Журналистика",{"$f":"MATCH(D185,Отчет!$C:$C,0)","v":55}]
[828844276,9,"БЖУР134",481505031,"Савина","София","Леонидовна","1311219083","Психология (включая основы социальной психологии)",3,"Экзамен","2014/2015 учебный год 3 модуль",null,27,3,1,0,508316804,2098,null,"stCommon","Журналистика",{"$f":"MATCH(D186,Отчет!$C:$C,0)","v":19}]
[828844298,7,"БЖУР134",481505154,"Швецова","Екатерина","Константиновна","1311219105","Психология (включая основы социальной психологии)",3,"Экзамен","2014/2015 учебный год 3 модуль",null,21,3,1,0,508316804,2098,null,"stCommon","Журналистика",{"$f":"MATCH(D187,Отчет!$C:$C,0)","v":86}]
[828844112,7,"БЖУР132",475560308,"Бидзионашвили","Кетеван","-","1301219111","Психология (включая основы социальной психологии)",3,"Экзамен","2014/2015 учебный год 3 модуль",null,21,3,1,1,508316804,2098,null,"stCommon","Журналистика",{"$f":"MATCH(D188,Отчет!$C:$C,0)","v":90}]
[828844124,7,"БЖУР132",475560500,"Буримова","Александра","Сергеевна","1311219014","Психология (включая основы социальной психологии)",3,"Экзамен","2014/2015 учебный год 3 модуль",null,21,3,1,0,508316804,2098,null,"stCommon","Журналистика",{"$f":"MATCH(D189,Отчет!$C:$C,0)","v":96}]
[828844300,7,"БЖУР132",475560670,"Бурцева","Анастасия","Юрьевна","1311219015","Психология (включая основы социальной психологии)",3,"Экзамен","2014/2015 учебный год 3 модуль",null,21,3,1,0,508316804,2098,null,"stCommon","Журналистика",{"$f":"MATCH(D190,Отчет!$C:$C,0)","v":73}]
[828844127,6,"БЖУР132",475560846,"Винокур","Дана","Витальевна","1311219018","Психология (включая основы социальной психологии)",3,"Экзамен","2014/2015 учебный год 3 модуль",null,18,3,1,0,508316804,2098,null,"stCommon","Журналистика",{"$f":"MATCH(D191,Отчет!$C:$C,0)","v":85}]
[828844130,9,"БЖУР132",475561061,"Вишнякова","Екатерина","Владимировна","1311219019","Психология (включая основы социальной психологии)",3,"Экзамен","2014/2015 учебный год 3 модуль",null,27,3,1,0,508316804,2098,null,"stCommon","Журналистика",{"$f":"MATCH(D192,Отчет!$C:$C,0)","v":77}]
[828844132,9,"БЖУР132",475561255,"Волчек","Никита","Алексеевич","1311219112","Психология (включая основы социальной психологии)",3,"Экзамен","2014/2015 учебный год 3 модуль",null,27,3,1,0,508316804,2098,null,"stCommon","Журналистика",{"$f":"MATCH(D193,Отчет!$C:$C,0)","v":97}]
[828844140,6,"БЖУР132",475561427,"Гранкова","Ксения","Сергеевна","1311219027","Психология (включая основы социальной психологии)",3,"Экзамен","2014/2015 учебный год 3 модуль",null,18,3,1,0,508316804,2098,null,"stCommon","Журналистика",{"$f":"MATCH(D194,Отчет!$C:$C,0)","v":102}]
[828844177,8,"БЖУР132",475561559,"Шевелёва","Кристина","Дмитриевна","1311219106","Психология (включая основы социальной психологии)",3,"Экзамен","2014/2015 учебный год 3 модуль",null,24,3,1,0,508316804,2098,null,"stCommon","Журналистика",{"$f":"MATCH(D195,Отчет!$C:$C,0)","v":87}]
[828844181,8,"БЖУР133",475562216,"Аммосова","Людмила","Михайловна","1311219002","Психология (включая основы социальной психологии)",3,"Экзамен","2014/2015 учебный год 3 модуль",null,24,3,1,0,508316804,2098,null,"stCommon","Журналистика",{"$f":"MATCH(D196,Отчет!$C:$C,0)","v":39}]
[828844186,7,"БЖУР133",475562419,"Афян","Мария","Геннадьевна","1311219006","Психология (включая основы социальной психологии)",3,"Экзамен","2014/2015 учебный год 3 модуль",null,21,3,1,0,508316804,2098,null,"stCommon","Журналистика",{"$f":"MATCH(D197,Отчет!$C:$C,0)","v":69}]
[828844190,10,"БЖУР133",475562579,"Герасимова","Мария","Александровна","1311219020","Психология (включая основы социальной психологии)",3,"Экзамен","2014/2015 учебный год 3 модуль",null,30,3,1,0,508316804,2098,null,"stCommon","Журналистика",{"$f":"MATCH(D198,Отчет!$C:$C,0)","v":28}]
[828844198,4,"БЖУР133",475562897,"Кистерев","Алексей","Валерьевич","12701089","Психология (включая основы социальной психологии)",3,"Экзамен","2014/2015 учебный год 3 модуль",null,12,3,1,0,508316804,2098,null,"stCommon","Журналистика",{"$f":"MATCH(D199,Отчет!$C:$C,0)","v":105}]
[828844206,6,"БЖУР133",475563046,"Люля","Арина","Артемовна","1311219053","Психология (включая основы социальной психологии)",3,"Экзамен","2014/2015 учебный год 3 модуль",null,18,3,1,0,508316804,2098,null,"stCommon","Журналистика",{"$f":"MATCH(D200,Отчет!$C:$C,0)","v":91}]
[828844208,8,"БЖУР133",475563206,"Малышева","Ирина","Александровна","1301219056","Психология (включая основы социальной психологии)",3,"Экзамен","2014/2015 учебный год 3 модуль",null,24,3,1,1,508316804,2098,null,"stCommon","Журналистика",{"$f":"MATCH(D201,Отчет!$C:$C,0)","v":66}]
[623059328,8,"БЖУР134",481504458,"Королева","Ольга","Викторовна","1311219044","Создание Интернет-проектов. Уровень 2. Язык CSS",0,"Экзамен","2014/2015 учебный год 3 модуль",null,0,0,1,0,null,5028,null,"stFacultative","Журналистика",{"$f":"MATCH(D202,Отчет!$C:$C,0)","v":14}]
[722745375,9,"БЖУР134",481504458,"Королева","Ольга","Викторовна","1311219044","Создание Интернет-проектов. Уровень 3. Основы языка программирования JavaScript",0,"Экзамен","2014/2015 учебный год 3 модуль",null,0,0,1,0,null,5028,null,"stFacultative","Журналистика",{"$f":"MATCH(D203,Отчет!$C:$C,0)","v":14}]
[1020247839,10,"БЖУР133",475501916,"Чернышева","Евгения","Эдуардовна","1301219103","«Мягкая сила» и «управляемый хаос» - инструменты современной мировой политики",0,"Экзамен","2014/2015 учебный год 4 модуль",null,0,0,1,1,null,5028,null,"stFacultative","Журналистика",{"$f":"MATCH(D204,Отчет!$C:$C,0)","v":42}]
[796966890,4,"БЖУР131",796834861,"Тесфайе","Анна-Мария","Синтайе","10701175","Визуальная информация и визуализация данных",4.5,"Экзамен","2014/2015 учебный год 4 модуль",null,18,4.5,1,0,508316804,2098,"ikPassed","stChoosen","Журналистика",{"$f":"MATCH(D205,Отчет!$C:$C,0)","v":109}]
[988582828,9,"БЖУР131",481497225,"Морозова","Николь","Дмитриевна","1311219062","Европейская музыка от античности до XXI века: исторические этюды",0,"Экзамен","2014/2015 учебный год 4 модуль",null,0,0,1,0,508316804,2098,null,"stFacultative","Журналистика",{"$f":"MATCH(D206,Отчет!$C:$C,0)","v":22}]
[988582841,7,"БЖУР132",481499520,"Королева","Виолетта","Николаевна","1311219043","Европейская музыка от античности до XXI века: исторические этюды",0,"Экзамен","2014/2015 учебный год 4 модуль",null,0,0,1,0,508316804,2098,null,"stFacultative","Журналистика",{"$f":"MATCH(D207,Отчет!$C:$C,0)","v":82}]
[988582849,9,"БЖУР133",475501776,"Чернова","Кристина","Валериевна","1301219102","Европейская музыка от античности до XXI века: исторические этюды",0,"Экзамен","2014/2015 учебный год 4 модуль",null,0,0,1,1,508316804,2098,null,"stFacultative","Журналистика",{"$f":"MATCH(D208,Отчет!$C:$C,0)","v":24}]
[988582853,7,"БЖУР133",481502259,"Титов","Игорь","Игоревич","1311219092","Европейская музыка от античности до XXI века: исторические этюды",0,"Экзамен","2014/2015 учебный год 4 модуль",null,0,0,1,0,508316804,2098,null,"stFacultative","Журналистика",{"$f":"MATCH(D209,Отчет!$C:$C,0)","v":58}]
[988582857,9,"БЖУР133",475563678,"Чехонадских","Дарья","Александровна","1301219104","Европейская музыка от античности до XXI века: исторические этюды",0,"Экзамен","2014/2015 учебный год 4 модуль",null,0,0,1,1,508316804,2098,null,"stFacultative","Журналистика",{"$f":"MATCH(D210,Отчет!$C:$C,0)","v":81}]
[988582845,8,"БЖУР132",481500835,"Цегалко","Яна","Николаевна","1311219101","Европейская музыка от античности до XXI века: исторические этюды",0,"Экзамен","2014/2015 учебный год 4 модуль",null,0,0,1,0,508316804,2098,null,"stFacultative","Журналистика",{"$f":"MATCH(D211,Отчет!$C:$C,0)","v":61}]
[720415613,10,"БЖУР131",475558722,"Пржевальская","Анастасия","Всеволодовна","1301219076","Земное и внеземное: космос в науке, мифологии, искусстве и политике",0,"Экзамен","2014/2015 учебный год 4 модуль",null,0,0,1,1,null,5028,null,"stFacultative","Журналистика",{"$f":"MATCH(D212,Отчет!$C:$C,0)","v":55}]
[539757863,7,"БЖУР131",475558722,"Пржевальская","Анастасия","Всеволодовна","1301219076","Иностранный язык (немецкий)",0,"Экзамен","2014/2015 учебный год 4 модуль",null,0,0,1,1,508316804,2098,null,"stFacultative","Журналистика",{"$f":"MATCH(D213,Отчет!$C:$C,0)","v":55}]
[535062434,10,"БЖУР134",475502790,"Дергалов","Руслан","Сергеевич","1301219028","Иностранный язык (немецкий)",0,"Экзамен","2014/2015 учебный год 4 модуль",null,0,0,1,1,508316804,2098,null,"stFacultative","Журналистика",{"$f":"MATCH(D214,Отчет!$C:$C,0)","v":62}]
[535058762,9,"БЖУР131",481497225,"Морозова","Николь","Дмитриевна","1311219062","Иностранный язык (немецкий)",0,"Экзамен","2014/2015 учебный год 4 модуль",null,0,0,1,0,508316804,2098,null,"stFacultative","Журналистика",{"$f":"MATCH(D215,Отчет!$C:$C,0)","v":22}]
[535062959,7,"БЖУР132",481499652,"Королькова","Елизавета","Дмитриевна","1311219045","Иностранный язык (немецкий)",0,"Экзамен","2014/2015 учебный год 4 модуль",null,0,0,1,0,508316804,2098,null,"stFacultative","Журналистика",{"$f":"MATCH(D216,Отчет!$C:$C,0)","v":16}]
[535062963,5,"БЖУР132",481500235,"Немченко","Илья","Михайлович","1311219066","Иностранный язык (немецкий)",0,"Экзамен","2014/2015 учебный год 4 модуль",null,0,0,1,0,508316804,2098,null,"stFacultative","Журналистика",{"$f":"MATCH(D217,Отчет!$C:$C,0)","v":103}]
[535060245,10,"БЖУР132",481500535,"Правдюк","Анна","Сергеевна","1311219075","Иностранный язык (немецкий)",0,"Экзамен","2014/2015 учебный год 4 модуль",null,0,0,1,0,508316804,2098,null,"stFacultative","Журналистика",{"$f":"MATCH(D218,Отчет!$C:$C,0)","v":12}]
[535058748,6,"БЖУР131",475496297,"Голубева","Анастасия","Павловна","1301219024","Иностранный язык (немецкий)",0,"Экзамен","2014/2015 учебный год 4 модуль",null,0,0,1,1,508316804,2098,null,"stFacultative","Журналистика",{"$f":"MATCH(D219,Отчет!$C:$C,0)","v":68}]
[535058752,6,"БЖУР131",475497099,"Дымчишина","Александра","Юрьевна","1301219032","Иностранный язык (немецкий)",0,"Экзамен","2014/2015 учебный год 4 модуль",null,0,0,1,1,508316804,2098,null,"stFacultative","Журналистика",{"$f":"MATCH(D220,Отчет!$C:$C,0)","v":65}]
[535058758,null,"БЖУР131",475497229,"Жвик","Анастасия","Николаевна","1301219110","Иностранный язык (немецкий)",0,"Экзамен","2014/2015 учебный год 4 модуль",1,0,0,null,1,508316804,2098,null,"stFacultative","Журналистика",{"$f":"MATCH(D221,Отчет!$C:$C,0)","v":110}]
[535062953,9,"БЖУР131",475497479,"Николаева","Мария","Дмитриевна","1301219068","Иностранный язык (немецкий)",0,"Экзамен","2014/2015 учебный год 4 модуль",null,0,0,1,1,508316804,2098,null,"stFacultative","Журналистика",{"$f":"MATCH(D222,Отчет!$C:$C,0)","v":29}]
[535058766,6,"БЖУР131",475497611,"Ставрианиди","Анна","Георгиевна","1301219087","Иностранный язык (немецкий)",0,"Экзамен","2014/2015 учебный год 4 модуль",null,0,0,1,1,508316804,2098,null,"stFacultative","Журналистика",{"$f":"MATCH(D223,Отчет!$C:$C,0)","v":50}]
[535060241,9,"БЖУР132",475498195,"Булатова","Катерина","Николаевна","1301219012","Иностранный язык (немецкий)",0,"Экзамен","2014/2015 учебный год 4 модуль",null,0,0,1,1,508316804,2098,null,"stFacultative","Журналистика",{"$f":"MATCH(D224,Отчет!$C:$C,0)","v":34}]
[535061443,9,"БЖУР133",475563206,"Малышева","Ирина","Александровна","1301219056","Иностранный язык (немецкий)",0,"Экзамен","2014/2015 учебный год 4 модуль",null,0,0,1,1,508316804,2098,null,"stFacultative","Журналистика",{"$f":"MATCH(D225,Отчет!$C:$C,0)","v":66}]
[535060257,9,"БЖУР132",475498778,"Рудакова","Юлия","Владиславовна","1301219081","Иностранный язык (немецкий)",0,"Экзамен","2014/2015 учебный год 4 модуль",null,0,0,1,1,508316804,2098,null,"stFacultative","Журналистика",{"$f":"MATCH(D226,Отчет!$C:$C,0)","v":21}]
[535060253,9,"БЖУР132",475498901,"Скворцова","Дарья","Андреевна","1301219086","Иностранный язык (немецкий)",0,"Экзамен","2014/2015 учебный год 4 модуль",null,0,0,1,1,508316804,2098,null,"stFacultative","Журналистика",{"$f":"MATCH(D227,Отчет!$C:$C,0)","v":17}]
[535061421,9,"БЖУР133",475500480,"Вильшанская","Елена","Андреевна","1301219017","Иностранный язык (немецкий)",0,"Экзамен","2014/2015 учебный год 4 модуль",null,0,0,1,1,508316804,2098,null,"stFacultative","Журналистика",{"$f":"MATCH(D228,Отчет!$C:$C,0)","v":31}]
[535062452,7,"БЖУР134",475502924,"Литвякова","Евдокия","Алексеевна","1301219050","Иностранный язык (немецкий)",0,"Экзамен","2014/2015 учебный год 4 модуль",null,0,0,1,1,508316804,2098,null,"stFacultative","Журналистика",{"$f":"MATCH(D229,Отчет!$C:$C,0)","v":36}]
[535062460,9,"БЖУР134",481505031,"Савина","София","Леонидовна","1311219083","Иностранный язык (немецкий)",0,"Экзамен","2014/2015 учебный год 4 модуль",null,0,0,1,0,508316804,2098,null,"stFacultative","Журналистика",{"$f":"MATCH(D230,Отчет!$C:$C,0)","v":19}]
[605903800,5,"БЖУР132",475560670,"Бурцева","Анастасия","Юрьевна","1311219015","Иностранный язык (немецкий)",0,"Экзамен","2014/2015 учебный год 4 модуль",null,0,0,1,0,508316804,2098,null,"stFacultative","Журналистика",{"$f":"MATCH(D231,Отчет!$C:$C,0)","v":73}]
[535061439,8,"БЖУР133",481501975,"Молоствова","Анна","Александровна","1311219061","Иностранный язык (немецкий)",0,"Экзамен","2014/2015 учебный год 4 модуль",null,0,0,1,0,508316804,2098,null,"stFacultative","Журналистика",{"$f":"MATCH(D232,Отчет!$C:$C,0)","v":35}]
[535061447,7,"БЖУР133",481502112,"Сидоров","Всеволод","Дмитриевич","1311219085","Иностранный язык (немецкий)",0,"Экзамен","2014/2015 учебный год 4 модуль",null,0,0,1,0,508316804,2098,null,"stFacultative","Журналистика",{"$f":"MATCH(D233,Отчет!$C:$C,0)","v":60}]
[535062446,10,"БЖУР134",481504458,"Королева","Ольга","Викторовна","1311219044","Иностранный язык (немецкий)",0,"Экзамен","2014/2015 учебный год 4 модуль",null,0,0,1,0,508316804,2098,null,"stFacultative","Журналистика",{"$f":"MATCH(D234,Отчет!$C:$C,0)","v":14}]
[535062470,9,"БЖУР134",475503448,"Суханова","Юлия","Александровна","1301219090","Иностранный язык (немецкий)",0,"Экзамен","2014/2015 учебный год 4 модуль",null,0,0,1,1,508316804,2098,null,"stFacultative","Журналистика",{"$f":"MATCH(D235,Отчет!$C:$C,0)","v":13}]
[535062474,9,"БЖУР134",475503575,"Таиров","Ринат","Маратович","1301219091","Иностранный язык (немецкий)",0,"Экзамен","2014/2015 учебный год 4 модуль",null,0,0,1,1,508316804,2098,null,"stFacultative","Журналистика",{"$f":"MATCH(D236,Отчет!$C:$C,0)","v":53}]
[865080175,8,"БЖУР131",615125946,"Халилова","Арзу","Идаятовна","131232230","Иностранный язык (немецкий)",0,"Экзамен","2014/2015 учебный год 4 модуль",null,0,0,1,0,508316804,2098,null,"stFacultative","Журналистика",{"$f":"MATCH(D237,Отчет!$C:$C,0)","v":95}]
[535061461,8,"БЖУР133",475563678,"Чехонадских","Дарья","Александровна","1301219104","Иностранный язык (немецкий)",0,"Экзамен","2014/2015 учебный год 4 модуль",null,0,0,1,1,508316804,2098,null,"stFacultative","Журналистика",{"$f":"MATCH(D238,Отчет!$C:$C,0)","v":81}]
[535062438,8,"БЖУР134",475565084,"Зражаева","Алина","Сергеевна","1311219036","Иностранный язык (немецкий)",0,"Экзамен","2014/2015 учебный год 4 модуль",null,0,0,1,0,508316804,2098,null,"stFacultative","Журналистика",{"$f":"MATCH(D239,Отчет!$C:$C,0)","v":49}]
[535061425,9,"БЖУР133",475500772,"Дмитриева","Екатерина","Александровна","1301219030","Иностранный язык (немецкий)",0,"Экзамен","2014/2015 учебный год 4 модуль",null,0,0,1,1,508316804,2098,null,"stFacultative","Журналистика",{"$f":"MATCH(D240,Отчет!$C:$C,0)","v":40}]
[535061433,6,"БЖУР133",475501085,"Кокшарова","Александра","Игоревна","1301219041","Иностранный язык (немецкий)",0,"Экзамен","2014/2015 учебный год 4 модуль",null,0,0,1,1,508316804,2098,null,"stFacultative","Журналистика",{"$f":"MATCH(D241,Отчет!$C:$C,0)","v":48}]
[535061451,8,"БЖУР133",475501776,"Чернова","Кристина","Валериевна","1301219102","Иностранный язык (немецкий)",0,"Экзамен","2014/2015 учебный год 4 модуль",null,0,0,1,1,508316804,2098,null,"stFacultative","Журналистика",{"$f":"MATCH(D242,Отчет!$C:$C,0)","v":24}]
[535061455,8,"БЖУР133",475501916,"Чернышева","Евгения","Эдуардовна","1301219103","Иностранный язык (немецкий)",0,"Экзамен","2014/2015 учебный год 4 модуль",null,0,0,1,1,508316804,2098,null,"stFacultative","Журналистика",{"$f":"MATCH(D243,Отчет!$C:$C,0)","v":42}]
[535062430,8,"БЖУР134",475502663,"Вагапова","Юлия","Рстамовна","1301219016","Иностранный язык (немецкий)",0,"Экзамен","2014/2015 учебный год 4 модуль",null,0,0,1,1,508316804,2098,null,"stFacultative","Журналистика",{"$f":"MATCH(D244,Отчет!$C:$C,0)","v":43}]
[535061429,null,"БЖУР133",475562897,"Кистерев","Алексей","Валерьевич","12701089","Иностранный язык (немецкий)",5,"Экзамен","2014/2015 учебный год 4 модуль",1,0,0,null,0,508316804,2098,"ikPlanned","stFacultative","Журналистика",{"$f":"MATCH(D245,Отчет!$C:$C,0)","v":105}]
[535061417,null,"БЖУР133",475562419,"Афян","Мария","Геннадьевна","1311219006","Иностранный язык (немецкий)",5,"Экзамен","2014/2015 учебный год 4 модуль",0,0,0,null,0,508316804,2098,"ikPlanned","stFacultative","Журналистика",{"$f":"MATCH(D246,Отчет!$C:$C,0)","v":69}]
[533871509,9,"БЖУР133",475562216,"Аммосова","Людмила","Михайловна","1311219002","Иностранный язык (французский)",0,"Экзамен","2014/2015 учебный год 4 модуль",null,0,0,1,0,508316804,2098,null,"stFacultative","Журналистика",{"$f":"MATCH(D247,Отчет!$C:$C,0)","v":39}]
[533869462,9,"БЖУР131",481497484,"Нещадимова","Дарья","Викторовна","1311219067","Иностранный язык (французский)",0,"Экзамен","2014/2015 учебный год 4 модуль",null,0,0,1,0,508316804,2098,null,"stFacultative","Журналистика",{"$f":"MATCH(D248,Отчет!$C:$C,0)","v":54}]
[535051134,9,"БЖУР132",481499520,"Королева","Виолетта","Николаевна","1311219043","Иностранный язык (французский)",0,"Экзамен","2014/2015 учебный год 4 модуль",null,0,0,1,0,508316804,2098,null,"stFacultative","Журналистика",{"$f":"MATCH(D249,Отчет!$C:$C,0)","v":82}]
[533871237,9,"БЖУР132",481500039,"Лебедева","Ксения","Кирилловна","1311219048","Иностранный язык (французский)",0,"Экзамен","2014/2015 учебный год 4 модуль",null,0,0,1,0,508316804,2098,null,"stFacultative","Журналистика",{"$f":"MATCH(D250,Отчет!$C:$C,0)","v":15}]
[533871229,9,"БЖУР132",481500688,"Ревоненко","Анна","Николаевна","1311219078","Иностранный язык (французский)",0,"Экзамен","2014/2015 учебный год 4 модуль",null,0,0,1,0,508316804,2098,null,"stFacultative","Журналистика",{"$f":"MATCH(D251,Отчет!$C:$C,0)","v":23}]
[669754169,7,"БЖУР131",475497611,"Ставрианиди","Анна","Георгиевна","1301219087","Иностранный язык (французский)",0,"Экзамен","2014/2015 учебный год 4 модуль",null,0,0,1,1,508316804,2098,null,"stFacultative","Журналистика",{"$f":"MATCH(D252,Отчет!$C:$C,0)","v":50}]
[533869454,9,"БЖУР131",475497743,"Тищенко","Виктория","Андреевна","1301219093","Иностранный язык (французский)",0,"Экзамен","2014/2015 учебный год 4 модуль",null,0,0,1,1,508316804,2098,null,"stFacultative","Журналистика",{"$f":"MATCH(D253,Отчет!$C:$C,0)","v":52}]
[533871211,6,"БЖУР132",475498343,"Дмитриева","Ольга","Олеговна","1301219031","Иностранный язык (французский)",0,"Экзамен","2014/2015 учебный год 4 модуль",null,0,0,1,1,508316804,2098,null,"stFacultative","Журналистика",{"$f":"MATCH(D254,Отчет!$C:$C,0)","v":59}]
[533871225,10,"БЖУР132",475498638,"Огурцова","Евгения","Алексеевна","1301219069","Иностранный язык (французский)",0,"Экзамен","2014/2015 учебный год 4 модуль",null,0,0,1,1,508316804,2098,null,"stFacultative","Журналистика",{"$f":"MATCH(D255,Отчет!$C:$C,0)","v":37}]
[533872752,8,"БЖУР131",481496658,"Афанасьева","Татьяна","Валерьевна","1311219005","Иностранный язык (французский)",0,"Экзамен","2014/2015 учебный год 4 модуль",null,0,0,1,0,508316804,2098,null,"stFacultative","Журналистика",{"$f":"MATCH(D256,Отчет!$C:$C,0)","v":33}]
[899390892,9,"БЖУР133",475563331,"Мусина","Юлия","Маратовна","1301219064","Иностранный язык (французский)",0,"Экзамен","2014/2015 учебный год 4 модуль",null,0,0,1,1,508316804,2098,null,"stFacultative","Журналистика",{"$f":"MATCH(D257,Отчет!$C:$C,0)","v":26}]
[615031703,8,"БЖУР132",475499056,"Федорова","Анастасия","Александровна","1301219096","Иностранный язык (французский)",0,"Экзамен","2014/2015 учебный год 4 модуль",null,0,0,1,1,508316804,2098,null,"stFacultative","Журналистика",{"$f":"MATCH(D258,Отчет!$C:$C,0)","v":30}]
[533871233,9,"БЖУР132",475499320,"Якубович","Анастасия","Александровна","1301219108","Иностранный язык (французский)",0,"Экзамен","2014/2015 учебный год 4 модуль",null,0,0,1,1,508316804,2098,null,"stFacultative","Журналистика",{"$f":"MATCH(D259,Отчет!$C:$C,0)","v":63}]
[533871513,8,"БЖУР133",475500480,"Вильшанская","Елена","Андреевна","1301219017","Иностранный язык (французский)",0,"Экзамен","2014/2015 учебный год 4 модуль",null,0,0,1,1,508316804,2098,null,"stFacultative","Журналистика",{"$f":"MATCH(D260,Отчет!$C:$C,0)","v":31}]
[533869450,null,"БЖУР131",475558344,"Маммаева","Фарида","Сулеймановна","1301219057","Иностранный язык (французский)",0,"Экзамен","2014/2015 учебный год 4 модуль",0,0,0,null,1,508316804,2098,null,"stFacultative","Журналистика",{"$f":"MATCH(D261,Отчет!$C:$C,0)","v":101}]
[533872740,9,"БЖУР134",481505031,"Савина","София","Леонидовна","1311219083","Иностранный язык (французский)",0,"Экзамен","2014/2015 учебный год 4 модуль",null,0,0,1,0,508316804,2098,null,"stFacultative","Журналистика",{"$f":"MATCH(D262,Отчет!$C:$C,0)","v":19}]
[535051140,4,"БЖУР132",475560500,"Буримова","Александра","Сергеевна","1311219014","Иностранный язык (французский)",0,"Экзамен","2014/2015 учебный год 4 модуль",null,0,0,1,0,508316804,2098,null,"stFacultative","Журналистика",{"$f":"MATCH(D263,Отчет!$C:$C,0)","v":96}]
[932833477,7,"БЖУР132",475560846,"Винокур","Дана","Витальевна","1311219018","Иностранный язык (французский)",0,"Экзамен","2014/2015 учебный год 4 модуль",null,0,0,1,0,508316804,2098,null,"stFacultative","Журналистика",{"$f":"MATCH(D264,Отчет!$C:$C,0)","v":85}]
[533871207,5,"БЖУР132",475561061,"Вишнякова","Екатерина","Владимировна","1311219019","Иностранный язык (французский)",0,"Экзамен","2014/2015 учебный год 4 модуль",null,0,0,1,0,508316804,2098,null,"stFacultative","Журналистика",{"$f":"MATCH(D265,Отчет!$C:$C,0)","v":77}]
[565749612,7,"БЖУР133",481501546,"Атасунцев","Александр","Григорьевич","1311219004","Иностранный язык (французский)",0,"Экзамен","2014/2015 учебный год 4 модуль",null,0,0,1,0,508316804,2098,null,"stFacultative","Журналистика",{"$f":"MATCH(D266,Отчет!$C:$C,0)","v":67}]
[533871533,8,"БЖУР133",481502259,"Титов","Игорь","Игоревич","1311219092","Иностранный язык (французский)",0,"Экзамен","2014/2015 учебный год 4 модуль",null,0,0,1,0,508316804,2098,null,"stFacultative","Журналистика",{"$f":"MATCH(D267,Отчет!$C:$C,0)","v":58}]
[533861002,6,"БЖУР131",475557752,"Аветисян","Виолетта","Александровна","1311219001","Иностранный язык (французский)",0,"Экзамен","2014/2015 учебный год 4 модуль",null,0,0,1,0,508316804,2098,null,"stFacultative","Журналистика",{"$f":"MATCH(D268,Отчет!$C:$C,0)","v":74}]
[867468621,9,"БЖУР131",752764364,"Масалова","Анна","Владиславовна","131232133","Иностранный язык (французский)",0,"Экзамен","2014/2015 учебный год 4 модуль",null,0,0,1,0,508316804,2098,null,"stFacultative","Журналистика",{"$f":"MATCH(D269,Отчет!$C:$C,0)","v":92}]
[533871521,10,"БЖУР133",475563521,"Осипова","Светлана","Витальевна","1311219070","Иностранный язык (французский)",0,"Экзамен","2014/2015 учебный год 4 модуль",null,0,0,1,0,508316804,2098,null,"stFacultative","Журналистика",{"$f":"MATCH(D270,Отчет!$C:$C,0)","v":71}]
[533872724,null,"БЖУР134",475565410,"Маленкова","Мария","Александровна","1301219055","Иностранный язык (французский)",0,"Экзамен","2014/2015 учебный год 4 модуль",0,0,0,null,1,508316804,2098,null,"stFacultative","Журналистика",{"$f":"MATCH(D271,Отчет!$C:$C,0)","v":47}]
[899380897,10,"БЖУР133",475501513,"Рублева","Милена","Валерьевна","1301219080","Иностранный язык (французский)",0,"Экзамен","2014/2015 учебный год 4 модуль",null,0,0,1,1,508316804,2098,null,"stFacultative","Журналистика",{"$f":"MATCH(D272,Отчет!$C:$C,0)","v":25}]
[533871529,9,"БЖУР133",475501641,"Стрельцова","Наталья","Сергеевна","1301219089","Иностранный язык (французский)",0,"Экзамен","2014/2015 учебный год 4 модуль",null,0,0,1,1,508316804,2098,null,"stFacultative","Журналистика",{"$f":"MATCH(D273,Отчет!$C:$C,0)","v":64}]
[533871537,9,"БЖУР133",475501776,"Чернова","Кристина","Валериевна","1301219102","Иностранный язык (французский)",0,"Экзамен","2014/2015 учебный год 4 модуль",null,0,0,1,1,508316804,2098,null,"stFacultative","Журналистика",{"$f":"MATCH(D274,Отчет!$C:$C,0)","v":24}]
[533872728,5,"БЖУР134",475503059,"Маркова","Кристина","Алексеевна","1301219058","Иностранный язык (французский)",0,"Экзамен","2014/2015 учебный год 4 модуль",null,0,0,1,1,508316804,2098,null,"stFacultative","Журналистика",{"$f":"MATCH(D275,Отчет!$C:$C,0)","v":76}]
[533869442,5,"БЖУР131",475557886,"Белобеева","Ангелина","Анатольевна","1311219008","Иностранный язык (французский)",5,"Экзамен","2014/2015 учебный год 4 модуль",null,0,0,1,0,508316804,2098,"ikPlanned","stFacultative","Журналистика",{"$f":"MATCH(D276,Отчет!$C:$C,0)","v":107}]
[533872716,6,"БЖУР134",475564787,"Досий","Зоряна","Владимировна","1301219109","Иностранный язык (французский)",5,"Экзамен","2014/2015 учебный год 4 модуль",null,0,0,1,1,508316804,2098,"ikPlanned","stFacultative","Журналистика",{"$f":"MATCH(D277,Отчет!$C:$C,0)","v":99}]
[533872712,5,"БЖУР134",475564485,"Басиладзе","Мариами","Рамазиевна","1311219007","Иностранный язык (французский)",5,"Экзамен","2014/2015 учебный год 4 модуль",null,0,0,1,0,508316804,2098,"ikPlanned","stFacultative","Журналистика",{"$f":"MATCH(D278,Отчет!$C:$C,0)","v":80}]
[617795968,7,"БЖУР131",615125946,"Халилова","Арзу","Идаятовна","131232230","Иностранный язык (французский)",6,"Экзамен","2014/2015 учебный год 4 модуль",null,0,0,1,0,508316804,2098,"ikPassed","stFacultative","Журналистика",{"$f":"MATCH(D279,Отчет!$C:$C,0)","v":95}]
[525598664,9,"БЖУР131",481497225,"Морозова","Николь","Дмитриевна","1311219062","Исследование медиа-процессов",1.67,"Экзамен","2014/2015 учебный год 4 модуль",null,15.030000000000001,1.67,1,0,508316804,2098,null,"stCommon","Журналистика",{"$f":"MATCH(D280,Отчет!$C:$C,0)","v":22}]
[525598730,8,"БЖУР131",481497357,"Муратова","Анастасия","Александровна","1311219063","Исследование медиа-процессов",1.67,"Экзамен","2014/2015 учебный год 4 модуль",null,13.36,1.67,1,0,508316804,2098,null,"stCommon","Журналистика",{"$f":"MATCH(D281,Отчет!$C:$C,0)","v":56}]
[525598796,9,"БЖУР131",481497484,"Нещадимова","Дарья","Викторовна","1311219067","Исследование медиа-процессов",1.67,"Экзамен","2014/2015 учебный год 4 модуль",null,15.030000000000001,1.67,1,0,508316804,2098,null,"stCommon","Журналистика",{"$f":"MATCH(D282,Отчет!$C:$C,0)","v":54}]
[525600026,6,"БЖУР132",481498934,"Глазунов","Никита","Сергеевич","116-24/12-036","Исследование медиа-процессов",1.67,"Экзамен","2014/2015 учебный год 4 модуль",null,10.02,1.67,1,0,508316804,2098,"ikPlanned","stCommon","Журналистика",{"$f":"MATCH(D283,Отчет!$C:$C,0)","v":106}]
[525600092,7,"БЖУР132",481499019,"Голованов","Сергей","Сергеевич","1311219022","Исследование медиа-процессов",1.67,"Экзамен","2014/2015 учебный год 4 модуль",null,11.69,1.67,1,0,508316804,2098,null,"stCommon","Журналистика",{"$f":"MATCH(D284,Отчет!$C:$C,0)","v":46}]
[525600426,7,"БЖУР132",481499520,"Королева","Виолетта","Николаевна","1311219043","Исследование медиа-процессов",1.67,"Экзамен","2014/2015 учебный год 4 модуль",null,11.69,1.67,1,0,508316804,2098,null,"stCommon","Журналистика",{"$f":"MATCH(D285,Отчет!$C:$C,0)","v":82}]
[525600494,9,"БЖУР132",481499652,"Королькова","Елизавета","Дмитриевна","1311219045","Исследование медиа-процессов",1.67,"Экзамен","2014/2015 учебный год 4 модуль",null,15.030000000000001,1.67,1,0,508316804,2098,null,"stCommon","Журналистика",{"$f":"MATCH(D286,Отчет!$C:$C,0)","v":16}]
[525600560,9,"БЖУР132",481500039,"Лебедева","Ксения","Кирилловна","1311219048","Исследование медиа-процессов",1.67,"Экзамен","2014/2015 учебный год 4 модуль",null,15.030000000000001,1.67,1,0,508316804,2098,null,"stCommon","Журналистика",{"$f":"MATCH(D287,Отчет!$C:$C,0)","v":15}]
[525600626,7,"БЖУР132",481500235,"Немченко","Илья","Михайлович","1311219066","Исследование медиа-процессов",1.67,"Экзамен","2014/2015 учебный год 4 модуль",null,11.69,1.67,1,0,508316804,2098,null,"stCommon","Журналистика",{"$f":"MATCH(D288,Отчет!$C:$C,0)","v":103}]
[525600758,6,"БЖУР132",481500392,"Павлова","Алиса","Павловна","1311219071","Исследование медиа-процессов",1.67,"Экзамен","2014/2015 учебный год 4 модуль",null,10.02,1.67,1,0,508316804,2098,null,"stCommon","Журналистика",{"$f":"MATCH(D289,Отчет!$C:$C,0)","v":89}]
[525600826,10,"БЖУР132",481500535,"Правдюк","Анна","Сергеевна","1311219075","Исследование медиа-процессов",1.67,"Экзамен","2014/2015 учебный год 4 модуль",null,16.7,1.67,1,0,508316804,2098,null,"stCommon","Журналистика",{"$f":"MATCH(D290,Отчет!$C:$C,0)","v":12}]
[525600892,8,"БЖУР132",481500688,"Ревоненко","Анна","Николаевна","1311219078","Исследование медиа-процессов",1.67,"Экзамен","2014/2015 учебный год 4 модуль",null,13.36,1.67,1,0,508316804,2098,null,"stCommon","Журналистика",{"$f":"MATCH(D291,Отчет!$C:$C,0)","v":23}]
[525598066,5,"БЖУР131",475496297,"Голубева","Анастасия","Павловна","1301219024","Исследование медиа-процессов",1.67,"Экзамен","2014/2015 учебный год 4 модуль",null,8.35,1.67,1,1,508316804,2098,null,"stCommon","Журналистика",{"$f":"MATCH(D292,Отчет!$C:$C,0)","v":68}]
[525598132,6,"БЖУР131",475496974,"Джгаркава","Нино","Звиадиевна","1301219029","Исследование медиа-процессов",1.67,"Экзамен","2014/2015 учебный год 4 модуль",null,10.02,1.67,1,1,508316804,2098,null,"stCommon","Журналистика",{"$f":"MATCH(D293,Отчет!$C:$C,0)","v":93}]
[525598199,7,"БЖУР131",475497099,"Дымчишина","Александра","Юрьевна","1301219032","Исследование медиа-процессов",1.67,"Экзамен","2014/2015 учебный год 4 модуль",null,11.69,1.67,1,1,508316804,2098,null,"stCommon","Журналистика",{"$f":"MATCH(D294,Отчет!$C:$C,0)","v":65}]
[525598332,null,"БЖУР131",475497229,"Жвик","Анастасия","Николаевна","1301219110","Исследование медиа-процессов",1.67,"Экзамен","2014/2015 учебный год 4 модуль",1,0,1.67,null,1,508316804,2098,null,"stCommon","Журналистика",{"$f":"MATCH(D295,Отчет!$C:$C,0)","v":110}]
[525598872,9,"БЖУР131",475497479,"Николаева","Мария","Дмитриевна","1301219068","Исследование медиа-процессов",1.67,"Экзамен","2014/2015 учебный год 4 модуль",null,15.030000000000001,1.67,1,1,508316804,2098,null,"stCommon","Журналистика",{"$f":"MATCH(D296,Отчет!$C:$C,0)","v":29}]
[525599072,9,"БЖУР131",475497611,"Ставрианиди","Анна","Георгиевна","1301219087","Исследование медиа-процессов",1.67,"Экзамен","2014/2015 учебный год 4 модуль",null,15.030000000000001,1.67,1,1,508316804,2098,null,"stCommon","Журналистика",{"$f":"MATCH(D297,Отчет!$C:$C,0)","v":50}]
[525599138,7,"БЖУР131",475497743,"Тищенко","Виктория","Андреевна","1301219093","Исследование медиа-процессов",1.67,"Экзамен","2014/2015 учебный год 4 модуль",null,11.69,1.67,1,1,508316804,2098,null,"stCommon","Журналистика",{"$f":"MATCH(D298,Отчет!$C:$C,0)","v":52}]
[525599284,9,"БЖУР131",475497867,"Яковец","Елизавета","Николаевна","1301219107","Исследование медиа-процессов",1.67,"Экзамен","2014/2015 учебный год 4 модуль",null,15.030000000000001,1.67,1,1,508316804,2098,null,"stCommon","Журналистика",{"$f":"MATCH(D299,Отчет!$C:$C,0)","v":27}]
[525599521,9,"БЖУР132",475498195,"Булатова","Катерина","Николаевна","1301219012","Исследование медиа-процессов",1.67,"Экзамен","2014/2015 учебный год 4 модуль",null,15.030000000000001,1.67,1,1,508316804,2098,null,"stCommon","Журналистика",{"$f":"MATCH(D300,Отчет!$C:$C,0)","v":34}]
[525600227,5,"БЖУР132",475498343,"Дмитриева","Ольга","Олеговна","1301219031","Исследование медиа-процессов",1.67,"Экзамен","2014/2015 учебный год 4 модуль",null,8.35,1.67,1,1,508316804,2098,null,"stCommon","Журналистика",{"$f":"MATCH(D301,Отчет!$C:$C,0)","v":59}]
[525600692,9,"БЖУР132",475498638,"Огурцова","Евгения","Алексеевна","1301219069","Исследование медиа-процессов",1.67,"Экзамен","2014/2015 учебный год 4 модуль",null,15.030000000000001,1.67,1,1,508316804,2098,null,"stCommon","Журналистика",{"$f":"MATCH(D302,Отчет!$C:$C,0)","v":37}]
[525597842,6,"БЖУР131",474332631,"Астапенко","Ольга","Юрьевна","1301219003","Исследование медиа-процессов",1.67,"Экзамен","2014/2015 учебный год 4 модуль",null,10.02,1.67,1,1,508316804,2098,null,"stCommon","Журналистика",{"$f":"MATCH(D303,Отчет!$C:$C,0)","v":44}]
[525597917,8,"БЖУР131",481496658,"Афанасьева","Татьяна","Валерьевна","1311219005","Исследование медиа-процессов",1.67,"Экзамен","2014/2015 учебный год 4 модуль",null,13.36,1.67,1,0,508316804,2098,null,"stCommon","Журналистика",{"$f":"MATCH(D304,Отчет!$C:$C,0)","v":33}]
[525602479,7,"БЖУР133",475563046,"Люля","Арина","Артемовна","1311219053","Исследование медиа-процессов",1.67,"Экзамен","2014/2015 учебный год 4 модуль",null,11.69,1.67,1,0,508316804,2098,"ikPlanned","stCommon","Журналистика",{"$f":"MATCH(D305,Отчет!$C:$C,0)","v":91}]
[525602546,8,"БЖУР133",475563206,"Малышева","Ирина","Александровна","1301219056","Исследование медиа-процессов",1.67,"Экзамен","2014/2015 учебный год 4 модуль",null,13.36,1.67,1,1,508316804,2098,null,"stCommon","Журналистика",{"$f":"MATCH(D306,Отчет!$C:$C,0)","v":66}]
[525602686,9,"БЖУР133",475563331,"Мусина","Юлия","Маратовна","1301219064","Исследование медиа-процессов",1.67,"Экзамен","2014/2015 учебный год 4 модуль",null,15.030000000000001,1.67,1,1,508316804,2098,null,"stCommon","Журналистика",{"$f":"MATCH(D307,Отчет!$C:$C,0)","v":26}]
[525600958,10,"БЖУР132",475498778,"Рудакова","Юлия","Владиславовна","1301219081","Исследование медиа-процессов",1.67,"Экзамен","2014/2015 учебный год 4 модуль",null,16.7,1.67,1,1,508316804,2098,null,"stCommon","Журналистика",{"$f":"MATCH(D308,Отчет!$C:$C,0)","v":21}]
[525601028,10,"БЖУР132",475498901,"Скворцова","Дарья","Андреевна","1301219086","Исследование медиа-процессов",1.67,"Экзамен","2014/2015 учебный год 4 модуль",null,16.7,1.67,1,1,508316804,2098,null,"stCommon","Журналистика",{"$f":"MATCH(D309,Отчет!$C:$C,0)","v":17}]
[525601162,10,"БЖУР132",475499056,"Федорова","Анастасия","Александровна","1301219096","Исследование медиа-процессов",1.67,"Экзамен","2014/2015 учебный год 4 модуль",null,16.7,1.67,1,1,508316804,2098,null,"stCommon","Журналистика",{"$f":"MATCH(D310,Отчет!$C:$C,0)","v":30}]
[525601096,5,"БЖУР132",475499184,"Устюжанинова","Анна","Александровна","1301219095","Исследование медиа-процессов",1.67,"Экзамен","2014/2015 учебный год 4 модуль",null,8.35,1.67,1,1,508316804,2098,null,"stCommon","Журналистика",{"$f":"MATCH(D311,Отчет!$C:$C,0)","v":84}]
[525601362,8,"БЖУР132",475499320,"Якубович","Анастасия","Александровна","1301219108","Исследование медиа-процессов",1.67,"Экзамен","2014/2015 учебный год 4 модуль",null,13.36,1.67,1,1,508316804,2098,null,"stCommon","Журналистика",{"$f":"MATCH(D312,Отчет!$C:$C,0)","v":63}]
[525601846,8,"БЖУР133",475500480,"Вильшанская","Елена","Андреевна","1301219017","Исследование медиа-процессов",1.67,"Экзамен","2014/2015 учебный год 4 модуль",null,13.36,1.67,1,1,508316804,2098,null,"stCommon","Журналистика",{"$f":"MATCH(D313,Отчет!$C:$C,0)","v":31}]
[525601978,8,"БЖУР133",475500628,"Головина","Евгения","Павловна","1301219023","Исследование медиа-процессов",1.67,"Экзамен","2014/2015 учебный год 4 модуль",null,13.36,1.67,1,1,508316804,2098,null,"stCommon","Журналистика",{"$f":"MATCH(D314,Отчет!$C:$C,0)","v":41}]
[525598598,7,"БЖУР131",475558344,"Маммаева","Фарида","Сулеймановна","1301219057","Исследование медиа-процессов",1.67,"Экзамен","2014/2015 учебный год 4 модуль",null,11.69,1.67,1,1,508316804,2098,null,"stCommon","Журналистика",{"$f":"MATCH(D315,Отчет!$C:$C,0)","v":101}]
[525599006,8,"БЖУР131",475558722,"Пржевальская","Анастасия","Всеволодовна","1301219076","Исследование медиа-процессов",1.67,"Экзамен","2014/2015 учебный год 4 модуль",null,13.36,1.67,1,1,508316804,2098,null,"stCommon","Журналистика",{"$f":"MATCH(D316,Отчет!$C:$C,0)","v":55}]
[525604971,9,"БЖУР134",481505031,"Савина","София","Леонидовна","1311219083","Исследование медиа-процессов",1.67,"Экзамен","2014/2015 учебный год 4 модуль",null,15.030000000000001,1.67,1,0,508316804,2098,null,"stCommon","Журналистика",{"$f":"MATCH(D317,Отчет!$C:$C,0)","v":19}]
[525605315,6,"БЖУР134",481505154,"Швецова","Екатерина","Константиновна","1311219105","Исследование медиа-процессов",1.67,"Экзамен","2014/2015 учебный год 4 модуль",null,10.02,1.67,1,0,508316804,2098,null,"stCommon","Журналистика",{"$f":"MATCH(D318,Отчет!$C:$C,0)","v":86}]
[525599451,6,"БЖУР132",475560308,"Бидзионашвили","Кетеван","-","1301219111","Исследование медиа-процессов",1.67,"Экзамен","2014/2015 учебный год 4 модуль",null,10.02,1.67,1,1,508316804,2098,"ikPlanned","stCommon","Журналистика",{"$f":"MATCH(D319,Отчет!$C:$C,0)","v":90}]
[525599587,4,"БЖУР132",475560500,"Буримова","Александра","Сергеевна","1311219014","Исследование медиа-процессов",1.67,"Экзамен","2014/2015 учебный год 4 модуль",null,6.68,1.67,1,0,508316804,2098,null,"stCommon","Журналистика",{"$f":"MATCH(D320,Отчет!$C:$C,0)","v":96}]
[523091862,7,"БЖУР132",475560670,"Бурцева","Анастасия","Юрьевна","1311219015","Исследование медиа-процессов",1.67,"Экзамен","2014/2015 учебный год 4 модуль",null,11.69,1.67,1,0,508316804,2098,null,"stCommon","Журналистика",{"$f":"MATCH(D321,Отчет!$C:$C,0)","v":73}]
[525599818,5,"БЖУР132",475560846,"Винокур","Дана","Витальевна","1311219018","Исследование медиа-процессов",1.67,"Экзамен","2014/2015 учебный год 4 модуль",null,8.35,1.67,1,0,508316804,2098,null,"stCommon","Журналистика",{"$f":"MATCH(D322,Отчет!$C:$C,0)","v":85}]
[525599884,7,"БЖУР132",475561061,"Вишнякова","Екатерина","Владимировна","1311219019","Исследование медиа-процессов",1.67,"Экзамен","2014/2015 учебный год 4 модуль",null,11.69,1.67,1,0,508316804,2098,null,"stCommon","Журналистика",{"$f":"MATCH(D323,Отчет!$C:$C,0)","v":77}]
[525599960,8,"БЖУР132",475561255,"Волчек","Никита","Алексеевич","1311219112","Исследование медиа-процессов",1.67,"Экзамен","2014/2015 учебный год 4 модуль",null,13.36,1.67,1,0,508316804,2098,"ikPlanned","stCommon","Журналистика",{"$f":"MATCH(D324,Отчет!$C:$C,0)","v":97}]
[525600161,4,"БЖУР132",475561427,"Гранкова","Ксения","Сергеевна","1311219027","Исследование медиа-процессов",1.67,"Экзамен","2014/2015 учебный год 4 модуль",null,6.68,1.67,1,0,508316804,2098,"ikPlanned","stCommon","Журналистика",{"$f":"MATCH(D325,Отчет!$C:$C,0)","v":102}]
[525601294,6,"БЖУР132",475561559,"Шевелёва","Кристина","Дмитриевна","1311219106","Исследование медиа-процессов",1.67,"Экзамен","2014/2015 учебный год 4 модуль",null,10.02,1.67,1,0,508316804,2098,"ikPlanned","stCommon","Журналистика",{"$f":"MATCH(D326,Отчет!$C:$C,0)","v":87}]
[525601639,8,"БЖУР133",475562216,"Аммосова","Людмила","Михайловна","1311219002","Исследование медиа-процессов",1.67,"Экзамен","2014/2015 учебный год 4 модуль",null,13.36,1.67,1,0,508316804,2098,null,"stCommon","Журналистика",{"$f":"MATCH(D327,Отчет!$C:$C,0)","v":39}]
[525601228,8,"БЖУР132",481500835,"Цегалко","Яна","Николаевна","1311219101","Исследование медиа-процессов",1.67,"Экзамен","2014/2015 учебный год 4 модуль",null,13.36,1.67,1,0,508316804,2098,null,"stCommon","Журналистика",{"$f":"MATCH(D328,Отчет!$C:$C,0)","v":61}]
[525601705,5,"БЖУР133",481501546,"Атасунцев","Александр","Григорьевич","1311219004","Исследование медиа-процессов",1.67,"Экзамен","2014/2015 учебный год 4 модуль",null,8.35,1.67,1,0,508316804,2098,null,"stCommon","Журналистика",{"$f":"MATCH(D329,Отчет!$C:$C,0)","v":67}]
[525602413,7,"БЖУР133",481501825,"Лымарева","Мария","Андреевна","1311219052","Исследование медиа-процессов",1.67,"Экзамен","2014/2015 учебный год 4 модуль",null,11.69,1.67,1,0,508316804,2098,null,"stCommon","Журналистика",{"$f":"MATCH(D330,Отчет!$C:$C,0)","v":108}]
[525602612,10,"БЖУР133",481501975,"Молоствова","Анна","Александровна","1311219061","Исследование медиа-процессов",1.67,"Экзамен","2014/2015 учебный год 4 модуль",null,16.7,1.67,1,0,508316804,2098,null,"stCommon","Журналистика",{"$f":"MATCH(D331,Отчет!$C:$C,0)","v":35}]
[525602951,6,"БЖУР133",481502112,"Сидоров","Всеволод","Дмитриевич","1311219085","Исследование медиа-процессов",1.67,"Экзамен","2014/2015 учебный год 4 модуль",null,10.02,1.67,1,0,508316804,2098,null,"stCommon","Журналистика",{"$f":"MATCH(D332,Отчет!$C:$C,0)","v":60}]
[525603085,7,"БЖУР133",481502259,"Титов","Игорь","Игоревич","1311219092","Исследование медиа-процессов",1.67,"Экзамен","2014/2015 учебный год 4 модуль",null,11.69,1.67,1,0,508316804,2098,null,"stCommon","Журналистика",{"$f":"MATCH(D333,Отчет!$C:$C,0)","v":58}]
[525604139,9,"БЖУР134",481504306,"Кокорева","Мария","Викторовна","1311219040","Исследование медиа-процессов",1.67,"Экзамен","2014/2015 учебный год 4 модуль",null,15.030000000000001,1.67,1,0,508316804,2098,null,"stCommon","Журналистика",{"$f":"MATCH(D334,Отчет!$C:$C,0)","v":18}]
[525604205,9,"БЖУР134",481504458,"Королева","Ольга","Викторовна","1311219044","Исследование медиа-процессов",1.67,"Экзамен","2014/2015 учебный год 4 модуль",null,15.030000000000001,1.67,1,0,508316804,2098,null,"stCommon","Журналистика",{"$f":"MATCH(D335,Отчет!$C:$C,0)","v":14}]
[525604271,7,"БЖУР134",481504593,"Круглова","Ирина","Викторовна","1311219047","Исследование медиа-процессов",1.67,"Экзамен","2014/2015 учебный год 4 модуль",null,11.69,1.67,1,0,508316804,2098,null,"stCommon","Журналистика",{"$f":"MATCH(D336,Отчет!$C:$C,0)","v":32}]
[525604681,5,"БЖУР134",481504754,"Петренко","Валерия","Денисовна","1311219073","Исследование медиа-процессов",1.67,"Экзамен","2014/2015 учебный год 4 модуль",null,8.35,1.67,1,0,508316804,2098,null,"stCommon","Журналистика",{"$f":"MATCH(D337,Отчет!$C:$C,0)","v":88}]
[525604905,9,"БЖУР134",481504898,"Русских","Арина","Сергеевна","1311219082","Исследование медиа-процессов",1.67,"Экзамен","2014/2015 учебный год 4 модуль",null,15.030000000000001,1.67,1,0,508316804,2098,null,"stCommon","Журналистика",{"$f":"MATCH(D338,Отчет!$C:$C,0)","v":45}]
[525597652,8,"БЖУР131",475557752,"Аветисян","Виолетта","Александровна","1311219001","Исследование медиа-процессов",1.67,"Экзамен","2014/2015 учебный год 4 модуль",null,13.36,1.67,1,0,508316804,2098,null,"stCommon","Журналистика",{"$f":"MATCH(D339,Отчет!$C:$C,0)","v":74}]
[525597994,6,"БЖУР131",475557886,"Белобеева","Ангелина","Анатольевна","1311219008","Исследование медиа-процессов",1.67,"Экзамен","2014/2015 учебный год 4 модуль",null,10.02,1.67,1,0,508316804,2098,"ikPlanned","stCommon","Журналистика",{"$f":"MATCH(D340,Отчет!$C:$C,0)","v":107}]
[525598265,7,"БЖУР131",481496795,"Ероносов","Александр","Эдуардович","1311219034","Исследование медиа-процессов",1.67,"Экзамен","2014/2015 учебный год 4 модуль",null,11.69,1.67,1,0,508316804,2098,null,"stCommon","Журналистика",{"$f":"MATCH(D341,Отчет!$C:$C,0)","v":72}]
[525598398,5,"БЖУР131",481496924,"Зубкевич","Андрей","Вадимович","1311219037","Исследование медиа-процессов",1.67,"Экзамен","2014/2015 учебный год 4 модуль",null,8.35,1.67,1,0,508316804,2098,null,"stCommon","Журналистика",{"$f":"MATCH(D342,Отчет!$C:$C,0)","v":104}]
[525605037,5,"БЖУР134",475503320,"Селиванова","Ксения","Александровна","1301219084","Исследование медиа-процессов",1.67,"Экзамен","2014/2015 учебный год 4 модуль",null,8.35,1.67,1,1,508316804,2098,null,"stCommon","Журналистика",{"$f":"MATCH(D343,Отчет!$C:$C,0)","v":83}]
[525605178,9,"БЖУР134",475503448,"Суханова","Юлия","Александровна","1301219090","Исследование медиа-процессов",1.67,"Экзамен","2014/2015 учебный год 4 модуль",null,15.030000000000001,1.67,1,1,508316804,2098,null,"stCommon","Журналистика",{"$f":"MATCH(D344,Отчет!$C:$C,0)","v":13}]
[525605249,8,"БЖУР134",475503575,"Таиров","Ринат","Маратович","1301219091","Исследование медиа-процессов",1.67,"Экзамен","2014/2015 учебный год 4 модуль",null,13.36,1.67,1,1,508316804,2098,null,"stCommon","Журналистика",{"$f":"MATCH(D345,Отчет!$C:$C,0)","v":53}]
[771504586,4,"БЖУР131",752764364,"Масалова","Анна","Владиславовна","131232133","Исследование медиа-процессов",1.67,"Экзамен","2014/2015 учебный год 4 модуль",null,6.68,1.67,1,0,508316804,2098,"ikPlanned","stCommon","Журналистика",{"$f":"MATCH(D346,Отчет!$C:$C,0)","v":92}]
[617793322,8,"БЖУР131",580462633,"Немкова","Екатерина","Дмитриевна","131232209","Исследование медиа-процессов",1.67,"Экзамен","2014/2015 учебный год 4 модуль",null,13.36,1.67,1,0,508316804,2098,"ikPlanned","stCommon","Журналистика",{"$f":"MATCH(D347,Отчет!$C:$C,0)","v":98}]
[617795958,7,"БЖУР131",615125946,"Халилова","Арзу","Идаятовна","131232230","Исследование медиа-процессов",1.67,"Экзамен","2014/2015 учебный год 4 модуль",null,11.69,1.67,1,0,508316804,2098,"ikPlanned","stCommon","Журналистика",{"$f":"MATCH(D348,Отчет!$C:$C,0)","v":95}]
[525604546,6,"БЖУР134",475503059,"Маркова","Кристина","Алексеевна","1301219058","Исследование медиа-процессов",1.67,"Экзамен","2014/2015 учебный год 4 модуль",null,10.02,1.67,1,1,508316804,2098,null,"stCommon","Журналистика",{"$f":"MATCH(D349,Отчет!$C:$C,0)","v":76}]
[525604824,8,"БЖУР134",475503187,"Робул","Павел","Константинович","1301219079","Исследование медиа-процессов",1.67,"Экзамен","2014/2015 учебный год 4 модуль",null,13.36,1.67,1,1,508316804,2098,null,"stCommon","Журналистика",{"$f":"MATCH(D350,Отчет!$C:$C,0)","v":38}]
[525602753,7,"БЖУР133",475563521,"Осипова","Светлана","Витальевна","1311219070","Исследование медиа-процессов",1.67,"Экзамен","2014/2015 учебный год 4 модуль",null,11.69,1.67,1,0,508316804,2098,null,"stCommon","Журналистика",{"$f":"MATCH(D351,Отчет!$C:$C,0)","v":71}]
[525603285,6,"БЖУР133",475563678,"Чехонадских","Дарья","Александровна","1301219104","Исследование медиа-процессов",1.67,"Экзамен","2014/2015 учебный год 4 модуль",null,10.02,1.67,1,1,508316804,2098,null,"stCommon","Журналистика",{"$f":"MATCH(D352,Отчет!$C:$C,0)","v":81}]
[525603604,5,"248ж",475564380,"Алешкина","Александрина","Александровна","231210002","Исследование медиа-процессов",1.67,"Экзамен","2014/2015 учебный год 4 модуль",null,8.35,1.67,1,0,508316804,2098,"ikPlanned","stCommon","Журналистика",{"$f":"MATCH(D353,Отчет!$C:$C,0)","v":100}]
[525603670,6,"БЖУР134",475564485,"Басиладзе","Мариами","Рамазиевна","1311219007","Исследование медиа-процессов",1.67,"Экзамен","2014/2015 учебный год 4 модуль",null,10.02,1.67,1,0,508316804,2098,"ikPlanned","stCommon","Журналистика",{"$f":"MATCH(D354,Отчет!$C:$C,0)","v":80}]
[525603805,8,"БЖУР134",475564642,"Гимаева","Жанна","Эмзаровна","1311219021","Исследование медиа-процессов",1.67,"Экзамен","2014/2015 учебный год 4 модуль",null,13.36,1.67,1,0,508316804,2098,null,"stCommon","Журналистика",{"$f":"MATCH(D355,Отчет!$C:$C,0)","v":51}]
[525603937,4,"БЖУР134",475564787,"Досий","Зоряна","Владимировна","1301219109","Исследование медиа-процессов",1.67,"Экзамен","2014/2015 учебный год 4 модуль",null,6.68,1.67,1,1,508316804,2098,"ikPlanned","stCommon","Журналистика",{"$f":"MATCH(D356,Отчет!$C:$C,0)","v":99}]
[525604003,6,"БЖУР134",475564933,"Животнёв","Владислав","Николаевич","1311219035","Исследование медиа-процессов",1.67,"Экзамен","2014/2015 учебный год 4 модуль",null,10.02,1.67,1,0,508316804,2098,null,"stCommon","Журналистика",{"$f":"MATCH(D357,Отчет!$C:$C,0)","v":75}]
[525604069,8,"БЖУР134",475565084,"Зражаева","Алина","Сергеевна","1311219036","Исследование медиа-процессов",1.67,"Экзамен","2014/2015 учебный год 4 модуль",null,13.36,1.67,1,0,508316804,2098,null,"stCommon","Журналистика",{"$f":"MATCH(D358,Отчет!$C:$C,0)","v":49}]
[525604403,6,"БЖУР134",475565231,"Макарова","Юлия","Валерьевна","1311219054","Исследование медиа-процессов",1.67,"Экзамен","2014/2015 учебный год 4 модуль",null,10.02,1.67,1,0,508316804,2098,null,"stCommon","Журналистика",{"$f":"MATCH(D359,Отчет!$C:$C,0)","v":70}]
[525604470,7,"БЖУР134",475565410,"Маленкова","Мария","Александровна","1301219055","Исследование медиа-процессов",1.67,"Экзамен","2014/2015 учебный год 4 модуль",null,11.69,1.67,1,1,508316804,2098,null,"stCommon","Журналистика",{"$f":"MATCH(D360,Отчет!$C:$C,0)","v":47}]
[525604613,5,"БЖУР134",475565551,"Нарушевич","Анастасия","Александровна","1311219065","Исследование медиа-процессов",1.67,"Экзамен","2014/2015 учебный год 4 модуль",null,8.35,1.67,1,0,508316804,2098,null,"stCommon","Журналистика",{"$f":"MATCH(D361,Отчет!$C:$C,0)","v":78}]
[525605105,5,"БЖУР134",475565869,"Стешенкова","Александра","Евгеньевна","1301219088","Исследование медиа-процессов",1.67,"Экзамен","2014/2015 учебный год 4 модуль",null,8.35,1.67,1,1,508316804,2098,null,"stCommon","Журналистика",{"$f":"MATCH(D362,Отчет!$C:$C,0)","v":79}]
[525602046,8,"БЖУР133",475500772,"Дмитриева","Екатерина","Александровна","1301219030","Исследование медиа-процессов",1.67,"Экзамен","2014/2015 учебный год 4 модуль",null,13.36,1.67,1,1,508316804,2098,null,"stCommon","Журналистика",{"$f":"MATCH(D363,Отчет!$C:$C,0)","v":40}]
[525602113,5,"БЖУР133",475500939,"Еремина","Анастасия","Алексеевна","1301219033","Исследование медиа-процессов",1.67,"Экзамен","2014/2015 учебный год 4 модуль",null,8.35,1.67,1,1,508316804,2098,null,"stCommon","Журналистика",{"$f":"MATCH(D364,Отчет!$C:$C,0)","v":94}]
[525602277,8,"БЖУР133",475501085,"Кокшарова","Александра","Игоревна","1301219041","Исследование медиа-процессов",1.67,"Экзамен","2014/2015 учебный год 4 модуль",null,13.36,1.67,1,1,508316804,2098,null,"stCommon","Журналистика",{"$f":"MATCH(D365,Отчет!$C:$C,0)","v":48}]
[525602347,10,"БЖУР133",475501239,"Липчанская","Анастасия","Алексеевна","1301219049","Исследование медиа-процессов",1.67,"Экзамен","2014/2015 учебный год 4 модуль",null,16.7,1.67,1,1,508316804,2098,null,"stCommon","Журналистика",{"$f":"MATCH(D366,Отчет!$C:$C,0)","v":20}]
[525602819,7,"БЖУР133",475501379,"Пятибратова","Екатерина","Васильевна","1301219077","Исследование медиа-процессов",1.67,"Экзамен","2014/2015 учебный год 4 модуль",null,11.69,1.67,1,1,508316804,2098,null,"stCommon","Журналистика",{"$f":"MATCH(D367,Отчет!$C:$C,0)","v":57}]
[525602885,9,"БЖУР133",475501513,"Рублева","Милена","Валерьевна","1301219080","Исследование медиа-процессов",1.67,"Экзамен","2014/2015 учебный год 4 модуль",null,15.030000000000001,1.67,1,1,508316804,2098,null,"stCommon","Журналистика",{"$f":"MATCH(D368,Отчет!$C:$C,0)","v":25}]
[525603017,7,"БЖУР133",475501641,"Стрельцова","Наталья","Сергеевна","1301219089","Исследование медиа-процессов",1.67,"Экзамен","2014/2015 учебный год 4 модуль",null,11.69,1.67,1,1,508316804,2098,null,"stCommon","Журналистика",{"$f":"MATCH(D369,Отчет!$C:$C,0)","v":64}]
[525603151,9,"БЖУР133",475501776,"Чернова","Кристина","Валериевна","1301219102","Исследование медиа-процессов",1.67,"Экзамен","2014/2015 учебный год 4 модуль",null,15.030000000000001,1.67,1,1,508316804,2098,null,"stCommon","Журналистика",{"$f":"MATCH(D370,Отчет!$C:$C,0)","v":24}]
[525603217,7,"БЖУР133",475501916,"Чернышева","Евгения","Эдуардовна","1301219103","Исследование медиа-процессов",1.67,"Экзамен","2014/2015 учебный год 4 модуль",null,11.69,1.67,1,1,508316804,2098,null,"stCommon","Журналистика",{"$f":"MATCH(D371,Отчет!$C:$C,0)","v":42}]
[525603739,7,"БЖУР134",475502663,"Вагапова","Юлия","Рстамовна","1301219016","Исследование медиа-процессов",1.67,"Экзамен","2014/2015 учебный год 4 модуль",null,11.69,1.67,1,1,508316804,2098,null,"stCommon","Журналистика",{"$f":"MATCH(D372,Отчет!$C:$C,0)","v":43}]
[525603871,7,"БЖУР134",475502790,"Дергалов","Руслан","Сергеевич","1301219028","Исследование медиа-процессов",1.67,"Экзамен","2014/2015 учебный год 4 модуль",null,11.69,1.67,1,1,508316804,2098,null,"stCommon","Журналистика",{"$f":"MATCH(D373,Отчет!$C:$C,0)","v":62}]
[525604337,8,"БЖУР134",475502924,"Литвякова","Евдокия","Алексеевна","1301219050","Исследование медиа-процессов",1.67,"Экзамен","2014/2015 учебный год 4 модуль",null,13.36,1.67,1,1,508316804,2098,null,"stCommon","Журналистика",{"$f":"MATCH(D374,Отчет!$C:$C,0)","v":36}]
[525601777,8,"БЖУР133",475562419,"Афян","Мария","Геннадьевна","1311219006","Исследование медиа-процессов",1.67,"Экзамен","2014/2015 учебный год 4 модуль",null,13.36,1.67,1,0,508316804,2098,"ikPlanned","stCommon","Журналистика",{"$f":"MATCH(D375,Отчет!$C:$C,0)","v":69}]
[525601912,9,"БЖУР133",475562579,"Герасимова","Мария","Александровна","1311219020","Исследование медиа-процессов",1.67,"Экзамен","2014/2015 учебный год 4 модуль",null,15.030000000000001,1.67,1,0,508316804,2098,null,"stCommon","Журналистика",{"$f":"MATCH(D376,Отчет!$C:$C,0)","v":28}]
[525602181,7,"БЖУР133",475562897,"Кистерев","Алексей","Валерьевич","12701089","Исследование медиа-процессов",1.67,"Экзамен","2014/2015 учебный год 4 модуль",null,11.69,1.67,1,0,508316804,2098,"ikPlanned","stCommon","Журналистика",{"$f":"MATCH(D377,Отчет!$C:$C,0)","v":105}]
[796966748,4,"БЖУР131",796834861,"Тесфайе","Анна-Мария","Синтайе","10701175","Исследование медиа-процессов",1.96,"Экзамен","2014/2015 учебный год 4 модуль",null,7.84,1.96,1,0,508316804,2098,"ikPassed","stCommon","Журналистика",{"$f":"MATCH(D378,Отчет!$C:$C,0)","v":109}]
[525605168,9,"БЖУР134",475503448,"Суханова","Юлия","Александровна","1301219090","История",3.6,"Экзамен","2014/2015 учебный год 4 модуль",null,32.4,3.6,1,1,508316804,2098,null,"stCommon","Журналистика",{"$f":"MATCH(D379,Отчет!$C:$C,0)","v":13}]
[525605241,8,"БЖУР134",475503575,"Таиров","Ринат","Маратович","1301219091","История",3.6,"Экзамен","2014/2015 учебный год 4 модуль",null,28.8,3.6,1,1,508316804,2098,null,"stCommon","Журналистика",{"$f":"MATCH(D380,Отчет!$C:$C,0)","v":53}]
[771504578,5,"БЖУР131",752764364,"Масалова","Анна","Владиславовна","131232133","История",3.6,"Экзамен","2014/2015 учебный год 4 модуль",null,18,3.6,1,0,508316804,2098,"ikPlanned","stCommon","Журналистика",{"$f":"MATCH(D381,Отчет!$C:$C,0)","v":92}]
[617793314,4,"БЖУР131",580462633,"Немкова","Екатерина","Дмитриевна","131232209","История",3.6,"Экзамен","2014/2015 учебный год 4 модуль",null,14.4,3.6,1,0,508316804,2098,"ikPlanned","stCommon","Журналистика",{"$f":"MATCH(D382,Отчет!$C:$C,0)","v":98}]
[617795950,6,"БЖУР131",615125946,"Халилова","Арзу","Идаятовна","131232230","История",3.6,"Экзамен","2014/2015 учебный год 4 модуль",null,21.6,3.6,1,0,508316804,2098,"ikPlanned","stCommon","Журналистика",{"$f":"MATCH(D383,Отчет!$C:$C,0)","v":95}]
[796966728,3,"БЖУР131",796834861,"Тесфайе","Анна-Мария","Синтайе","10701175","История",3.6,"Экзамен","2014/2015 учебный год 4 модуль",null,0,3.6,0,0,508316804,2098,"ikPlanned","stCommon","Журналистика",{"$f":"MATCH(D384,Отчет!$C:$C,0)","v":109}]
[525604806,8,"БЖУР134",475503187,"Робул","Павел","Константинович","1301219079","История",3.6,"Экзамен","2014/2015 учебный год 4 модуль",null,28.8,3.6,1,1,508316804,2098,null,"stCommon","Журналистика",{"$f":"MATCH(D385,Отчет!$C:$C,0)","v":38}]
[525602745,4,"БЖУР133",475563521,"Осипова","Светлана","Витальевна","1311219070","История",3.6,"Экзамен","2014/2015 учебный год 4 модуль",null,14.4,3.6,1,0,508316804,2098,null,"stCommon","Журналистика",{"$f":"MATCH(D386,Отчет!$C:$C,0)","v":71}]
[525603277,4,"БЖУР133",475563678,"Чехонадских","Дарья","Александровна","1301219104","История",3.6,"Экзамен","2014/2015 учебный год 4 модуль",null,14.4,3.6,1,1,508316804,2098,null,"stCommon","Журналистика",{"$f":"MATCH(D387,Отчет!$C:$C,0)","v":81}]
[525603596,4,"248ж",475564380,"Алешкина","Александрина","Александровна","231210002","История",3.6,"Экзамен","2014/2015 учебный год 4 модуль",null,14.4,3.6,1,0,508316804,2098,"ikPlanned","stCommon","Журналистика",{"$f":"MATCH(D388,Отчет!$C:$C,0)","v":100}]
[525603662,7,"БЖУР134",475564485,"Басиладзе","Мариами","Рамазиевна","1311219007","История",3.6,"Экзамен","2014/2015 учебный год 4 модуль",null,25.2,3.6,1,0,508316804,2098,"ikPlanned","stCommon","Журналистика",{"$f":"MATCH(D389,Отчет!$C:$C,0)","v":80}]
[525603797,8,"БЖУР134",475564642,"Гимаева","Жанна","Эмзаровна","1311219021","История",3.6,"Экзамен","2014/2015 учебный год 4 модуль",null,28.8,3.6,1,0,508316804,2098,null,"stCommon","Журналистика",{"$f":"MATCH(D390,Отчет!$C:$C,0)","v":51}]
[525603929,4,"БЖУР134",475564787,"Досий","Зоряна","Владимировна","1301219109","История",3.6,"Экзамен","2014/2015 учебный год 4 модуль",null,14.4,3.6,1,1,508316804,2098,"ikPlanned","stCommon","Журналистика",{"$f":"MATCH(D391,Отчет!$C:$C,0)","v":99}]
[525603995,6,"БЖУР134",475564933,"Животнёв","Владислав","Николаевич","1311219035","История",3.6,"Экзамен","2014/2015 учебный год 4 модуль",null,21.6,3.6,1,0,508316804,2098,null,"stCommon","Журналистика",{"$f":"MATCH(D392,Отчет!$C:$C,0)","v":75}]
[525604061,6,"БЖУР134",475565084,"Зражаева","Алина","Сергеевна","1311219036","История",3.6,"Экзамен","2014/2015 учебный год 4 модуль",null,21.6,3.6,1,0,508316804,2098,null,"stCommon","Журналистика",{"$f":"MATCH(D393,Отчет!$C:$C,0)","v":49}]
[525604395,7,"БЖУР134",475565231,"Макарова","Юлия","Валерьевна","1311219054","История",3.6,"Экзамен","2014/2015 учебный год 4 модуль",null,25.2,3.6,1,0,508316804,2098,null,"stCommon","Журналистика",{"$f":"MATCH(D394,Отчет!$C:$C,0)","v":70}]
[525604462,8,"БЖУР134",475565410,"Маленкова","Мария","Александровна","1301219055","История",3.6,"Экзамен","2014/2015 учебный год 4 модуль",null,28.8,3.6,1,1,508316804,2098,null,"stCommon","Журналистика",{"$f":"MATCH(D395,Отчет!$C:$C,0)","v":47}]
[525604605,8,"БЖУР134",475565551,"Нарушевич","Анастасия","Александровна","1311219065","История",3.6,"Экзамен","2014/2015 учебный год 4 модуль",null,28.8,3.6,1,0,508316804,2098,null,"stCommon","Журналистика",{"$f":"MATCH(D396,Отчет!$C:$C,0)","v":78}]
[525605097,7,"БЖУР134",475565869,"Стешенкова","Александра","Евгеньевна","1301219088","История",3.6,"Экзамен","2014/2015 учебный год 4 модуль",null,25.2,3.6,1,1,508316804,2098,null,"stCommon","Журналистика",{"$f":"MATCH(D397,Отчет!$C:$C,0)","v":79}]
[525605029,8,"БЖУР134",475503320,"Селиванова","Ксения","Александровна","1301219084","История",3.6,"Экзамен","2014/2015 учебный год 4 модуль",null,28.8,3.6,1,1,508316804,2098,null,"stCommon","Журналистика",{"$f":"MATCH(D398,Отчет!$C:$C,0)","v":83}]
[525602038,8,"БЖУР133",475500772,"Дмитриева","Екатерина","Александровна","1301219030","История",3.6,"Экзамен","2014/2015 учебный год 4 модуль",null,28.8,3.6,1,1,508316804,2098,null,"stCommon","Журналистика",{"$f":"MATCH(D399,Отчет!$C:$C,0)","v":40}]
[525602105,4,"БЖУР133",475500939,"Еремина","Анастасия","Алексеевна","1301219033","История",3.6,"Экзамен","2014/2015 учебный год 4 модуль",null,14.4,3.6,1,1,508316804,2098,null,"stCommon","Журналистика",{"$f":"MATCH(D400,Отчет!$C:$C,0)","v":94}]
[525602269,6,"БЖУР133",475501085,"Кокшарова","Александра","Игоревна","1301219041","История",3.6,"Экзамен","2014/2015 учебный год 4 модуль",null,21.6,3.6,1,1,508316804,2098,null,"stCommon","Журналистика",{"$f":"MATCH(D401,Отчет!$C:$C,0)","v":48}]
[525602339,8,"БЖУР133",475501239,"Липчанская","Анастасия","Алексеевна","1301219049","История",3.6,"Экзамен","2014/2015 учебный год 4 модуль",null,28.8,3.6,1,1,508316804,2098,null,"stCommon","Журналистика",{"$f":"MATCH(D402,Отчет!$C:$C,0)","v":20}]
[525602811,8,"БЖУР133",475501379,"Пятибратова","Екатерина","Васильевна","1301219077","История",3.6,"Экзамен","2014/2015 учебный год 4 модуль",null,28.8,3.6,1,1,508316804,2098,null,"stCommon","Журналистика",{"$f":"MATCH(D403,Отчет!$C:$C,0)","v":57}]
[525602877,9,"БЖУР133",475501513,"Рублева","Милена","Валерьевна","1301219080","История",3.6,"Экзамен","2014/2015 учебный год 4 модуль",null,32.4,3.6,1,1,508316804,2098,null,"stCommon","Журналистика",{"$f":"MATCH(D404,Отчет!$C:$C,0)","v":25}]
[525603009,9,"БЖУР133",475501641,"Стрельцова","Наталья","Сергеевна","1301219089","История",3.6,"Экзамен","2014/2015 учебный год 4 модуль",null,32.4,3.6,1,1,508316804,2098,null,"stCommon","Журналистика",{"$f":"MATCH(D405,Отчет!$C:$C,0)","v":64}]
[525603143,8,"БЖУР133",475501776,"Чернова","Кристина","Валериевна","1301219102","История",3.6,"Экзамен","2014/2015 учебный год 4 модуль",null,28.8,3.6,1,1,508316804,2098,null,"stCommon","Журналистика",{"$f":"MATCH(D406,Отчет!$C:$C,0)","v":24}]
[525603209,8,"БЖУР133",475501916,"Чернышева","Евгения","Эдуардовна","1301219103","История",3.6,"Экзамен","2014/2015 учебный год 4 модуль",null,28.8,3.6,1,1,508316804,2098,null,"stCommon","Журналистика",{"$f":"MATCH(D407,Отчет!$C:$C,0)","v":42}]
[525603731,8,"БЖУР134",475502663,"Вагапова","Юлия","Рстамовна","1301219016","История",3.6,"Экзамен","2014/2015 учебный год 4 модуль",null,28.8,3.6,1,1,508316804,2098,null,"stCommon","Журналистика",{"$f":"MATCH(D408,Отчет!$C:$C,0)","v":43}]
[525603863,6,"БЖУР134",475502790,"Дергалов","Руслан","Сергеевич","1301219028","История",3.6,"Экзамен","2014/2015 учебный год 4 модуль",null,21.6,3.6,1,1,508316804,2098,null,"stCommon","Журналистика",{"$f":"MATCH(D409,Отчет!$C:$C,0)","v":62}]
[525604329,8,"БЖУР134",475502924,"Литвякова","Евдокия","Алексеевна","1301219050","История",3.6,"Экзамен","2014/2015 учебный год 4 модуль",null,28.8,3.6,1,1,508316804,2098,null,"stCommon","Журналистика",{"$f":"MATCH(D410,Отчет!$C:$C,0)","v":36}]
[525604538,5,"БЖУР134",475503059,"Маркова","Кристина","Алексеевна","1301219058","История",3.6,"Экзамен","2014/2015 учебный год 4 модуль",null,18,3.6,1,1,508316804,2098,null,"stCommon","Журналистика",{"$f":"MATCH(D411,Отчет!$C:$C,0)","v":76}]
[525601767,5,"БЖУР133",475562419,"Афян","Мария","Геннадьевна","1311219006","История",3.6,"Экзамен","2014/2015 учебный год 4 модуль",null,18,3.6,1,0,508316804,2098,"ikPlanned","stCommon","Журналистика",{"$f":"MATCH(D412,Отчет!$C:$C,0)","v":69}]
[525601904,9,"БЖУР133",475562579,"Герасимова","Мария","Александровна","1311219020","История",3.6,"Экзамен","2014/2015 учебный год 4 модуль",null,32.4,3.6,1,0,508316804,2098,null,"stCommon","Журналистика",{"$f":"MATCH(D413,Отчет!$C:$C,0)","v":28}]
[525602173,3,"БЖУР133",475562897,"Кистерев","Алексей","Валерьевич","12701089","История",3.6,"Экзамен","2014/2015 учебный год 4 модуль",null,0,3.6,0,0,508316804,2098,"ikPlanned","stCommon","Журналистика",{"$f":"MATCH(D414,Отчет!$C:$C,0)","v":105}]
[525602471,4,"БЖУР133",475563046,"Люля","Арина","Артемовна","1311219053","История",3.6,"Экзамен","2014/2015 учебный год 4 модуль",null,14.4,3.6,1,0,508316804,2098,"ikPlanned","stCommon","Журналистика",{"$f":"MATCH(D415,Отчет!$C:$C,0)","v":91}]
[525602538,8,"БЖУР133",475563206,"Малышева","Ирина","Александровна","1301219056","История",3.6,"Экзамен","2014/2015 учебный год 4 модуль",null,28.8,3.6,1,1,508316804,2098,null,"stCommon","Журналистика",{"$f":"MATCH(D416,Отчет!$C:$C,0)","v":66}]
[525602678,8,"БЖУР133",475563331,"Мусина","Юлия","Маратовна","1301219064","История",3.6,"Экзамен","2014/2015 учебный год 4 модуль",null,28.8,3.6,1,1,508316804,2098,null,"stCommon","Журналистика",{"$f":"MATCH(D417,Отчет!$C:$C,0)","v":26}]
[525600950,9,"БЖУР132",475498778,"Рудакова","Юлия","Владиславовна","1301219081","История",3.6,"Экзамен","2014/2015 учебный год 4 модуль",null,32.4,3.6,1,1,508316804,2098,null,"stCommon","Журналистика",{"$f":"MATCH(D418,Отчет!$C:$C,0)","v":21}]
[525601018,9,"БЖУР132",475498901,"Скворцова","Дарья","Андреевна","1301219086","История",3.6,"Экзамен","2014/2015 учебный год 4 модуль",null,32.4,3.6,1,1,508316804,2098,null,"stCommon","Журналистика",{"$f":"MATCH(D419,Отчет!$C:$C,0)","v":17}]
[525601154,8,"БЖУР132",475499056,"Федорова","Анастасия","Александровна","1301219096","История",3.6,"Экзамен","2014/2015 учебный год 4 модуль",null,28.8,3.6,1,1,508316804,2098,null,"stCommon","Журналистика",{"$f":"MATCH(D420,Отчет!$C:$C,0)","v":30}]
[525601088,6,"БЖУР132",475499184,"Устюжанинова","Анна","Александровна","1301219095","История",3.6,"Экзамен","2014/2015 учебный год 4 модуль",null,21.6,3.6,1,1,508316804,2098,null,"stCommon","Журналистика",{"$f":"MATCH(D421,Отчет!$C:$C,0)","v":84}]
[525601354,5,"БЖУР132",475499320,"Якубович","Анастасия","Александровна","1301219108","История",3.6,"Экзамен","2014/2015 учебный год 4 модуль",null,18,3.6,1,1,508316804,2098,null,"stCommon","Журналистика",{"$f":"MATCH(D422,Отчет!$C:$C,0)","v":63}]
[525601838,8,"БЖУР133",475500480,"Вильшанская","Елена","Андреевна","1301219017","История",3.6,"Экзамен","2014/2015 учебный год 4 модуль",null,28.8,3.6,1,1,508316804,2098,null,"stCommon","Журналистика",{"$f":"MATCH(D423,Отчет!$C:$C,0)","v":31}]
[525601970,8,"БЖУР133",475500628,"Головина","Евгения","Павловна","1301219023","История",3.6,"Экзамен","2014/2015 учебный год 4 модуль",null,28.8,3.6,1,1,508316804,2098,null,"stCommon","Журналистика",{"$f":"MATCH(D424,Отчет!$C:$C,0)","v":41}]
[525598590,2,"БЖУР131",475558344,"Маммаева","Фарида","Сулеймановна","1301219057","История",3.6,"Экзамен","2014/2015 учебный год 4 модуль",null,0,3.6,0,1,508316804,2098,null,"stCommon","Журналистика",{"$f":"MATCH(D425,Отчет!$C:$C,0)","v":101}]
[525598998,8,"БЖУР131",475558722,"Пржевальская","Анастасия","Всеволодовна","1301219076","История",3.6,"Экзамен","2014/2015 учебный год 4 модуль",null,28.8,3.6,1,1,508316804,2098,null,"stCommon","Журналистика",{"$f":"MATCH(D426,Отчет!$C:$C,0)","v":55}]
[525604963,9,"БЖУР134",481505031,"Савина","София","Леонидовна","1311219083","История",3.6,"Экзамен","2014/2015 учебный год 4 модуль",null,32.4,3.6,1,0,508316804,2098,null,"stCommon","Журналистика",{"$f":"MATCH(D427,Отчет!$C:$C,0)","v":19}]
[525605307,5,"БЖУР134",481505154,"Швецова","Екатерина","Константиновна","1311219105","История",3.6,"Экзамен","2014/2015 учебный год 4 модуль",null,18,3.6,1,0,508316804,2098,null,"stCommon","Журналистика",{"$f":"MATCH(D428,Отчет!$C:$C,0)","v":86}]
[525599443,6,"БЖУР132",475560308,"Бидзионашвили","Кетеван","-","1301219111","История",3.6,"Экзамен","2014/2015 учебный год 4 модуль",null,21.6,3.6,1,1,508316804,2098,"ikPlanned","stCommon","Журналистика",{"$f":"MATCH(D429,Отчет!$C:$C,0)","v":90}]
[525599579,5,"БЖУР132",475560500,"Буримова","Александра","Сергеевна","1311219014","История",3.6,"Экзамен","2014/2015 учебный год 4 модуль",null,18,3.6,1,0,508316804,2098,null,"stCommon","Журналистика",{"$f":"MATCH(D430,Отчет!$C:$C,0)","v":96}]
[523091852,5,"БЖУР132",475560670,"Бурцева","Анастасия","Юрьевна","1311219015","История",3.6,"Экзамен","2014/2015 учебный год 4 модуль",null,18,3.6,1,0,508316804,2098,null,"stCommon","Журналистика",{"$f":"MATCH(D431,Отчет!$C:$C,0)","v":73}]
[525599810,6,"БЖУР132",475560846,"Винокур","Дана","Витальевна","1311219018","История",3.6,"Экзамен","2014/2015 учебный год 4 модуль",null,21.6,3.6,1,0,508316804,2098,null,"stCommon","Журналистика",{"$f":"MATCH(D432,Отчет!$C:$C,0)","v":85}]
[525599876,8,"БЖУР132",475561061,"Вишнякова","Екатерина","Владимировна","1311219019","История",3.6,"Экзамен","2014/2015 учебный год 4 модуль",null,28.8,3.6,1,0,508316804,2098,null,"stCommon","Журналистика",{"$f":"MATCH(D433,Отчет!$C:$C,0)","v":77}]
[525599952,5,"БЖУР132",475561255,"Волчек","Никита","Алексеевич","1311219112","История",3.6,"Экзамен","2014/2015 учебный год 4 модуль",null,18,3.6,1,0,508316804,2098,"ikPlanned","stCommon","Журналистика",{"$f":"MATCH(D434,Отчет!$C:$C,0)","v":97}]
[525600153,5,"БЖУР132",475561427,"Гранкова","Ксения","Сергеевна","1311219027","История",3.6,"Экзамен","2014/2015 учебный год 4 модуль",null,18,3.6,1,0,508316804,2098,"ikPlanned","stCommon","Журналистика",{"$f":"MATCH(D435,Отчет!$C:$C,0)","v":102}]
[525601286,6,"БЖУР132",475561559,"Шевелёва","Кристина","Дмитриевна","1311219106","История",3.6,"Экзамен","2014/2015 учебный год 4 модуль",null,21.6,3.6,1,0,508316804,2098,"ikPlanned","stCommon","Журналистика",{"$f":"MATCH(D436,Отчет!$C:$C,0)","v":87}]
[525601631,6,"БЖУР133",475562216,"Аммосова","Людмила","Михайловна","1311219002","История",3.6,"Экзамен","2014/2015 учебный год 4 модуль",null,21.6,3.6,1,0,508316804,2098,null,"stCommon","Журналистика",{"$f":"MATCH(D437,Отчет!$C:$C,0)","v":39}]
[525601220,8,"БЖУР132",481500835,"Цегалко","Яна","Николаевна","1311219101","История",3.6,"Экзамен","2014/2015 учебный год 4 модуль",null,28.8,3.6,1,0,508316804,2098,null,"stCommon","Журналистика",{"$f":"MATCH(D438,Отчет!$C:$C,0)","v":61}]
[525601697,9,"БЖУР133",481501546,"Атасунцев","Александр","Григорьевич","1311219004","История",3.6,"Экзамен","2014/2015 учебный год 4 модуль",null,32.4,3.6,1,0,508316804,2098,null,"stCommon","Журналистика",{"$f":"MATCH(D439,Отчет!$C:$C,0)","v":67}]
[525602405,5,"БЖУР133",481501825,"Лымарева","Мария","Андреевна","1311219052","История",3.6,"Экзамен","2014/2015 учебный год 4 модуль",null,18,3.6,1,0,508316804,2098,null,"stCommon","Журналистика",{"$f":"MATCH(D440,Отчет!$C:$C,0)","v":108}]
[525602604,9,"БЖУР133",481501975,"Молоствова","Анна","Александровна","1311219061","История",3.6,"Экзамен","2014/2015 учебный год 4 модуль",null,32.4,3.6,1,0,508316804,2098,null,"stCommon","Журналистика",{"$f":"MATCH(D441,Отчет!$C:$C,0)","v":35}]
[525602943,8,"БЖУР133",481502112,"Сидоров","Всеволод","Дмитриевич","1311219085","История",3.6,"Экзамен","2014/2015 учебный год 4 модуль",null,28.8,3.6,1,0,508316804,2098,null,"stCommon","Журналистика",{"$f":"MATCH(D442,Отчет!$C:$C,0)","v":60}]
[525603077,7,"БЖУР133",481502259,"Титов","Игорь","Игоревич","1311219092","История",3.6,"Экзамен","2014/2015 учебный год 4 модуль",null,25.2,3.6,1,0,508316804,2098,null,"stCommon","Журналистика",{"$f":"MATCH(D443,Отчет!$C:$C,0)","v":58}]
[525604131,9,"БЖУР134",481504306,"Кокорева","Мария","Викторовна","1311219040","История",3.6,"Экзамен","2014/2015 учебный год 4 модуль",null,32.4,3.6,1,0,508316804,2098,null,"stCommon","Журналистика",{"$f":"MATCH(D444,Отчет!$C:$C,0)","v":18}]
[525604197,9,"БЖУР134",481504458,"Королева","Ольга","Викторовна","1311219044","История",3.6,"Экзамен","2014/2015 учебный год 4 модуль",null,32.4,3.6,1,0,508316804,2098,null,"stCommon","Журналистика",{"$f":"MATCH(D445,Отчет!$C:$C,0)","v":14}]
[525604263,9,"БЖУР134",481504593,"Круглова","Ирина","Викторовна","1311219047","История",3.6,"Экзамен","2014/2015 учебный год 4 модуль",null,32.4,3.6,1,0,508316804,2098,null,"stCommon","Журналистика",{"$f":"MATCH(D446,Отчет!$C:$C,0)","v":32}]
[525604673,7,"БЖУР134",481504754,"Петренко","Валерия","Денисовна","1311219073","История",3.6,"Экзамен","2014/2015 учебный год 4 модуль",null,25.2,3.6,1,0,508316804,2098,null,"stCommon","Журналистика",{"$f":"MATCH(D447,Отчет!$C:$C,0)","v":88}]
[525604888,8,"БЖУР134",481504898,"Русских","Арина","Сергеевна","1311219082","История",3.6,"Экзамен","2014/2015 учебный год 4 модуль",null,28.8,3.6,1,0,508316804,2098,null,"stCommon","Журналистика",{"$f":"MATCH(D448,Отчет!$C:$C,0)","v":45}]
[525597644,5,"БЖУР131",475557752,"Аветисян","Виолетта","Александровна","1311219001","История",3.6,"Экзамен","2014/2015 учебный год 4 модуль",null,18,3.6,1,0,508316804,2098,null,"stCommon","Журналистика",{"$f":"MATCH(D449,Отчет!$C:$C,0)","v":74}]
[525597986,4,"БЖУР131",475557886,"Белобеева","Ангелина","Анатольевна","1311219008","История",3.6,"Экзамен","2014/2015 учебный год 4 модуль",null,14.4,3.6,1,0,508316804,2098,"ikPlanned","stCommon","Журналистика",{"$f":"MATCH(D450,Отчет!$C:$C,0)","v":107}]
[525598390,4,"БЖУР131",481496924,"Зубкевич","Андрей","Вадимович","1311219037","История",3.6,"Экзамен","2014/2015 учебный год 4 модуль",null,14.4,3.6,1,0,508316804,2098,null,"stCommon","Журналистика",{"$f":"MATCH(D451,Отчет!$C:$C,0)","v":104}]
[525598656,8,"БЖУР131",481497225,"Морозова","Николь","Дмитриевна","1311219062","История",3.6,"Экзамен","2014/2015 учебный год 4 модуль",null,28.8,3.6,1,0,508316804,2098,null,"stCommon","Журналистика",{"$f":"MATCH(D452,Отчет!$C:$C,0)","v":22}]
[525598722,7,"БЖУР131",481497357,"Муратова","Анастасия","Александровна","1311219063","История",3.6,"Экзамен","2014/2015 учебный год 4 модуль",null,25.2,3.6,1,0,508316804,2098,null,"stCommon","Журналистика",{"$f":"MATCH(D453,Отчет!$C:$C,0)","v":56}]
[525598788,8,"БЖУР131",481497484,"Нещадимова","Дарья","Викторовна","1311219067","История",3.6,"Экзамен","2014/2015 учебный год 4 модуль",null,28.8,3.6,1,0,508316804,2098,null,"stCommon","Журналистика",{"$f":"MATCH(D454,Отчет!$C:$C,0)","v":54}]
[525600018,6,"БЖУР132",481498934,"Глазунов","Никита","Сергеевич","116-24/12-036","История",3.6,"Экзамен","2014/2015 учебный год 4 модуль",null,21.6,3.6,1,0,508316804,2098,"ikPlanned","stCommon","Журналистика",{"$f":"MATCH(D455,Отчет!$C:$C,0)","v":106}]
[525600084,6,"БЖУР132",481499019,"Голованов","Сергей","Сергеевич","1311219022","История",3.6,"Экзамен","2014/2015 учебный год 4 модуль",null,21.6,3.6,1,0,508316804,2098,null,"stCommon","Журналистика",{"$f":"MATCH(D456,Отчет!$C:$C,0)","v":46}]
[525600418,6,"БЖУР132",481499520,"Королева","Виолетта","Николаевна","1311219043","История",3.6,"Экзамен","2014/2015 учебный год 4 модуль",null,21.6,3.6,1,0,508316804,2098,null,"stCommon","Журналистика",{"$f":"MATCH(D457,Отчет!$C:$C,0)","v":82}]
[525600486,10,"БЖУР132",481499652,"Королькова","Елизавета","Дмитриевна","1311219045","История",3.6,"Экзамен","2014/2015 учебный год 4 модуль",null,36,3.6,1,0,508316804,2098,null,"stCommon","Журналистика",{"$f":"MATCH(D458,Отчет!$C:$C,0)","v":16}]
[525600552,10,"БЖУР132",481500039,"Лебедева","Ксения","Кирилловна","1311219048","История",3.6,"Экзамен","2014/2015 учебный год 4 модуль",null,36,3.6,1,0,508316804,2098,null,"stCommon","Журналистика",{"$f":"MATCH(D459,Отчет!$C:$C,0)","v":15}]
[525600618,4,"БЖУР132",481500235,"Немченко","Илья","Михайлович","1311219066","История",3.6,"Экзамен","2014/2015 учебный год 4 модуль",null,14.4,3.6,1,0,508316804,2098,null,"stCommon","Журналистика",{"$f":"MATCH(D460,Отчет!$C:$C,0)","v":103}]
[525600750,6,"БЖУР132",481500392,"Павлова","Алиса","Павловна","1311219071","История",3.6,"Экзамен","2014/2015 учебный год 4 модуль",null,21.6,3.6,1,0,508316804,2098,null,"stCommon","Журналистика",{"$f":"MATCH(D461,Отчет!$C:$C,0)","v":89}]
[525600818,10,"БЖУР132",481500535,"Правдюк","Анна","Сергеевна","1311219075","История",3.6,"Экзамен","2014/2015 учебный год 4 модуль",null,36,3.6,1,0,508316804,2098,null,"stCommon","Журналистика",{"$f":"MATCH(D462,Отчет!$C:$C,0)","v":12}]
[525600884,8,"БЖУР132",481500688,"Ревоненко","Анна","Николаевна","1311219078","История",3.6,"Экзамен","2014/2015 учебный год 4 модуль",null,28.8,3.6,1,0,508316804,2098,null,"stCommon","Журналистика",{"$f":"MATCH(D463,Отчет!$C:$C,0)","v":23}]
[525598056,8,"БЖУР131",475496297,"Голубева","Анастасия","Павловна","1301219024","История",3.6,"Экзамен","2014/2015 учебный год 4 модуль",null,28.8,3.6,1,1,508316804,2098,null,"stCommon","Журналистика",{"$f":"MATCH(D464,Отчет!$C:$C,0)","v":68}]
[525598124,4,"БЖУР131",475496974,"Джгаркава","Нино","Звиадиевна","1301219029","История",3.6,"Экзамен","2014/2015 учебный год 4 модуль",null,14.4,3.6,1,1,508316804,2098,null,"stCommon","Журналистика",{"$f":"MATCH(D465,Отчет!$C:$C,0)","v":93}]
[525598191,6,"БЖУР131",475497099,"Дымчишина","Александра","Юрьевна","1301219032","История",3.6,"Экзамен","2014/2015 учебный год 4 модуль",null,21.6,3.6,1,1,508316804,2098,null,"stCommon","Журналистика",{"$f":"MATCH(D466,Отчет!$C:$C,0)","v":65}]
[525598324,null,"БЖУР131",475497229,"Жвик","Анастасия","Николаевна","1301219110","История",3.6,"Экзамен","2014/2015 учебный год 4 модуль",1,0,3.6,null,1,508316804,2098,null,"stCommon","Журналистика",{"$f":"MATCH(D467,Отчет!$C:$C,0)","v":110}]
[525598864,8,"БЖУР131",475497479,"Николаева","Мария","Дмитриевна","1301219068","История",3.6,"Экзамен","2014/2015 учебный год 4 модуль",null,28.8,3.6,1,1,508316804,2098,null,"stCommon","Журналистика",{"$f":"MATCH(D468,Отчет!$C:$C,0)","v":29}]
[525599064,6,"БЖУР131",475497611,"Ставрианиди","Анна","Георгиевна","1301219087","История",3.6,"Экзамен","2014/2015 учебный год 4 модуль",null,21.6,3.6,1,1,508316804,2098,null,"stCommon","Журналистика",{"$f":"MATCH(D469,Отчет!$C:$C,0)","v":50}]
[525599130,8,"БЖУР131",475497743,"Тищенко","Виктория","Андреевна","1301219093","История",3.6,"Экзамен","2014/2015 учебный год 4 модуль",null,28.8,3.6,1,1,508316804,2098,null,"stCommon","Журналистика",{"$f":"MATCH(D470,Отчет!$C:$C,0)","v":52}]
[525599272,9,"БЖУР131",475497867,"Яковец","Елизавета","Николаевна","1301219107","История",3.6,"Экзамен","2014/2015 учебный год 4 модуль",null,32.4,3.6,1,1,508316804,2098,null,"stCommon","Журналистика",{"$f":"MATCH(D471,Отчет!$C:$C,0)","v":27}]
[525599513,7,"БЖУР132",475498195,"Булатова","Катерина","Николаевна","1301219012","История",3.6,"Экзамен","2014/2015 учебный год 4 модуль",null,25.2,3.6,1,1,508316804,2098,null,"stCommon","Журналистика",{"$f":"MATCH(D472,Отчет!$C:$C,0)","v":34}]
[525600219,5,"БЖУР132",475498343,"Дмитриева","Ольга","Олеговна","1301219031","История",3.6,"Экзамен","2014/2015 учебный год 4 модуль",null,18,3.6,1,1,508316804,2098,null,"stCommon","Журналистика",{"$f":"MATCH(D473,Отчет!$C:$C,0)","v":59}]
[525600684,9,"БЖУР132",475498638,"Огурцова","Евгения","Алексеевна","1301219069","История",3.6,"Экзамен","2014/2015 учебный год 4 модуль",null,32.4,3.6,1,1,508316804,2098,null,"stCommon","Журналистика",{"$f":"MATCH(D474,Отчет!$C:$C,0)","v":37}]
[525597834,5,"БЖУР131",474332631,"Астапенко","Ольга","Юрьевна","1301219003","История",3.6,"Экзамен","2014/2015 учебный год 4 модуль",null,18,3.6,1,1,508316804,2098,null,"stCommon","Журналистика",{"$f":"MATCH(D475,Отчет!$C:$C,0)","v":44}]
[525597909,8,"БЖУР131",481496658,"Афанасьева","Татьяна","Валерьевна","1311219005","История",3.6,"Экзамен","2014/2015 учебный год 4 модуль",null,28.8,3.6,1,0,508316804,2098,null,"stCommon","Журналистика",{"$f":"MATCH(D476,Отчет!$C:$C,0)","v":33}]
[525598257,4,"БЖУР131",481496795,"Ероносов","Александр","Эдуардович","1311219034","История",3.6,"Экзамен","2014/2015 учебный год 4 модуль",null,14.4,3.6,1,0,508316804,2098,null,"stCommon","Журналистика",{"$f":"MATCH(D477,Отчет!$C:$C,0)","v":72}]
[802064249,6,"БЖУР131",475557886,"Белобеева","Ангелина","Анатольевна","1311219008","История",7,"Экзамен","2014/2015 учебный год 4 модуль",null,42,7,1,0,475555736,2098,"ikRepeat","stCommon","Журналистика",{"$f":"MATCH(D478,Отчет!$C:$C,0)","v":107}]
[821750128,4,"БЖУР132",481498934,"Глазунов","Никита","Сергеевич","116-24/12-036","История",7,"Экзамен","2014/2015 учебный год 4 модуль",null,28,7,1,0,475555736,2098,null,"stCommon","Журналистика",{"$f":"MATCH(D479,Отчет!$C:$C,0)","v":106}]
[719701306,7,"БЖУР134",475564485,"Басиладзе","Мариами","Рамазиевна","1311219007","История",7,"Экзамен","2014/2015 учебный год 4 модуль",null,0,0,1,0,475555736,2098,"ikRepeat","stCommon","Журналистика",{"$f":"MATCH(D480,Отчет!$C:$C,0)","v":80}]
[719700679,5,"БЖУР133",475562419,"Афян","Мария","Геннадьевна","1311219006","История",7,"Экзамен","2014/2015 учебный год 4 модуль",null,0,0,1,0,475555736,2098,"ikRepeat","stCommon","Журналистика",{"$f":"MATCH(D481,Отчет!$C:$C,0)","v":69}]
[719704622,5,"БЖУР132",475561559,"Шевелёва","Кристина","Дмитриевна","1311219106","История",7,"Экзамен","2014/2015 учебный год 4 модуль",null,0,0,1,0,475555736,2098,"ikRepeat","stCommon","Журналистика",{"$f":"MATCH(D482,Отчет!$C:$C,0)","v":87}]
[719703571,5,"БЖУР133",475563046,"Люля","Арина","Артемовна","1311219053","История",7,"Экзамен","2014/2015 учебный год 4 модуль",null,0,0,1,0,475555736,2098,"ikRepeat","stCommon","Журналистика",{"$f":"MATCH(D483,Отчет!$C:$C,0)","v":91}]
[616424947,7,"БЖУР132",475560308,"Бидзионашвили","Кетеван","-","1301219111","История",7,"Экзамен","2014/2015 учебный год 4 модуль",null,49,7,1,1,475555736,2098,"ikRepeat","stCommon","Журналистика",{"$f":"MATCH(D484,Отчет!$C:$C,0)","v":90}]
[719702733,3,"БЖУР132",475561427,"Гранкова","Ксения","Сергеевна","1311219027","История",7,"Экзамен","2014/2015 учебный год 4 модуль",null,0,0,0,0,475555736,2098,"ikRepeat","stCommon","Журналистика",{"$f":"MATCH(D485,Отчет!$C:$C,0)","v":102}]
[804589874,3,"БЖУР133",475562897,"Кистерев","Алексей","Валерьевич","12701089","История",7,"Экзамен","2014/2015 учебный год 4 модуль",null,0,7,0,0,475555736,2098,"ikRepeat","stCommon","Журналистика",{"$f":"MATCH(D486,Отчет!$C:$C,0)","v":105}]
[525601655,8,"БЖУР133",475562216,"Аммосова","Людмила","Михайловна","1311219002","История и теория литературы",3.72,"Экзамен","2014/2015 учебный год 4 модуль",null,29.76,3.72,1,0,508316804,2098,null,"stCommon","Журналистика",{"$f":"MATCH(D487,Отчет!$C:$C,0)","v":39}]
[525600908,10,"БЖУР132",481500688,"Ревоненко","Анна","Николаевна","1311219078","История и теория литературы",3.72,"Экзамен","2014/2015 учебный год 4 модуль",null,37.200000000000003,3.72,1,0,508316804,2098,null,"stCommon","Журналистика",{"$f":"MATCH(D488,Отчет!$C:$C,0)","v":23}]
[525601244,9,"БЖУР132",481500835,"Цегалко","Яна","Николаевна","1311219101","История и теория литературы",3.72,"Экзамен","2014/2015 учебный год 4 модуль",null,33.480000000000004,3.72,1,0,508316804,2098,null,"stCommon","Журналистика",{"$f":"MATCH(D489,Отчет!$C:$C,0)","v":61}]
[525601721,9,"БЖУР133",481501546,"Атасунцев","Александр","Григорьевич","1311219004","История и теория литературы",3.72,"Экзамен","2014/2015 учебный год 4 модуль",null,33.480000000000004,3.72,1,0,508316804,2098,null,"stCommon","Журналистика",{"$f":"MATCH(D490,Отчет!$C:$C,0)","v":67}]
[525602429,7,"БЖУР133",481501825,"Лымарева","Мария","Андреевна","1311219052","История и теория литературы",3.72,"Экзамен","2014/2015 учебный год 4 модуль",null,26.04,3.72,1,0,508316804,2098,null,"stCommon","Журналистика",{"$f":"MATCH(D491,Отчет!$C:$C,0)","v":108}]
[525602628,10,"БЖУР133",481501975,"Молоствова","Анна","Александровна","1311219061","История и теория литературы",3.72,"Экзамен","2014/2015 учебный год 4 модуль",null,37.200000000000003,3.72,1,0,508316804,2098,null,"stCommon","Журналистика",{"$f":"MATCH(D492,Отчет!$C:$C,0)","v":35}]
[525602967,7,"БЖУР133",481502112,"Сидоров","Всеволод","Дмитриевич","1311219085","История и теория литературы",3.72,"Экзамен","2014/2015 учебный год 4 модуль",null,26.04,3.72,1,0,508316804,2098,null,"stCommon","Журналистика",{"$f":"MATCH(D493,Отчет!$C:$C,0)","v":60}]
[525603101,8,"БЖУР133",481502259,"Титов","Игорь","Игоревич","1311219092","История и теория литературы",3.72,"Экзамен","2014/2015 учебный год 4 модуль",null,29.76,3.72,1,0,508316804,2098,null,"stCommon","Журналистика",{"$f":"MATCH(D494,Отчет!$C:$C,0)","v":58}]
[525604155,10,"БЖУР134",481504306,"Кокорева","Мария","Викторовна","1311219040","История и теория литературы",3.72,"Экзамен","2014/2015 учебный год 4 модуль",null,37.200000000000003,3.72,1,0,508316804,2098,null,"stCommon","Журналистика",{"$f":"MATCH(D495,Отчет!$C:$C,0)","v":18}]
[525604221,10,"БЖУР134",481504458,"Королева","Ольга","Викторовна","1311219044","История и теория литературы",3.72,"Экзамен","2014/2015 учебный год 4 модуль",null,37.200000000000003,3.72,1,0,508316804,2098,null,"stCommon","Журналистика",{"$f":"MATCH(D496,Отчет!$C:$C,0)","v":14}]
[525604287,9,"БЖУР134",481504593,"Круглова","Ирина","Викторовна","1311219047","История и теория литературы",3.72,"Экзамен","2014/2015 учебный год 4 модуль",null,33.480000000000004,3.72,1,0,508316804,2098,null,"stCommon","Журналистика",{"$f":"MATCH(D497,Отчет!$C:$C,0)","v":32}]
[525604697,7,"БЖУР134",481504754,"Петренко","Валерия","Денисовна","1311219073","История и теория литературы",3.72,"Экзамен","2014/2015 учебный год 4 модуль",null,26.04,3.72,1,0,508316804,2098,null,"stCommon","Журналистика",{"$f":"MATCH(D498,Отчет!$C:$C,0)","v":88}]
[525604921,7,"БЖУР134",481504898,"Русских","Арина","Сергеевна","1311219082","История и теория литературы",3.72,"Экзамен","2014/2015 учебный год 4 модуль",null,26.04,3.72,1,0,508316804,2098,null,"stCommon","Журналистика",{"$f":"MATCH(D499,Отчет!$C:$C,0)","v":45}]
[525597668,6,"БЖУР131",475557752,"Аветисян","Виолетта","Александровна","1311219001","История и теория литературы",3.72,"Экзамен","2014/2015 учебный год 4 модуль",null,22.32,3.72,1,0,508316804,2098,null,"stCommon","Журналистика",{"$f":"MATCH(D500,Отчет!$C:$C,0)","v":74}]
[525598011,6,"БЖУР131",475557886,"Белобеева","Ангелина","Анатольевна","1311219008","История и теория литературы",3.72,"Экзамен","2014/2015 учебный год 4 модуль",null,22.32,3.72,1,0,508316804,2098,"ikPlanned","stCommon","Журналистика",{"$f":"MATCH(D501,Отчет!$C:$C,0)","v":107}]
[525598282,7,"БЖУР131",481496795,"Ероносов","Александр","Эдуардович","1311219034","История и теория литературы",3.72,"Экзамен","2014/2015 учебный год 4 модуль",null,26.04,3.72,1,0,508316804,2098,null,"stCommon","Журналистика",{"$f":"MATCH(D502,Отчет!$C:$C,0)","v":72}]
[525598414,6,"БЖУР131",481496924,"Зубкевич","Андрей","Вадимович","1311219037","История и теория литературы",3.72,"Экзамен","2014/2015 учебный год 4 модуль",null,22.32,3.72,1,0,508316804,2098,null,"stCommon","Журналистика",{"$f":"MATCH(D503,Отчет!$C:$C,0)","v":104}]
[525598680,9,"БЖУР131",481497225,"Морозова","Николь","Дмитриевна","1311219062","История и теория литературы",3.72,"Экзамен","2014/2015 учебный год 4 модуль",null,33.480000000000004,3.72,1,0,508316804,2098,null,"stCommon","Журналистика",{"$f":"MATCH(D504,Отчет!$C:$C,0)","v":22}]
[525598746,6,"БЖУР131",481497357,"Муратова","Анастасия","Александровна","1311219063","История и теория литературы",3.72,"Экзамен","2014/2015 учебный год 4 модуль",null,22.32,3.72,1,0,508316804,2098,null,"stCommon","Журналистика",{"$f":"MATCH(D505,Отчет!$C:$C,0)","v":56}]
[525598814,9,"БЖУР131",481497484,"Нещадимова","Дарья","Викторовна","1311219067","История и теория литературы",3.72,"Экзамен","2014/2015 учебный год 4 модуль",null,33.480000000000004,3.72,1,0,508316804,2098,null,"stCommon","Журналистика",{"$f":"MATCH(D506,Отчет!$C:$C,0)","v":54}]
[525600042,6,"БЖУР132",481498934,"Глазунов","Никита","Сергеевич","116-24/12-036","История и теория литературы",3.72,"Экзамен","2014/2015 учебный год 4 модуль",null,22.32,3.72,1,0,508316804,2098,"ikPlanned","stCommon","Журналистика",{"$f":"MATCH(D507,Отчет!$C:$C,0)","v":106}]
[525600109,9,"БЖУР132",481499019,"Голованов","Сергей","Сергеевич","1311219022","История и теория литературы",3.72,"Экзамен","2014/2015 учебный год 4 модуль",null,33.480000000000004,3.72,1,0,508316804,2098,null,"stCommon","Журналистика",{"$f":"MATCH(D508,Отчет!$C:$C,0)","v":46}]
[525600442,7,"БЖУР132",481499520,"Королева","Виолетта","Николаевна","1311219043","История и теория литературы",3.72,"Экзамен","2014/2015 учебный год 4 модуль",null,26.04,3.72,1,0,508316804,2098,null,"stCommon","Журналистика",{"$f":"MATCH(D509,Отчет!$C:$C,0)","v":82}]
[525600510,10,"БЖУР132",481499652,"Королькова","Елизавета","Дмитриевна","1311219045","История и теория литературы",3.72,"Экзамен","2014/2015 учебный год 4 модуль",null,37.200000000000003,3.72,1,0,508316804,2098,null,"stCommon","Журналистика",{"$f":"MATCH(D510,Отчет!$C:$C,0)","v":16}]
[525600576,10,"БЖУР132",481500039,"Лебедева","Ксения","Кирилловна","1311219048","История и теория литературы",3.72,"Экзамен","2014/2015 учебный год 4 модуль",null,37.200000000000003,3.72,1,0,508316804,2098,null,"stCommon","Журналистика",{"$f":"MATCH(D511,Отчет!$C:$C,0)","v":15}]
[525600642,7,"БЖУР132",481500235,"Немченко","Илья","Михайлович","1311219066","История и теория литературы",3.72,"Экзамен","2014/2015 учебный год 4 модуль",null,26.04,3.72,1,0,508316804,2098,null,"stCommon","Журналистика",{"$f":"MATCH(D512,Отчет!$C:$C,0)","v":103}]
[525600774,7,"БЖУР132",481500392,"Павлова","Алиса","Павловна","1311219071","История и теория литературы",3.72,"Экзамен","2014/2015 учебный год 4 модуль",null,26.04,3.72,1,0,508316804,2098,null,"stCommon","Журналистика",{"$f":"MATCH(D513,Отчет!$C:$C,0)","v":89}]
[525600842,10,"БЖУР132",481500535,"Правдюк","Анна","Сергеевна","1311219075","История и теория литературы",3.72,"Экзамен","2014/2015 учебный год 4 модуль",null,37.200000000000003,3.72,1,0,508316804,2098,null,"stCommon","Журналистика",{"$f":"MATCH(D514,Отчет!$C:$C,0)","v":12}]
[525598082,6,"БЖУР131",475496297,"Голубева","Анастасия","Павловна","1301219024","История и теория литературы",3.72,"Экзамен","2014/2015 учебный год 4 модуль",null,22.32,3.72,1,1,508316804,2098,null,"stCommon","Журналистика",{"$f":"MATCH(D515,Отчет!$C:$C,0)","v":68}]
[525598149,6,"БЖУР131",475496974,"Джгаркава","Нино","Звиадиевна","1301219029","История и теория литературы",3.72,"Экзамен","2014/2015 учебный год 4 модуль",null,22.32,3.72,1,1,508316804,2098,null,"stCommon","Журналистика",{"$f":"MATCH(D516,Отчет!$C:$C,0)","v":93}]
[525598215,9,"БЖУР131",475497099,"Дымчишина","Александра","Юрьевна","1301219032","История и теория литературы",3.72,"Экзамен","2014/2015 учебный год 4 модуль",null,33.480000000000004,3.72,1,1,508316804,2098,null,"stCommon","Журналистика",{"$f":"MATCH(D517,Отчет!$C:$C,0)","v":65}]
[525598348,null,"БЖУР131",475497229,"Жвик","Анастасия","Николаевна","1301219110","История и теория литературы",3.72,"Экзамен","2014/2015 учебный год 4 модуль",1,0,3.72,null,1,508316804,2098,null,"stCommon","Журналистика",{"$f":"MATCH(D518,Отчет!$C:$C,0)","v":110}]
[525598888,9,"БЖУР131",475497479,"Николаева","Мария","Дмитриевна","1301219068","История и теория литературы",3.72,"Экзамен","2014/2015 учебный год 4 модуль",null,33.480000000000004,3.72,1,1,508316804,2098,null,"stCommon","Журналистика",{"$f":"MATCH(D519,Отчет!$C:$C,0)","v":29}]
[525599088,8,"БЖУР131",475497611,"Ставрианиди","Анна","Георгиевна","1301219087","История и теория литературы",3.72,"Экзамен","2014/2015 учебный год 4 модуль",null,29.76,3.72,1,1,508316804,2098,null,"stCommon","Журналистика",{"$f":"MATCH(D520,Отчет!$C:$C,0)","v":50}]
[525599154,9,"БЖУР131",475497743,"Тищенко","Виктория","Андреевна","1301219093","История и теория литературы",3.72,"Экзамен","2014/2015 учебный год 4 модуль",null,33.480000000000004,3.72,1,1,508316804,2098,null,"stCommon","Журналистика",{"$f":"MATCH(D521,Отчет!$C:$C,0)","v":52}]
[525599300,9,"БЖУР131",475497867,"Яковец","Елизавета","Николаевна","1301219107","История и теория литературы",3.72,"Экзамен","2014/2015 учебный год 4 модуль",null,33.480000000000004,3.72,1,1,508316804,2098,null,"stCommon","Журналистика",{"$f":"MATCH(D522,Отчет!$C:$C,0)","v":27}]
[525599537,9,"БЖУР132",475498195,"Булатова","Катерина","Николаевна","1301219012","История и теория литературы",3.72,"Экзамен","2014/2015 учебный год 4 модуль",null,33.480000000000004,3.72,1,1,508316804,2098,null,"stCommon","Журналистика",{"$f":"MATCH(D523,Отчет!$C:$C,0)","v":34}]
[525600243,7,"БЖУР132",475498343,"Дмитриева","Ольга","Олеговна","1301219031","История и теория литературы",3.72,"Экзамен","2014/2015 учебный год 4 модуль",null,26.04,3.72,1,1,508316804,2098,null,"stCommon","Журналистика",{"$f":"MATCH(D524,Отчет!$C:$C,0)","v":59}]
[525600708,10,"БЖУР132",475498638,"Огурцова","Евгения","Алексеевна","1301219069","История и теория литературы",3.72,"Экзамен","2014/2015 учебный год 4 модуль",null,37.200000000000003,3.72,1,1,508316804,2098,null,"stCommon","Журналистика",{"$f":"MATCH(D525,Отчет!$C:$C,0)","v":37}]
[525597865,9,"БЖУР131",474332631,"Астапенко","Ольга","Юрьевна","1301219003","История и теория литературы",3.72,"Экзамен","2014/2015 учебный год 4 модуль",null,33.480000000000004,3.72,1,1,508316804,2098,null,"stCommon","Журналистика",{"$f":"MATCH(D526,Отчет!$C:$C,0)","v":44}]
[525597935,9,"БЖУР131",481496658,"Афанасьева","Татьяна","Валерьевна","1311219005","История и теория литературы",3.72,"Экзамен","2014/2015 учебный год 4 модуль",null,33.480000000000004,3.72,1,0,508316804,2098,null,"stCommon","Журналистика",{"$f":"MATCH(D527,Отчет!$C:$C,0)","v":33}]
[525605053,8,"БЖУР134",475503320,"Селиванова","Ксения","Александровна","1301219084","История и теория литературы",3.72,"Экзамен","2014/2015 учебный год 4 модуль",null,29.76,3.72,1,1,508316804,2098,null,"stCommon","Журналистика",{"$f":"MATCH(D528,Отчет!$C:$C,0)","v":83}]
[525605197,10,"БЖУР134",475503448,"Суханова","Юлия","Александровна","1301219090","История и теория литературы",3.72,"Экзамен","2014/2015 учебный год 4 модуль",null,37.200000000000003,3.72,1,1,508316804,2098,null,"stCommon","Журналистика",{"$f":"MATCH(D529,Отчет!$C:$C,0)","v":13}]
[525605265,10,"БЖУР134",475503575,"Таиров","Ринат","Маратович","1301219091","История и теория литературы",3.72,"Экзамен","2014/2015 учебный год 4 модуль",null,37.200000000000003,3.72,1,1,508316804,2098,null,"stCommon","Журналистика",{"$f":"MATCH(D530,Отчет!$C:$C,0)","v":53}]
[617793340,6,"БЖУР131",580462633,"Немкова","Екатерина","Дмитриевна","131232209","История и теория литературы",3.72,"Экзамен","2014/2015 учебный год 4 модуль",null,22.32,3.72,1,0,508316804,2098,"ikPlanned","stCommon","Журналистика",{"$f":"MATCH(D531,Отчет!$C:$C,0)","v":98}]
[617795982,6,"БЖУР131",615125946,"Халилова","Арзу","Идаятовна","131232230","История и теория литературы",3.72,"Экзамен","2014/2015 учебный год 4 модуль",null,22.32,3.72,1,0,508316804,2098,"ikPlanned","stCommon","Журналистика",{"$f":"MATCH(D532,Отчет!$C:$C,0)","v":95}]
[525604563,8,"БЖУР134",475503059,"Маркова","Кристина","Алексеевна","1301219058","История и теория литературы",3.72,"Экзамен","2014/2015 учебный год 4 модуль",null,29.76,3.72,1,1,508316804,2098,null,"stCommon","Журналистика",{"$f":"MATCH(D533,Отчет!$C:$C,0)","v":76}]
[525604840,10,"БЖУР134",475503187,"Робул","Павел","Константинович","1301219079","История и теория литературы",3.72,"Экзамен","2014/2015 учебный год 4 модуль",null,37.200000000000003,3.72,1,1,508316804,2098,null,"stCommon","Журналистика",{"$f":"MATCH(D534,Отчет!$C:$C,0)","v":38}]
[525602769,7,"БЖУР133",475563521,"Осипова","Светлана","Витальевна","1311219070","История и теория литературы",3.72,"Экзамен","2014/2015 учебный год 4 модуль",null,26.04,3.72,1,0,508316804,2098,null,"stCommon","Журналистика",{"$f":"MATCH(D535,Отчет!$C:$C,0)","v":71}]
[525603301,8,"БЖУР133",475563678,"Чехонадских","Дарья","Александровна","1301219104","История и теория литературы",3.72,"Экзамен","2014/2015 учебный год 4 модуль",null,29.76,3.72,1,1,508316804,2098,null,"stCommon","Журналистика",{"$f":"MATCH(D536,Отчет!$C:$C,0)","v":81}]
[525603620,8,"248ж",475564380,"Алешкина","Александрина","Александровна","231210002","История и теория литературы",3.72,"Экзамен","2014/2015 учебный год 4 модуль",null,29.76,3.72,1,0,508316804,2098,"ikPlanned","stCommon","Журналистика",{"$f":"MATCH(D537,Отчет!$C:$C,0)","v":100}]
[525603689,7,"БЖУР134",475564485,"Басиладзе","Мариами","Рамазиевна","1311219007","История и теория литературы",3.72,"Экзамен","2014/2015 учебный год 4 модуль",null,26.04,3.72,1,0,508316804,2098,"ikPlanned","stCommon","Журналистика",{"$f":"MATCH(D538,Отчет!$C:$C,0)","v":80}]
[525603821,9,"БЖУР134",475564642,"Гимаева","Жанна","Эмзаровна","1311219021","История и теория литературы",3.72,"Экзамен","2014/2015 учебный год 4 модуль",null,33.480000000000004,3.72,1,0,508316804,2098,null,"stCommon","Журналистика",{"$f":"MATCH(D539,Отчет!$C:$C,0)","v":51}]
[525603953,7,"БЖУР134",475564787,"Досий","Зоряна","Владимировна","1301219109","История и теория литературы",3.72,"Экзамен","2014/2015 учебный год 4 модуль",null,26.04,3.72,1,1,508316804,2098,"ikPlanned","stCommon","Журналистика",{"$f":"MATCH(D540,Отчет!$C:$C,0)","v":99}]
[525604019,7,"БЖУР134",475564933,"Животнёв","Владислав","Николаевич","1311219035","История и теория литературы",3.72,"Экзамен","2014/2015 учебный год 4 модуль",null,26.04,3.72,1,0,508316804,2098,null,"stCommon","Журналистика",{"$f":"MATCH(D541,Отчет!$C:$C,0)","v":75}]
[525604087,10,"БЖУР134",475565084,"Зражаева","Алина","Сергеевна","1311219036","История и теория литературы",3.72,"Экзамен","2014/2015 учебный год 4 модуль",null,37.200000000000003,3.72,1,0,508316804,2098,null,"stCommon","Журналистика",{"$f":"MATCH(D542,Отчет!$C:$C,0)","v":49}]
[525604419,10,"БЖУР134",475565231,"Макарова","Юлия","Валерьевна","1311219054","История и теория литературы",3.72,"Экзамен","2014/2015 учебный год 4 модуль",null,37.200000000000003,3.72,1,0,508316804,2098,null,"stCommon","Журналистика",{"$f":"MATCH(D543,Отчет!$C:$C,0)","v":70}]
[525604487,8,"БЖУР134",475565410,"Маленкова","Мария","Александровна","1301219055","История и теория литературы",3.72,"Экзамен","2014/2015 учебный год 4 модуль",null,29.76,3.72,1,1,508316804,2098,null,"stCommon","Журналистика",{"$f":"MATCH(D544,Отчет!$C:$C,0)","v":47}]
[525604629,10,"БЖУР134",475565551,"Нарушевич","Анастасия","Александровна","1311219065","История и теория литературы",3.72,"Экзамен","2014/2015 учебный год 4 модуль",null,37.200000000000003,3.72,1,0,508316804,2098,null,"stCommon","Журналистика",{"$f":"MATCH(D545,Отчет!$C:$C,0)","v":78}]
[525605121,9,"БЖУР134",475565869,"Стешенкова","Александра","Евгеньевна","1301219088","История и теория литературы",3.72,"Экзамен","2014/2015 учебный год 4 модуль",null,33.480000000000004,3.72,1,1,508316804,2098,null,"stCommon","Журналистика",{"$f":"MATCH(D546,Отчет!$C:$C,0)","v":79}]
[525601994,10,"БЖУР133",475500628,"Головина","Евгения","Павловна","1301219023","История и теория литературы",3.72,"Экзамен","2014/2015 учебный год 4 модуль",null,37.200000000000003,3.72,1,1,508316804,2098,null,"stCommon","Журналистика",{"$f":"MATCH(D547,Отчет!$C:$C,0)","v":41}]
[525602062,8,"БЖУР133",475500772,"Дмитриева","Екатерина","Александровна","1301219030","История и теория литературы",3.72,"Экзамен","2014/2015 учебный год 4 модуль",null,29.76,3.72,1,1,508316804,2098,null,"stCommon","Журналистика",{"$f":"MATCH(D548,Отчет!$C:$C,0)","v":40}]
[525602129,6,"БЖУР133",475500939,"Еремина","Анастасия","Алексеевна","1301219033","История и теория литературы",3.72,"Экзамен","2014/2015 учебный год 4 модуль",null,22.32,3.72,1,1,508316804,2098,null,"stCommon","Журналистика",{"$f":"MATCH(D549,Отчет!$C:$C,0)","v":94}]
[525602293,7,"БЖУР133",475501085,"Кокшарова","Александра","Игоревна","1301219041","История и теория литературы",3.72,"Экзамен","2014/2015 учебный год 4 модуль",null,26.04,3.72,1,1,508316804,2098,null,"stCommon","Журналистика",{"$f":"MATCH(D550,Отчет!$C:$C,0)","v":48}]
[525602363,10,"БЖУР133",475501239,"Липчанская","Анастасия","Алексеевна","1301219049","История и теория литературы",3.72,"Экзамен","2014/2015 учебный год 4 модуль",null,37.200000000000003,3.72,1,1,508316804,2098,null,"stCommon","Журналистика",{"$f":"MATCH(D551,Отчет!$C:$C,0)","v":20}]
[525602835,8,"БЖУР133",475501379,"Пятибратова","Екатерина","Васильевна","1301219077","История и теория литературы",3.72,"Экзамен","2014/2015 учебный год 4 модуль",null,29.76,3.72,1,1,508316804,2098,null,"stCommon","Журналистика",{"$f":"MATCH(D552,Отчет!$C:$C,0)","v":57}]
[525602901,10,"БЖУР133",475501513,"Рублева","Милена","Валерьевна","1301219080","История и теория литературы",3.72,"Экзамен","2014/2015 учебный год 4 модуль",null,37.200000000000003,3.72,1,1,508316804,2098,null,"stCommon","Журналистика",{"$f":"MATCH(D553,Отчет!$C:$C,0)","v":25}]
[525603033,7,"БЖУР133",475501641,"Стрельцова","Наталья","Сергеевна","1301219089","История и теория литературы",3.72,"Экзамен","2014/2015 учебный год 4 модуль",null,26.04,3.72,1,1,508316804,2098,null,"stCommon","Журналистика",{"$f":"MATCH(D554,Отчет!$C:$C,0)","v":64}]
[525603167,10,"БЖУР133",475501776,"Чернова","Кристина","Валериевна","1301219102","История и теория литературы",3.72,"Экзамен","2014/2015 учебный год 4 модуль",null,37.200000000000003,3.72,1,1,508316804,2098,null,"stCommon","Журналистика",{"$f":"MATCH(D555,Отчет!$C:$C,0)","v":24}]
[525603233,9,"БЖУР133",475501916,"Чернышева","Евгения","Эдуардовна","1301219103","История и теория литературы",3.72,"Экзамен","2014/2015 учебный год 4 модуль",null,33.480000000000004,3.72,1,1,508316804,2098,null,"stCommon","Журналистика",{"$f":"MATCH(D556,Отчет!$C:$C,0)","v":42}]
[525603755,9,"БЖУР134",475502663,"Вагапова","Юлия","Рстамовна","1301219016","История и теория литературы",3.72,"Экзамен","2014/2015 учебный год 4 модуль",null,33.480000000000004,3.72,1,1,508316804,2098,null,"stCommon","Журналистика",{"$f":"MATCH(D557,Отчет!$C:$C,0)","v":43}]
[525603887,8,"БЖУР134",475502790,"Дергалов","Руслан","Сергеевич","1301219028","История и теория литературы",3.72,"Экзамен","2014/2015 учебный год 4 модуль",null,29.76,3.72,1,1,508316804,2098,null,"stCommon","Журналистика",{"$f":"MATCH(D558,Отчет!$C:$C,0)","v":62}]
[525604353,10,"БЖУР134",475502924,"Литвякова","Евдокия","Алексеевна","1301219050","История и теория литературы",3.72,"Экзамен","2014/2015 учебный год 4 модуль",null,37.200000000000003,3.72,1,1,508316804,2098,null,"stCommon","Журналистика",{"$f":"MATCH(D559,Отчет!$C:$C,0)","v":36}]
[525601796,7,"БЖУР133",475562419,"Афян","Мария","Геннадьевна","1311219006","История и теория литературы",3.72,"Экзамен","2014/2015 учебный год 4 модуль",null,26.04,3.72,1,0,508316804,2098,"ikPlanned","stCommon","Журналистика",{"$f":"MATCH(D560,Отчет!$C:$C,0)","v":69}]
[525601928,9,"БЖУР133",475562579,"Герасимова","Мария","Александровна","1311219020","История и теория литературы",3.72,"Экзамен","2014/2015 учебный год 4 модуль",null,33.480000000000004,3.72,1,0,508316804,2098,null,"stCommon","Журналистика",{"$f":"MATCH(D561,Отчет!$C:$C,0)","v":28}]
[525602200,6,"БЖУР133",475562897,"Кистерев","Алексей","Валерьевич","12701089","История и теория литературы",3.72,"Экзамен","2014/2015 учебный год 4 модуль",null,22.32,3.72,1,0,508316804,2098,"ikPlanned","stCommon","Журналистика",{"$f":"MATCH(D562,Отчет!$C:$C,0)","v":105}]
[525602495,6,"БЖУР133",475563046,"Люля","Арина","Артемовна","1311219053","История и теория литературы",3.72,"Экзамен","2014/2015 учебный год 4 модуль",null,22.32,3.72,1,0,508316804,2098,"ikPlanned","stCommon","Журналистика",{"$f":"MATCH(D563,Отчет!$C:$C,0)","v":91}]
[525602562,7,"БЖУР133",475563206,"Малышева","Ирина","Александровна","1301219056","История и теория литературы",3.72,"Экзамен","2014/2015 учебный год 4 модуль",null,26.04,3.72,1,1,508316804,2098,null,"stCommon","Журналистика",{"$f":"MATCH(D564,Отчет!$C:$C,0)","v":66}]
[525602702,8,"БЖУР133",475563331,"Мусина","Юлия","Маратовна","1301219064","История и теория литературы",3.72,"Экзамен","2014/2015 учебный год 4 модуль",null,29.76,3.72,1,1,508316804,2098,null,"stCommon","Журналистика",{"$f":"MATCH(D565,Отчет!$C:$C,0)","v":26}]
[525600974,10,"БЖУР132",475498778,"Рудакова","Юлия","Владиславовна","1301219081","История и теория литературы",3.72,"Экзамен","2014/2015 учебный год 4 модуль",null,37.200000000000003,3.72,1,1,508316804,2098,null,"stCommon","Журналистика",{"$f":"MATCH(D566,Отчет!$C:$C,0)","v":21}]
[525601044,10,"БЖУР132",475498901,"Скворцова","Дарья","Андреевна","1301219086","История и теория литературы",3.72,"Экзамен","2014/2015 учебный год 4 модуль",null,37.200000000000003,3.72,1,1,508316804,2098,null,"stCommon","Журналистика",{"$f":"MATCH(D567,Отчет!$C:$C,0)","v":17}]
[525601178,9,"БЖУР132",475499056,"Федорова","Анастасия","Александровна","1301219096","История и теория литературы",3.72,"Экзамен","2014/2015 учебный год 4 модуль",null,33.480000000000004,3.72,1,1,508316804,2098,null,"stCommon","Журналистика",{"$f":"MATCH(D568,Отчет!$C:$C,0)","v":30}]
[525601112,7,"БЖУР132",475499184,"Устюжанинова","Анна","Александровна","1301219095","История и теория литературы",3.72,"Экзамен","2014/2015 учебный год 4 модуль",null,26.04,3.72,1,1,508316804,2098,null,"stCommon","Журналистика",{"$f":"MATCH(D569,Отчет!$C:$C,0)","v":84}]
[525601378,10,"БЖУР132",475499320,"Якубович","Анастасия","Александровна","1301219108","История и теория литературы",3.72,"Экзамен","2014/2015 учебный год 4 модуль",null,37.200000000000003,3.72,1,1,508316804,2098,null,"stCommon","Журналистика",{"$f":"MATCH(D570,Отчет!$C:$C,0)","v":63}]
[525601862,8,"БЖУР133",475500480,"Вильшанская","Елена","Андреевна","1301219017","История и теория литературы",3.72,"Экзамен","2014/2015 учебный год 4 модуль",null,29.76,3.72,1,1,508316804,2098,null,"stCommon","Журналистика",{"$f":"MATCH(D571,Отчет!$C:$C,0)","v":31}]
[525598614,6,"БЖУР131",475558344,"Маммаева","Фарида","Сулеймановна","1301219057","История и теория литературы",3.72,"Экзамен","2014/2015 учебный год 4 модуль",null,22.32,3.72,1,1,508316804,2098,null,"stCommon","Журналистика",{"$f":"MATCH(D572,Отчет!$C:$C,0)","v":101}]
[525599022,10,"БЖУР131",475558722,"Пржевальская","Анастасия","Всеволодовна","1301219076","История и теория литературы",3.72,"Экзамен","2014/2015 учебный год 4 модуль",null,37.200000000000003,3.72,1,1,508316804,2098,null,"stCommon","Журналистика",{"$f":"MATCH(D573,Отчет!$C:$C,0)","v":55}]
[525604987,10,"БЖУР134",481505031,"Савина","София","Леонидовна","1311219083","История и теория литературы",3.72,"Экзамен","2014/2015 учебный год 4 модуль",null,37.200000000000003,3.72,1,0,508316804,2098,null,"stCommon","Журналистика",{"$f":"MATCH(D574,Отчет!$C:$C,0)","v":19}]
[525605331,8,"БЖУР134",481505154,"Швецова","Екатерина","Константиновна","1311219105","История и теория литературы",3.72,"Экзамен","2014/2015 учебный год 4 модуль",null,29.76,3.72,1,0,508316804,2098,null,"stCommon","Журналистика",{"$f":"MATCH(D575,Отчет!$C:$C,0)","v":86}]
[525599470,8,"БЖУР132",475560308,"Бидзионашвили","Кетеван","-","1301219111","История и теория литературы",3.72,"Экзамен","2014/2015 учебный год 4 модуль",null,29.76,3.72,1,1,508316804,2098,"ikPlanned","stCommon","Журналистика",{"$f":"MATCH(D576,Отчет!$C:$C,0)","v":90}]
[525599603,8,"БЖУР132",475560500,"Буримова","Александра","Сергеевна","1311219014","История и теория литературы",3.72,"Экзамен","2014/2015 учебный год 4 модуль",null,29.76,3.72,1,0,508316804,2098,null,"stCommon","Журналистика",{"$f":"MATCH(D577,Отчет!$C:$C,0)","v":96}]
[523091881,6,"БЖУР132",475560670,"Бурцева","Анастасия","Юрьевна","1311219015","История и теория литературы",3.72,"Экзамен","2014/2015 учебный год 4 модуль",null,22.32,3.72,1,0,508316804,2098,null,"stCommon","Журналистика",{"$f":"MATCH(D578,Отчет!$C:$C,0)","v":73}]
[525599834,7,"БЖУР132",475560846,"Винокур","Дана","Витальевна","1311219018","История и теория литературы",3.72,"Экзамен","2014/2015 учебный год 4 модуль",null,26.04,3.72,1,0,508316804,2098,null,"stCommon","Журналистика",{"$f":"MATCH(D579,Отчет!$C:$C,0)","v":85}]
[525599900,7,"БЖУР132",475561061,"Вишнякова","Екатерина","Владимировна","1311219019","История и теория литературы",3.72,"Экзамен","2014/2015 учебный год 4 модуль",null,26.04,3.72,1,0,508316804,2098,null,"stCommon","Журналистика",{"$f":"MATCH(D580,Отчет!$C:$C,0)","v":77}]
[525599976,8,"БЖУР132",475561255,"Волчек","Никита","Алексеевич","1311219112","История и теория литературы",3.72,"Экзамен","2014/2015 учебный год 4 модуль",null,29.76,3.72,1,0,508316804,2098,"ikPlanned","stCommon","Журналистика",{"$f":"MATCH(D581,Отчет!$C:$C,0)","v":97}]
[525600177,5,"БЖУР132",475561427,"Гранкова","Ксения","Сергеевна","1311219027","История и теория литературы",3.72,"Экзамен","2014/2015 учебный год 4 модуль",null,18.600000000000001,3.72,1,0,508316804,2098,"ikPlanned","stCommon","Журналистика",{"$f":"MATCH(D582,Отчет!$C:$C,0)","v":102}]
[525601310,6,"БЖУР132",475561559,"Шевелёва","Кристина","Дмитриевна","1311219106","История и теория литературы",3.72,"Экзамен","2014/2015 учебный год 4 модуль",null,22.32,3.72,1,0,508316804,2098,"ikPlanned","stCommon","Журналистика",{"$f":"MATCH(D583,Отчет!$C:$C,0)","v":87}]
[771504610,6,"БЖУР131",752764364,"Масалова","Анна","Владиславовна","131232133","История и теория литературы",4.03,"Экзамен","2014/2015 учебный год 4 модуль",null,24.18,4.03,1,0,508316804,2098,"ikPassed","stCommon","Журналистика",{"$f":"MATCH(D584,Отчет!$C:$C,0)","v":92}]
[525602997,9,"БЖУР133",481502112,"Сидоров","Всеволод","Дмитриевич","1311219085","Курсовая работа",5,"Экзамен","2014/2015 учебный год 4 модуль",null,45,5,1,0,508316804,4308,null,null,"Журналистика",{"$f":"MATCH(D585,Отчет!$C:$C,0)","v":60}]
[525603131,10,"БЖУР133",481502259,"Титов","Игорь","Игоревич","1311219092","Курсовая работа",5,"Экзамен","2014/2015 учебный год 4 модуль",null,50,5,1,0,508316804,4308,null,null,"Журналистика",{"$f":"MATCH(D586,Отчет!$C:$C,0)","v":58}]
[525604185,8,"БЖУР134",481504306,"Кокорева","Мария","Викторовна","1311219040","Курсовая работа",5,"Экзамен","2014/2015 учебный год 4 модуль",null,40,5,1,0,508316804,4308,null,null,"Журналистика",{"$f":"MATCH(D587,Отчет!$C:$C,0)","v":18}]
[525604251,10,"БЖУР134",481504458,"Королева","Ольга","Викторовна","1311219044","Курсовая работа",5,"Экзамен","2014/2015 учебный год 4 модуль",null,50,5,1,0,508316804,4308,null,null,"Журналистика",{"$f":"MATCH(D588,Отчет!$C:$C,0)","v":14}]
[525604317,8,"БЖУР134",481504593,"Круглова","Ирина","Викторовна","1311219047","Курсовая работа",5,"Экзамен","2014/2015 учебный год 4 модуль",null,40,5,1,0,508316804,4308,null,null,"Журналистика",{"$f":"MATCH(D589,Отчет!$C:$C,0)","v":32}]
[525604727,7,"БЖУР134",481504754,"Петренко","Валерия","Денисовна","1311219073","Курсовая работа",5,"Экзамен","2014/2015 учебный год 4 модуль",null,35,5,1,0,508316804,4308,null,null,"Журналистика",{"$f":"MATCH(D590,Отчет!$C:$C,0)","v":88}]
[525604951,9,"БЖУР134",481504898,"Русских","Арина","Сергеевна","1311219082","Курсовая работа",5,"Экзамен","2014/2015 учебный год 4 модуль",null,45,5,1,0,508316804,4308,null,null,"Журналистика",{"$f":"MATCH(D591,Отчет!$C:$C,0)","v":45}]
[525597698,9,"БЖУР131",475557752,"Аветисян","Виолетта","Александровна","1311219001","Курсовая работа",5,"Экзамен","2014/2015 учебный год 4 модуль",null,45,5,1,0,508316804,4308,null,null,"Журналистика",{"$f":"MATCH(D592,Отчет!$C:$C,0)","v":74}]
[525598042,0,"БЖУР131",475557886,"Белобеева","Ангелина","Анатольевна","1311219008","Курсовая работа",5,"Экзамен","2014/2015 учебный год 4 модуль",null,0,5,0,0,508316804,4308,"ikPlanned",null,"Журналистика",{"$f":"MATCH(D593,Отчет!$C:$C,0)","v":107}]
[525598312,9,"БЖУР131",481496795,"Ероносов","Александр","Эдуардович","1311219034","Курсовая работа",5,"Экзамен","2014/2015 учебный год 4 модуль",null,45,5,1,0,508316804,4308,null,null,"Журналистика",{"$f":"MATCH(D594,Отчет!$C:$C,0)","v":72}]
[525598444,6,"БЖУР131",481496924,"Зубкевич","Андрей","Вадимович","1311219037","Курсовая работа",5,"Экзамен","2014/2015 учебный год 4 модуль",null,30,5,1,0,508316804,4308,null,null,"Журналистика",{"$f":"MATCH(D595,Отчет!$C:$C,0)","v":104}]
[525598710,10,"БЖУР131",481497225,"Морозова","Николь","Дмитриевна","1311219062","Курсовая работа",5,"Экзамен","2014/2015 учебный год 4 модуль",null,50,5,1,0,508316804,4308,null,null,"Журналистика",{"$f":"MATCH(D596,Отчет!$C:$C,0)","v":22}]
[525598776,9,"БЖУР131",481497357,"Муратова","Анастасия","Александровна","1311219063","Курсовая работа",5,"Экзамен","2014/2015 учебный год 4 модуль",null,45,5,1,0,508316804,4308,null,null,"Журналистика",{"$f":"MATCH(D597,Отчет!$C:$C,0)","v":56}]
[525598852,9,"БЖУР131",481497484,"Нещадимова","Дарья","Викторовна","1311219067","Курсовая работа",5,"Экзамен","2014/2015 учебный год 4 модуль",null,45,5,1,0,508316804,4308,null,null,"Журналистика",{"$f":"MATCH(D598,Отчет!$C:$C,0)","v":54}]
[525600072,6,"БЖУР132",481498934,"Глазунов","Никита","Сергеевич","116-24/12-036","Курсовая работа",5,"Экзамен","2014/2015 учебный год 4 модуль",null,30,5,1,0,508316804,4308,"ikPlanned",null,"Журналистика",{"$f":"MATCH(D599,Отчет!$C:$C,0)","v":106}]
[525600141,9,"БЖУР132",481499019,"Голованов","Сергей","Сергеевич","1311219022","Курсовая работа",5,"Экзамен","2014/2015 учебный год 4 модуль",null,45,5,1,0,508316804,4308,null,null,"Журналистика",{"$f":"MATCH(D600,Отчет!$C:$C,0)","v":46}]
[525600474,7,"БЖУР132",481499520,"Королева","Виолетта","Николаевна","1311219043","Курсовая работа",5,"Экзамен","2014/2015 учебный год 4 модуль",null,35,5,1,0,508316804,4308,null,null,"Журналистика",{"$f":"MATCH(D601,Отчет!$C:$C,0)","v":82}]
[525600540,10,"БЖУР132",481499652,"Королькова","Елизавета","Дмитриевна","1311219045","Курсовая работа",5,"Экзамен","2014/2015 учебный год 4 модуль",null,50,5,1,0,508316804,4308,null,null,"Журналистика",{"$f":"MATCH(D602,Отчет!$C:$C,0)","v":16}]
[525600606,9,"БЖУР132",481500039,"Лебедева","Ксения","Кирилловна","1311219048","Курсовая работа",5,"Экзамен","2014/2015 учебный год 4 модуль",null,45,5,1,0,508316804,4308,null,null,"Журналистика",{"$f":"MATCH(D603,Отчет!$C:$C,0)","v":15}]
[525600672,4,"БЖУР132",481500235,"Немченко","Илья","Михайлович","1311219066","Курсовая работа",5,"Экзамен","2014/2015 учебный год 4 модуль",null,20,5,1,0,508316804,4308,null,null,"Журналистика",{"$f":"MATCH(D604,Отчет!$C:$C,0)","v":103}]
[525600804,8,"БЖУР132",481500392,"Павлова","Алиса","Павловна","1311219071","Курсовая работа",5,"Экзамен","2014/2015 учебный год 4 модуль",null,40,5,1,0,508316804,4308,null,null,"Журналистика",{"$f":"MATCH(D605,Отчет!$C:$C,0)","v":89}]
[525600872,10,"БЖУР132",481500535,"Правдюк","Анна","Сергеевна","1311219075","Курсовая работа",5,"Экзамен","2014/2015 учебный год 4 модуль",null,50,5,1,0,508316804,4308,null,null,"Журналистика",{"$f":"MATCH(D606,Отчет!$C:$C,0)","v":12}]
[525598112,9,"БЖУР131",475496297,"Голубева","Анастасия","Павловна","1301219024","Курсовая работа",5,"Экзамен","2014/2015 учебный год 4 модуль",null,45,5,1,1,508316804,4308,null,null,"Журналистика",{"$f":"MATCH(D607,Отчет!$C:$C,0)","v":68}]
[525598179,8,"БЖУР131",475496974,"Джгаркава","Нино","Звиадиевна","1301219029","Курсовая работа",5,"Экзамен","2014/2015 учебный год 4 модуль",null,40,5,1,1,508316804,4308,null,null,"Журналистика",{"$f":"MATCH(D608,Отчет!$C:$C,0)","v":93}]
[525598245,8,"БЖУР131",475497099,"Дымчишина","Александра","Юрьевна","1301219032","Курсовая работа",5,"Экзамен","2014/2015 учебный год 4 модуль",null,40,5,1,1,508316804,4308,null,null,"Журналистика",{"$f":"MATCH(D609,Отчет!$C:$C,0)","v":65}]
[525598378,10,"БЖУР131",475497229,"Жвик","Анастасия","Николаевна","1301219110","Курсовая работа",5,"Экзамен","2014/2015 учебный год 4 модуль",null,50,5,1,1,508316804,4308,null,null,"Журналистика",{"$f":"MATCH(D610,Отчет!$C:$C,0)","v":110}]
[525598918,10,"БЖУР131",475497479,"Николаева","Мария","Дмитриевна","1301219068","Курсовая работа",5,"Экзамен","2014/2015 учебный год 4 модуль",null,50,5,1,1,508316804,4308,null,null,"Журналистика",{"$f":"MATCH(D611,Отчет!$C:$C,0)","v":29}]
[525599118,9,"БЖУР131",475497611,"Ставрианиди","Анна","Георгиевна","1301219087","Курсовая работа",5,"Экзамен","2014/2015 учебный год 4 модуль",null,45,5,1,1,508316804,4308,null,null,"Журналистика",{"$f":"MATCH(D612,Отчет!$C:$C,0)","v":50}]
[525599186,9,"БЖУР131",475497743,"Тищенко","Виктория","Андреевна","1301219093","Курсовая работа",5,"Экзамен","2014/2015 учебный год 4 модуль",null,45,5,1,1,508316804,4308,null,null,"Журналистика",{"$f":"MATCH(D613,Отчет!$C:$C,0)","v":52}]
[525599330,10,"БЖУР131",475497867,"Яковец","Елизавета","Николаевна","1301219107","Курсовая работа",5,"Экзамен","2014/2015 учебный год 4 модуль",null,50,5,1,1,508316804,4308,null,null,"Журналистика",{"$f":"MATCH(D614,Отчет!$C:$C,0)","v":27}]
[525599567,9,"БЖУР132",475498195,"Булатова","Катерина","Николаевна","1301219012","Курсовая работа",5,"Экзамен","2014/2015 учебный год 4 модуль",null,45,5,1,1,508316804,4308,null,null,"Журналистика",{"$f":"MATCH(D615,Отчет!$C:$C,0)","v":34}]
[525600273,9,"БЖУР132",475498343,"Дмитриева","Ольга","Олеговна","1301219031","Курсовая работа",5,"Экзамен","2014/2015 учебный год 4 модуль",null,45,5,1,1,508316804,4308,null,null,"Журналистика",{"$f":"MATCH(D616,Отчет!$C:$C,0)","v":59}]
[525600738,8,"БЖУР132",475498638,"Огурцова","Евгения","Алексеевна","1301219069","Курсовая работа",5,"Экзамен","2014/2015 учебный год 4 модуль",null,40,5,1,1,508316804,4308,null,null,"Журналистика",{"$f":"MATCH(D617,Отчет!$C:$C,0)","v":37}]
[525597897,10,"БЖУР131",474332631,"Астапенко","Ольга","Юрьевна","1301219003","Курсовая работа",5,"Экзамен","2014/2015 учебный год 4 модуль",null,50,5,1,1,508316804,4308,null,null,"Журналистика",{"$f":"MATCH(D618,Отчет!$C:$C,0)","v":44}]
[525597974,10,"БЖУР131",481496658,"Афанасьева","Татьяна","Валерьевна","1311219005","Курсовая работа",5,"Экзамен","2014/2015 учебный год 4 модуль",null,50,5,1,0,508316804,4308,null,null,"Журналистика",{"$f":"MATCH(D619,Отчет!$C:$C,0)","v":33}]
[525605085,7,"БЖУР134",475503320,"Селиванова","Ксения","Александровна","1301219084","Курсовая работа",5,"Экзамен","2014/2015 учебный год 4 модуль",null,35,5,1,1,508316804,4308,null,null,"Журналистика",{"$f":"MATCH(D620,Отчет!$C:$C,0)","v":83}]
[525605229,10,"БЖУР134",475503448,"Суханова","Юлия","Александровна","1301219090","Курсовая работа",5,"Экзамен","2014/2015 учебный год 4 модуль",null,50,5,1,1,508316804,4308,null,null,"Журналистика",{"$f":"MATCH(D621,Отчет!$C:$C,0)","v":13}]
[525605295,7,"БЖУР134",475503575,"Таиров","Ринат","Маратович","1301219091","Курсовая работа",5,"Экзамен","2014/2015 учебный год 4 модуль",null,35,5,1,1,508316804,4308,null,null,"Журналистика",{"$f":"MATCH(D622,Отчет!$C:$C,0)","v":53}]
[771504620,7,"БЖУР131",752764364,"Масалова","Анна","Владиславовна","131232133","Курсовая работа",5,"Экзамен","2014/2015 учебный год 4 модуль",null,35,5,1,0,508316804,4308,"ikPassed",null,"Журналистика",{"$f":"MATCH(D623,Отчет!$C:$C,0)","v":92}]
[617793352,5,"БЖУР131",580462633,"Немкова","Екатерина","Дмитриевна","131232209","Курсовая работа",5,"Экзамен","2014/2015 учебный год 4 модуль",null,25,5,1,0,508316804,4308,"ikPassed",null,"Журналистика",{"$f":"MATCH(D624,Отчет!$C:$C,0)","v":98}]
[617795995,8,"БЖУР131",615125946,"Халилова","Арзу","Идаятовна","131232230","Курсовая работа",5,"Экзамен","2014/2015 учебный год 4 модуль",null,40,5,1,0,508316804,4308,"ikPassed",null,"Журналистика",{"$f":"MATCH(D625,Отчет!$C:$C,0)","v":95}]
[796966845,9,"БЖУР131",796834861,"Тесфайе","Анна-Мария","Синтайе","10701175","Курсовая работа",5,"Экзамен","2014/2015 учебный год 4 модуль",null,45,5,1,0,508316804,4308,"ikPassed",null,"Журналистика",{"$f":"MATCH(D626,Отчет!$C:$C,0)","v":109}]
[525604593,9,"БЖУР134",475503059,"Маркова","Кристина","Алексеевна","1301219058","Курсовая работа",5,"Экзамен","2014/2015 учебный год 4 модуль",null,45,5,1,1,508316804,4308,null,null,"Журналистика",{"$f":"MATCH(D627,Отчет!$C:$C,0)","v":76}]
[525604871,9,"БЖУР134",475503187,"Робул","Павел","Константинович","1301219079","Курсовая работа",5,"Экзамен","2014/2015 учебный год 4 модуль",null,45,5,1,1,508316804,4308,null,null,"Журналистика",{"$f":"MATCH(D628,Отчет!$C:$C,0)","v":38}]
[525602799,10,"БЖУР133",475563521,"Осипова","Светлана","Витальевна","1311219070","Курсовая работа",5,"Экзамен","2014/2015 учебный год 4 модуль",null,50,5,1,0,508316804,4308,null,null,"Журналистика",{"$f":"MATCH(D629,Отчет!$C:$C,0)","v":71}]
[525603333,9,"БЖУР133",475563678,"Чехонадских","Дарья","Александровна","1301219104","Курсовая работа",5,"Экзамен","2014/2015 учебный год 4 модуль",null,45,5,1,1,508316804,4308,null,null,"Журналистика",{"$f":"MATCH(D630,Отчет!$C:$C,0)","v":81}]
[525603650,9,"248ж",475564380,"Алешкина","Александрина","Александровна","231210002","Курсовая работа",5,"Экзамен","2014/2015 учебный год 4 модуль",null,45,5,1,0,508316804,4308,"ikPlanned",null,"Журналистика",{"$f":"MATCH(D631,Отчет!$C:$C,0)","v":100}]
[525603719,4,"БЖУР134",475564485,"Басиладзе","Мариами","Рамазиевна","1311219007","Курсовая работа",5,"Экзамен","2014/2015 учебный год 4 модуль",null,20,5,1,0,508316804,4308,"ikPlanned",null,"Журналистика",{"$f":"MATCH(D632,Отчет!$C:$C,0)","v":80}]
[525603851,8,"БЖУР134",475564642,"Гимаева","Жанна","Эмзаровна","1311219021","Курсовая работа",5,"Экзамен","2014/2015 учебный год 4 модуль",null,40,5,1,0,508316804,4308,null,null,"Журналистика",{"$f":"MATCH(D633,Отчет!$C:$C,0)","v":51}]
[525603983,7,"БЖУР134",475564787,"Досий","Зоряна","Владимировна","1301219109","Курсовая работа",5,"Экзамен","2014/2015 учебный год 4 модуль",null,35,5,1,1,508316804,4308,"ikPlanned",null,"Журналистика",{"$f":"MATCH(D634,Отчет!$C:$C,0)","v":99}]
[525604049,9,"БЖУР134",475564933,"Животнёв","Владислав","Николаевич","1311219035","Курсовая работа",5,"Экзамен","2014/2015 учебный год 4 модуль",null,45,5,1,0,508316804,4308,null,null,"Журналистика",{"$f":"MATCH(D635,Отчет!$C:$C,0)","v":75}]
[525604119,7,"БЖУР134",475565084,"Зражаева","Алина","Сергеевна","1311219036","Курсовая работа",5,"Экзамен","2014/2015 учебный год 4 модуль",null,35,5,1,0,508316804,4308,null,null,"Журналистика",{"$f":"MATCH(D636,Отчет!$C:$C,0)","v":49}]
[525604449,6,"БЖУР134",475565231,"Макарова","Юлия","Валерьевна","1311219054","Курсовая работа",5,"Экзамен","2014/2015 учебный год 4 модуль",null,30,5,1,0,508316804,4308,null,null,"Журналистика",{"$f":"MATCH(D637,Отчет!$C:$C,0)","v":70}]
[525604522,8,"БЖУР134",475565410,"Маленкова","Мария","Александровна","1301219055","Курсовая работа",5,"Экзамен","2014/2015 учебный год 4 модуль",null,40,5,1,1,508316804,4308,null,null,"Журналистика",{"$f":"MATCH(D638,Отчет!$C:$C,0)","v":47}]
[525604661,6,"БЖУР134",475565551,"Нарушевич","Анастасия","Александровна","1311219065","Курсовая работа",5,"Экзамен","2014/2015 учебный год 4 модуль",null,30,5,1,0,508316804,4308,null,null,"Журналистика",{"$f":"MATCH(D639,Отчет!$C:$C,0)","v":78}]
[525605156,8,"БЖУР134",475565869,"Стешенкова","Александра","Евгеньевна","1301219088","Курсовая работа",5,"Экзамен","2014/2015 учебный год 4 модуль",null,40,5,1,1,508316804,4308,null,null,"Журналистика",{"$f":"MATCH(D640,Отчет!$C:$C,0)","v":79}]
[525602024,9,"БЖУР133",475500628,"Головина","Евгения","Павловна","1301219023","Курсовая работа",5,"Экзамен","2014/2015 учебный год 4 модуль",null,45,5,1,1,508316804,4308,null,null,"Журналистика",{"$f":"MATCH(D641,Отчет!$C:$C,0)","v":41}]
[525602093,10,"БЖУР133",475500772,"Дмитриева","Екатерина","Александровна","1301219030","Курсовая работа",5,"Экзамен","2014/2015 учебный год 4 модуль",null,50,5,1,1,508316804,4308,null,null,"Журналистика",{"$f":"MATCH(D642,Отчет!$C:$C,0)","v":40}]
[525602161,9,"БЖУР133",475500939,"Еремина","Анастасия","Алексеевна","1301219033","Курсовая работа",5,"Экзамен","2014/2015 учебный год 4 модуль",null,45,5,1,1,508316804,4308,null,null,"Журналистика",{"$f":"MATCH(D643,Отчет!$C:$C,0)","v":94}]
[525602323,10,"БЖУР133",475501085,"Кокшарова","Александра","Игоревна","1301219041","Курсовая работа",5,"Экзамен","2014/2015 учебный год 4 модуль",null,50,5,1,1,508316804,4308,null,null,"Журналистика",{"$f":"MATCH(D644,Отчет!$C:$C,0)","v":48}]
[525602393,10,"БЖУР133",475501239,"Липчанская","Анастасия","Алексеевна","1301219049","Курсовая работа",5,"Экзамен","2014/2015 учебный год 4 модуль",null,50,5,1,1,508316804,4308,null,null,"Журналистика",{"$f":"MATCH(D645,Отчет!$C:$C,0)","v":20}]
[525602865,7,"БЖУР133",475501379,"Пятибратова","Екатерина","Васильевна","1301219077","Курсовая работа",5,"Экзамен","2014/2015 учебный год 4 модуль",null,35,5,1,1,508316804,4308,null,null,"Журналистика",{"$f":"MATCH(D646,Отчет!$C:$C,0)","v":57}]
[525602931,10,"БЖУР133",475501513,"Рублева","Милена","Валерьевна","1301219080","Курсовая работа",5,"Экзамен","2014/2015 учебный год 4 модуль",null,50,5,1,1,508316804,4308,null,null,"Журналистика",{"$f":"MATCH(D647,Отчет!$C:$C,0)","v":25}]
[525603063,9,"БЖУР133",475501641,"Стрельцова","Наталья","Сергеевна","1301219089","Курсовая работа",5,"Экзамен","2014/2015 учебный год 4 модуль",null,45,5,1,1,508316804,4308,null,null,"Журналистика",{"$f":"MATCH(D648,Отчет!$C:$C,0)","v":64}]
[525603197,10,"БЖУР133",475501776,"Чернова","Кристина","Валериевна","1301219102","Курсовая работа",5,"Экзамен","2014/2015 учебный год 4 модуль",null,50,5,1,1,508316804,4308,null,null,"Журналистика",{"$f":"MATCH(D649,Отчет!$C:$C,0)","v":24}]
[525603263,10,"БЖУР133",475501916,"Чернышева","Евгения","Эдуардовна","1301219103","Курсовая работа",5,"Экзамен","2014/2015 учебный год 4 модуль",null,50,5,1,1,508316804,4308,null,null,"Журналистика",{"$f":"MATCH(D650,Отчет!$C:$C,0)","v":42}]
[525603785,10,"БЖУР134",475502663,"Вагапова","Юлия","Рстамовна","1301219016","Курсовая работа",5,"Экзамен","2014/2015 учебный год 4 модуль",null,50,5,1,1,508316804,4308,null,null,"Журналистика",{"$f":"MATCH(D651,Отчет!$C:$C,0)","v":43}]
[525603917,9,"БЖУР134",475502790,"Дергалов","Руслан","Сергеевич","1301219028","Курсовая работа",5,"Экзамен","2014/2015 учебный год 4 модуль",null,45,5,1,1,508316804,4308,null,null,"Журналистика",{"$f":"MATCH(D652,Отчет!$C:$C,0)","v":62}]
[525604383,7,"БЖУР134",475502924,"Литвякова","Евдокия","Алексеевна","1301219050","Курсовая работа",5,"Экзамен","2014/2015 учебный год 4 модуль",null,35,5,1,1,508316804,4308,null,null,"Журналистика",{"$f":"MATCH(D653,Отчет!$C:$C,0)","v":36}]
[525601826,7,"БЖУР133",475562419,"Афян","Мария","Геннадьевна","1311219006","Курсовая работа",5,"Экзамен","2014/2015 учебный год 4 модуль",null,35,5,1,0,508316804,4308,"ikPlanned",null,"Журналистика",{"$f":"MATCH(D654,Отчет!$C:$C,0)","v":69}]
[525601958,10,"БЖУР133",475562579,"Герасимова","Мария","Александровна","1311219020","Курсовая работа",5,"Экзамен","2014/2015 учебный год 4 модуль",null,50,5,1,0,508316804,4308,null,null,"Журналистика",{"$f":"MATCH(D655,Отчет!$C:$C,0)","v":28}]
[525602251,7,"БЖУР133",475562897,"Кистерев","Алексей","Валерьевич","12701089","Курсовая работа",5,"Экзамен","2014/2015 учебный год 4 модуль",null,35,5,1,0,508316804,4308,"ikPlanned",null,"Журналистика",{"$f":"MATCH(D656,Отчет!$C:$C,0)","v":105}]
[525602525,10,"БЖУР133",475563046,"Люля","Арина","Артемовна","1311219053","Курсовая работа",5,"Экзамен","2014/2015 учебный год 4 модуль",null,50,5,1,0,508316804,4308,"ikPlanned",null,"Журналистика",{"$f":"MATCH(D657,Отчет!$C:$C,0)","v":91}]
[525602592,6,"БЖУР133",475563206,"Малышева","Ирина","Александровна","1301219056","Курсовая работа",5,"Экзамен","2014/2015 учебный год 4 модуль",null,30,5,1,1,508316804,4308,null,null,"Журналистика",{"$f":"MATCH(D658,Отчет!$C:$C,0)","v":66}]
[525602733,10,"БЖУР133",475563331,"Мусина","Юлия","Маратовна","1301219064","Курсовая работа",5,"Экзамен","2014/2015 учебный год 4 модуль",null,50,5,1,1,508316804,4308,null,null,"Журналистика",{"$f":"MATCH(D659,Отчет!$C:$C,0)","v":26}]
[525601006,10,"БЖУР132",475498778,"Рудакова","Юлия","Владиславовна","1301219081","Курсовая работа",5,"Экзамен","2014/2015 учебный год 4 модуль",null,50,5,1,1,508316804,4308,null,null,"Журналистика",{"$f":"MATCH(D660,Отчет!$C:$C,0)","v":21}]
[525601076,10,"БЖУР132",475498901,"Скворцова","Дарья","Андреевна","1301219086","Курсовая работа",5,"Экзамен","2014/2015 учебный год 4 модуль",null,50,5,1,1,508316804,4308,null,null,"Журналистика",{"$f":"MATCH(D661,Отчет!$C:$C,0)","v":17}]
[525601208,9,"БЖУР132",475499056,"Федорова","Анастасия","Александровна","1301219096","Курсовая работа",5,"Экзамен","2014/2015 учебный год 4 модуль",null,45,5,1,1,508316804,4308,null,null,"Журналистика",{"$f":"MATCH(D662,Отчет!$C:$C,0)","v":30}]
[525601142,9,"БЖУР132",475499184,"Устюжанинова","Анна","Александровна","1301219095","Курсовая работа",5,"Экзамен","2014/2015 учебный год 4 модуль",null,45,5,1,1,508316804,4308,null,null,"Журналистика",{"$f":"MATCH(D663,Отчет!$C:$C,0)","v":84}]
[525601408,8,"БЖУР132",475499320,"Якубович","Анастасия","Александровна","1301219108","Курсовая работа",5,"Экзамен","2014/2015 учебный год 4 модуль",null,40,5,1,1,508316804,4308,null,null,"Журналистика",{"$f":"MATCH(D664,Отчет!$C:$C,0)","v":63}]
[525601892,10,"БЖУР133",475500480,"Вильшанская","Елена","Андреевна","1301219017","Курсовая работа",5,"Экзамен","2014/2015 учебный год 4 модуль",null,50,5,1,1,508316804,4308,null,null,"Журналистика",{"$f":"MATCH(D665,Отчет!$C:$C,0)","v":31}]
[525598644,7,"БЖУР131",475558344,"Маммаева","Фарида","Сулеймановна","1301219057","Курсовая работа",5,"Экзамен","2014/2015 учебный год 4 модуль",null,35,5,1,1,508316804,4308,null,null,"Журналистика",{"$f":"MATCH(D666,Отчет!$C:$C,0)","v":101}]
[525599052,8,"БЖУР131",475558722,"Пржевальская","Анастасия","Всеволодовна","1301219076","Курсовая работа",5,"Экзамен","2014/2015 учебный год 4 модуль",null,40,5,1,1,508316804,4308,null,null,"Журналистика",{"$f":"MATCH(D667,Отчет!$C:$C,0)","v":55}]
[525605017,8,"БЖУР134",481505031,"Савина","София","Леонидовна","1311219083","Курсовая работа",5,"Экзамен","2014/2015 учебный год 4 модуль",null,40,5,1,0,508316804,4308,null,null,"Журналистика",{"$f":"MATCH(D668,Отчет!$C:$C,0)","v":19}]
[525605361,7,"БЖУР134",481505154,"Швецова","Екатерина","Константиновна","1311219105","Курсовая работа",5,"Экзамен","2014/2015 учебный год 4 модуль",null,35,5,1,0,508316804,4308,null,null,"Журналистика",{"$f":"MATCH(D669,Отчет!$C:$C,0)","v":86}]
[525599501,7,"БЖУР132",475560308,"Бидзионашвили","Кетеван","-","1301219111","Курсовая работа",5,"Экзамен","2014/2015 учебный год 4 модуль",null,35,5,1,1,508316804,4308,"ikPlanned",null,"Журналистика",{"$f":"MATCH(D670,Отчет!$C:$C,0)","v":90}]
[525599633,6,"БЖУР132",475560500,"Буримова","Александра","Сергеевна","1311219014","Курсовая работа",5,"Экзамен","2014/2015 учебный год 4 модуль",null,30,5,1,0,508316804,4308,null,null,"Журналистика",{"$f":"MATCH(D671,Отчет!$C:$C,0)","v":96}]
[523091919,9,"БЖУР132",475560670,"Бурцева","Анастасия","Юрьевна","1311219015","Курсовая работа",5,"Экзамен","2014/2015 учебный год 4 модуль",null,45,5,1,0,508316804,4308,null,null,"Журналистика",{"$f":"MATCH(D672,Отчет!$C:$C,0)","v":73}]
[525599864,7,"БЖУР132",475560846,"Винокур","Дана","Витальевна","1311219018","Курсовая работа",5,"Экзамен","2014/2015 учебный год 4 модуль",null,35,5,1,0,508316804,4308,null,null,"Журналистика",{"$f":"MATCH(D673,Отчет!$C:$C,0)","v":85}]
[525599940,6,"БЖУР132",475561061,"Вишнякова","Екатерина","Владимировна","1311219019","Курсовая работа",5,"Экзамен","2014/2015 учебный год 4 модуль",null,30,5,1,0,508316804,4308,null,null,"Журналистика",{"$f":"MATCH(D674,Отчет!$C:$C,0)","v":77}]
[525600006,0,"БЖУР132",475561255,"Волчек","Никита","Алексеевич","1311219112","Курсовая работа",5,"Экзамен","2014/2015 учебный год 4 модуль",null,0,5,0,0,508316804,4308,"ikPlanned",null,"Журналистика",{"$f":"MATCH(D675,Отчет!$C:$C,0)","v":97}]
[525600207,6,"БЖУР132",475561427,"Гранкова","Ксения","Сергеевна","1311219027","Курсовая работа",5,"Экзамен","2014/2015 учебный год 4 модуль",null,30,5,1,0,508316804,4308,"ikPlanned",null,"Журналистика",{"$f":"MATCH(D676,Отчет!$C:$C,0)","v":102}]
[525601342,6,"БЖУР132",475561559,"Шевелёва","Кристина","Дмитриевна","1311219106","Курсовая работа",5,"Экзамен","2014/2015 учебный год 4 модуль",null,30,5,1,0,508316804,4308,"ikPlanned",null,"Журналистика",{"$f":"MATCH(D677,Отчет!$C:$C,0)","v":87}]
[525601685,9,"БЖУР133",475562216,"Аммосова","Людмила","Михайловна","1311219002","Курсовая работа",5,"Экзамен","2014/2015 учебный год 4 модуль",null,45,5,1,0,508316804,4308,null,null,"Журналистика",{"$f":"MATCH(D678,Отчет!$C:$C,0)","v":39}]
[525600938,10,"БЖУР132",481500688,"Ревоненко","Анна","Николаевна","1311219078","Курсовая работа",5,"Экзамен","2014/2015 учебный год 4 модуль",null,50,5,1,0,508316804,4308,null,null,"Журналистика",{"$f":"MATCH(D679,Отчет!$C:$C,0)","v":23}]
[525601274,6,"БЖУР132",481500835,"Цегалко","Яна","Николаевна","1311219101","Курсовая работа",5,"Экзамен","2014/2015 учебный год 4 модуль",null,30,5,1,0,508316804,4308,null,null,"Журналистика",{"$f":"MATCH(D680,Отчет!$C:$C,0)","v":61}]
[525601751,6,"БЖУР133",481501546,"Атасунцев","Александр","Григорьевич","1311219004","Курсовая работа",5,"Экзамен","2014/2015 учебный год 4 модуль",null,30,5,1,0,508316804,4308,null,null,"Журналистика",{"$f":"MATCH(D681,Отчет!$C:$C,0)","v":67}]
[525602459,0,"БЖУР133",481501825,"Лымарева","Мария","Андреевна","1311219052","Курсовая работа",5,"Экзамен","2014/2015 учебный год 4 модуль",null,0,5,0,0,508316804,4308,null,null,"Журналистика",{"$f":"MATCH(D682,Отчет!$C:$C,0)","v":108}]
[525602666,8,"БЖУР133",481501975,"Молоствова","Анна","Александровна","1311219061","Курсовая работа",5,"Экзамен","2014/2015 учебный год 4 модуль",null,40,5,1,0,508316804,4308,null,null,"Журналистика",{"$f":"MATCH(D683,Отчет!$C:$C,0)","v":35}]
[536215723,10,"БЖУР131",475497611,"Ставрианиди","Анна","Георгиевна","1301219087","Основы операторской и режиссерской культуры для тележурналистов",3,"Экзамен","2014/2015 учебный год 4 модуль",null,30,3,1,1,508316804,2098,null,"stChoosen","Журналистика",{"$f":"MATCH(D684,Отчет!$C:$C,0)","v":50}]
[536215728,10,"БЖУР131",475497743,"Тищенко","Виктория","Андреевна","1301219093","Основы операторской и режиссерской культуры для тележурналистов",3,"Экзамен","2014/2015 учебный год 4 модуль",null,30,3,1,1,508316804,2098,null,"stChoosen","Журналистика",{"$f":"MATCH(D685,Отчет!$C:$C,0)","v":52}]
[607332573,10,"БЖУР132",475498195,"Булатова","Катерина","Николаевна","1301219012","Основы операторской и режиссерской культуры для тележурналистов",3,"Экзамен","2014/2015 учебный год 4 модуль",null,30,3,1,1,508316804,2098,null,"stChoosen","Журналистика",{"$f":"MATCH(D686,Отчет!$C:$C,0)","v":34}]
[536215889,10,"БЖУР132",475498343,"Дмитриева","Ольга","Олеговна","1301219031","Основы операторской и режиссерской культуры для тележурналистов",3,"Экзамен","2014/2015 учебный год 4 модуль",null,30,3,1,1,508316804,2098,null,"stChoosen","Журналистика",{"$f":"MATCH(D687,Отчет!$C:$C,0)","v":59}]
[536215698,9,"БЖУР132",475498638,"Огурцова","Евгения","Алексеевна","1301219069","Основы операторской и режиссерской культуры для тележурналистов",3,"Экзамен","2014/2015 учебный год 4 модуль",null,27,3,1,1,508316804,2098,null,"stChoosen","Журналистика",{"$f":"MATCH(D688,Отчет!$C:$C,0)","v":37}]
[536215694,10,"БЖУР131",481497225,"Морозова","Николь","Дмитриевна","1311219062","Основы операторской и режиссерской культуры для тележурналистов",3,"Экзамен","2014/2015 учебный год 4 модуль",null,30,3,1,0,508316804,2098,null,"stChoosen","Журналистика",{"$f":"MATCH(D689,Отчет!$C:$C,0)","v":22}]
[536215670,10,"БЖУР132",481499019,"Голованов","Сергей","Сергеевич","1311219022","Основы операторской и режиссерской культуры для тележурналистов",3,"Экзамен","2014/2015 учебный год 4 модуль",null,30,3,1,0,508316804,2098,null,"stChoosen","Журналистика",{"$f":"MATCH(D690,Отчет!$C:$C,0)","v":46}]
[536215702,8,"БЖУР132",481500392,"Павлова","Алиса","Павловна","1311219071","Основы операторской и режиссерской культуры для тележурналистов",3,"Экзамен","2014/2015 учебный год 4 модуль",null,24,3,1,0,508316804,2098,null,"stChoosen","Журналистика",{"$f":"MATCH(D691,Отчет!$C:$C,0)","v":89}]
[565755155,7,"БЖУР133",481501546,"Атасунцев","Александр","Григорьевич","1311219004","Основы операторской и режиссерской культуры для тележурналистов",3,"Экзамен","2014/2015 учебный год 4 модуль",null,21,3,1,0,508316804,2098,null,"stChoosen","Журналистика",{"$f":"MATCH(D692,Отчет!$C:$C,0)","v":67}]
[536215678,8,"БЖУР133",481501825,"Лымарева","Мария","Андреевна","1311219052","Основы операторской и режиссерской культуры для тележурналистов",3,"Экзамен","2014/2015 учебный год 4 модуль",null,24,3,1,0,508316804,2098,null,"stChoosen","Журналистика",{"$f":"MATCH(D693,Отчет!$C:$C,0)","v":108}]
[536215742,8,"БЖУР133",481502112,"Сидоров","Всеволод","Дмитриевич","1311219085","Основы операторской и режиссерской культуры для тележурналистов",3,"Экзамен","2014/2015 учебный год 4 модуль",null,24,3,1,0,508316804,2098,null,"stChoosen","Журналистика",{"$f":"MATCH(D694,Отчет!$C:$C,0)","v":60}]
[536215746,8,"БЖУР133",481502259,"Титов","Игорь","Игоревич","1311219092","Основы операторской и режиссерской культуры для тележурналистов",3,"Экзамен","2014/2015 учебный год 4 модуль",null,24,3,1,0,508316804,2098,null,"stChoosen","Журналистика",{"$f":"MATCH(D695,Отчет!$C:$C,0)","v":58}]
[865185754,8,"БЖУР132",475560500,"Буримова","Александра","Сергеевна","1311219014","Основы операторской и режиссерской культуры для тележурналистов",3,"Экзамен","2014/2015 учебный год 4 модуль",null,24,3,1,0,508316804,2098,null,"stChoosen","Журналистика",{"$f":"MATCH(D696,Отчет!$C:$C,0)","v":96}]
[845990767,10,"БЖУР132",475561427,"Гранкова","Ксения","Сергеевна","1311219027","Основы операторской и режиссерской культуры для тележурналистов",3,"Экзамен","2014/2015 учебный год 4 модуль",null,30,3,1,0,508316804,2098,null,"stChoosen","Журналистика",{"$f":"MATCH(D697,Отчет!$C:$C,0)","v":102}]
[536215654,10,"БЖУР133",475562216,"Аммосова","Людмила","Михайловна","1311219002","Основы операторской и режиссерской культуры для тележурналистов",3,"Экзамен","2014/2015 учебный год 4 модуль",null,30,3,1,0,508316804,2098,null,"stChoosen","Журналистика",{"$f":"MATCH(D698,Отчет!$C:$C,0)","v":39}]
[536215674,8,"БЖУР133",475562897,"Кистерев","Алексей","Валерьевич","12701089","Основы операторской и режиссерской культуры для тележурналистов",3,"Экзамен","2014/2015 учебный год 4 модуль",null,24,3,1,0,508316804,2098,"ikPlanned","stChoosen","Журналистика",{"$f":"MATCH(D699,Отчет!$C:$C,0)","v":105}]
[536215682,8,"БЖУР133",475563206,"Малышева","Ирина","Александровна","1301219056","Основы операторской и режиссерской культуры для тележурналистов",3,"Экзамен","2014/2015 учебный год 4 модуль",null,24,3,1,1,508316804,2098,null,"stChoosen","Журналистика",{"$f":"MATCH(D700,Отчет!$C:$C,0)","v":66}]
[536215690,10,"БЖУР133",475563331,"Мусина","Юлия","Маратовна","1301219064","Основы операторской и режиссерской культуры для тележурналистов",3,"Экзамен","2014/2015 учебный год 4 модуль",null,30,3,1,1,508316804,2098,null,"stChoosen","Журналистика",{"$f":"MATCH(D701,Отчет!$C:$C,0)","v":26}]
[536215711,9,"БЖУР132",475498778,"Рудакова","Юлия","Владиславовна","1301219081","Основы операторской и режиссерской культуры для тележурналистов",3,"Экзамен","2014/2015 учебный год 4 модуль",null,27,3,1,1,508316804,2098,null,"stChoosen","Журналистика",{"$f":"MATCH(D702,Отчет!$C:$C,0)","v":21}]
[536215716,9,"БЖУР132",475498901,"Скворцова","Дарья","Андреевна","1301219086","Основы операторской и режиссерской культуры для тележурналистов",3,"Экзамен","2014/2015 учебный год 4 модуль",null,27,3,1,1,508316804,2098,null,"stChoosen","Журналистика",{"$f":"MATCH(D703,Отчет!$C:$C,0)","v":17}]
[536215658,10,"БЖУР133",475500480,"Вильшанская","Елена","Андреевна","1301219017","Основы операторской и режиссерской культуры для тележурналистов",3,"Экзамен","2014/2015 учебный год 4 модуль",null,30,3,1,1,508316804,2098,null,"stChoosen","Журналистика",{"$f":"MATCH(D704,Отчет!$C:$C,0)","v":31}]
[536215686,7,"БЖУР134",475503059,"Маркова","Кристина","Алексеевна","1301219058","Основы операторской и режиссерской культуры для тележурналистов",3,"Экзамен","2014/2015 учебный год 4 модуль",null,21,3,1,1,508316804,2098,null,"stChoosen","Журналистика",{"$f":"MATCH(D705,Отчет!$C:$C,0)","v":76}]
[536215737,8,"БЖУР133",475563521,"Осипова","Светлана","Витальевна","1311219070","Основы операторской и режиссерской культуры для тележурналистов",3,"Экзамен","2014/2015 учебный год 4 модуль",null,24,3,1,0,508316804,2098,null,"stChoosen","Журналистика",{"$f":"MATCH(D706,Отчет!$C:$C,0)","v":71}]
[536215750,8,"БЖУР133",475563678,"Чехонадских","Дарья","Александровна","1301219104","Основы операторской и режиссерской культуры для тележурналистов",3,"Экзамен","2014/2015 учебный год 4 модуль",null,24,3,1,1,508316804,2098,null,"stChoosen","Журналистика",{"$f":"MATCH(D707,Отчет!$C:$C,0)","v":81}]
[865183685,6,"248ж",475564380,"Алешкина","Александрина","Александровна","231210002","Основы операторской и режиссерской культуры для тележурналистов",3,"Экзамен","2014/2015 учебный год 4 модуль",null,18,3,1,0,508316804,2098,null,"stChoosen","Журналистика",{"$f":"MATCH(D708,Отчет!$C:$C,0)","v":100}]
[536215666,6,"БЖУР134",475564485,"Басиладзе","Мариами","Рамазиевна","1311219007","Основы операторской и режиссерской культуры для тележурналистов",3,"Экзамен","2014/2015 учебный год 4 модуль",null,18,3,1,0,508316804,2098,"ikPlanned","stChoosen","Журналистика",{"$f":"MATCH(D709,Отчет!$C:$C,0)","v":80}]
[536215893,6,"БЖУР134",475564787,"Досий","Зоряна","Владимировна","1301219109","Основы операторской и режиссерской культуры для тележурналистов",3,"Экзамен","2014/2015 учебный год 4 модуль",null,18,3,1,1,508316804,2098,"ikPlanned","stChoosen","Журналистика",{"$f":"MATCH(D710,Отчет!$C:$C,0)","v":99}]
[525599038,7,"БЖУР131",475558722,"Пржевальская","Анастасия","Всеволодовна","1301219076","Психология (включая основы социальной психологии)",3,"Экзамен","2014/2015 учебный год 4 модуль",null,21,3,1,1,508316804,2098,null,"stCommon","Журналистика",{"$f":"MATCH(D711,Отчет!$C:$C,0)","v":55}]
[525605003,10,"БЖУР134",481505031,"Савина","София","Леонидовна","1311219083","Психология (включая основы социальной психологии)",3,"Экзамен","2014/2015 учебный год 4 модуль",null,30,3,1,0,508316804,2098,null,"stCommon","Журналистика",{"$f":"MATCH(D712,Отчет!$C:$C,0)","v":19}]
[525605347,7,"БЖУР134",481505154,"Швецова","Екатерина","Константиновна","1311219105","Психология (включая основы социальной психологии)",3,"Экзамен","2014/2015 учебный год 4 модуль",null,21,3,1,0,508316804,2098,null,"stCommon","Журналистика",{"$f":"MATCH(D713,Отчет!$C:$C,0)","v":86}]
[525598762,7,"БЖУР131",481497357,"Муратова","Анастасия","Александровна","1311219063","Психология (включая основы социальной психологии)",3,"Экзамен","2014/2015 учебный год 4 модуль",null,21,3,1,0,508316804,2098,null,"stCommon","Журналистика",{"$f":"MATCH(D714,Отчет!$C:$C,0)","v":56}]
[525598838,8,"БЖУР131",481497484,"Нещадимова","Дарья","Викторовна","1311219067","Психология (включая основы социальной психологии)",3,"Экзамен","2014/2015 учебный год 4 модуль",null,24,3,1,0,508316804,2098,null,"stCommon","Журналистика",{"$f":"MATCH(D715,Отчет!$C:$C,0)","v":54}]
[525600125,9,"БЖУР132",481499019,"Голованов","Сергей","Сергеевич","1311219022","Психология (включая основы социальной психологии)",3,"Экзамен","2014/2015 учебный год 4 модуль",null,27,3,1,0,508316804,2098,null,"stCommon","Журналистика",{"$f":"MATCH(D716,Отчет!$C:$C,0)","v":46}]
[525600460,6,"БЖУР132",481499520,"Королева","Виолетта","Николаевна","1311219043","Психология (включая основы социальной психологии)",3,"Экзамен","2014/2015 учебный год 4 модуль",null,18,3,1,0,508316804,2098,null,"stCommon","Журналистика",{"$f":"MATCH(D717,Отчет!$C:$C,0)","v":82}]
[525600526,10,"БЖУР132",481499652,"Королькова","Елизавета","Дмитриевна","1311219045","Психология (включая основы социальной психологии)",3,"Экзамен","2014/2015 учебный год 4 модуль",null,30,3,1,0,508316804,2098,null,"stCommon","Журналистика",{"$f":"MATCH(D718,Отчет!$C:$C,0)","v":16}]
[525600592,10,"БЖУР132",481500039,"Лебедева","Ксения","Кирилловна","1311219048","Психология (включая основы социальной психологии)",3,"Экзамен","2014/2015 учебный год 4 модуль",null,30,3,1,0,508316804,2098,null,"stCommon","Журналистика",{"$f":"MATCH(D719,Отчет!$C:$C,0)","v":15}]
[525600658,5,"БЖУР132",481500235,"Немченко","Илья","Михайлович","1311219066","Психология (включая основы социальной психологии)",3,"Экзамен","2014/2015 учебный год 4 модуль",null,15,3,1,0,508316804,2098,null,"stCommon","Журналистика",{"$f":"MATCH(D720,Отчет!$C:$C,0)","v":103}]
[525600790,5,"БЖУР132",481500392,"Павлова","Алиса","Павловна","1311219071","Психология (включая основы социальной психологии)",3,"Экзамен","2014/2015 учебный год 4 модуль",null,15,3,1,0,508316804,2098,null,"stCommon","Журналистика",{"$f":"MATCH(D721,Отчет!$C:$C,0)","v":89}]
[525600858,10,"БЖУР132",481500535,"Правдюк","Анна","Сергеевна","1311219075","Психология (включая основы социальной психологии)",3,"Экзамен","2014/2015 учебный год 4 модуль",null,30,3,1,0,508316804,2098,null,"stCommon","Журналистика",{"$f":"MATCH(D722,Отчет!$C:$C,0)","v":12}]
[525600924,9,"БЖУР132",481500688,"Ревоненко","Анна","Николаевна","1311219078","Психология (включая основы социальной психологии)",3,"Экзамен","2014/2015 учебный год 4 модуль",null,27,3,1,0,508316804,2098,null,"stCommon","Журналистика",{"$f":"MATCH(D723,Отчет!$C:$C,0)","v":23}]
[525601260,10,"БЖУР132",481500835,"Цегалко","Яна","Николаевна","1311219101","Психология (включая основы социальной психологии)",3,"Экзамен","2014/2015 учебный год 4 модуль",null,30,3,1,0,508316804,2098,null,"stCommon","Журналистика",{"$f":"MATCH(D724,Отчет!$C:$C,0)","v":61}]
[525601737,6,"БЖУР133",481501546,"Атасунцев","Александр","Григорьевич","1311219004","Психология (включая основы социальной психологии)",3,"Экзамен","2014/2015 учебный год 4 модуль",null,18,3,1,0,508316804,2098,null,"stCommon","Журналистика",{"$f":"MATCH(D725,Отчет!$C:$C,0)","v":67}]
[525602445,6,"БЖУР133",481501825,"Лымарева","Мария","Андреевна","1311219052","Психология (включая основы социальной психологии)",3,"Экзамен","2014/2015 учебный год 4 модуль",null,18,3,1,0,508316804,2098,null,"stCommon","Журналистика",{"$f":"MATCH(D726,Отчет!$C:$C,0)","v":108}]
[525602652,10,"БЖУР133",481501975,"Молоствова","Анна","Александровна","1311219061","Психология (включая основы социальной психологии)",3,"Экзамен","2014/2015 учебный год 4 модуль",null,30,3,1,0,508316804,2098,null,"stCommon","Журналистика",{"$f":"MATCH(D727,Отчет!$C:$C,0)","v":35}]
[525598098,6,"БЖУР131",475496297,"Голубева","Анастасия","Павловна","1301219024","Психология (включая основы социальной психологии)",3,"Экзамен","2014/2015 учебный год 4 модуль",null,18,3,1,1,508316804,2098,null,"stCommon","Журналистика",{"$f":"MATCH(D728,Отчет!$C:$C,0)","v":68}]
[525598165,6,"БЖУР131",475496974,"Джгаркава","Нино","Звиадиевна","1301219029","Психология (включая основы социальной психологии)",3,"Экзамен","2014/2015 учебный год 4 модуль",null,18,3,1,1,508316804,2098,null,"stCommon","Журналистика",{"$f":"MATCH(D729,Отчет!$C:$C,0)","v":93}]
[525598231,7,"БЖУР131",475497099,"Дымчишина","Александра","Юрьевна","1301219032","Психология (включая основы социальной психологии)",3,"Экзамен","2014/2015 учебный год 4 модуль",null,21,3,1,1,508316804,2098,null,"stCommon","Журналистика",{"$f":"MATCH(D730,Отчет!$C:$C,0)","v":65}]
[525598364,null,"БЖУР131",475497229,"Жвик","Анастасия","Николаевна","1301219110","Психология (включая основы социальной психологии)",3,"Экзамен","2014/2015 учебный год 4 модуль",1,0,3,null,1,508316804,2098,null,"stCommon","Журналистика",{"$f":"MATCH(D731,Отчет!$C:$C,0)","v":110}]
[525598904,8,"БЖУР131",475497479,"Николаева","Мария","Дмитриевна","1301219068","Психология (включая основы социальной психологии)",3,"Экзамен","2014/2015 учебный год 4 модуль",null,24,3,1,1,508316804,2098,null,"stCommon","Журналистика",{"$f":"MATCH(D732,Отчет!$C:$C,0)","v":29}]
[525599104,6,"БЖУР131",475497611,"Ставрианиди","Анна","Георгиевна","1301219087","Психология (включая основы социальной психологии)",3,"Экзамен","2014/2015 учебный год 4 модуль",null,18,3,1,1,508316804,2098,null,"stCommon","Журналистика",{"$f":"MATCH(D733,Отчет!$C:$C,0)","v":50}]
[525599170,5,"БЖУР131",475497743,"Тищенко","Виктория","Андреевна","1301219093","Психология (включая основы социальной психологии)",3,"Экзамен","2014/2015 учебный год 4 модуль",null,15,3,1,1,508316804,2098,null,"stCommon","Журналистика",{"$f":"MATCH(D734,Отчет!$C:$C,0)","v":52}]
[525599316,10,"БЖУР131",475497867,"Яковец","Елизавета","Николаевна","1301219107","Психология (включая основы социальной психологии)",3,"Экзамен","2014/2015 учебный год 4 модуль",null,30,3,1,1,508316804,2098,null,"stCommon","Журналистика",{"$f":"MATCH(D735,Отчет!$C:$C,0)","v":27}]
[525599553,10,"БЖУР132",475498195,"Булатова","Катерина","Николаевна","1301219012","Психология (включая основы социальной психологии)",3,"Экзамен","2014/2015 учебный год 4 модуль",null,30,3,1,1,508316804,2098,null,"stCommon","Журналистика",{"$f":"MATCH(D736,Отчет!$C:$C,0)","v":34}]
[525600259,7,"БЖУР132",475498343,"Дмитриева","Ольга","Олеговна","1301219031","Психология (включая основы социальной психологии)",3,"Экзамен","2014/2015 учебный год 4 модуль",null,21,3,1,1,508316804,2098,null,"stCommon","Журналистика",{"$f":"MATCH(D737,Отчет!$C:$C,0)","v":59}]
[525600724,8,"БЖУР132",475498638,"Огурцова","Евгения","Алексеевна","1301219069","Психология (включая основы социальной психологии)",3,"Экзамен","2014/2015 учебный год 4 модуль",null,24,3,1,1,508316804,2098,null,"stCommon","Журналистика",{"$f":"MATCH(D738,Отчет!$C:$C,0)","v":37}]
[525597881,9,"БЖУР131",474332631,"Астапенко","Ольга","Юрьевна","1301219003","Психология (включая основы социальной психологии)",3,"Экзамен","2014/2015 учебный год 4 модуль",null,27,3,1,1,508316804,2098,null,"stCommon","Журналистика",{"$f":"MATCH(D739,Отчет!$C:$C,0)","v":44}]
[525597955,10,"БЖУР131",481496658,"Афанасьева","Татьяна","Валерьевна","1311219005","Психология (включая основы социальной психологии)",3,"Экзамен","2014/2015 учебный год 4 модуль",null,30,3,1,0,508316804,2098,null,"stCommon","Журналистика",{"$f":"MATCH(D740,Отчет!$C:$C,0)","v":33}]
[525598298,7,"БЖУР131",481496795,"Ероносов","Александр","Эдуардович","1311219034","Психология (включая основы социальной психологии)",3,"Экзамен","2014/2015 учебный год 4 модуль",null,21,3,1,0,508316804,2098,null,"stCommon","Журналистика",{"$f":"MATCH(D741,Отчет!$C:$C,0)","v":72}]
[525598430,5,"БЖУР131",481496924,"Зубкевич","Андрей","Вадимович","1311219037","Психология (включая основы социальной психологии)",3,"Экзамен","2014/2015 учебный год 4 модуль",null,15,3,1,0,508316804,2098,null,"stCommon","Журналистика",{"$f":"MATCH(D742,Отчет!$C:$C,0)","v":104}]
[525598696,9,"БЖУР131",481497225,"Морозова","Николь","Дмитриевна","1311219062","Психология (включая основы социальной психологии)",3,"Экзамен","2014/2015 учебный год 4 модуль",null,27,3,1,0,508316804,2098,null,"stCommon","Журналистика",{"$f":"MATCH(D743,Отчет!$C:$C,0)","v":22}]
[525605142,7,"БЖУР134",475565869,"Стешенкова","Александра","Евгеньевна","1301219088","Психология (включая основы социальной психологии)",3,"Экзамен","2014/2015 учебный год 4 модуль",null,21,3,1,1,508316804,2098,null,"stCommon","Журналистика",{"$f":"MATCH(D744,Отчет!$C:$C,0)","v":79}]
[525605069,6,"БЖУР134",475503320,"Селиванова","Ксения","Александровна","1301219084","Психология (включая основы социальной психологии)",3,"Экзамен","2014/2015 учебный год 4 модуль",null,18,3,1,1,508316804,2098,null,"stCommon","Журналистика",{"$f":"MATCH(D745,Отчет!$C:$C,0)","v":83}]
[525605215,10,"БЖУР134",475503448,"Суханова","Юлия","Александровна","1301219090","Психология (включая основы социальной психологии)",3,"Экзамен","2014/2015 учебный год 4 модуль",null,30,3,1,1,508316804,2098,null,"stCommon","Журналистика",{"$f":"MATCH(D746,Отчет!$C:$C,0)","v":13}]
[525605281,7,"БЖУР134",475503575,"Таиров","Ринат","Маратович","1301219091","Психология (включая основы социальной психологии)",3,"Экзамен","2014/2015 учебный год 4 модуль",null,21,3,1,1,508316804,2098,null,"stCommon","Журналистика",{"$f":"MATCH(D747,Отчет!$C:$C,0)","v":53}]
[525603771,9,"БЖУР134",475502663,"Вагапова","Юлия","Рстамовна","1301219016","Психология (включая основы социальной психологии)",3,"Экзамен","2014/2015 учебный год 4 модуль",null,27,3,1,1,508316804,2098,null,"stCommon","Журналистика",{"$f":"MATCH(D748,Отчет!$C:$C,0)","v":43}]
[525603903,8,"БЖУР134",475502790,"Дергалов","Руслан","Сергеевич","1301219028","Психология (включая основы социальной психологии)",3,"Экзамен","2014/2015 учебный год 4 модуль",null,24,3,1,1,508316804,2098,null,"stCommon","Журналистика",{"$f":"MATCH(D749,Отчет!$C:$C,0)","v":62}]
[525604369,10,"БЖУР134",475502924,"Литвякова","Евдокия","Алексеевна","1301219050","Психология (включая основы социальной психологии)",3,"Экзамен","2014/2015 учебный год 4 модуль",null,30,3,1,1,508316804,2098,null,"stCommon","Журналистика",{"$f":"MATCH(D750,Отчет!$C:$C,0)","v":36}]
[525604579,7,"БЖУР134",475503059,"Маркова","Кристина","Алексеевна","1301219058","Психология (включая основы социальной психологии)",3,"Экзамен","2014/2015 учебный год 4 модуль",null,21,3,1,1,508316804,2098,null,"stCommon","Журналистика",{"$f":"MATCH(D751,Отчет!$C:$C,0)","v":76}]
[525604857,7,"БЖУР134",475503187,"Робул","Павел","Константинович","1301219079","Психология (включая основы социальной психологии)",3,"Экзамен","2014/2015 учебный год 4 модуль",null,21,3,1,1,508316804,2098,null,"stCommon","Журналистика",{"$f":"MATCH(D752,Отчет!$C:$C,0)","v":38}]
[525602785,8,"БЖУР133",475563521,"Осипова","Светлана","Витальевна","1311219070","Психология (включая основы социальной психологии)",3,"Экзамен","2014/2015 учебный год 4 модуль",null,24,3,1,0,508316804,2098,null,"stCommon","Журналистика",{"$f":"MATCH(D753,Отчет!$C:$C,0)","v":71}]
[525603319,4,"БЖУР133",475563678,"Чехонадских","Дарья","Александровна","1301219104","Психология (включая основы социальной психологии)",3,"Экзамен","2014/2015 учебный год 4 модуль",null,12,3,1,1,508316804,2098,null,"stCommon","Журналистика",{"$f":"MATCH(D754,Отчет!$C:$C,0)","v":81}]
[525603837,10,"БЖУР134",475564642,"Гимаева","Жанна","Эмзаровна","1311219021","Психология (включая основы социальной психологии)",3,"Экзамен","2014/2015 учебный год 4 модуль",null,30,3,1,0,508316804,2098,null,"stCommon","Журналистика",{"$f":"MATCH(D755,Отчет!$C:$C,0)","v":51}]
[525604035,5,"БЖУР134",475564933,"Животнёв","Владислав","Николаевич","1311219035","Психология (включая основы социальной психологии)",3,"Экзамен","2014/2015 учебный год 4 модуль",null,15,3,1,0,508316804,2098,null,"stCommon","Журналистика",{"$f":"MATCH(D756,Отчет!$C:$C,0)","v":75}]
[525604103,9,"БЖУР134",475565084,"Зражаева","Алина","Сергеевна","1311219036","Психология (включая основы социальной психологии)",3,"Экзамен","2014/2015 учебный год 4 модуль",null,27,3,1,0,508316804,2098,null,"stCommon","Журналистика",{"$f":"MATCH(D757,Отчет!$C:$C,0)","v":49}]
[525604435,7,"БЖУР134",475565231,"Макарова","Юлия","Валерьевна","1311219054","Психология (включая основы социальной психологии)",3,"Экзамен","2014/2015 учебный год 4 модуль",null,21,3,1,0,508316804,2098,null,"stCommon","Журналистика",{"$f":"MATCH(D758,Отчет!$C:$C,0)","v":70}]
[525604504,10,"БЖУР134",475565410,"Маленкова","Мария","Александровна","1301219055","Психология (включая основы социальной психологии)",3,"Экзамен","2014/2015 учебный год 4 модуль",null,30,3,1,1,508316804,2098,null,"stCommon","Журналистика",{"$f":"MATCH(D759,Отчет!$C:$C,0)","v":47}]
[525604647,5,"БЖУР134",475565551,"Нарушевич","Анастасия","Александровна","1311219065","Психология (включая основы социальной психологии)",3,"Экзамен","2014/2015 учебный год 4 модуль",null,15,3,1,0,508316804,2098,null,"stCommon","Журналистика",{"$f":"MATCH(D760,Отчет!$C:$C,0)","v":78}]
[525601194,10,"БЖУР132",475499056,"Федорова","Анастасия","Александровна","1301219096","Психология (включая основы социальной психологии)",3,"Экзамен","2014/2015 учебный год 4 модуль",null,30,3,1,1,508316804,2098,null,"stCommon","Журналистика",{"$f":"MATCH(D761,Отчет!$C:$C,0)","v":30}]
[525601128,6,"БЖУР132",475499184,"Устюжанинова","Анна","Александровна","1301219095","Психология (включая основы социальной психологии)",3,"Экзамен","2014/2015 учебный год 4 модуль",null,18,3,1,1,508316804,2098,null,"stCommon","Журналистика",{"$f":"MATCH(D762,Отчет!$C:$C,0)","v":84}]
[525601394,7,"БЖУР132",475499320,"Якубович","Анастасия","Александровна","1301219108","Психология (включая основы социальной психологии)",3,"Экзамен","2014/2015 учебный год 4 модуль",null,21,3,1,1,508316804,2098,null,"stCommon","Журналистика",{"$f":"MATCH(D763,Отчет!$C:$C,0)","v":63}]
[525601878,8,"БЖУР133",475500480,"Вильшанская","Елена","Андреевна","1301219017","Психология (включая основы социальной психологии)",3,"Экзамен","2014/2015 учебный год 4 модуль",null,24,3,1,1,508316804,2098,null,"stCommon","Журналистика",{"$f":"MATCH(D764,Отчет!$C:$C,0)","v":31}]
[525602010,10,"БЖУР133",475500628,"Головина","Евгения","Павловна","1301219023","Психология (включая основы социальной психологии)",3,"Экзамен","2014/2015 учебный год 4 модуль",null,30,3,1,1,508316804,2098,null,"stCommon","Журналистика",{"$f":"MATCH(D765,Отчет!$C:$C,0)","v":41}]
[525602078,9,"БЖУР133",475500772,"Дмитриева","Екатерина","Александровна","1301219030","Психология (включая основы социальной психологии)",3,"Экзамен","2014/2015 учебный год 4 модуль",null,27,3,1,1,508316804,2098,null,"stCommon","Журналистика",{"$f":"MATCH(D766,Отчет!$C:$C,0)","v":40}]
[525602147,6,"БЖУР133",475500939,"Еремина","Анастасия","Алексеевна","1301219033","Психология (включая основы социальной психологии)",3,"Экзамен","2014/2015 учебный год 4 модуль",null,18,3,1,1,508316804,2098,null,"stCommon","Журналистика",{"$f":"MATCH(D767,Отчет!$C:$C,0)","v":94}]
[525602309,9,"БЖУР133",475501085,"Кокшарова","Александра","Игоревна","1301219041","Психология (включая основы социальной психологии)",3,"Экзамен","2014/2015 учебный год 4 модуль",null,27,3,1,1,508316804,2098,null,"stCommon","Журналистика",{"$f":"MATCH(D768,Отчет!$C:$C,0)","v":48}]
[525602379,10,"БЖУР133",475501239,"Липчанская","Анастасия","Алексеевна","1301219049","Психология (включая основы социальной психологии)",3,"Экзамен","2014/2015 учебный год 4 модуль",null,30,3,1,1,508316804,2098,null,"stCommon","Журналистика",{"$f":"MATCH(D769,Отчет!$C:$C,0)","v":20}]
[525602851,10,"БЖУР133",475501379,"Пятибратова","Екатерина","Васильевна","1301219077","Психология (включая основы социальной психологии)",3,"Экзамен","2014/2015 учебный год 4 модуль",null,30,3,1,1,508316804,2098,null,"stCommon","Журналистика",{"$f":"MATCH(D770,Отчет!$C:$C,0)","v":57}]
[525602917,8,"БЖУР133",475501513,"Рублева","Милена","Валерьевна","1301219080","Психология (включая основы социальной психологии)",3,"Экзамен","2014/2015 учебный год 4 модуль",null,24,3,1,1,508316804,2098,null,"stCommon","Журналистика",{"$f":"MATCH(D771,Отчет!$C:$C,0)","v":25}]
[525603049,6,"БЖУР133",475501641,"Стрельцова","Наталья","Сергеевна","1301219089","Психология (включая основы социальной психологии)",3,"Экзамен","2014/2015 учебный год 4 модуль",null,18,3,1,1,508316804,2098,null,"stCommon","Журналистика",{"$f":"MATCH(D772,Отчет!$C:$C,0)","v":64}]
[525603183,8,"БЖУР133",475501776,"Чернова","Кристина","Валериевна","1301219102","Психология (включая основы социальной психологии)",3,"Экзамен","2014/2015 учебный год 4 модуль",null,24,3,1,1,508316804,2098,null,"stCommon","Журналистика",{"$f":"MATCH(D773,Отчет!$C:$C,0)","v":24}]
[525603249,9,"БЖУР133",475501916,"Чернышева","Евгения","Эдуардовна","1301219103","Психология (включая основы социальной психологии)",3,"Экзамен","2014/2015 учебный год 4 модуль",null,27,3,1,1,508316804,2098,null,"stCommon","Журналистика",{"$f":"MATCH(D774,Отчет!$C:$C,0)","v":42}]
[525599619,4,"БЖУР132",475560500,"Буримова","Александра","Сергеевна","1311219014","Психология (включая основы социальной психологии)",3,"Экзамен","2014/2015 учебный год 4 модуль",null,12,3,1,0,508316804,2098,null,"stCommon","Журналистика",{"$f":"MATCH(D775,Отчет!$C:$C,0)","v":96}]
[523091905,7,"БЖУР132",475560670,"Бурцева","Анастасия","Юрьевна","1311219015","Психология (включая основы социальной психологии)",3,"Экзамен","2014/2015 учебный год 4 модуль",null,21,3,1,0,508316804,2098,null,"stCommon","Журналистика",{"$f":"MATCH(D776,Отчет!$C:$C,0)","v":73}]
[525599850,7,"БЖУР132",475560846,"Винокур","Дана","Витальевна","1311219018","Психология (включая основы социальной психологии)",3,"Экзамен","2014/2015 учебный год 4 модуль",null,21,3,1,0,508316804,2098,null,"stCommon","Журналистика",{"$f":"MATCH(D777,Отчет!$C:$C,0)","v":85}]
[525599926,9,"БЖУР132",475561061,"Вишнякова","Екатерина","Владимировна","1311219019","Психология (включая основы социальной психологии)",3,"Экзамен","2014/2015 учебный год 4 модуль",null,27,3,1,0,508316804,2098,null,"stCommon","Журналистика",{"$f":"MATCH(D778,Отчет!$C:$C,0)","v":77}]
[525601671,10,"БЖУР133",475562216,"Аммосова","Людмила","Михайловна","1311219002","Психология (включая основы социальной психологии)",3,"Экзамен","2014/2015 учебный год 4 модуль",null,30,3,1,0,508316804,2098,null,"stCommon","Журналистика",{"$f":"MATCH(D779,Отчет!$C:$C,0)","v":39}]
[525601944,8,"БЖУР133",475562579,"Герасимова","Мария","Александровна","1311219020","Психология (включая основы социальной психологии)",3,"Экзамен","2014/2015 учебный год 4 модуль",null,24,3,1,0,508316804,2098,null,"stCommon","Журналистика",{"$f":"MATCH(D780,Отчет!$C:$C,0)","v":28}]
[525602578,9,"БЖУР133",475563206,"Малышева","Ирина","Александровна","1301219056","Психология (включая основы социальной психологии)",3,"Экзамен","2014/2015 учебный год 4 модуль",null,27,3,1,1,508316804,2098,null,"stCommon","Журналистика",{"$f":"MATCH(D781,Отчет!$C:$C,0)","v":66}]
[525602718,9,"БЖУР133",475563331,"Мусина","Юлия","Маратовна","1301219064","Психология (включая основы социальной психологии)",3,"Экзамен","2014/2015 учебный год 4 модуль",null,27,3,1,1,508316804,2098,null,"stCommon","Журналистика",{"$f":"MATCH(D782,Отчет!$C:$C,0)","v":26}]
[525600990,10,"БЖУР132",475498778,"Рудакова","Юлия","Владиславовна","1301219081","Психология (включая основы социальной психологии)",3,"Экзамен","2014/2015 учебный год 4 модуль",null,30,3,1,1,508316804,2098,null,"stCommon","Журналистика",{"$f":"MATCH(D783,Отчет!$C:$C,0)","v":21}]
[525601062,10,"БЖУР132",475498901,"Скворцова","Дарья","Андреевна","1301219086","Психология (включая основы социальной психологии)",3,"Экзамен","2014/2015 учебный год 4 модуль",null,30,3,1,1,508316804,2098,null,"stCommon","Журналистика",{"$f":"MATCH(D784,Отчет!$C:$C,0)","v":17}]
[525602983,8,"БЖУР133",481502112,"Сидоров","Всеволод","Дмитриевич","1311219085","Психология (включая основы социальной психологии)",3,"Экзамен","2014/2015 учебный год 4 модуль",null,24,3,1,0,508316804,2098,null,"stCommon","Журналистика",{"$f":"MATCH(D785,Отчет!$C:$C,0)","v":60}]
[525603117,7,"БЖУР133",481502259,"Титов","Игорь","Игоревич","1311219092","Психология (включая основы социальной психологии)",3,"Экзамен","2014/2015 учебный год 4 модуль",null,21,3,1,0,508316804,2098,null,"stCommon","Журналистика",{"$f":"MATCH(D786,Отчет!$C:$C,0)","v":58}]
[525604171,10,"БЖУР134",481504306,"Кокорева","Мария","Викторовна","1311219040","Психология (включая основы социальной психологии)",3,"Экзамен","2014/2015 учебный год 4 модуль",null,30,3,1,0,508316804,2098,null,"stCommon","Журналистика",{"$f":"MATCH(D787,Отчет!$C:$C,0)","v":18}]
[525604237,10,"БЖУР134",481504458,"Королева","Ольга","Викторовна","1311219044","Психология (включая основы социальной психологии)",3,"Экзамен","2014/2015 учебный год 4 модуль",null,30,3,1,0,508316804,2098,null,"stCommon","Журналистика",{"$f":"MATCH(D788,Отчет!$C:$C,0)","v":14}]
[525604303,8,"БЖУР134",481504593,"Круглова","Ирина","Викторовна","1311219047","Психология (включая основы социальной психологии)",3,"Экзамен","2014/2015 учебный год 4 модуль",null,24,3,1,0,508316804,2098,null,"stCommon","Журналистика",{"$f":"MATCH(D789,Отчет!$C:$C,0)","v":32}]
[525604713,5,"БЖУР134",481504754,"Петренко","Валерия","Денисовна","1311219073","Психология (включая основы социальной психологии)",3,"Экзамен","2014/2015 учебный год 4 модуль",null,15,3,1,0,508316804,2098,null,"stCommon","Журналистика",{"$f":"MATCH(D790,Отчет!$C:$C,0)","v":88}]
[525604937,10,"БЖУР134",481504898,"Русских","Арина","Сергеевна","1311219082","Психология (включая основы социальной психологии)",3,"Экзамен","2014/2015 учебный год 4 модуль",null,30,3,1,0,508316804,2098,null,"stCommon","Журналистика",{"$f":"MATCH(D791,Отчет!$C:$C,0)","v":45}]
[525597684,7,"БЖУР131",475557752,"Аветисян","Виолетта","Александровна","1311219001","Психология (включая основы социальной психологии)",3,"Экзамен","2014/2015 учебный год 4 модуль",null,21,3,1,0,508316804,2098,null,"stCommon","Журналистика",{"$f":"MATCH(D792,Отчет!$C:$C,0)","v":74}]
[525598630,4,"БЖУР131",475558344,"Маммаева","Фарида","Сулеймановна","1301219057","Психология (включая основы социальной психологии)",3,"Экзамен","2014/2015 учебный год 4 модуль",null,12,3,1,1,508316804,2098,null,"stCommon","Журналистика",{"$f":"MATCH(D793,Отчет!$C:$C,0)","v":101}]
[525599487,7,"БЖУР132",475560308,"Бидзионашвили","Кетеван","-","1301219111","Психология (включая основы социальной психологии)",6,"Экзамен","2014/2015 учебный год 4 модуль",null,42,6,1,1,508316804,2098,"ikPlanned","stCommon","Журналистика",{"$f":"MATCH(D794,Отчет!$C:$C,0)","v":90}]
[525598027,5,"БЖУР131",475557886,"Белобеева","Ангелина","Анатольевна","1311219008","Психология (включая основы социальной психологии)",6,"Экзамен","2014/2015 учебный год 4 модуль",null,30,6,1,0,508316804,2098,"ikPlanned","stCommon","Журналистика",{"$f":"MATCH(D795,Отчет!$C:$C,0)","v":107}]
[828877188,7,"БЖУР131",752764364,"Масалова","Анна","Владиславовна","131232133","Психология (включая основы социальной психологии)",6,"Экзамен","2014/2015 учебный год 4 модуль",null,42,6,1,0,508316804,2098,"ikPlanned","stCommon","Журналистика",{"$f":"MATCH(D796,Отчет!$C:$C,0)","v":92}]
[617793368,6,"БЖУР131",580462633,"Немкова","Екатерина","Дмитриевна","131232209","Психология (включая основы социальной психологии)",6,"Экзамен","2014/2015 учебный год 4 модуль",null,36,6,1,0,508316804,2098,"ikPlanned","stCommon","Журналистика",{"$f":"MATCH(D797,Отчет!$C:$C,0)","v":98}]
[617796006,6,"БЖУР131",615125946,"Халилова","Арзу","Идаятовна","131232230","Психология (включая основы социальной психологии)",6,"Экзамен","2014/2015 учебный год 4 модуль",null,36,6,1,0,508316804,2098,"ikPlanned","stCommon","Журналистика",{"$f":"MATCH(D798,Отчет!$C:$C,0)","v":95}]
[796966920,null,"БЖУР131",796834861,"Тесфайе","Анна-Мария","Синтайе","10701175","Психология (включая основы социальной психологии)",6,"Экзамен","2014/2015 учебный год 4 модуль",1,0,6,null,0,508316804,2098,"ikPlanned","stCommon","Журналистика",{"$f":"MATCH(D799,Отчет!$C:$C,0)","v":109}]
[525603636,5,"248ж",475564380,"Алешкина","Александрина","Александровна","231210002","Психология (включая основы социальной психологии)",6,"Экзамен","2014/2015 учебный год 4 модуль",null,30,6,1,0,508316804,2098,"ikPlanned","stCommon","Журналистика",{"$f":"MATCH(D800,Отчет!$C:$C,0)","v":100}]
[525603705,10,"БЖУР134",475564485,"Басиладзе","Мариами","Рамазиевна","1311219007","Психология (включая основы социальной психологии)",6,"Экзамен","2014/2015 учебный год 4 модуль",null,60,6,1,0,508316804,2098,"ikPlanned","stCommon","Журналистика",{"$f":"MATCH(D801,Отчет!$C:$C,0)","v":80}]
[525603969,6,"БЖУР134",475564787,"Досий","Зоряна","Владимировна","1301219109","Психология (включая основы социальной психологии)",6,"Экзамен","2014/2015 учебный год 4 модуль",null,36,6,1,1,508316804,2098,"ikPlanned","stCommon","Журналистика",{"$f":"MATCH(D802,Отчет!$C:$C,0)","v":99}]
[525599992,6,"БЖУР132",475561255,"Волчек","Никита","Алексеевич","1311219112","Психология (включая основы социальной психологии)",6,"Экзамен","2014/2015 учебный год 4 модуль",null,36,6,1,0,508316804,2098,"ikPlanned","stCommon","Журналистика",{"$f":"MATCH(D803,Отчет!$C:$C,0)","v":97}]
[525600193,4,"БЖУР132",475561427,"Гранкова","Ксения","Сергеевна","1311219027","Психология (включая основы социальной психологии)",6,"Экзамен","2014/2015 учебный год 4 модуль",null,24,6,1,0,508316804,2098,"ikPlanned","stCommon","Журналистика",{"$f":"MATCH(D804,Отчет!$C:$C,0)","v":102}]
[525601326,7,"БЖУР132",475561559,"Шевелёва","Кристина","Дмитриевна","1311219106","Психология (включая основы социальной психологии)",6,"Экзамен","2014/2015 учебный год 4 модуль",null,42,6,1,0,508316804,2098,"ikPlanned","stCommon","Журналистика",{"$f":"MATCH(D805,Отчет!$C:$C,0)","v":87}]
[525601812,9,"БЖУР133",475562419,"Афян","Мария","Геннадьевна","1311219006","Психология (включая основы социальной психологии)",6,"Экзамен","2014/2015 учебный год 4 модуль",null,54,6,1,0,508316804,2098,"ikPlanned","stCommon","Журналистика",{"$f":"MATCH(D806,Отчет!$C:$C,0)","v":69}]
[525602225,6,"БЖУР133",475562897,"Кистерев","Алексей","Валерьевич","12701089","Психология (включая основы социальной психологии)",6,"Экзамен","2014/2015 учебный год 4 модуль",null,36,6,1,0,508316804,2098,"ikPlanned","stCommon","Журналистика",{"$f":"MATCH(D807,Отчет!$C:$C,0)","v":105}]
[525602511,6,"БЖУР133",475563046,"Люля","Арина","Артемовна","1311219053","Психология (включая основы социальной психологии)",6,"Экзамен","2014/2015 учебный год 4 модуль",null,36,6,1,0,508316804,2098,"ikPlanned","stCommon","Журналистика",{"$f":"MATCH(D808,Отчет!$C:$C,0)","v":91}]
[525600058,6,"БЖУР132",481498934,"Глазунов","Никита","Сергеевич","116-24/12-036","Психология (включая основы социальной психологии)",6,"Экзамен","2014/2015 учебный год 4 модуль",null,36,6,1,0,508316804,2098,"ikPlanned","stCommon","Журналистика",{"$f":"MATCH(D809,Отчет!$C:$C,0)","v":106}]
[850863985,9,"БЖУР134",475503575,"Таиров","Ринат","Маратович","1301219091","Современные телевизионные форматы",3,"Экзамен","2014/2015 учебный год 4 модуль",null,27,3,1,1,508316804,2098,null,"stChoosen","Журналистика",{"$f":"MATCH(D810,Отчет!$C:$C,0)","v":53}]
[536216712,10,"БЖУР131",481496795,"Ероносов","Александр","Эдуардович","1311219034","Современные телевизионные форматы",3,"Экзамен","2014/2015 учебный год 4 модуль",null,30,3,1,0,508316804,2098,null,"stChoosen","Журналистика",{"$f":"MATCH(D811,Отчет!$C:$C,0)","v":72}]
[850950949,8,"БЖУР131",615125946,"Халилова","Арзу","Идаятовна","131232230","Современные телевизионные форматы",3,"Экзамен","2014/2015 учебный год 4 модуль",null,24,3,1,0,508316804,2098,null,"stChoosen","Журналистика",{"$f":"MATCH(D812,Отчет!$C:$C,0)","v":95}]
[536216700,9,"БЖУР134",475502663,"Вагапова","Юлия","Рстамовна","1301219016","Современные телевизионные форматы",3,"Экзамен","2014/2015 учебный год 4 модуль",null,27,3,1,1,508316804,2098,null,"stChoosen","Журналистика",{"$f":"MATCH(D813,Отчет!$C:$C,0)","v":43}]
[850864691,8,"БЖУР134",475564642,"Гимаева","Жанна","Эмзаровна","1311219021","Современные телевизионные форматы",3,"Экзамен","2014/2015 учебный год 4 модуль",null,24,3,1,0,508316804,2098,null,"stChoosen","Журналистика",{"$f":"MATCH(D814,Отчет!$C:$C,0)","v":51}]
[536216704,8,"БЖУР134",475564933,"Животнёв","Владислав","Николаевич","1311219035","Современные телевизионные форматы",3,"Экзамен","2014/2015 учебный год 4 модуль",null,24,3,1,0,508316804,2098,null,"stChoosen","Журналистика",{"$f":"MATCH(D815,Отчет!$C:$C,0)","v":75}]
[536216729,9,"БЖУР134",475565231,"Макарова","Юлия","Валерьевна","1311219054","Современные телевизионные форматы",3,"Экзамен","2014/2015 учебный год 4 модуль",null,27,3,1,0,508316804,2098,null,"stChoosen","Журналистика",{"$f":"MATCH(D816,Отчет!$C:$C,0)","v":70}]
[536216733,9,"БЖУР134",475565410,"Маленкова","Мария","Александровна","1301219055","Современные телевизионные форматы",3,"Экзамен","2014/2015 учебный год 4 модуль",null,27,3,1,1,508316804,2098,null,"stChoosen","Журналистика",{"$f":"MATCH(D817,Отчет!$C:$C,0)","v":47}]
[850868704,9,"БЖУР132",475499056,"Федорова","Анастасия","Александровна","1301219096","Современные телевизионные форматы",3,"Экзамен","2014/2015 учебный год 4 модуль",null,27,3,1,1,508316804,2098,null,"stChoosen","Журналистика",{"$f":"MATCH(D818,Отчет!$C:$C,0)","v":30}]
[855972484,7,"БЖУР132",475499184,"Устюжанинова","Анна","Александровна","1301219095","Современные телевизионные форматы",3,"Экзамен","2014/2015 учебный год 4 модуль",null,21,3,1,1,508316804,2098,null,"stChoosen","Журналистика",{"$f":"MATCH(D819,Отчет!$C:$C,0)","v":84}]
[536216856,9,"БЖУР132",475499320,"Якубович","Анастасия","Александровна","1301219108","Современные телевизионные форматы",3,"Экзамен","2014/2015 учебный год 4 модуль",null,27,3,1,1,508316804,2098,null,"stChoosen","Журналистика",{"$f":"MATCH(D820,Отчет!$C:$C,0)","v":63}]
[536216725,9,"БЖУР133",475501239,"Липчанская","Анастасия","Алексеевна","1301219049","Современные телевизионные форматы",3,"Экзамен","2014/2015 учебный год 4 модуль",null,27,3,1,1,508316804,2098,null,"stChoosen","Журналистика",{"$f":"MATCH(D821,Отчет!$C:$C,0)","v":20}]
[536216848,8,"БЖУР133",475501776,"Чернова","Кристина","Валериевна","1301219102","Современные телевизионные форматы",3,"Экзамен","2014/2015 учебный год 4 модуль",null,0,0,1,1,508316804,2098,null,"stChoosen","Журналистика",{"$f":"MATCH(D822,Отчет!$C:$C,0)","v":24}]
[833850205,10,"БЖУР132",475561061,"Вишнякова","Екатерина","Владимировна","1311219019","Современные телевизионные форматы",3,"Экзамен","2014/2015 учебный год 4 модуль",null,30,3,1,0,508316804,2098,null,"stChoosen","Журналистика",{"$f":"MATCH(D823,Отчет!$C:$C,0)","v":77}]
[536216708,9,"БЖУР132",475561255,"Волчек","Никита","Алексеевич","1311219112","Современные телевизионные форматы",3,"Экзамен","2014/2015 учебный год 4 модуль",null,27,3,1,0,508316804,2098,"ikPlanned","stChoosen","Журналистика",{"$f":"MATCH(D824,Отчет!$C:$C,0)","v":97}]
[536216860,9,"БЖУР132",475561559,"Шевелёва","Кристина","Дмитриевна","1311219106","Современные телевизионные форматы",3,"Экзамен","2014/2015 учебный год 4 модуль",null,27,3,1,0,508316804,2098,"ikPlanned","stChoosen","Журналистика",{"$f":"MATCH(D825,Отчет!$C:$C,0)","v":87}]
[536216737,9,"БЖУР133",481501975,"Молоствова","Анна","Александровна","1311219061","Современные телевизионные форматы",3,"Экзамен","2014/2015 учебный год 4 модуль",null,27,3,1,0,508316804,2098,null,"stChoosen","Журналистика",{"$f":"MATCH(D826,Отчет!$C:$C,0)","v":35}]
[536216716,9,"БЖУР134",481504458,"Королева","Ольга","Викторовна","1311219044","Современные телевизионные форматы",3,"Экзамен","2014/2015 учебный год 4 модуль",null,27,3,1,0,508316804,2098,null,"stChoosen","Журналистика",{"$f":"MATCH(D827,Отчет!$C:$C,0)","v":14}]
[617793364,9,"БЖУР131",580462633,"Немкова","Екатерина","Дмитриевна","131232209","Современные телевизионные форматы",3,"Экзамен","2014/2015 учебный год 4 модуль",null,27,3,1,0,508316804,2098,"ikPlanned","stChoosen","Журналистика",{"$f":"MATCH(D828,Отчет!$C:$C,0)","v":98}]
[536216836,8,"БЖУР134",481504754,"Петренко","Валерия","Денисовна","1311219073","Современные телевизионные форматы",3,"Экзамен","2014/2015 учебный год 4 модуль",null,24,3,1,0,508316804,2098,null,"stChoosen","Журналистика",{"$f":"MATCH(D829,Отчет!$C:$C,0)","v":88}]
[536216840,8,"БЖУР134",481504898,"Русских","Арина","Сергеевна","1311219082","Современные телевизионные форматы",3,"Экзамен","2014/2015 учебный год 4 модуль",null,24,3,1,0,508316804,2098,null,"stChoosen","Журналистика",{"$f":"MATCH(D830,Отчет!$C:$C,0)","v":45}]
[536216692,9,"БЖУР131",475557752,"Аветисян","Виолетта","Александровна","1311219001","Современные телевизионные форматы",3,"Экзамен","2014/2015 учебный год 4 модуль",null,27,3,1,0,508316804,2098,null,"stChoosen","Журналистика",{"$f":"MATCH(D831,Отчет!$C:$C,0)","v":74}]
[536216741,7,"БЖУР131",475558344,"Маммаева","Фарида","Сулеймановна","1301219057","Современные телевизионные форматы",3,"Экзамен","2014/2015 учебный год 4 модуль",null,21,3,1,1,508316804,2098,null,"stChoosen","Журналистика",{"$f":"MATCH(D832,Отчет!$C:$C,0)","v":101}]
[536216852,6,"БЖУР134",481505154,"Швецова","Екатерина","Константиновна","1311219105","Современные телевизионные форматы",3,"Экзамен","2014/2015 учебный год 4 модуль",null,18,3,1,0,508316804,2098,null,"stChoosen","Журналистика",{"$f":"MATCH(D833,Отчет!$C:$C,0)","v":86}]
[536216745,9,"БЖУР131",481497484,"Нещадимова","Дарья","Викторовна","1311219067","Современные телевизионные форматы",3,"Экзамен","2014/2015 учебный год 4 модуль",null,27,3,1,0,508316804,2098,null,"stChoosen","Журналистика",{"$f":"MATCH(D834,Отчет!$C:$C,0)","v":54}]
[855991922,9,"БЖУР132",481499520,"Королева","Виолетта","Николаевна","1311219043","Современные телевизионные форматы",3,"Экзамен","2014/2015 учебный год 4 модуль",null,27,3,1,0,508316804,2098,null,"stChoosen","Журналистика",{"$f":"MATCH(D835,Отчет!$C:$C,0)","v":82}]
[850866138,9,"БЖУР132",481499652,"Королькова","Елизавета","Дмитриевна","1311219045","Современные телевизионные форматы",3,"Экзамен","2014/2015 учебный год 4 модуль",null,27,3,1,0,508316804,2098,null,"stChoosen","Журналистика",{"$f":"MATCH(D836,Отчет!$C:$C,0)","v":16}]
[850866218,10,"БЖУР132",481500039,"Лебедева","Ксения","Кирилловна","1311219048","Современные телевизионные форматы",3,"Экзамен","2014/2015 учебный год 4 модуль",null,30,3,1,0,508316804,2098,null,"stChoosen","Журналистика",{"$f":"MATCH(D837,Отчет!$C:$C,0)","v":15}]
[536216754,5,"БЖУР132",481500235,"Немченко","Илья","Михайлович","1311219066","Современные телевизионные форматы",3,"Экзамен","2014/2015 учебный год 4 модуль",null,15,3,1,0,508316804,2098,null,"stChoosen","Журналистика",{"$f":"MATCH(D838,Отчет!$C:$C,0)","v":103}]
[536216832,10,"БЖУР132",481500535,"Правдюк","Анна","Сергеевна","1311219075","Современные телевизионные форматы",3,"Экзамен","2014/2015 учебный год 4 модуль",null,30,3,1,0,508316804,2098,null,"stChoosen","Журналистика",{"$f":"MATCH(D839,Отчет!$C:$C,0)","v":12}]
[536216749,10,"БЖУР131",475497479,"Николаева","Мария","Дмитриевна","1301219068","Современные телевизионные форматы",3,"Экзамен","2014/2015 учебный год 4 модуль",null,30,3,1,1,508316804,2098,null,"stChoosen","Журналистика",{"$f":"MATCH(D840,Отчет!$C:$C,0)","v":29}]
[536216864,8,"БЖУР131",475497867,"Яковец","Елизавета","Николаевна","1301219107","Современные телевизионные форматы",3,"Экзамен","2014/2015 учебный год 4 модуль",null,24,3,1,1,508316804,2098,null,"stChoosen","Журналистика",{"$f":"MATCH(D841,Отчет!$C:$C,0)","v":27}]
[536216696,9,"БЖУР131",474332631,"Астапенко","Ольга","Юрьевна","1301219003","Современные телевизионные форматы",3,"Экзамен","2014/2015 учебный год 4 модуль",null,27,3,1,1,508316804,2098,null,"stChoosen","Журналистика",{"$f":"MATCH(D842,Отчет!$C:$C,0)","v":44}]
[802114502,9,"БЖУР134",481504458,"Королева","Ольга","Викторовна","1311219044","Создание Интернет-проектов. Уровень 4. Основы языка программирования PHP",0,"Экзамен","2014/2015 учебный год 4 модуль",null,0,0,1,0,null,5028,null,"stFacultative","Журналистика",{"$f":"MATCH(D843,Отчет!$C:$C,0)","v":14}]
[525599082,10,"БЖУР131",475497611,"Ставрианиди","Анна","Георгиевна","1301219087","Теория и практика русского литературного языка",3,"Экзамен","2014/2015 учебный год 4 модуль",null,30,3,1,1,508316804,2098,null,"stCommon","Журналистика",{"$f":"MATCH(D844,Отчет!$C:$C,0)","v":50}]
[525599148,8,"БЖУР131",475497743,"Тищенко","Виктория","Андреевна","1301219093","Теория и практика русского литературного языка",3,"Экзамен","2014/2015 учебный год 4 модуль",null,24,3,1,1,508316804,2098,null,"stCommon","Журналистика",{"$f":"MATCH(D845,Отчет!$C:$C,0)","v":52}]
[525599294,10,"БЖУР131",475497867,"Яковец","Елизавета","Николаевна","1301219107","Теория и практика русского литературного языка",3,"Экзамен","2014/2015 учебный год 4 модуль",null,30,3,1,1,508316804,2098,null,"stCommon","Журналистика",{"$f":"MATCH(D846,Отчет!$C:$C,0)","v":27}]
[525599531,9,"БЖУР132",475498195,"Булатова","Катерина","Николаевна","1301219012","Теория и практика русского литературного языка",3,"Экзамен","2014/2015 учебный год 4 модуль",null,27,3,1,1,508316804,2098,null,"stCommon","Журналистика",{"$f":"MATCH(D847,Отчет!$C:$C,0)","v":34}]
[525600237,8,"БЖУР132",475498343,"Дмитриева","Ольга","Олеговна","1301219031","Теория и практика русского литературного языка",3,"Экзамен","2014/2015 учебный год 4 модуль",null,24,3,1,1,508316804,2098,null,"stCommon","Журналистика",{"$f":"MATCH(D848,Отчет!$C:$C,0)","v":59}]
[525600702,8,"БЖУР132",475498638,"Огурцова","Евгения","Алексеевна","1301219069","Теория и практика русского литературного языка",3,"Экзамен","2014/2015 учебный год 4 модуль",null,24,3,1,1,508316804,2098,null,"stCommon","Журналистика",{"$f":"MATCH(D849,Отчет!$C:$C,0)","v":37}]
[525597854,10,"БЖУР131",474332631,"Астапенко","Ольга","Юрьевна","1301219003","Теория и практика русского литературного языка",3,"Экзамен","2014/2015 учебный год 4 модуль",null,30,3,1,1,508316804,2098,null,"stCommon","Журналистика",{"$f":"MATCH(D850,Отчет!$C:$C,0)","v":44}]
[525597927,9,"БЖУР131",481496658,"Афанасьева","Татьяна","Валерьевна","1311219005","Теория и практика русского литературного языка",3,"Экзамен","2014/2015 учебный год 4 модуль",null,27,3,1,0,508316804,2098,null,"stCommon","Журналистика",{"$f":"MATCH(D851,Отчет!$C:$C,0)","v":33}]
[525598275,8,"БЖУР131",481496795,"Ероносов","Александр","Эдуардович","1311219034","Теория и практика русского литературного языка",3,"Экзамен","2014/2015 учебный год 4 модуль",null,24,3,1,0,508316804,2098,null,"stCommon","Журналистика",{"$f":"MATCH(D852,Отчет!$C:$C,0)","v":72}]
[525598408,5,"БЖУР131",481496924,"Зубкевич","Андрей","Вадимович","1311219037","Теория и практика русского литературного языка",3,"Экзамен","2014/2015 учебный год 4 модуль",null,15,3,1,0,508316804,2098,null,"stCommon","Журналистика",{"$f":"MATCH(D853,Отчет!$C:$C,0)","v":104}]
[525598674,10,"БЖУР131",481497225,"Морозова","Николь","Дмитриевна","1311219062","Теория и практика русского литературного языка",3,"Экзамен","2014/2015 учебный год 4 модуль",null,30,3,1,0,508316804,2098,null,"stCommon","Журналистика",{"$f":"MATCH(D854,Отчет!$C:$C,0)","v":22}]
[525601922,9,"БЖУР133",475562579,"Герасимова","Мария","Александровна","1311219020","Теория и практика русского литературного языка",3,"Экзамен","2014/2015 учебный год 4 модуль",null,27,3,1,0,508316804,2098,null,"stCommon","Журналистика",{"$f":"MATCH(D855,Отчет!$C:$C,0)","v":28}]
[525602191,8,"БЖУР133",475562897,"Кистерев","Алексей","Валерьевич","12701089","Теория и практика русского литературного языка",3,"Экзамен","2014/2015 учебный год 4 модуль",null,24,3,1,0,508316804,2098,"ikPlanned","stCommon","Журналистика",{"$f":"MATCH(D856,Отчет!$C:$C,0)","v":105}]
[525602489,8,"БЖУР133",475563046,"Люля","Арина","Артемовна","1311219053","Теория и практика русского литературного языка",3,"Экзамен","2014/2015 учебный год 4 модуль",null,24,3,1,0,508316804,2098,"ikPlanned","stCommon","Журналистика",{"$f":"MATCH(D857,Отчет!$C:$C,0)","v":91}]
[525602556,10,"БЖУР133",475563206,"Малышева","Ирина","Александровна","1301219056","Теория и практика русского литературного языка",3,"Экзамен","2014/2015 учебный год 4 модуль",null,30,3,1,1,508316804,2098,null,"stCommon","Журналистика",{"$f":"MATCH(D858,Отчет!$C:$C,0)","v":66}]
[525602696,8,"БЖУР133",475563331,"Мусина","Юлия","Маратовна","1301219064","Теория и практика русского литературного языка",3,"Экзамен","2014/2015 учебный год 4 модуль",null,24,3,1,1,508316804,2098,null,"stCommon","Журналистика",{"$f":"MATCH(D859,Отчет!$C:$C,0)","v":26}]
[525600968,8,"БЖУР132",475498778,"Рудакова","Юлия","Владиславовна","1301219081","Теория и практика русского литературного языка",3,"Экзамен","2014/2015 учебный год 4 модуль",null,24,3,1,1,508316804,2098,null,"stCommon","Журналистика",{"$f":"MATCH(D860,Отчет!$C:$C,0)","v":21}]
[525601038,9,"БЖУР132",475498901,"Скворцова","Дарья","Андреевна","1301219086","Теория и практика русского литературного языка",3,"Экзамен","2014/2015 учебный год 4 модуль",null,27,3,1,1,508316804,2098,null,"stCommon","Журналистика",{"$f":"MATCH(D861,Отчет!$C:$C,0)","v":17}]
[525602961,8,"БЖУР133",481502112,"Сидоров","Всеволод","Дмитриевич","1311219085","Теория и практика русского литературного языка",3,"Экзамен","2014/2015 учебный год 4 модуль",null,24,3,1,0,508316804,2098,null,"stCommon","Журналистика",{"$f":"MATCH(D862,Отчет!$C:$C,0)","v":60}]
[525603095,8,"БЖУР133",481502259,"Титов","Игорь","Игоревич","1311219092","Теория и практика русского литературного языка",3,"Экзамен","2014/2015 учебный год 4 модуль",null,24,3,1,0,508316804,2098,null,"stCommon","Журналистика",{"$f":"MATCH(D863,Отчет!$C:$C,0)","v":58}]
[525604149,10,"БЖУР134",481504306,"Кокорева","Мария","Викторовна","1311219040","Теория и практика русского литературного языка",3,"Экзамен","2014/2015 учебный год 4 модуль",null,30,3,1,0,508316804,2098,null,"stCommon","Журналистика",{"$f":"MATCH(D864,Отчет!$C:$C,0)","v":18}]
[525604215,10,"БЖУР134",481504458,"Королева","Ольга","Викторовна","1311219044","Теория и практика русского литературного языка",3,"Экзамен","2014/2015 учебный год 4 модуль",null,30,3,1,0,508316804,2098,null,"stCommon","Журналистика",{"$f":"MATCH(D865,Отчет!$C:$C,0)","v":14}]
[525604281,10,"БЖУР134",481504593,"Круглова","Ирина","Викторовна","1311219047","Теория и практика русского литературного языка",3,"Экзамен","2014/2015 учебный год 4 модуль",null,30,3,1,0,508316804,2098,null,"stCommon","Журналистика",{"$f":"MATCH(D866,Отчет!$C:$C,0)","v":32}]
[525604691,8,"БЖУР134",481504754,"Петренко","Валерия","Денисовна","1311219073","Теория и практика русского литературного языка",3,"Экзамен","2014/2015 учебный год 4 модуль",null,24,3,1,0,508316804,2098,null,"stCommon","Журналистика",{"$f":"MATCH(D867,Отчет!$C:$C,0)","v":88}]
[525604915,10,"БЖУР134",481504898,"Русских","Арина","Сергеевна","1311219082","Теория и практика русского литературного языка",3,"Экзамен","2014/2015 учебный год 4 модуль",null,30,3,1,0,508316804,2098,null,"stCommon","Журналистика",{"$f":"MATCH(D868,Отчет!$C:$C,0)","v":45}]
[525597662,8,"БЖУР131",475557752,"Аветисян","Виолетта","Александровна","1311219001","Теория и практика русского литературного языка",3,"Экзамен","2014/2015 учебный год 4 модуль",null,24,3,1,0,508316804,2098,null,"stCommon","Журналистика",{"$f":"MATCH(D869,Отчет!$C:$C,0)","v":74}]
[525598005,9,"БЖУР131",475557886,"Белобеева","Ангелина","Анатольевна","1311219008","Теория и практика русского литературного языка",3,"Экзамен","2014/2015 учебный год 4 модуль",null,27,3,1,0,508316804,2098,"ikPlanned","stCommon","Журналистика",{"$f":"MATCH(D870,Отчет!$C:$C,0)","v":107}]
[525598608,8,"БЖУР131",475558344,"Маммаева","Фарида","Сулеймановна","1301219057","Теория и практика русского литературного языка",3,"Экзамен","2014/2015 учебный год 4 модуль",null,24,3,1,1,508316804,2098,null,"stCommon","Журналистика",{"$f":"MATCH(D871,Отчет!$C:$C,0)","v":101}]
[525599016,8,"БЖУР131",475558722,"Пржевальская","Анастасия","Всеволодовна","1301219076","Теория и практика русского литературного языка",3,"Экзамен","2014/2015 учебный год 4 модуль",null,24,3,1,1,508316804,2098,null,"stCommon","Журналистика",{"$f":"MATCH(D872,Отчет!$C:$C,0)","v":55}]
[525604981,10,"БЖУР134",481505031,"Савина","София","Леонидовна","1311219083","Теория и практика русского литературного языка",3,"Экзамен","2014/2015 учебный год 4 модуль",null,30,3,1,0,508316804,2098,null,"stCommon","Журналистика",{"$f":"MATCH(D873,Отчет!$C:$C,0)","v":19}]
[525605325,9,"БЖУР134",481505154,"Швецова","Екатерина","Константиновна","1311219105","Теория и практика русского литературного языка",3,"Экзамен","2014/2015 учебный год 4 модуль",null,27,3,1,0,508316804,2098,null,"stCommon","Журналистика",{"$f":"MATCH(D874,Отчет!$C:$C,0)","v":86}]
[525599464,8,"БЖУР132",475560308,"Бидзионашвили","Кетеван","-","1301219111","Теория и практика русского литературного языка",3,"Экзамен","2014/2015 учебный год 4 модуль",null,24,3,1,1,508316804,2098,"ikPlanned","stCommon","Журналистика",{"$f":"MATCH(D875,Отчет!$C:$C,0)","v":90}]
[525599597,8,"БЖУР132",475560500,"Буримова","Александра","Сергеевна","1311219014","Теория и практика русского литературного языка",3,"Экзамен","2014/2015 учебный год 4 модуль",null,24,3,1,0,508316804,2098,null,"stCommon","Журналистика",{"$f":"MATCH(D876,Отчет!$C:$C,0)","v":96}]
[525598740,9,"БЖУР131",481497357,"Муратова","Анастасия","Александровна","1311219063","Теория и практика русского литературного языка",3,"Экзамен","2014/2015 учебный год 4 модуль",null,27,3,1,0,508316804,2098,null,"stCommon","Журналистика",{"$f":"MATCH(D877,Отчет!$C:$C,0)","v":56}]
[525598806,10,"БЖУР131",481497484,"Нещадимова","Дарья","Викторовна","1311219067","Теория и практика русского литературного языка",3,"Экзамен","2014/2015 учебный год 4 модуль",null,30,3,1,0,508316804,2098,null,"stCommon","Журналистика",{"$f":"MATCH(D878,Отчет!$C:$C,0)","v":54}]
[525600036,5,"БЖУР132",481498934,"Глазунов","Никита","Сергеевич","116-24/12-036","Теория и практика русского литературного языка",3,"Экзамен","2014/2015 учебный год 4 модуль",null,15,3,1,0,508316804,2098,"ikPlanned","stCommon","Журналистика",{"$f":"MATCH(D879,Отчет!$C:$C,0)","v":106}]
[525600102,8,"БЖУР132",481499019,"Голованов","Сергей","Сергеевич","1311219022","Теория и практика русского литературного языка",3,"Экзамен","2014/2015 учебный год 4 модуль",null,24,3,1,0,508316804,2098,null,"stCommon","Журналистика",{"$f":"MATCH(D880,Отчет!$C:$C,0)","v":46}]
[525600436,8,"БЖУР132",481499520,"Королева","Виолетта","Николаевна","1311219043","Теория и практика русского литературного языка",3,"Экзамен","2014/2015 учебный год 4 модуль",null,24,3,1,0,508316804,2098,null,"stCommon","Журналистика",{"$f":"MATCH(D881,Отчет!$C:$C,0)","v":82}]
[525600504,9,"БЖУР132",481499652,"Королькова","Елизавета","Дмитриевна","1311219045","Теория и практика русского литературного языка",3,"Экзамен","2014/2015 учебный год 4 модуль",null,27,3,1,0,508316804,2098,null,"stCommon","Журналистика",{"$f":"MATCH(D882,Отчет!$C:$C,0)","v":16}]
[525600570,10,"БЖУР132",481500039,"Лебедева","Ксения","Кирилловна","1311219048","Теория и практика русского литературного языка",3,"Экзамен","2014/2015 учебный год 4 модуль",null,30,3,1,0,508316804,2098,null,"stCommon","Журналистика",{"$f":"MATCH(D883,Отчет!$C:$C,0)","v":15}]
[525600636,8,"БЖУР132",481500235,"Немченко","Илья","Михайлович","1311219066","Теория и практика русского литературного языка",3,"Экзамен","2014/2015 учебный год 4 модуль",null,24,3,1,0,508316804,2098,null,"stCommon","Журналистика",{"$f":"MATCH(D884,Отчет!$C:$C,0)","v":103}]
[525600768,8,"БЖУР132",481500392,"Павлова","Алиса","Павловна","1311219071","Теория и практика русского литературного языка",3,"Экзамен","2014/2015 учебный год 4 модуль",null,24,3,1,0,508316804,2098,null,"stCommon","Журналистика",{"$f":"MATCH(D885,Отчет!$C:$C,0)","v":89}]
[525600836,10,"БЖУР132",481500535,"Правдюк","Анна","Сергеевна","1311219075","Теория и практика русского литературного языка",3,"Экзамен","2014/2015 учебный год 4 модуль",null,30,3,1,0,508316804,2098,null,"stCommon","Журналистика",{"$f":"MATCH(D886,Отчет!$C:$C,0)","v":12}]
[525600902,9,"БЖУР132",481500688,"Ревоненко","Анна","Николаевна","1311219078","Теория и практика русского литературного языка",3,"Экзамен","2014/2015 учебный год 4 модуль",null,27,3,1,0,508316804,2098,null,"stCommon","Журналистика",{"$f":"MATCH(D887,Отчет!$C:$C,0)","v":23}]
[525601238,9,"БЖУР132",481500835,"Цегалко","Яна","Николаевна","1311219101","Теория и практика русского литературного языка",3,"Экзамен","2014/2015 учебный год 4 модуль",null,27,3,1,0,508316804,2098,null,"stCommon","Журналистика",{"$f":"MATCH(D888,Отчет!$C:$C,0)","v":61}]
[525601715,8,"БЖУР133",481501546,"Атасунцев","Александр","Григорьевич","1311219004","Теория и практика русского литературного языка",3,"Экзамен","2014/2015 учебный год 4 модуль",null,24,3,1,0,508316804,2098,null,"stCommon","Журналистика",{"$f":"MATCH(D889,Отчет!$C:$C,0)","v":67}]
[525602423,7,"БЖУР133",481501825,"Лымарева","Мария","Андреевна","1311219052","Теория и практика русского литературного языка",3,"Экзамен","2014/2015 учебный год 4 модуль",null,21,3,1,0,508316804,2098,null,"stCommon","Журналистика",{"$f":"MATCH(D890,Отчет!$C:$C,0)","v":108}]
[525602622,8,"БЖУР133",481501975,"Молоствова","Анна","Александровна","1311219061","Теория и практика русского литературного языка",3,"Экзамен","2014/2015 учебный год 4 модуль",null,24,3,1,0,508316804,2098,null,"stCommon","Журналистика",{"$f":"MATCH(D891,Отчет!$C:$C,0)","v":35}]
[525598076,9,"БЖУР131",475496297,"Голубева","Анастасия","Павловна","1301219024","Теория и практика русского литературного языка",3,"Экзамен","2014/2015 учебный год 4 модуль",null,27,3,1,1,508316804,2098,null,"stCommon","Журналистика",{"$f":"MATCH(D892,Отчет!$C:$C,0)","v":68}]
[525598143,8,"БЖУР131",475496974,"Джгаркава","Нино","Звиадиевна","1301219029","Теория и практика русского литературного языка",3,"Экзамен","2014/2015 учебный год 4 модуль",null,24,3,1,1,508316804,2098,null,"stCommon","Журналистика",{"$f":"MATCH(D893,Отчет!$C:$C,0)","v":93}]
[525598209,10,"БЖУР131",475497099,"Дымчишина","Александра","Юрьевна","1301219032","Теория и практика русского литературного языка",3,"Экзамен","2014/2015 учебный год 4 модуль",null,30,3,1,1,508316804,2098,null,"stCommon","Журналистика",{"$f":"MATCH(D894,Отчет!$C:$C,0)","v":65}]
[525598342,null,"БЖУР131",475497229,"Жвик","Анастасия","Николаевна","1301219110","Теория и практика русского литературного языка",3,"Экзамен","2014/2015 учебный год 4 модуль",1,0,3,null,1,508316804,2098,null,"stCommon","Журналистика",{"$f":"MATCH(D895,Отчет!$C:$C,0)","v":110}]
[525598882,10,"БЖУР131",475497479,"Николаева","Мария","Дмитриевна","1301219068","Теория и практика русского литературного языка",3,"Экзамен","2014/2015 учебный год 4 модуль",null,30,3,1,1,508316804,2098,null,"stCommon","Журналистика",{"$f":"MATCH(D896,Отчет!$C:$C,0)","v":29}]
[525605115,8,"БЖУР134",475565869,"Стешенкова","Александра","Евгеньевна","1301219088","Теория и практика русского литературного языка",3,"Экзамен","2014/2015 учебный год 4 модуль",null,24,3,1,1,508316804,2098,null,"stCommon","Журналистика",{"$f":"MATCH(D897,Отчет!$C:$C,0)","v":79}]
[525605047,8,"БЖУР134",475503320,"Селиванова","Ксения","Александровна","1301219084","Теория и практика русского литературного языка",3,"Экзамен","2014/2015 учебный год 4 модуль",null,24,3,1,1,508316804,2098,null,"stCommon","Журналистика",{"$f":"MATCH(D898,Отчет!$C:$C,0)","v":83}]
[525605188,10,"БЖУР134",475503448,"Суханова","Юлия","Александровна","1301219090","Теория и практика русского литературного языка",3,"Экзамен","2014/2015 учебный год 4 модуль",null,30,3,1,1,508316804,2098,null,"stCommon","Журналистика",{"$f":"MATCH(D899,Отчет!$C:$C,0)","v":13}]
[525605259,10,"БЖУР134",475503575,"Таиров","Ринат","Маратович","1301219091","Теория и практика русского литературного языка",3,"Экзамен","2014/2015 учебный год 4 модуль",null,30,3,1,1,508316804,2098,null,"stCommon","Журналистика",{"$f":"MATCH(D900,Отчет!$C:$C,0)","v":53}]
[771504602,8,"БЖУР131",752764364,"Масалова","Анна","Владиславовна","131232133","Теория и практика русского литературного языка",3,"Экзамен","2014/2015 учебный год 4 модуль",null,24,3,1,0,508316804,2098,"ikPlanned","stCommon","Журналистика",{"$f":"MATCH(D901,Отчет!$C:$C,0)","v":92}]
[525603749,8,"БЖУР134",475502663,"Вагапова","Юлия","Рстамовна","1301219016","Теория и практика русского литературного языка",3,"Экзамен","2014/2015 учебный год 4 модуль",null,24,3,1,1,508316804,2098,null,"stCommon","Журналистика",{"$f":"MATCH(D902,Отчет!$C:$C,0)","v":43}]
[525603881,8,"БЖУР134",475502790,"Дергалов","Руслан","Сергеевич","1301219028","Теория и практика русского литературного языка",3,"Экзамен","2014/2015 учебный год 4 модуль",null,24,3,1,1,508316804,2098,null,"stCommon","Журналистика",{"$f":"MATCH(D903,Отчет!$C:$C,0)","v":62}]
[525604347,9,"БЖУР134",475502924,"Литвякова","Евдокия","Алексеевна","1301219050","Теория и практика русского литературного языка",3,"Экзамен","2014/2015 учебный год 4 модуль",null,27,3,1,1,508316804,2098,null,"stCommon","Журналистика",{"$f":"MATCH(D904,Отчет!$C:$C,0)","v":36}]
[525604557,8,"БЖУР134",475503059,"Маркова","Кристина","Алексеевна","1301219058","Теория и практика русского литературного языка",3,"Экзамен","2014/2015 учебный год 4 модуль",null,24,3,1,1,508316804,2098,null,"stCommon","Журналистика",{"$f":"MATCH(D905,Отчет!$C:$C,0)","v":76}]
[525604834,8,"БЖУР134",475503187,"Робул","Павел","Константинович","1301219079","Теория и практика русского литературного языка",3,"Экзамен","2014/2015 учебный год 4 модуль",null,24,3,1,1,508316804,2098,null,"stCommon","Журналистика",{"$f":"MATCH(D906,Отчет!$C:$C,0)","v":38}]
[525602763,8,"БЖУР133",475563521,"Осипова","Светлана","Витальевна","1311219070","Теория и практика русского литературного языка",3,"Экзамен","2014/2015 учебный год 4 модуль",null,24,3,1,0,508316804,2098,null,"stCommon","Журналистика",{"$f":"MATCH(D907,Отчет!$C:$C,0)","v":71}]
[525603295,8,"БЖУР133",475563678,"Чехонадских","Дарья","Александровна","1301219104","Теория и практика русского литературного языка",3,"Экзамен","2014/2015 учебный год 4 модуль",null,24,3,1,1,508316804,2098,null,"stCommon","Журналистика",{"$f":"MATCH(D908,Отчет!$C:$C,0)","v":81}]
[525603614,8,"248ж",475564380,"Алешкина","Александрина","Александровна","231210002","Теория и практика русского литературного языка",3,"Экзамен","2014/2015 учебный год 4 модуль",null,24,3,1,0,508316804,2098,"ikPlanned","stCommon","Журналистика",{"$f":"MATCH(D909,Отчет!$C:$C,0)","v":100}]
[525603682,9,"БЖУР134",475564485,"Басиладзе","Мариами","Рамазиевна","1311219007","Теория и практика русского литературного языка",3,"Экзамен","2014/2015 учебный год 4 модуль",null,27,3,1,0,508316804,2098,"ikPlanned","stCommon","Журналистика",{"$f":"MATCH(D910,Отчет!$C:$C,0)","v":80}]
[525603815,9,"БЖУР134",475564642,"Гимаева","Жанна","Эмзаровна","1311219021","Теория и практика русского литературного языка",3,"Экзамен","2014/2015 учебный год 4 модуль",null,27,3,1,0,508316804,2098,null,"stCommon","Журналистика",{"$f":"MATCH(D911,Отчет!$C:$C,0)","v":51}]
[525603947,8,"БЖУР134",475564787,"Досий","Зоряна","Владимировна","1301219109","Теория и практика русского литературного языка",3,"Экзамен","2014/2015 учебный год 4 модуль",null,24,3,1,1,508316804,2098,"ikPlanned","stCommon","Журналистика",{"$f":"MATCH(D912,Отчет!$C:$C,0)","v":99}]
[525604013,9,"БЖУР134",475564933,"Животнёв","Владислав","Николаевич","1311219035","Теория и практика русского литературного языка",3,"Экзамен","2014/2015 учебный год 4 модуль",null,27,3,1,0,508316804,2098,null,"stCommon","Журналистика",{"$f":"MATCH(D913,Отчет!$C:$C,0)","v":75}]
[525604080,10,"БЖУР134",475565084,"Зражаева","Алина","Сергеевна","1311219036","Теория и практика русского литературного языка",3,"Экзамен","2014/2015 учебный год 4 модуль",null,30,3,1,0,508316804,2098,null,"stCommon","Журналистика",{"$f":"MATCH(D914,Отчет!$C:$C,0)","v":49}]
[525604413,8,"БЖУР134",475565231,"Макарова","Юлия","Валерьевна","1311219054","Теория и практика русского литературного языка",3,"Экзамен","2014/2015 учебный год 4 модуль",null,24,3,1,0,508316804,2098,null,"stCommon","Журналистика",{"$f":"MATCH(D915,Отчет!$C:$C,0)","v":70}]
[525604481,10,"БЖУР134",475565410,"Маленкова","Мария","Александровна","1301219055","Теория и практика русского литературного языка",3,"Экзамен","2014/2015 учебный год 4 модуль",null,30,3,1,1,508316804,2098,null,"stCommon","Журналистика",{"$f":"MATCH(D916,Отчет!$C:$C,0)","v":47}]
[525604623,8,"БЖУР134",475565551,"Нарушевич","Анастасия","Александровна","1311219065","Теория и практика русского литературного языка",3,"Экзамен","2014/2015 учебный год 4 модуль",null,24,3,1,0,508316804,2098,null,"stCommon","Журналистика",{"$f":"MATCH(D917,Отчет!$C:$C,0)","v":78}]
[525601172,8,"БЖУР132",475499056,"Федорова","Анастасия","Александровна","1301219096","Теория и практика русского литературного языка",3,"Экзамен","2014/2015 учебный год 4 модуль",null,24,3,1,1,508316804,2098,null,"stCommon","Журналистика",{"$f":"MATCH(D918,Отчет!$C:$C,0)","v":30}]
[525601106,8,"БЖУР132",475499184,"Устюжанинова","Анна","Александровна","1301219095","Теория и практика русского литературного языка",3,"Экзамен","2014/2015 учебный год 4 модуль",null,24,3,1,1,508316804,2098,null,"stCommon","Журналистика",{"$f":"MATCH(D919,Отчет!$C:$C,0)","v":84}]
[525601372,9,"БЖУР132",475499320,"Якубович","Анастасия","Александровна","1301219108","Теория и практика русского литературного языка",3,"Экзамен","2014/2015 учебный год 4 модуль",null,27,3,1,1,508316804,2098,null,"stCommon","Журналистика",{"$f":"MATCH(D920,Отчет!$C:$C,0)","v":63}]
[525601856,8,"БЖУР133",475500480,"Вильшанская","Елена","Андреевна","1301219017","Теория и практика русского литературного языка",3,"Экзамен","2014/2015 учебный год 4 модуль",null,24,3,1,1,508316804,2098,null,"stCommon","Журналистика",{"$f":"MATCH(D921,Отчет!$C:$C,0)","v":31}]
[525601988,9,"БЖУР133",475500628,"Головина","Евгения","Павловна","1301219023","Теория и практика русского литературного языка",3,"Экзамен","2014/2015 учебный год 4 модуль",null,27,3,1,1,508316804,2098,null,"stCommon","Журналистика",{"$f":"MATCH(D922,Отчет!$C:$C,0)","v":41}]
[525602056,9,"БЖУР133",475500772,"Дмитриева","Екатерина","Александровна","1301219030","Теория и практика русского литературного языка",3,"Экзамен","2014/2015 учебный год 4 модуль",null,27,3,1,1,508316804,2098,null,"stCommon","Журналистика",{"$f":"MATCH(D923,Отчет!$C:$C,0)","v":40}]
[525602123,9,"БЖУР133",475500939,"Еремина","Анастасия","Алексеевна","1301219033","Теория и практика русского литературного языка",3,"Экзамен","2014/2015 учебный год 4 модуль",null,27,3,1,1,508316804,2098,null,"stCommon","Журналистика",{"$f":"MATCH(D924,Отчет!$C:$C,0)","v":94}]
[525602287,8,"БЖУР133",475501085,"Кокшарова","Александра","Игоревна","1301219041","Теория и практика русского литературного языка",3,"Экзамен","2014/2015 учебный год 4 модуль",null,24,3,1,1,508316804,2098,null,"stCommon","Журналистика",{"$f":"MATCH(D925,Отчет!$C:$C,0)","v":48}]
[525602357,10,"БЖУР133",475501239,"Липчанская","Анастасия","Алексеевна","1301219049","Теория и практика русского литературного языка",3,"Экзамен","2014/2015 учебный год 4 модуль",null,30,3,1,1,508316804,2098,null,"stCommon","Журналистика",{"$f":"MATCH(D926,Отчет!$C:$C,0)","v":20}]
[525602829,9,"БЖУР133",475501379,"Пятибратова","Екатерина","Васильевна","1301219077","Теория и практика русского литературного языка",3,"Экзамен","2014/2015 учебный год 4 модуль",null,27,3,1,1,508316804,2098,null,"stCommon","Журналистика",{"$f":"MATCH(D927,Отчет!$C:$C,0)","v":57}]
[525602895,10,"БЖУР133",475501513,"Рублева","Милена","Валерьевна","1301219080","Теория и практика русского литературного языка",3,"Экзамен","2014/2015 учебный год 4 модуль",null,30,3,1,1,508316804,2098,null,"stCommon","Журналистика",{"$f":"MATCH(D928,Отчет!$C:$C,0)","v":25}]
[525603027,8,"БЖУР133",475501641,"Стрельцова","Наталья","Сергеевна","1301219089","Теория и практика русского литературного языка",3,"Экзамен","2014/2015 учебный год 4 модуль",null,24,3,1,1,508316804,2098,null,"stCommon","Журналистика",{"$f":"MATCH(D929,Отчет!$C:$C,0)","v":64}]
[525603161,10,"БЖУР133",475501776,"Чернова","Кристина","Валериевна","1301219102","Теория и практика русского литературного языка",3,"Экзамен","2014/2015 учебный год 4 модуль",null,30,3,1,1,508316804,2098,null,"stCommon","Журналистика",{"$f":"MATCH(D930,Отчет!$C:$C,0)","v":24}]
[525603227,8,"БЖУР133",475501916,"Чернышева","Евгения","Эдуардовна","1301219103","Теория и практика русского литературного языка",3,"Экзамен","2014/2015 учебный год 4 модуль",null,24,3,1,1,508316804,2098,null,"stCommon","Журналистика",{"$f":"MATCH(D931,Отчет!$C:$C,0)","v":42}]
[523091874,9,"БЖУР132",475560670,"Бурцева","Анастасия","Юрьевна","1311219015","Теория и практика русского литературного языка",3,"Экзамен","2014/2015 учебный год 4 модуль",null,27,3,1,0,508316804,2098,null,"stCommon","Журналистика",{"$f":"MATCH(D932,Отчет!$C:$C,0)","v":73}]
[525599828,8,"БЖУР132",475560846,"Винокур","Дана","Витальевна","1311219018","Теория и практика русского литературного языка",3,"Экзамен","2014/2015 учебный год 4 модуль",null,24,3,1,0,508316804,2098,null,"stCommon","Журналистика",{"$f":"MATCH(D933,Отчет!$C:$C,0)","v":85}]
[525599894,8,"БЖУР132",475561061,"Вишнякова","Екатерина","Владимировна","1311219019","Теория и практика русского литературного языка",3,"Экзамен","2014/2015 учебный год 4 модуль",null,24,3,1,0,508316804,2098,null,"stCommon","Журналистика",{"$f":"MATCH(D934,Отчет!$C:$C,0)","v":77}]
[525599970,8,"БЖУР132",475561255,"Волчек","Никита","Алексеевич","1311219112","Теория и практика русского литературного языка",3,"Экзамен","2014/2015 учебный год 4 модуль",null,24,3,1,0,508316804,2098,"ikPlanned","stCommon","Журналистика",{"$f":"MATCH(D935,Отчет!$C:$C,0)","v":97}]
[525600171,6,"БЖУР132",475561427,"Гранкова","Ксения","Сергеевна","1311219027","Теория и практика русского литературного языка",3,"Экзамен","2014/2015 учебный год 4 модуль",null,18,3,1,0,508316804,2098,"ikPlanned","stCommon","Журналистика",{"$f":"MATCH(D936,Отчет!$C:$C,0)","v":102}]
[525601304,8,"БЖУР132",475561559,"Шевелёва","Кристина","Дмитриевна","1311219106","Теория и практика русского литературного языка",3,"Экзамен","2014/2015 учебный год 4 модуль",null,24,3,1,0,508316804,2098,"ikPlanned","stCommon","Журналистика",{"$f":"MATCH(D937,Отчет!$C:$C,0)","v":87}]
[525601649,9,"БЖУР133",475562216,"Аммосова","Людмила","Михайловна","1311219002","Теория и практика русского литературного языка",3,"Экзамен","2014/2015 учебный год 4 модуль",null,27,3,1,0,508316804,2098,null,"stCommon","Журналистика",{"$f":"MATCH(D938,Отчет!$C:$C,0)","v":39}]
[525601788,9,"БЖУР133",475562419,"Афян","Мария","Геннадьевна","1311219006","Теория и практика русского литературного языка",3,"Экзамен","2014/2015 учебный год 4 модуль",null,27,3,1,0,508316804,2098,"ikPlanned","stCommon","Журналистика",{"$f":"MATCH(D939,Отчет!$C:$C,0)","v":69}]
[617793332,4,"БЖУР131",580462633,"Немкова","Екатерина","Дмитриевна","131232209","Теория и практика русского литературного языка",4,"Экзамен","2014/2015 учебный год 4 модуль",null,16,4,1,0,508316804,2098,"ikPassed","stCommon","Журналистика",{"$f":"MATCH(D940,Отчет!$C:$C,0)","v":98}]
[617795974,4,"БЖУР131",615125946,"Халилова","Арзу","Идаятовна","131232230","Теория и практика русского литературного языка",4,"Экзамен","2014/2015 учебный год 4 модуль",null,16,4,1,0,508316804,2098,"ikPassed","stCommon","Журналистика",{"$f":"MATCH(D941,Отчет!$C:$C,0)","v":95}]
[972499383,6,"БЖУР132",475498343,"Дмитриева","Ольга","Олеговна","1301219031","Техника речи",0,"Экзамен","2014/2015 учебный год 4 модуль",null,0,0,1,1,508316804,2098,null,"stFacultative","Журналистика",{"$f":"MATCH(D942,Отчет!$C:$C,0)","v":59}]
[535081898,5,"БЖУР131",474332631,"Астапенко","Ольга","Юрьевна","1301219003","Техника речи",0,"Экзамен","2014/2015 учебный год 4 модуль",null,0,0,1,1,508316804,2098,null,"stFacultative","Журналистика",{"$f":"MATCH(D943,Отчет!$C:$C,0)","v":44}]
[535081906,8,"БЖУР131",481496795,"Ероносов","Александр","Эдуардович","1311219034","Техника речи",0,"Экзамен","2014/2015 учебный год 4 модуль",null,0,0,1,0,508316804,2098,null,"stFacultative","Журналистика",{"$f":"MATCH(D944,Отчет!$C:$C,0)","v":72}]
[604506394,9,"БЖУР133",475563331,"Мусина","Юлия","Маратовна","1301219064","Техника речи",0,"Экзамен","2014/2015 учебный год 4 модуль",null,0,0,1,1,508316804,2098,null,"stFacultative","Журналистика",{"$f":"MATCH(D945,Отчет!$C:$C,0)","v":26}]
[535082806,8,"БЖУР132",475498778,"Рудакова","Юлия","Владиславовна","1301219081","Техника речи",0,"Экзамен","2014/2015 учебный год 4 модуль",null,0,0,1,1,508316804,2098,null,"stFacultative","Журналистика",{"$f":"MATCH(D946,Отчет!$C:$C,0)","v":21}]
[535082810,8,"БЖУР132",475498901,"Скворцова","Дарья","Андреевна","1301219086","Техника речи",0,"Экзамен","2014/2015 учебный год 4 модуль",null,0,0,1,1,508316804,2098,null,"stFacultative","Журналистика",{"$f":"MATCH(D947,Отчет!$C:$C,0)","v":17}]
[535082814,7,"БЖУР132",475499056,"Федорова","Анастасия","Александровна","1301219096","Техника речи",0,"Экзамен","2014/2015 учебный год 4 модуль",null,0,0,1,1,508316804,2098,null,"stFacultative","Журналистика",{"$f":"MATCH(D948,Отчет!$C:$C,0)","v":30}]
[535083034,8,"БЖУР133",481502112,"Сидоров","Всеволод","Дмитриевич","1311219085","Техника речи",0,"Экзамен","2014/2015 учебный год 4 модуль",null,0,0,1,0,508316804,2098,null,"stFacultative","Журналистика",{"$f":"MATCH(D949,Отчет!$C:$C,0)","v":60}]
[535083296,8,"БЖУР134",481504458,"Королева","Ольга","Викторовна","1311219044","Техника речи",0,"Экзамен","2014/2015 учебный год 4 модуль",null,0,0,1,0,508316804,2098,null,"stFacultative","Журналистика",{"$f":"MATCH(D950,Отчет!$C:$C,0)","v":14}]
[535083300,7,"БЖУР134",481504593,"Круглова","Ирина","Викторовна","1311219047","Техника речи",0,"Экзамен","2014/2015 учебный год 4 модуль",null,0,0,1,0,508316804,2098,null,"stFacultative","Журналистика",{"$f":"MATCH(D951,Отчет!$C:$C,0)","v":32}]
[535081894,7,"БЖУР131",475557752,"Аветисян","Виолетта","Александровна","1311219001","Техника речи",0,"Экзамен","2014/2015 учебный год 4 модуль",null,0,0,1,0,508316804,2098,null,"stFacultative","Журналистика",{"$f":"MATCH(D952,Отчет!$C:$C,0)","v":74}]
[535083324,8,"БЖУР134",481505031,"Савина","София","Леонидовна","1311219083","Техника речи",0,"Экзамен","2014/2015 учебный год 4 модуль",null,0,0,1,0,508316804,2098,null,"stFacultative","Журналистика",{"$f":"MATCH(D953,Отчет!$C:$C,0)","v":19}]
[535083340,8,"БЖУР134",481505154,"Швецова","Екатерина","Константиновна","1311219105","Техника речи",0,"Экзамен","2014/2015 учебный год 4 модуль",null,0,0,1,0,508316804,2098,null,"stFacultative","Журналистика",{"$f":"MATCH(D954,Отчет!$C:$C,0)","v":86}]
[972496883,10,"БЖУР131",481497225,"Морозова","Николь","Дмитриевна","1311219062","Техника речи",0,"Экзамен","2014/2015 учебный год 4 модуль",null,0,0,1,0,508316804,2098,null,"stFacultative","Журналистика",{"$f":"MATCH(D955,Отчет!$C:$C,0)","v":22}]
[535083435,8,"БЖУР131",481497484,"Нещадимова","Дарья","Викторовна","1311219067","Техника речи",0,"Экзамен","2014/2015 учебный год 4 модуль",null,0,0,1,0,508316804,2098,null,"stFacultative","Журналистика",{"$f":"MATCH(D956,Отчет!$C:$C,0)","v":54}]
[535082790,9,"БЖУР132",481499652,"Королькова","Елизавета","Дмитриевна","1311219045","Техника речи",0,"Экзамен","2014/2015 учебный год 4 модуль",null,0,0,1,0,508316804,2098,null,"stFacultative","Журналистика",{"$f":"MATCH(D957,Отчет!$C:$C,0)","v":16}]
[535082794,5,"БЖУР132",481500235,"Немченко","Илья","Михайлович","1311219066","Техника речи",0,"Экзамен","2014/2015 учебный год 4 модуль",null,0,0,1,0,508316804,2098,null,"stFacultative","Журналистика",{"$f":"MATCH(D958,Отчет!$C:$C,0)","v":103}]
[535082798,8,"БЖУР132",481500392,"Павлова","Алиса","Павловна","1311219071","Техника речи",0,"Экзамен","2014/2015 учебный год 4 модуль",null,0,0,1,0,508316804,2098,null,"stFacultative","Журналистика",{"$f":"MATCH(D959,Отчет!$C:$C,0)","v":89}]
[535082802,10,"БЖУР132",481500688,"Ревоненко","Анна","Николаевна","1311219078","Техника речи",0,"Экзамен","2014/2015 учебный год 4 модуль",null,0,0,1,0,508316804,2098,null,"stFacultative","Журналистика",{"$f":"MATCH(D960,Отчет!$C:$C,0)","v":23}]
[535082818,9,"БЖУР132",481500835,"Цегалко","Яна","Николаевна","1311219101","Техника речи",0,"Экзамен","2014/2015 учебный год 4 модуль",null,0,0,1,0,508316804,2098,null,"stFacultative","Журналистика",{"$f":"MATCH(D961,Отчет!$C:$C,0)","v":61}]
[565749689,7,"БЖУР133",481501546,"Атасунцев","Александр","Григорьевич","1311219004","Техника речи",0,"Экзамен","2014/2015 учебный год 4 модуль",null,0,0,1,0,508316804,2098,null,"stFacultative","Журналистика",{"$f":"MATCH(D962,Отчет!$C:$C,0)","v":67}]
[535083026,9,"БЖУР133",481501975,"Молоствова","Анна","Александровна","1311219061","Техника речи",0,"Экзамен","2014/2015 учебный год 4 модуль",null,0,0,1,0,508316804,2098,null,"stFacultative","Журналистика",{"$f":"MATCH(D963,Отчет!$C:$C,0)","v":35}]
[535081910,8,"БЖУР131",475497611,"Ставрианиди","Анна","Георгиевна","1301219087","Техника речи",0,"Экзамен","2014/2015 учебный год 4 модуль",null,0,0,1,1,508316804,2098,null,"stFacultative","Журналистика",{"$f":"MATCH(D964,Отчет!$C:$C,0)","v":50}]
[535083332,9,"БЖУР134",475503448,"Суханова","Юлия","Александровна","1301219090","Техника речи",0,"Экзамен","2014/2015 учебный год 4 модуль",null,0,0,1,1,508316804,2098,null,"stFacultative","Журналистика",{"$f":"MATCH(D965,Отчет!$C:$C,0)","v":13}]
[535083336,9,"БЖУР134",475503575,"Таиров","Ринат","Маратович","1301219091","Техника речи",0,"Экзамен","2014/2015 учебный год 4 модуль",null,0,0,1,1,508316804,2098,null,"stFacultative","Журналистика",{"$f":"MATCH(D966,Отчет!$C:$C,0)","v":53}]
[535082991,9,"БЖУР133",475562216,"Аммосова","Людмила","Михайловна","1311219002","Техника речи",0,"Экзамен","2014/2015 учебный год 4 модуль",null,0,0,1,0,508316804,2098,null,"stFacultative","Журналистика",{"$f":"MATCH(D967,Отчет!$C:$C,0)","v":39}]
[535081914,7,"БЖУР131",475497867,"Яковец","Елизавета","Николаевна","1301219107","Техника речи",0,"Экзамен","2014/2015 учебный год 4 модуль",null,0,0,1,1,508316804,2098,null,"stFacultative","Журналистика",{"$f":"MATCH(D968,Отчет!$C:$C,0)","v":27}]
[535082774,9,"БЖУР132",475498195,"Булатова","Катерина","Николаевна","1301219012","Техника речи",0,"Экзамен","2014/2015 учебный год 4 модуль",null,0,0,1,1,508316804,2098,null,"stFacultative","Журналистика",{"$f":"MATCH(D969,Отчет!$C:$C,0)","v":34}]
[535083038,8,"БЖУР133",475501916,"Чернышева","Евгения","Эдуардовна","1301219103","Техника речи",0,"Экзамен","2014/2015 учебный год 4 модуль",null,0,0,1,1,508316804,2098,null,"stFacultative","Журналистика",{"$f":"MATCH(D970,Отчет!$C:$C,0)","v":42}]
[535083030,8,"БЖУР133",475501513,"Рублева","Милена","Валерьевна","1301219080","Техника речи",0,"Экзамен","2014/2015 учебный год 4 модуль",null,0,0,1,1,508316804,2098,null,"stFacultative","Журналистика",{"$f":"MATCH(D971,Отчет!$C:$C,0)","v":25}]
[535083016,9,"БЖУР133",475501239,"Липчанская","Анастасия","Алексеевна","1301219049","Техника речи",0,"Экзамен","2014/2015 учебный год 4 модуль",null,0,0,1,1,508316804,2098,null,"stFacultative","Журналистика",{"$f":"MATCH(D972,Отчет!$C:$C,0)","v":20}]
[535083012,7,"БЖУР133",475501085,"Кокшарова","Александра","Игоревна","1301219041","Техника речи",0,"Экзамен","2014/2015 учебный год 4 модуль",null,0,0,1,1,508316804,2098,null,"stFacultative","Журналистика",{"$f":"MATCH(D973,Отчет!$C:$C,0)","v":48}]
[535083004,9,"БЖУР133",475500939,"Еремина","Анастасия","Алексеевна","1301219033","Техника речи",0,"Экзамен","2014/2015 учебный год 4 модуль",null,0,0,1,1,508316804,2098,null,"stFacultative","Журналистика",{"$f":"MATCH(D974,Отчет!$C:$C,0)","v":94}]
[535083292,9,"БЖУР134",475502790,"Дергалов","Руслан","Сергеевич","1301219028","Техника речи",0,"Экзамен","2014/2015 учебный год 4 модуль",null,0,0,1,1,508316804,2098,null,"stFacultative","Журналистика",{"$f":"MATCH(D975,Отчет!$C:$C,0)","v":62}]
[535083304,9,"БЖУР134",475502924,"Литвякова","Евдокия","Алексеевна","1301219050","Техника речи",0,"Экзамен","2014/2015 учебный год 4 модуль",null,0,0,1,1,508316804,2098,null,"stFacultative","Журналистика",{"$f":"MATCH(D976,Отчет!$C:$C,0)","v":36}]
[862851343,9,"БЖУР134",475564642,"Гимаева","Жанна","Эмзаровна","1311219021","Техника речи",0,"Экзамен","2014/2015 учебный год 4 модуль",null,0,0,1,0,508316804,2098,null,"stFacultative","Журналистика",{"$f":"MATCH(D977,Отчет!$C:$C,0)","v":51}]
[535083308,9,"БЖУР134",475565231,"Макарова","Юлия","Валерьевна","1311219054","Техника речи",0,"Экзамен","2014/2015 учебный год 4 модуль",null,0,0,1,0,508316804,2098,null,"stFacultative","Журналистика",{"$f":"MATCH(D978,Отчет!$C:$C,0)","v":70}]
[535083316,6,"БЖУР134",475565551,"Нарушевич","Анастасия","Александровна","1311219065","Техника речи",0,"Экзамен","2014/2015 учебный год 4 модуль",null,0,0,1,0,508316804,2098,null,"stFacultative","Журналистика",{"$f":"MATCH(D979,Отчет!$C:$C,0)","v":78}]
[535082995,9,"БЖУР133",475500480,"Вильшанская","Елена","Андреевна","1301219017","Техника речи",0,"Экзамен","2014/2015 учебный год 4 модуль",null,0,0,1,1,508316804,2098,null,"stFacultative","Журналистика",{"$f":"MATCH(D980,Отчет!$C:$C,0)","v":31}]
[535083000,9,"БЖУР133",475500772,"Дмитриева","Екатерина","Александровна","1301219030","Техника речи",0,"Экзамен","2014/2015 учебный год 4 модуль",null,0,0,1,1,508316804,2098,null,"stFacultative","Журналистика",{"$f":"MATCH(D981,Отчет!$C:$C,0)","v":40}]
[535083288,6,"БЖУР134",475564485,"Басиладзе","Мариами","Рамазиевна","1311219007","Техника речи",5,"Экзамен","2014/2015 учебный год 4 модуль",null,0,0,1,0,508316804,2098,"ikPlanned","stFacultative","Журналистика",{"$f":"MATCH(D982,Отчет!$C:$C,0)","v":80}]
[535082822,6,"БЖУР132",475561559,"Шевелёва","Кристина","Дмитриевна","1311219106","Техника речи",5,"Экзамен","2014/2015 учебный год 4 модуль",null,0,0,1,0,508316804,2098,"ikPlanned","stFacultative","Журналистика",{"$f":"MATCH(D983,Отчет!$C:$C,0)","v":87}]
[535082778,7,"БЖУР132",475561255,"Волчек","Никита","Алексеевич","1311219112","Техника речи",5,"Экзамен","2014/2015 учебный год 4 модуль",null,0,0,1,0,508316804,2098,"ikPlanned","stFacultative","Журналистика",{"$f":"MATCH(D984,Отчет!$C:$C,0)","v":97}]
[535083022,6,"БЖУР133",475563046,"Люля","Арина","Артемовна","1311219053","Техника речи",5,"Экзамен","2014/2015 учебный год 4 модуль",null,0,0,1,0,508316804,2098,"ikPlanned","stFacultative","Журналистика",{"$f":"MATCH(D985,Отчет!$C:$C,0)","v":91}]
[535082770,6,"БЖУР132",475560308,"Бидзионашвили","Кетеван","-","1301219111","Техника речи",5,"Экзамен","2014/2015 учебный год 4 модуль",null,0,0,1,1,508316804,2098,"ikPlanned","stFacultative","Журналистика",{"$f":"MATCH(D986,Отчет!$C:$C,0)","v":90}]
[771504598,8,"БЖУР131",752764364,"Масалова","Анна","Владиславовна","131232133","Техника речи",5,"Экзамен","2014/2015 учебный год 4 модуль",null,0,0,1,0,508316804,2098,"ikPlanned","stFacultative","Журналистика",{"$f":"MATCH(D987,Отчет!$C:$C,0)","v":92}]
[536216415,8,"БЖУР134",475565869,"Стешенкова","Александра","Евгеньевна","1301219088","Технологии манипулирования в СМИ: выявление, анализ, противодействие",3,"Экзамен","2014/2015 учебный год 4 модуль",null,24,3,1,1,508316804,2098,null,"stChoosen","Журналистика",{"$f":"MATCH(D988,Отчет!$C:$C,0)","v":79}]
[536216411,8,"БЖУР134",475503320,"Селиванова","Ксения","Александровна","1301219084","Технологии манипулирования в СМИ: выявление, анализ, противодействие",3,"Экзамен","2014/2015 учебный год 4 модуль",null,24,3,1,1,508316804,2098,null,"stChoosen","Журналистика",{"$f":"MATCH(D989,Отчет!$C:$C,0)","v":83}]
[536216419,10,"БЖУР134",475503448,"Суханова","Юлия","Александровна","1301219090","Технологии манипулирования в СМИ: выявление, анализ, противодействие",3,"Экзамен","2014/2015 учебный год 4 модуль",null,30,3,1,1,508316804,2098,null,"stChoosen","Журналистика",{"$f":"MATCH(D990,Отчет!$C:$C,0)","v":13}]
[771504630,8,"БЖУР131",752764364,"Масалова","Анна","Владиславовна","131232133","Технологии манипулирования в СМИ: выявление, анализ, противодействие",3,"Экзамен","2014/2015 учебный год 4 модуль",null,24,3,1,0,508316804,2098,"ikPlanned","stChoosen","Журналистика",{"$f":"MATCH(D991,Отчет!$C:$C,0)","v":92}]
[796966904,4,"БЖУР131",796834861,"Тесфайе","Анна-Мария","Синтайе","10701175","Технологии манипулирования в СМИ: выявление, анализ, противодействие",3,"Экзамен","2014/2015 учебный год 4 модуль",null,12,3,1,0,508316804,2098,"ikPlanned","stChoosen","Журналистика",{"$f":"MATCH(D992,Отчет!$C:$C,0)","v":109}]
[536216219,8,"БЖУР134",475502790,"Дергалов","Руслан","Сергеевич","1301219028","Технологии манипулирования в СМИ: выявление, анализ, противодействие",3,"Экзамен","2014/2015 учебный год 4 модуль",null,24,3,1,1,508316804,2098,null,"stChoosen","Журналистика",{"$f":"MATCH(D993,Отчет!$C:$C,0)","v":62}]
[850883130,9,"БЖУР134",475502924,"Литвякова","Евдокия","Алексеевна","1301219050","Технологии манипулирования в СМИ: выявление, анализ, противодействие",3,"Экзамен","2014/2015 учебный год 4 модуль",null,27,3,1,1,508316804,2098,null,"stChoosen","Журналистика",{"$f":"MATCH(D994,Отчет!$C:$C,0)","v":36}]
[536216403,10,"БЖУР134",475503187,"Робул","Павел","Константинович","1301219079","Технологии манипулирования в СМИ: выявление, анализ, противодействие",3,"Экзамен","2014/2015 учебный год 4 модуль",null,30,3,1,1,508316804,2098,null,"stChoosen","Журналистика",{"$f":"MATCH(D995,Отчет!$C:$C,0)","v":38}]
[536216383,10,"БЖУР134",475565084,"Зражаева","Алина","Сергеевна","1311219036","Технологии манипулирования в СМИ: выявление, анализ, противодействие",3,"Экзамен","2014/2015 учебный год 4 модуль",null,30,3,1,0,508316804,2098,null,"stChoosen","Журналистика",{"$f":"MATCH(D996,Отчет!$C:$C,0)","v":49}]
[536216395,7,"БЖУР134",475565551,"Нарушевич","Анастасия","Александровна","1311219065","Технологии манипулирования в СМИ: выявление, анализ, противодействие",3,"Экзамен","2014/2015 учебный год 4 модуль",null,21,3,1,0,508316804,2098,null,"stChoosen","Журналистика",{"$f":"MATCH(D997,Отчет!$C:$C,0)","v":78}]
[536216215,7,"БЖУР133",475500628,"Головина","Евгения","Павловна","1301219023","Технологии манипулирования в СМИ: выявление, анализ, противодействие",3,"Экзамен","2014/2015 учебный год 4 модуль",null,21,3,1,1,508316804,2098,null,"stChoosen","Журналистика",{"$f":"MATCH(D998,Отчет!$C:$C,0)","v":41}]
[536216223,8,"БЖУР133",475500772,"Дмитриева","Екатерина","Александровна","1301219030","Технологии манипулирования в СМИ: выявление, анализ, противодействие",3,"Экзамен","2014/2015 учебный год 4 модуль",null,24,3,1,1,508316804,2098,null,"stChoosen","Журналистика",{"$f":"MATCH(D999,Отчет!$C:$C,0)","v":40}]
[536216227,6,"БЖУР133",475500939,"Еремина","Анастасия","Алексеевна","1301219033","Технологии манипулирования в СМИ: выявление, анализ, противодействие",3,"Экзамен","2014/2015 учебный год 4 модуль",null,18,3,1,1,508316804,2098,null,"stChoosen","Журналистика",{"$f":"MATCH(D1000,Отчет!$C:$C,0)","v":94}]
[536216423,8,"БЖУР133",475501379,"Пятибратова","Екатерина","Васильевна","1301219077","Технологии манипулирования в СМИ: выявление, анализ, противодействие",3,"Экзамен","2014/2015 учебный год 4 модуль",null,24,3,1,1,508316804,2098,null,"stChoosen","Журналистика",{"$f":"MATCH(D1001,Отчет!$C:$C,0)","v":57}]
[536216427,8,"БЖУР133",475501513,"Рублева","Милена","Валерьевна","1301219080","Технологии манипулирования в СМИ: выявление, анализ, противодействие",3,"Экзамен","2014/2015 учебный год 4 модуль",null,24,3,1,1,508316804,2098,null,"stChoosen","Журналистика",{"$f":"MATCH(D1002,Отчет!$C:$C,0)","v":25}]
[536216431,8,"БЖУР133",475501641,"Стрельцова","Наталья","Сергеевна","1301219089","Технологии манипулирования в СМИ: выявление, анализ, противодействие",3,"Экзамен","2014/2015 учебный год 4 модуль",null,24,3,1,1,508316804,2098,null,"stChoosen","Журналистика",{"$f":"MATCH(D1003,Отчет!$C:$C,0)","v":64}]
[536216435,8,"БЖУР133",475501776,"Чернова","Кристина","Валериевна","1301219102","Технологии манипулирования в СМИ: выявление, анализ, противодействие",3,"Экзамен","2014/2015 учебный год 4 модуль",null,24,3,1,1,508316804,2098,null,"stChoosen","Журналистика",{"$f":"MATCH(D1004,Отчет!$C:$C,0)","v":24}]
[536216439,9,"БЖУР133",475501916,"Чернышева","Евгения","Эдуардовна","1301219103","Технологии манипулирования в СМИ: выявление, анализ, противодействие",3,"Экзамен","2014/2015 учебный год 4 модуль",null,27,3,1,1,508316804,2098,null,"stChoosen","Журналистика",{"$f":"MATCH(D1005,Отчет!$C:$C,0)","v":42}]
[536216195,7,"БЖУР132",475560670,"Бурцева","Анастасия","Юрьевна","1311219015","Технологии манипулирования в СМИ: выявление, анализ, противодействие",3,"Экзамен","2014/2015 учебный год 4 модуль",null,21,3,1,0,508316804,2098,null,"stChoosen","Журналистика",{"$f":"MATCH(D1006,Отчет!$C:$C,0)","v":73}]
[536216199,8,"БЖУР132",475560846,"Винокур","Дана","Витальевна","1311219018","Технологии манипулирования в СМИ: выявление, анализ, противодействие",3,"Экзамен","2014/2015 учебный год 4 модуль",null,24,3,1,0,508316804,2098,null,"stChoosen","Журналистика",{"$f":"MATCH(D1007,Отчет!$C:$C,0)","v":85}]
[536216207,8,"БЖУР132",475561255,"Волчек","Никита","Алексеевич","1311219112","Технологии манипулирования в СМИ: выявление, анализ, противодействие",3,"Экзамен","2014/2015 учебный год 4 модуль",null,0,0,1,0,508316804,2098,"ikPlanned","stChoosen","Журналистика",{"$f":"MATCH(D1008,Отчет!$C:$C,0)","v":97}]
[850951380,10,"БЖУР133",475562419,"Афян","Мария","Геннадьевна","1311219006","Технологии манипулирования в СМИ: выявление, анализ, противодействие",3,"Экзамен","2014/2015 учебный год 4 модуль",null,30,3,1,0,508316804,2098,null,"stChoosen","Журналистика",{"$f":"MATCH(D1009,Отчет!$C:$C,0)","v":69}]
[536216211,9,"БЖУР133",475562579,"Герасимова","Мария","Александровна","1311219020","Технологии манипулирования в СМИ: выявление, анализ, противодействие",3,"Экзамен","2014/2015 учебный год 4 модуль",null,27,3,1,0,508316804,2098,null,"stChoosen","Журналистика",{"$f":"MATCH(D1010,Отчет!$C:$C,0)","v":28}]
[536216247,7,"БЖУР133",475563046,"Люля","Арина","Артемовна","1311219053","Технологии манипулирования в СМИ: выявление, анализ, противодействие",3,"Экзамен","2014/2015 учебный год 4 модуль",null,21,3,1,0,508316804,2098,"ikPlanned","stChoosen","Журналистика",{"$f":"MATCH(D1011,Отчет!$C:$C,0)","v":91}]
[850870096,10,"БЖУР134",481504306,"Кокорева","Мария","Викторовна","1311219040","Технологии манипулирования в СМИ: выявление, анализ, противодействие",3,"Экзамен","2014/2015 учебный год 4 модуль",null,30,3,1,0,508316804,2098,null,"stChoosen","Журналистика",{"$f":"MATCH(D1012,Отчет!$C:$C,0)","v":18}]
[536216387,10,"БЖУР134",481504593,"Круглова","Ирина","Викторовна","1311219047","Технологии манипулирования в СМИ: выявление, анализ, противодействие",3,"Экзамен","2014/2015 учебный год 4 модуль",null,30,3,1,0,508316804,2098,null,"stChoosen","Журналистика",{"$f":"MATCH(D1013,Отчет!$C:$C,0)","v":32}]
[536216187,5,"БЖУР131",475557886,"Белобеева","Ангелина","Анатольевна","1311219008","Технологии манипулирования в СМИ: выявление, анализ, противодействие",3,"Экзамен","2014/2015 учебный год 4 модуль",null,15,3,1,0,508316804,2098,"ikPlanned","stChoosen","Журналистика",{"$f":"MATCH(D1014,Отчет!$C:$C,0)","v":107}]
[536216407,10,"БЖУР134",481505031,"Савина","София","Леонидовна","1311219083","Технологии манипулирования в СМИ: выявление, анализ, противодействие",3,"Экзамен","2014/2015 учебный год 4 модуль",null,30,3,1,0,508316804,2098,null,"stChoosen","Журналистика",{"$f":"MATCH(D1015,Отчет!$C:$C,0)","v":19}]
[536216179,7,"БЖУР132",475560308,"Бидзионашвили","Кетеван","-","1301219111","Технологии манипулирования в СМИ: выявление, анализ, противодействие",3,"Экзамен","2014/2015 учебный год 4 модуль",null,21,3,1,1,508316804,2098,"ikPlanned","stChoosen","Журналистика",{"$f":"MATCH(D1016,Отчет!$C:$C,0)","v":90}]
[536216391,10,"БЖУР131",481497357,"Муратова","Анастасия","Александровна","1311219063","Технологии манипулирования в СМИ: выявление, анализ, противодействие",3,"Экзамен","2014/2015 учебный год 4 модуль",null,30,3,1,0,508316804,2098,null,"stChoosen","Журналистика",{"$f":"MATCH(D1017,Отчет!$C:$C,0)","v":56}]
[845989095,null,"БЖУР132",481498934,"Глазунов","Никита","Сергеевич","116-24/12-036","Технологии манипулирования в СМИ: выявление, анализ, противодействие",3,"Экзамен","2014/2015 учебный год 4 модуль",0,0,3,null,0,508316804,2098,null,"stChoosen","Журналистика",{"$f":"MATCH(D1018,Отчет!$C:$C,0)","v":106}]
[536216447,8,"БЖУР132",481500688,"Ревоненко","Анна","Николаевна","1311219078","Технологии манипулирования в СМИ: выявление, анализ, противодействие",3,"Экзамен","2014/2015 учебный год 4 модуль",null,24,3,1,0,508316804,2098,null,"stChoosen","Журналистика",{"$f":"MATCH(D1019,Отчет!$C:$C,0)","v":23}]
[536216455,8,"БЖУР132",481500835,"Цегалко","Яна","Николаевна","1311219101","Технологии манипулирования в СМИ: выявление, анализ, противодействие",3,"Экзамен","2014/2015 учебный год 4 модуль",null,24,3,1,0,508316804,2098,null,"stChoosen","Журналистика",{"$f":"MATCH(D1020,Отчет!$C:$C,0)","v":61}]
[536216235,7,"БЖУР131",475496974,"Джгаркава","Нино","Звиадиевна","1301219029","Технологии манипулирования в СМИ: выявление, анализ, противодействие",3,"Экзамен","2014/2015 учебный год 4 модуль",null,21,3,1,1,508316804,2098,null,"stChoosen","Журналистика",{"$f":"MATCH(D1021,Отчет!$C:$C,0)","v":93}]
[850950348,8,"БЖУР131",475497099,"Дымчишина","Александра","Юрьевна","1301219032","Технологии манипулирования в СМИ: выявление, анализ, противодействие",3,"Экзамен","2014/2015 учебный год 4 модуль",null,24,3,1,1,508316804,2098,null,"stChoosen","Журналистика",{"$f":"MATCH(D1022,Отчет!$C:$C,0)","v":65}]
[536216231,null,"БЖУР131",475497229,"Жвик","Анастасия","Николаевна","1301219110","Технологии манипулирования в СМИ: выявление, анализ, противодействие",3,"Экзамен","2014/2015 учебный год 4 модуль",1,0,3,null,1,508316804,2098,null,"stChoosen","Журналистика",{"$f":"MATCH(D1023,Отчет!$C:$C,0)","v":110}]
[525599028,9,"БЖУР131",475558722,"Пржевальская","Анастасия","Всеволодовна","1301219076","Технология работы журналиста (платформы)",4.78,"Экзамен","2014/2015 учебный год 4 модуль",null,43.02,4.78,1,1,508316804,2098,null,"stCommon","Журналистика",{"$f":"MATCH(D1024,Отчет!$C:$C,0)","v":55}]
[525604993,10,"БЖУР134",481505031,"Савина","София","Леонидовна","1311219083","Технология работы журналиста (платформы)",4.78,"Экзамен","2014/2015 учебный год 4 модуль",null,47.800000000000004,4.78,1,0,508316804,2098,null,"stCommon","Журналистика",{"$f":"MATCH(D1025,Отчет!$C:$C,0)","v":19}]
[525605337,9,"БЖУР134",481505154,"Швецова","Екатерина","Константиновна","1311219105","Технология работы журналиста (платформы)",4.78,"Экзамен","2014/2015 учебный год 4 модуль",null,43.02,4.78,1,0,508316804,2098,null,"stCommon","Журналистика",{"$f":"MATCH(D1026,Отчет!$C:$C,0)","v":86}]
[525599477,8,"БЖУР132",475560308,"Бидзионашвили","Кетеван","-","1301219111","Технология работы журналиста (платформы)",4.78,"Экзамен","2014/2015 учебный год 4 модуль",null,38.24,4.78,1,1,508316804,2098,"ikPlanned","stCommon","Журналистика",{"$f":"MATCH(D1027,Отчет!$C:$C,0)","v":90}]
[525598752,9,"БЖУР131",481497357,"Муратова","Анастасия","Александровна","1311219063","Технология работы журналиста (платформы)",4.78,"Экзамен","2014/2015 учебный год 4 модуль",null,43.02,4.78,1,0,508316804,2098,null,"stCommon","Журналистика",{"$f":"MATCH(D1028,Отчет!$C:$C,0)","v":56}]
[525598828,9,"БЖУР131",481497484,"Нещадимова","Дарья","Викторовна","1311219067","Технология работы журналиста (платформы)",4.78,"Экзамен","2014/2015 учебный год 4 модуль",null,43.02,4.78,1,0,508316804,2098,null,"stCommon","Журналистика",{"$f":"MATCH(D1029,Отчет!$C:$C,0)","v":54}]
[525600048,8,"БЖУР132",481498934,"Глазунов","Никита","Сергеевич","116-24/12-036","Технология работы журналиста (платформы)",4.78,"Экзамен","2014/2015 учебный год 4 модуль",null,38.24,4.78,1,0,508316804,2098,"ikPlanned","stCommon","Журналистика",{"$f":"MATCH(D1030,Отчет!$C:$C,0)","v":106}]
[525600115,9,"БЖУР132",481499019,"Голованов","Сергей","Сергеевич","1311219022","Технология работы журналиста (платформы)",4.78,"Экзамен","2014/2015 учебный год 4 модуль",null,43.02,4.78,1,0,508316804,2098,null,"stCommon","Журналистика",{"$f":"MATCH(D1031,Отчет!$C:$C,0)","v":46}]
[525600450,8,"БЖУР132",481499520,"Королева","Виолетта","Николаевна","1311219043","Технология работы журналиста (платформы)",4.78,"Экзамен","2014/2015 учебный год 4 модуль",null,38.24,4.78,1,0,508316804,2098,null,"stCommon","Журналистика",{"$f":"MATCH(D1032,Отчет!$C:$C,0)","v":82}]
[525600516,9,"БЖУР132",481499652,"Королькова","Елизавета","Дмитриевна","1311219045","Технология работы журналиста (платформы)",4.78,"Экзамен","2014/2015 учебный год 4 модуль",null,43.02,4.78,1,0,508316804,2098,null,"stCommon","Журналистика",{"$f":"MATCH(D1033,Отчет!$C:$C,0)","v":16}]
[525600582,9,"БЖУР132",481500039,"Лебедева","Ксения","Кирилловна","1311219048","Технология работы журналиста (платформы)",4.78,"Экзамен","2014/2015 учебный год 4 модуль",null,43.02,4.78,1,0,508316804,2098,null,"stCommon","Журналистика",{"$f":"MATCH(D1034,Отчет!$C:$C,0)","v":15}]
[525600648,8,"БЖУР132",481500235,"Немченко","Илья","Михайлович","1311219066","Технология работы журналиста (платформы)",4.78,"Экзамен","2014/2015 учебный год 4 модуль",null,38.24,4.78,1,0,508316804,2098,null,"stCommon","Журналистика",{"$f":"MATCH(D1035,Отчет!$C:$C,0)","v":103}]
[525600780,8,"БЖУР132",481500392,"Павлова","Алиса","Павловна","1311219071","Технология работы журналиста (платформы)",4.78,"Экзамен","2014/2015 учебный год 4 модуль",null,38.24,4.78,1,0,508316804,2098,null,"stCommon","Журналистика",{"$f":"MATCH(D1036,Отчет!$C:$C,0)","v":89}]
[525600848,9,"БЖУР132",481500535,"Правдюк","Анна","Сергеевна","1311219075","Технология работы журналиста (платформы)",4.78,"Экзамен","2014/2015 учебный год 4 модуль",null,43.02,4.78,1,0,508316804,2098,null,"stCommon","Журналистика",{"$f":"MATCH(D1037,Отчет!$C:$C,0)","v":12}]
[525600914,10,"БЖУР132",481500688,"Ревоненко","Анна","Николаевна","1311219078","Технология работы журналиста (платформы)",4.78,"Экзамен","2014/2015 учебный год 4 модуль",null,47.800000000000004,4.78,1,0,508316804,2098,null,"stCommon","Журналистика",{"$f":"MATCH(D1038,Отчет!$C:$C,0)","v":23}]
[525601250,8,"БЖУР132",481500835,"Цегалко","Яна","Николаевна","1311219101","Технология работы журналиста (платформы)",4.78,"Экзамен","2014/2015 учебный год 4 модуль",null,38.24,4.78,1,0,508316804,2098,null,"stCommon","Журналистика",{"$f":"MATCH(D1039,Отчет!$C:$C,0)","v":61}]
[525601727,10,"БЖУР133",481501546,"Атасунцев","Александр","Григорьевич","1311219004","Технология работы журналиста (платформы)",4.78,"Экзамен","2014/2015 учебный год 4 модуль",null,47.800000000000004,4.78,1,0,508316804,2098,null,"stCommon","Журналистика",{"$f":"MATCH(D1040,Отчет!$C:$C,0)","v":67}]
[525602435,5,"БЖУР133",481501825,"Лымарева","Мария","Андреевна","1311219052","Технология работы журналиста (платформы)",4.78,"Экзамен","2014/2015 учебный год 4 модуль",null,23.900000000000002,4.78,1,0,508316804,2098,null,"stCommon","Журналистика",{"$f":"MATCH(D1041,Отчет!$C:$C,0)","v":108}]
[525602638,8,"БЖУР133",481501975,"Молоствова","Анна","Александровна","1311219061","Технология работы журналиста (платформы)",4.78,"Экзамен","2014/2015 учебный год 4 модуль",null,38.24,4.78,1,0,508316804,2098,null,"stCommon","Журналистика",{"$f":"MATCH(D1042,Отчет!$C:$C,0)","v":35}]
[525598088,9,"БЖУР131",475496297,"Голубева","Анастасия","Павловна","1301219024","Технология работы журналиста (платформы)",4.78,"Экзамен","2014/2015 учебный год 4 модуль",null,43.02,4.78,1,1,508316804,2098,null,"stCommon","Журналистика",{"$f":"MATCH(D1043,Отчет!$C:$C,0)","v":68}]
[525598155,9,"БЖУР131",475496974,"Джгаркава","Нино","Звиадиевна","1301219029","Технология работы журналиста (платформы)",4.78,"Экзамен","2014/2015 учебный год 4 модуль",null,43.02,4.78,1,1,508316804,2098,null,"stCommon","Журналистика",{"$f":"MATCH(D1044,Отчет!$C:$C,0)","v":93}]
[525598221,9,"БЖУР131",475497099,"Дымчишина","Александра","Юрьевна","1301219032","Технология работы журналиста (платформы)",4.78,"Экзамен","2014/2015 учебный год 4 модуль",null,43.02,4.78,1,1,508316804,2098,null,"stCommon","Журналистика",{"$f":"MATCH(D1045,Отчет!$C:$C,0)","v":65}]
[525598354,null,"БЖУР131",475497229,"Жвик","Анастасия","Николаевна","1301219110","Технология работы журналиста (платформы)",4.78,"Экзамен","2014/2015 учебный год 4 модуль",1,0,4.78,null,1,508316804,2098,null,"stCommon","Журналистика",{"$f":"MATCH(D1046,Отчет!$C:$C,0)","v":110}]
[525598894,9,"БЖУР131",475497479,"Николаева","Мария","Дмитриевна","1301219068","Технология работы журналиста (платформы)",4.78,"Экзамен","2014/2015 учебный год 4 модуль",null,43.02,4.78,1,1,508316804,2098,null,"stCommon","Журналистика",{"$f":"MATCH(D1047,Отчет!$C:$C,0)","v":29}]
[525599094,9,"БЖУР131",475497611,"Ставрианиди","Анна","Георгиевна","1301219087","Технология работы журналиста (платформы)",4.78,"Экзамен","2014/2015 учебный год 4 модуль",null,43.02,4.78,1,1,508316804,2098,null,"stCommon","Журналистика",{"$f":"MATCH(D1048,Отчет!$C:$C,0)","v":50}]
[525599160,9,"БЖУР131",475497743,"Тищенко","Виктория","Андреевна","1301219093","Технология работы журналиста (платформы)",4.78,"Экзамен","2014/2015 учебный год 4 модуль",null,43.02,4.78,1,1,508316804,2098,null,"stCommon","Журналистика",{"$f":"MATCH(D1049,Отчет!$C:$C,0)","v":52}]
[525599306,9,"БЖУР131",475497867,"Яковец","Елизавета","Николаевна","1301219107","Технология работы журналиста (платформы)",4.78,"Экзамен","2014/2015 учебный год 4 модуль",null,43.02,4.78,1,1,508316804,2098,null,"stCommon","Журналистика",{"$f":"MATCH(D1050,Отчет!$C:$C,0)","v":27}]
[525599543,9,"БЖУР132",475498195,"Булатова","Катерина","Николаевна","1301219012","Технология работы журналиста (платформы)",4.78,"Экзамен","2014/2015 учебный год 4 модуль",null,43.02,4.78,1,1,508316804,2098,null,"stCommon","Журналистика",{"$f":"MATCH(D1051,Отчет!$C:$C,0)","v":34}]
[525600249,10,"БЖУР132",475498343,"Дмитриева","Ольга","Олеговна","1301219031","Технология работы журналиста (платформы)",4.78,"Экзамен","2014/2015 учебный год 4 модуль",null,47.800000000000004,4.78,1,1,508316804,2098,null,"stCommon","Журналистика",{"$f":"MATCH(D1052,Отчет!$C:$C,0)","v":59}]
[525600714,9,"БЖУР132",475498638,"Огурцова","Евгения","Алексеевна","1301219069","Технология работы журналиста (платформы)",4.78,"Экзамен","2014/2015 учебный год 4 модуль",null,43.02,4.78,1,1,508316804,2098,null,"stCommon","Журналистика",{"$f":"MATCH(D1053,Отчет!$C:$C,0)","v":37}]
[525597871,9,"БЖУР131",474332631,"Астапенко","Ольга","Юрьевна","1301219003","Технология работы журналиста (платформы)",4.78,"Экзамен","2014/2015 учебный год 4 модуль",null,43.02,4.78,1,1,508316804,2098,null,"stCommon","Журналистика",{"$f":"MATCH(D1054,Отчет!$C:$C,0)","v":44}]
[525597942,9,"БЖУР131",481496658,"Афанасьева","Татьяна","Валерьевна","1311219005","Технология работы журналиста (платформы)",4.78,"Экзамен","2014/2015 учебный год 4 модуль",null,43.02,4.78,1,0,508316804,2098,null,"stCommon","Журналистика",{"$f":"MATCH(D1055,Отчет!$C:$C,0)","v":33}]
[525598288,9,"БЖУР131",481496795,"Ероносов","Александр","Эдуардович","1311219034","Технология работы журналиста (платформы)",4.78,"Экзамен","2014/2015 учебный год 4 модуль",null,43.02,4.78,1,0,508316804,2098,null,"stCommon","Журналистика",{"$f":"MATCH(D1056,Отчет!$C:$C,0)","v":72}]
[525598420,9,"БЖУР131",481496924,"Зубкевич","Андрей","Вадимович","1311219037","Технология работы журналиста (платформы)",4.78,"Экзамен","2014/2015 учебный год 4 модуль",null,43.02,4.78,1,0,508316804,2098,null,"stCommon","Журналистика",{"$f":"MATCH(D1057,Отчет!$C:$C,0)","v":104}]
[525598686,9,"БЖУР131",481497225,"Морозова","Николь","Дмитриевна","1311219062","Технология работы журналиста (платформы)",4.78,"Экзамен","2014/2015 учебный год 4 модуль",null,43.02,4.78,1,0,508316804,2098,null,"stCommon","Журналистика",{"$f":"MATCH(D1058,Отчет!$C:$C,0)","v":22}]
[525605127,8,"БЖУР134",475565869,"Стешенкова","Александра","Евгеньевна","1301219088","Технология работы журналиста (платформы)",4.78,"Экзамен","2014/2015 учебный год 4 модуль",null,38.24,4.78,1,1,508316804,2098,null,"stCommon","Журналистика",{"$f":"MATCH(D1059,Отчет!$C:$C,0)","v":79}]
[525605059,8,"БЖУР134",475503320,"Селиванова","Ксения","Александровна","1301219084","Технология работы журналиста (платформы)",4.78,"Экзамен","2014/2015 учебный год 4 модуль",null,38.24,4.78,1,1,508316804,2098,null,"stCommon","Журналистика",{"$f":"MATCH(D1060,Отчет!$C:$C,0)","v":83}]
[525605205,10,"БЖУР134",475503448,"Суханова","Юлия","Александровна","1301219090","Технология работы журналиста (платформы)",4.78,"Экзамен","2014/2015 учебный год 4 модуль",null,47.800000000000004,4.78,1,1,508316804,2098,null,"stCommon","Журналистика",{"$f":"MATCH(D1061,Отчет!$C:$C,0)","v":13}]
[525605271,9,"БЖУР134",475503575,"Таиров","Ринат","Маратович","1301219091","Технология работы журналиста (платформы)",4.78,"Экзамен","2014/2015 учебный год 4 модуль",null,43.02,4.78,1,1,508316804,2098,null,"stCommon","Журналистика",{"$f":"MATCH(D1062,Отчет!$C:$C,0)","v":53}]
[771504616,8,"БЖУР131",752764364,"Масалова","Анна","Владиславовна","131232133","Технология работы журналиста (платформы)",4.78,"Экзамен","2014/2015 учебный год 4 модуль",null,38.24,4.78,1,0,508316804,2098,"ikPlanned","stCommon","Журналистика",{"$f":"MATCH(D1063,Отчет!$C:$C,0)","v":92}]
[617793346,9,"БЖУР131",580462633,"Немкова","Екатерина","Дмитриевна","131232209","Технология работы журналиста (платформы)",4.78,"Экзамен","2014/2015 учебный год 4 модуль",null,43.02,4.78,1,0,508316804,2098,"ikPlanned","stCommon","Журналистика",{"$f":"MATCH(D1064,Отчет!$C:$C,0)","v":98}]
[617795988,9,"БЖУР131",615125946,"Халилова","Арзу","Идаятовна","131232230","Технология работы журналиста (платформы)",4.78,"Экзамен","2014/2015 учебный год 4 модуль",null,43.02,4.78,1,0,508316804,2098,"ikPlanned","stCommon","Журналистика",{"$f":"MATCH(D1065,Отчет!$C:$C,0)","v":95}]
[796966838,8,"БЖУР131",796834861,"Тесфайе","Анна-Мария","Синтайе","10701175","Технология работы журналиста (платформы)",4.78,"Экзамен","2014/2015 учебный год 4 модуль",null,38.24,4.78,1,0,508316804,2098,"ikPlanned","stCommon","Журналистика",{"$f":"MATCH(D1066,Отчет!$C:$C,0)","v":109}]
[525603761,9,"БЖУР134",475502663,"Вагапова","Юлия","Рстамовна","1301219016","Технология работы журналиста (платформы)",4.78,"Экзамен","2014/2015 учебный год 4 модуль",null,43.02,4.78,1,1,508316804,2098,null,"stCommon","Журналистика",{"$f":"MATCH(D1067,Отчет!$C:$C,0)","v":43}]
[525603893,10,"БЖУР134",475502790,"Дергалов","Руслан","Сергеевич","1301219028","Технология работы журналиста (платформы)",4.78,"Экзамен","2014/2015 учебный год 4 модуль",null,47.800000000000004,4.78,1,1,508316804,2098,null,"stCommon","Журналистика",{"$f":"MATCH(D1068,Отчет!$C:$C,0)","v":62}]
[525604359,10,"БЖУР134",475502924,"Литвякова","Евдокия","Алексеевна","1301219050","Технология работы журналиста (платформы)",4.78,"Экзамен","2014/2015 учебный год 4 модуль",null,47.800000000000004,4.78,1,1,508316804,2098,null,"stCommon","Журналистика",{"$f":"MATCH(D1069,Отчет!$C:$C,0)","v":36}]
[525604569,10,"БЖУР134",475503059,"Маркова","Кристина","Алексеевна","1301219058","Технология работы журналиста (платформы)",4.78,"Экзамен","2014/2015 учебный год 4 модуль",null,47.800000000000004,4.78,1,1,508316804,2098,null,"stCommon","Журналистика",{"$f":"MATCH(D1070,Отчет!$C:$C,0)","v":76}]
[525604847,10,"БЖУР134",475503187,"Робул","Павел","Константинович","1301219079","Технология работы журналиста (платформы)",4.78,"Экзамен","2014/2015 учебный год 4 модуль",null,47.800000000000004,4.78,1,1,508316804,2098,null,"stCommon","Журналистика",{"$f":"MATCH(D1071,Отчет!$C:$C,0)","v":38}]
[525602775,8,"БЖУР133",475563521,"Осипова","Светлана","Витальевна","1311219070","Технология работы журналиста (платформы)",4.78,"Экзамен","2014/2015 учебный год 4 модуль",null,38.24,4.78,1,0,508316804,2098,null,"stCommon","Журналистика",{"$f":"MATCH(D1072,Отчет!$C:$C,0)","v":71}]
[525603307,8,"БЖУР133",475563678,"Чехонадских","Дарья","Александровна","1301219104","Технология работы журналиста (платформы)",4.78,"Экзамен","2014/2015 учебный год 4 модуль",null,38.24,4.78,1,1,508316804,2098,null,"stCommon","Журналистика",{"$f":"MATCH(D1073,Отчет!$C:$C,0)","v":81}]
[525603626,10,"248ж",475564380,"Алешкина","Александрина","Александровна","231210002","Технология работы журналиста (платформы)",4.78,"Экзамен","2014/2015 учебный год 4 модуль",null,47.800000000000004,4.78,1,0,508316804,2098,"ikPlanned","stCommon","Журналистика",{"$f":"MATCH(D1074,Отчет!$C:$C,0)","v":100}]
[525603695,10,"БЖУР134",475564485,"Басиладзе","Мариами","Рамазиевна","1311219007","Технология работы журналиста (платформы)",4.78,"Экзамен","2014/2015 учебный год 4 модуль",null,47.800000000000004,4.78,1,0,508316804,2098,"ikPlanned","stCommon","Журналистика",{"$f":"MATCH(D1075,Отчет!$C:$C,0)","v":80}]
[525603827,9,"БЖУР134",475564642,"Гимаева","Жанна","Эмзаровна","1311219021","Технология работы журналиста (платформы)",4.78,"Экзамен","2014/2015 учебный год 4 модуль",null,43.02,4.78,1,0,508316804,2098,null,"stCommon","Журналистика",{"$f":"MATCH(D1076,Отчет!$C:$C,0)","v":51}]
[525603959,9,"БЖУР134",475564787,"Досий","Зоряна","Владимировна","1301219109","Технология работы журналиста (платформы)",4.78,"Экзамен","2014/2015 учебный год 4 модуль",null,43.02,4.78,1,1,508316804,2098,"ikPlanned","stCommon","Журналистика",{"$f":"MATCH(D1077,Отчет!$C:$C,0)","v":99}]
[525604025,8,"БЖУР134",475564933,"Животнёв","Владислав","Николаевич","1311219035","Технология работы журналиста (платформы)",4.78,"Экзамен","2014/2015 учебный год 4 модуль",null,38.24,4.78,1,0,508316804,2098,null,"stCommon","Журналистика",{"$f":"MATCH(D1078,Отчет!$C:$C,0)","v":75}]
[525604093,8,"БЖУР134",475565084,"Зражаева","Алина","Сергеевна","1311219036","Технология работы журналиста (платформы)",4.78,"Экзамен","2014/2015 учебный год 4 модуль",null,38.24,4.78,1,0,508316804,2098,null,"stCommon","Журналистика",{"$f":"MATCH(D1079,Отчет!$C:$C,0)","v":49}]
[525604425,9,"БЖУР134",475565231,"Макарова","Юлия","Валерьевна","1311219054","Технология работы журналиста (платформы)",4.78,"Экзамен","2014/2015 учебный год 4 модуль",null,43.02,4.78,1,0,508316804,2098,null,"stCommon","Журналистика",{"$f":"MATCH(D1080,Отчет!$C:$C,0)","v":70}]
[525604494,10,"БЖУР134",475565410,"Маленкова","Мария","Александровна","1301219055","Технология работы журналиста (платформы)",4.78,"Экзамен","2014/2015 учебный год 4 модуль",null,47.800000000000004,4.78,1,1,508316804,2098,null,"stCommon","Журналистика",{"$f":"MATCH(D1081,Отчет!$C:$C,0)","v":47}]
[525604637,10,"БЖУР134",475565551,"Нарушевич","Анастасия","Александровна","1311219065","Технология работы журналиста (платформы)",4.78,"Экзамен","2014/2015 учебный год 4 модуль",null,47.800000000000004,4.78,1,0,508316804,2098,null,"stCommon","Журналистика",{"$f":"MATCH(D1082,Отчет!$C:$C,0)","v":78}]
[525601184,9,"БЖУР132",475499056,"Федорова","Анастасия","Александровна","1301219096","Технология работы журналиста (платформы)",4.78,"Экзамен","2014/2015 учебный год 4 модуль",null,43.02,4.78,1,1,508316804,2098,null,"stCommon","Журналистика",{"$f":"MATCH(D1083,Отчет!$C:$C,0)","v":30}]
[525601118,8,"БЖУР132",475499184,"Устюжанинова","Анна","Александровна","1301219095","Технология работы журналиста (платформы)",4.78,"Экзамен","2014/2015 учебный год 4 модуль",null,38.24,4.78,1,1,508316804,2098,null,"stCommon","Журналистика",{"$f":"MATCH(D1084,Отчет!$C:$C,0)","v":84}]
[525601384,8,"БЖУР132",475499320,"Якубович","Анастасия","Александровна","1301219108","Технология работы журналиста (платформы)",4.78,"Экзамен","2014/2015 учебный год 4 модуль",null,38.24,4.78,1,1,508316804,2098,null,"stCommon","Журналистика",{"$f":"MATCH(D1085,Отчет!$C:$C,0)","v":63}]
[525601868,10,"БЖУР133",475500480,"Вильшанская","Елена","Андреевна","1301219017","Технология работы журналиста (платформы)",4.78,"Экзамен","2014/2015 учебный год 4 модуль",null,47.800000000000004,4.78,1,1,508316804,2098,null,"stCommon","Журналистика",{"$f":"MATCH(D1086,Отчет!$C:$C,0)","v":31}]
[525602000,8,"БЖУР133",475500628,"Головина","Евгения","Павловна","1301219023","Технология работы журналиста (платформы)",4.78,"Экзамен","2014/2015 учебный год 4 модуль",null,38.24,4.78,1,1,508316804,2098,null,"stCommon","Журналистика",{"$f":"MATCH(D1087,Отчет!$C:$C,0)","v":41}]
[525602068,8,"БЖУР133",475500772,"Дмитриева","Екатерина","Александровна","1301219030","Технология работы журналиста (платформы)",4.78,"Экзамен","2014/2015 учебный год 4 модуль",null,38.24,4.78,1,1,508316804,2098,null,"stCommon","Журналистика",{"$f":"MATCH(D1088,Отчет!$C:$C,0)","v":40}]
[525602135,8,"БЖУР133",475500939,"Еремина","Анастасия","Алексеевна","1301219033","Технология работы журналиста (платформы)",4.78,"Экзамен","2014/2015 учебный год 4 модуль",null,38.24,4.78,1,1,508316804,2098,null,"stCommon","Журналистика",{"$f":"MATCH(D1089,Отчет!$C:$C,0)","v":94}]
[525602299,10,"БЖУР133",475501085,"Кокшарова","Александра","Игоревна","1301219041","Технология работы журналиста (платформы)",4.78,"Экзамен","2014/2015 учебный год 4 модуль",null,47.800000000000004,4.78,1,1,508316804,2098,null,"stCommon","Журналистика",{"$f":"MATCH(D1090,Отчет!$C:$C,0)","v":48}]
[525602369,8,"БЖУР133",475501239,"Липчанская","Анастасия","Алексеевна","1301219049","Технология работы журналиста (платформы)",4.78,"Экзамен","2014/2015 учебный год 4 модуль",null,38.24,4.78,1,1,508316804,2098,null,"stCommon","Журналистика",{"$f":"MATCH(D1091,Отчет!$C:$C,0)","v":20}]
[525602841,8,"БЖУР133",475501379,"Пятибратова","Екатерина","Васильевна","1301219077","Технология работы журналиста (платформы)",4.78,"Экзамен","2014/2015 учебный год 4 модуль",null,38.24,4.78,1,1,508316804,2098,null,"stCommon","Журналистика",{"$f":"MATCH(D1092,Отчет!$C:$C,0)","v":57}]
[525602907,8,"БЖУР133",475501513,"Рублева","Милена","Валерьевна","1301219080","Технология работы журналиста (платформы)",4.78,"Экзамен","2014/2015 учебный год 4 модуль",null,38.24,4.78,1,1,508316804,2098,null,"stCommon","Журналистика",{"$f":"MATCH(D1093,Отчет!$C:$C,0)","v":25}]
[525603039,8,"БЖУР133",475501641,"Стрельцова","Наталья","Сергеевна","1301219089","Технология работы журналиста (платформы)",4.78,"Экзамен","2014/2015 учебный год 4 модуль",null,38.24,4.78,1,1,508316804,2098,null,"stCommon","Журналистика",{"$f":"MATCH(D1094,Отчет!$C:$C,0)","v":64}]
[525603173,10,"БЖУР133",475501776,"Чернова","Кристина","Валериевна","1301219102","Технология работы журналиста (платформы)",4.78,"Экзамен","2014/2015 учебный год 4 модуль",null,47.800000000000004,4.78,1,1,508316804,2098,null,"stCommon","Журналистика",{"$f":"MATCH(D1095,Отчет!$C:$C,0)","v":24}]
[525603239,8,"БЖУР133",475501916,"Чернышева","Евгения","Эдуардовна","1301219103","Технология работы журналиста (платформы)",4.78,"Экзамен","2014/2015 учебный год 4 модуль",null,38.24,4.78,1,1,508316804,2098,null,"stCommon","Журналистика",{"$f":"MATCH(D1096,Отчет!$C:$C,0)","v":42}]
[525599609,9,"БЖУР132",475560500,"Буримова","Александра","Сергеевна","1311219014","Технология работы журналиста (платформы)",4.78,"Экзамен","2014/2015 учебный год 4 модуль",null,43.02,4.78,1,0,508316804,2098,null,"stCommon","Журналистика",{"$f":"MATCH(D1097,Отчет!$C:$C,0)","v":96}]
[523091887,10,"БЖУР132",475560670,"Бурцева","Анастасия","Юрьевна","1311219015","Технология работы журналиста (платформы)",4.78,"Экзамен","2014/2015 учебный год 4 модуль",null,47.800000000000004,4.78,1,0,508316804,2098,null,"stCommon","Журналистика",{"$f":"MATCH(D1098,Отчет!$C:$C,0)","v":73}]
[525599840,9,"БЖУР132",475560846,"Винокур","Дана","Витальевна","1311219018","Технология работы журналиста (платформы)",4.78,"Экзамен","2014/2015 учебный год 4 модуль",null,43.02,4.78,1,0,508316804,2098,null,"stCommon","Журналистика",{"$f":"MATCH(D1099,Отчет!$C:$C,0)","v":85}]
[525599916,9,"БЖУР132",475561061,"Вишнякова","Екатерина","Владимировна","1311219019","Технология работы журналиста (платформы)",4.78,"Экзамен","2014/2015 учебный год 4 модуль",null,43.02,4.78,1,0,508316804,2098,null,"stCommon","Журналистика",{"$f":"MATCH(D1100,Отчет!$C:$C,0)","v":77}]
[525599982,10,"БЖУР132",475561255,"Волчек","Никита","Алексеевич","1311219112","Технология работы журналиста (платформы)",4.78,"Экзамен","2014/2015 учебный год 4 модуль",null,47.800000000000004,4.78,1,0,508316804,2098,"ikPlanned","stCommon","Журналистика",{"$f":"MATCH(D1101,Отчет!$C:$C,0)","v":97}]
[525600183,8,"БЖУР132",475561427,"Гранкова","Ксения","Сергеевна","1311219027","Технология работы журналиста (платформы)",4.78,"Экзамен","2014/2015 учебный год 4 модуль",null,38.24,4.78,1,0,508316804,2098,"ikPlanned","stCommon","Журналистика",{"$f":"MATCH(D1102,Отчет!$C:$C,0)","v":102}]
[525601316,9,"БЖУР132",475561559,"Шевелёва","Кристина","Дмитриевна","1311219106","Технология работы журналиста (платформы)",4.78,"Экзамен","2014/2015 учебный год 4 модуль",null,43.02,4.78,1,0,508316804,2098,"ikPlanned","stCommon","Журналистика",{"$f":"MATCH(D1103,Отчет!$C:$C,0)","v":87}]
[525601661,10,"БЖУР133",475562216,"Аммосова","Людмила","Михайловна","1311219002","Технология работы журналиста (платформы)",4.78,"Экзамен","2014/2015 учебный год 4 модуль",null,47.800000000000004,4.78,1,0,508316804,2098,null,"stCommon","Журналистика",{"$f":"MATCH(D1104,Отчет!$C:$C,0)","v":39}]
[525601802,8,"БЖУР133",475562419,"Афян","Мария","Геннадьевна","1311219006","Технология работы журналиста (платформы)",4.78,"Экзамен","2014/2015 учебный год 4 модуль",null,38.24,4.78,1,0,508316804,2098,"ikPlanned","stCommon","Журналистика",{"$f":"MATCH(D1105,Отчет!$C:$C,0)","v":69}]
[525601934,8,"БЖУР133",475562579,"Герасимова","Мария","Александровна","1311219020","Технология работы журналиста (платформы)",4.78,"Экзамен","2014/2015 учебный год 4 модуль",null,38.24,4.78,1,0,508316804,2098,null,"stCommon","Журналистика",{"$f":"MATCH(D1106,Отчет!$C:$C,0)","v":28}]
[525602209,5,"БЖУР133",475562897,"Кистерев","Алексей","Валерьевич","12701089","Технология работы журналиста (платформы)",4.78,"Экзамен","2014/2015 учебный год 4 модуль",null,23.900000000000002,4.78,1,0,508316804,2098,"ikPlanned","stCommon","Журналистика",{"$f":"MATCH(D1107,Отчет!$C:$C,0)","v":105}]
[525602501,8,"БЖУР133",475563046,"Люля","Арина","Артемовна","1311219053","Технология работы журналиста (платформы)",4.78,"Экзамен","2014/2015 учебный год 4 модуль",null,38.24,4.78,1,0,508316804,2098,"ikPlanned","stCommon","Журналистика",{"$f":"MATCH(D1108,Отчет!$C:$C,0)","v":91}]
[525602568,8,"БЖУР133",475563206,"Малышева","Ирина","Александровна","1301219056","Технология работы журналиста (платформы)",4.78,"Экзамен","2014/2015 учебный год 4 модуль",null,38.24,4.78,1,1,508316804,2098,null,"stCommon","Журналистика",{"$f":"MATCH(D1109,Отчет!$C:$C,0)","v":66}]
[525602708,10,"БЖУР133",475563331,"Мусина","Юлия","Маратовна","1301219064","Технология работы журналиста (платформы)",4.78,"Экзамен","2014/2015 учебный год 4 модуль",null,47.800000000000004,4.78,1,1,508316804,2098,null,"stCommon","Журналистика",{"$f":"MATCH(D1110,Отчет!$C:$C,0)","v":26}]
[525600980,9,"БЖУР132",475498778,"Рудакова","Юлия","Владиславовна","1301219081","Технология работы журналиста (платформы)",4.78,"Экзамен","2014/2015 учебный год 4 модуль",null,43.02,4.78,1,1,508316804,2098,null,"stCommon","Журналистика",{"$f":"MATCH(D1111,Отчет!$C:$C,0)","v":21}]
[525601050,9,"БЖУР132",475498901,"Скворцова","Дарья","Андреевна","1301219086","Технология работы журналиста (платформы)",4.78,"Экзамен","2014/2015 учебный год 4 модуль",null,43.02,4.78,1,1,508316804,2098,null,"stCommon","Журналистика",{"$f":"MATCH(D1112,Отчет!$C:$C,0)","v":17}]
[525602973,8,"БЖУР133",481502112,"Сидоров","Всеволод","Дмитриевич","1311219085","Технология работы журналиста (платформы)",4.78,"Экзамен","2014/2015 учебный год 4 модуль",null,38.24,4.78,1,0,508316804,2098,null,"stCommon","Журналистика",{"$f":"MATCH(D1113,Отчет!$C:$C,0)","v":60}]
[525603107,8,"БЖУР133",481502259,"Титов","Игорь","Игоревич","1311219092","Технология работы журналиста (платформы)",4.78,"Экзамен","2014/2015 учебный год 4 модуль",null,38.24,4.78,1,0,508316804,2098,null,"stCommon","Журналистика",{"$f":"MATCH(D1114,Отчет!$C:$C,0)","v":58}]
[525604161,10,"БЖУР134",481504306,"Кокорева","Мария","Викторовна","1311219040","Технология работы журналиста (платформы)",4.78,"Экзамен","2014/2015 учебный год 4 модуль",null,47.800000000000004,4.78,1,0,508316804,2098,null,"stCommon","Журналистика",{"$f":"MATCH(D1115,Отчет!$C:$C,0)","v":18}]
[525604227,10,"БЖУР134",481504458,"Королева","Ольга","Викторовна","1311219044","Технология работы журналиста (платформы)",4.78,"Экзамен","2014/2015 учебный год 4 модуль",null,47.800000000000004,4.78,1,0,508316804,2098,null,"stCommon","Журналистика",{"$f":"MATCH(D1116,Отчет!$C:$C,0)","v":14}]
[525604293,10,"БЖУР134",481504593,"Круглова","Ирина","Викторовна","1311219047","Технология работы журналиста (платформы)",4.78,"Экзамен","2014/2015 учебный год 4 модуль",null,47.800000000000004,4.78,1,0,508316804,2098,null,"stCommon","Журналистика",{"$f":"MATCH(D1117,Отчет!$C:$C,0)","v":32}]
[525604703,9,"БЖУР134",481504754,"Петренко","Валерия","Денисовна","1311219073","Технология работы журналиста (платформы)",4.78,"Экзамен","2014/2015 учебный год 4 модуль",null,43.02,4.78,1,0,508316804,2098,null,"stCommon","Журналистика",{"$f":"MATCH(D1118,Отчет!$C:$C,0)","v":88}]
[525604927,9,"БЖУР134",481504898,"Русских","Арина","Сергеевна","1311219082","Технология работы журналиста (платформы)",4.78,"Экзамен","2014/2015 учебный год 4 модуль",null,43.02,4.78,1,0,508316804,2098,null,"stCommon","Журналистика",{"$f":"MATCH(D1119,Отчет!$C:$C,0)","v":45}]
[525597674,9,"БЖУР131",475557752,"Аветисян","Виолетта","Александровна","1311219001","Технология работы журналиста (платформы)",4.78,"Экзамен","2014/2015 учебный год 4 модуль",null,43.02,4.78,1,0,508316804,2098,null,"stCommon","Журналистика",{"$f":"MATCH(D1120,Отчет!$C:$C,0)","v":74}]
[525598017,9,"БЖУР131",475557886,"Белобеева","Ангелина","Анатольевна","1311219008","Технология работы журналиста (платформы)",4.78,"Экзамен","2014/2015 учебный год 4 модуль",null,43.02,4.78,1,0,508316804,2098,"ikPlanned","stCommon","Журналистика",{"$f":"MATCH(D1121,Отчет!$C:$C,0)","v":107}]
[525598620,9,"БЖУР131",475558344,"Маммаева","Фарида","Сулеймановна","1301219057","Технология работы журналиста (платформы)",4.78,"Экзамен","2014/2015 учебный год 4 модуль",null,43.02,4.78,1,1,508316804,2098,null,"stCommon","Журналистика",{"$f":"MATCH(D1122,Отчет!$C:$C,0)","v":101}]
[771504626,8,"БЖУР131",752764364,"Масалова","Анна","Владиславовна","131232133","Язык и политика",3,"Экзамен","2014/2015 учебный год 4 модуль",null,24,3,1,0,508316804,2098,"ikPlanned","stChoosen","Журналистика",{"$f":"MATCH(D1123,Отчет!$C:$C,0)","v":92}]
[828842423,7,"БЖУР133",475500628,"Головина","Евгения","Павловна","1301219023","Язык и политика",3,"Экзамен","2014/2015 учебный год 4 модуль",null,0,0,1,1,508316804,2098,null,"stChoosen","Журналистика",{"$f":"MATCH(D1124,Отчет!$C:$C,0)","v":41}]
[565789062,9,"БЖУР133",475501085,"Кокшарова","Александра","Игоревна","1301219041","Язык и политика",3,"Экзамен","2014/2015 учебный год 4 модуль",null,27,3,1,1,508316804,2098,null,"stChoosen","Журналистика",{"$f":"MATCH(D1125,Отчет!$C:$C,0)","v":48}]
[565789079,5,"БЖУР131",481496924,"Зубкевич","Андрей","Вадимович","1311219037","Язык и политика",3,"Экзамен","2014/2015 учебный год 4 модуль",null,15,3,1,0,508316804,2098,null,"stChoosen","Журналистика",{"$f":"MATCH(D1126,Отчет!$C:$C,0)","v":104}]
[565789054,8,"БЖУР131",475496297,"Голубева","Анастасия","Павловна","1301219024","Язык и политика",3,"Экзамен","2014/2015 учебный год 4 модуль",null,24,3,1,1,508316804,2098,null,"stChoosen","Журналистика",{"$f":"MATCH(D1127,Отчет!$C:$C,0)","v":68}]
[565786434,8,"БЖУР131",481496658,"Афанасьева","Татьяна","Валерьевна","1311219005","Язык и политика",3,"Экзамен","2014/2015 учебный год 4 модуль",null,24,3,1,0,508316804,2098,null,"stChoosen","Журналистика",{"$f":"MATCH(D1128,Отчет!$C:$C,0)","v":33}]
[565789070,9,"БЖУР131",475558722,"Пржевальская","Анастасия","Всеволодовна","1301219076","Язык и политика",3,"Экзамен","2014/2015 учебный год 4 модуль",null,27,3,1,1,508316804,2098,null,"stChoosen","Журналистика",{"$f":"MATCH(D1129,Отчет!$C:$C,0)","v":55}]
[796966813,4,"БЖУР131",796834861,"Тесфайе","Анна-Мария","Синтайе","10701175","История и теория литературы",3.31,"Зачет","2014/2015 учебный год 4 модуль",null,13.24,3.31,1,0,508316804,2098,"ikPassed","stCommon","Журналистика",{"$f":"MATCH(D1130,Отчет!$C:$C,0)","v":109}]
[796966784,4,"БЖУР131",796834861,"Тесфайе","Анна-Мария","Синтайе","10701175","Теория и практика русского литературного языка",3,"Зачет","2014/2015 учебный год 4 модуль",null,12,3,1,0,508316804,2098,"ikPassed","stCommon","Журналистика",{"$f":"MATCH(D1131,Отчет!$C:$C,0)","v":109}]
[525601852,10,"БЖУР133",475500480,"Вильшанская","Елена","Андреевна","1301219017","Физическая культура",0,"Зачет","2014/2015 учебный год 4 модуль",null,0,0,1,1,508316804,2098,null,"stCommon","Журналистика",{"$f":"MATCH(D1132,Отчет!$C:$C,0)","v":31}]
[525601984,10,"БЖУР133",475500628,"Головина","Евгения","Павловна","1301219023","Физическая культура",0,"Зачет","2014/2015 учебный год 4 модуль",null,0,0,1,1,508316804,2098,null,"stCommon","Журналистика",{"$f":"MATCH(D1133,Отчет!$C:$C,0)","v":41}]
[525602052,10,"БЖУР133",475500772,"Дмитриева","Екатерина","Александровна","1301219030","Физическая культура",0,"Зачет","2014/2015 учебный год 4 модуль",null,0,0,1,1,508316804,2098,null,"stCommon","Журналистика",{"$f":"MATCH(D1134,Отчет!$C:$C,0)","v":40}]
[525602119,10,"БЖУР133",475500939,"Еремина","Анастасия","Алексеевна","1301219033","Физическая культура",0,"Зачет","2014/2015 учебный год 4 модуль",null,0,0,1,1,508316804,2098,null,"stCommon","Журналистика",{"$f":"MATCH(D1135,Отчет!$C:$C,0)","v":94}]
[525602283,10,"БЖУР133",475501085,"Кокшарова","Александра","Игоревна","1301219041","Физическая культура",0,"Зачет","2014/2015 учебный год 4 модуль",null,0,0,1,1,508316804,2098,null,"stCommon","Журналистика",{"$f":"MATCH(D1136,Отчет!$C:$C,0)","v":48}]
[525602353,10,"БЖУР133",475501239,"Липчанская","Анастасия","Алексеевна","1301219049","Физическая культура",0,"Зачет","2014/2015 учебный год 4 модуль",null,0,0,1,1,508316804,2098,null,"stCommon","Журналистика",{"$f":"MATCH(D1137,Отчет!$C:$C,0)","v":20}]
[525602825,10,"БЖУР133",475501379,"Пятибратова","Екатерина","Васильевна","1301219077","Физическая культура",0,"Зачет","2014/2015 учебный год 4 модуль",null,0,0,1,1,508316804,2098,null,"stCommon","Журналистика",{"$f":"MATCH(D1138,Отчет!$C:$C,0)","v":57}]
[525602891,10,"БЖУР133",475501513,"Рублева","Милена","Валерьевна","1301219080","Физическая культура",0,"Зачет","2014/2015 учебный год 4 модуль",null,0,0,1,1,508316804,2098,null,"stCommon","Журналистика",{"$f":"MATCH(D1139,Отчет!$C:$C,0)","v":25}]
[525603023,10,"БЖУР133",475501641,"Стрельцова","Наталья","Сергеевна","1301219089","Физическая культура",0,"Зачет","2014/2015 учебный год 4 модуль",null,0,0,1,1,508316804,2098,null,"stCommon","Журналистика",{"$f":"MATCH(D1140,Отчет!$C:$C,0)","v":64}]
[525603157,10,"БЖУР133",475501776,"Чернова","Кристина","Валериевна","1301219102","Физическая культура",0,"Зачет","2014/2015 учебный год 4 модуль",null,0,0,1,1,508316804,2098,null,"stCommon","Журналистика",{"$f":"MATCH(D1141,Отчет!$C:$C,0)","v":24}]
[525603223,10,"БЖУР133",475501916,"Чернышева","Евгения","Эдуардовна","1301219103","Физическая культура",0,"Зачет","2014/2015 учебный год 4 модуль",null,0,0,1,1,508316804,2098,null,"stCommon","Журналистика",{"$f":"MATCH(D1142,Отчет!$C:$C,0)","v":42}]
[525603745,10,"БЖУР134",475502663,"Вагапова","Юлия","Рстамовна","1301219016","Физическая культура",0,"Зачет","2014/2015 учебный год 4 модуль",null,0,0,1,1,508316804,2098,null,"stCommon","Журналистика",{"$f":"MATCH(D1143,Отчет!$C:$C,0)","v":43}]
[525603877,10,"БЖУР134",475502790,"Дергалов","Руслан","Сергеевич","1301219028","Физическая культура",0,"Зачет","2014/2015 учебный год 4 модуль",null,0,0,1,1,508316804,2098,null,"stCommon","Журналистика",{"$f":"MATCH(D1144,Отчет!$C:$C,0)","v":62}]
[525604343,10,"БЖУР134",475502924,"Литвякова","Евдокия","Алексеевна","1301219050","Физическая культура",0,"Зачет","2014/2015 учебный год 4 модуль",null,0,0,1,1,508316804,2098,null,"stCommon","Журналистика",{"$f":"MATCH(D1145,Отчет!$C:$C,0)","v":36}]
[525604553,10,"БЖУР134",475503059,"Маркова","Кристина","Алексеевна","1301219058","Физическая культура",0,"Зачет","2014/2015 учебный год 4 модуль",null,0,0,1,1,508316804,2098,null,"stCommon","Журналистика",{"$f":"MATCH(D1146,Отчет!$C:$C,0)","v":76}]
[525604830,10,"БЖУР134",475503187,"Робул","Павел","Константинович","1301219079","Физическая культура",0,"Зачет","2014/2015 учебный год 4 модуль",null,0,0,1,1,508316804,2098,null,"stCommon","Журналистика",{"$f":"MATCH(D1147,Отчет!$C:$C,0)","v":38}]
[525602759,10,"БЖУР133",475563521,"Осипова","Светлана","Витальевна","1311219070","Физическая культура",0,"Зачет","2014/2015 учебный год 4 модуль",null,0,0,1,0,508316804,2098,null,"stCommon","Журналистика",{"$f":"MATCH(D1148,Отчет!$C:$C,0)","v":71}]
[525603291,10,"БЖУР133",475563678,"Чехонадских","Дарья","Александровна","1301219104","Физическая культура",0,"Зачет","2014/2015 учебный год 4 модуль",null,0,0,1,1,508316804,2098,null,"stCommon","Журналистика",{"$f":"MATCH(D1149,Отчет!$C:$C,0)","v":81}]
[525603610,10,"248ж",475564380,"Алешкина","Александрина","Александровна","231210002","Физическая культура",0,"Зачет","2014/2015 учебный год 4 модуль",null,0,0,1,0,508316804,2098,"ikPlanned","stCommon","Журналистика",{"$f":"MATCH(D1150,Отчет!$C:$C,0)","v":100}]
[525603676,10,"БЖУР134",475564485,"Басиладзе","Мариами","Рамазиевна","1311219007","Физическая культура",0,"Зачет","2014/2015 учебный год 4 модуль",null,0,0,1,0,508316804,2098,"ikPlanned","stCommon","Журналистика",{"$f":"MATCH(D1151,Отчет!$C:$C,0)","v":80}]
[525603811,10,"БЖУР134",475564642,"Гимаева","Жанна","Эмзаровна","1311219021","Физическая культура",0,"Зачет","2014/2015 учебный год 4 модуль",null,0,0,1,0,508316804,2098,null,"stCommon","Журналистика",{"$f":"MATCH(D1152,Отчет!$C:$C,0)","v":51}]
[525603943,10,"БЖУР134",475564787,"Досий","Зоряна","Владимировна","1301219109","Физическая культура",0,"Зачет","2014/2015 учебный год 4 модуль",null,0,0,1,1,508316804,2098,"ikPlanned","stCommon","Журналистика",{"$f":"MATCH(D1153,Отчет!$C:$C,0)","v":99}]
[525604009,10,"БЖУР134",475564933,"Животнёв","Владислав","Николаевич","1311219035","Физическая культура",0,"Зачет","2014/2015 учебный год 4 модуль",null,0,0,1,0,508316804,2098,null,"stCommon","Журналистика",{"$f":"MATCH(D1154,Отчет!$C:$C,0)","v":75}]
[525604076,10,"БЖУР134",475565084,"Зражаева","Алина","Сергеевна","1311219036","Физическая культура",0,"Зачет","2014/2015 учебный год 4 модуль",null,0,0,1,0,508316804,2098,null,"stCommon","Журналистика",{"$f":"MATCH(D1155,Отчет!$C:$C,0)","v":49}]
[525604409,10,"БЖУР134",475565231,"Макарова","Юлия","Валерьевна","1311219054","Физическая культура",0,"Зачет","2014/2015 учебный год 4 модуль",null,0,0,1,0,508316804,2098,null,"stCommon","Журналистика",{"$f":"MATCH(D1156,Отчет!$C:$C,0)","v":70}]
[525604476,10,"БЖУР134",475565410,"Маленкова","Мария","Александровна","1301219055","Физическая культура",0,"Зачет","2014/2015 учебный год 4 модуль",null,0,0,1,1,508316804,2098,null,"stCommon","Журналистика",{"$f":"MATCH(D1157,Отчет!$C:$C,0)","v":47}]
[525604619,10,"БЖУР134",475565551,"Нарушевич","Анастасия","Александровна","1311219065","Физическая культура",0,"Зачет","2014/2015 учебный год 4 модуль",null,0,0,1,0,508316804,2098,null,"stCommon","Журналистика",{"$f":"MATCH(D1158,Отчет!$C:$C,0)","v":78}]
[525605111,10,"БЖУР134",475565869,"Стешенкова","Александра","Евгеньевна","1301219088","Физическая культура",0,"Зачет","2014/2015 учебный год 4 модуль",null,0,0,1,1,508316804,2098,null,"stCommon","Журналистика",{"$f":"MATCH(D1159,Отчет!$C:$C,0)","v":79}]
[525605043,10,"БЖУР134",475503320,"Селиванова","Ксения","Александровна","1301219084","Физическая культура",0,"Зачет","2014/2015 учебный год 4 модуль",null,0,0,1,1,508316804,2098,null,"stCommon","Журналистика",{"$f":"MATCH(D1160,Отчет!$C:$C,0)","v":83}]
[525605184,10,"БЖУР134",475503448,"Суханова","Юлия","Александровна","1301219090","Физическая культура",0,"Зачет","2014/2015 учебный год 4 модуль",null,0,0,1,1,508316804,2098,null,"stCommon","Журналистика",{"$f":"MATCH(D1161,Отчет!$C:$C,0)","v":13}]
[525605255,10,"БЖУР134",475503575,"Таиров","Ринат","Маратович","1301219091","Физическая культура",0,"Зачет","2014/2015 учебный год 4 модуль",null,0,0,1,1,508316804,2098,null,"stCommon","Журналистика",{"$f":"MATCH(D1162,Отчет!$C:$C,0)","v":53}]
[771504594,10,"БЖУР131",752764364,"Масалова","Анна","Владиславовна","131232133","Физическая культура",0,"Зачет","2014/2015 учебный год 4 модуль",null,0,0,1,0,508316804,2098,"ikPlanned","stCommon","Журналистика",{"$f":"MATCH(D1163,Отчет!$C:$C,0)","v":92}]
[617793328,10,"БЖУР131",580462633,"Немкова","Екатерина","Дмитриевна","131232209","Физическая культура",0,"Зачет","2014/2015 учебный год 4 модуль",null,0,0,1,0,508316804,2098,"ikPlanned","stCommon","Журналистика",{"$f":"MATCH(D1164,Отчет!$C:$C,0)","v":98}]
[617795964,10,"БЖУР131",615125946,"Халилова","Арзу","Идаятовна","131232230","Физическая культура",0,"Зачет","2014/2015 учебный год 4 модуль",null,0,0,1,0,508316804,2098,"ikPlanned","stCommon","Журналистика",{"$f":"MATCH(D1165,Отчет!$C:$C,0)","v":95}]
[525598072,10,"БЖУР131",475496297,"Голубева","Анастасия","Павловна","1301219024","Физическая культура",0,"Зачет","2014/2015 учебный год 4 модуль",null,0,0,1,1,508316804,2098,null,"stCommon","Журналистика",{"$f":"MATCH(D1166,Отчет!$C:$C,0)","v":68}]
[525598139,10,"БЖУР131",475496974,"Джгаркава","Нино","Звиадиевна","1301219029","Физическая культура",0,"Зачет","2014/2015 учебный год 4 модуль",null,0,0,1,1,508316804,2098,null,"stCommon","Журналистика",{"$f":"MATCH(D1167,Отчет!$C:$C,0)","v":93}]
[525598205,10,"БЖУР131",475497099,"Дымчишина","Александра","Юрьевна","1301219032","Физическая культура",0,"Зачет","2014/2015 учебный год 4 модуль",null,0,0,1,1,508316804,2098,null,"stCommon","Журналистика",{"$f":"MATCH(D1168,Отчет!$C:$C,0)","v":65}]
[525598338,10,"БЖУР131",475497229,"Жвик","Анастасия","Николаевна","1301219110","Физическая культура",0,"Зачет","2014/2015 учебный год 4 модуль",null,0,0,1,1,508316804,2098,null,"stCommon","Журналистика",{"$f":"MATCH(D1169,Отчет!$C:$C,0)","v":110}]
[525598878,10,"БЖУР131",475497479,"Николаева","Мария","Дмитриевна","1301219068","Физическая культура",0,"Зачет","2014/2015 учебный год 4 модуль",null,0,0,1,1,508316804,2098,null,"stCommon","Журналистика",{"$f":"MATCH(D1170,Отчет!$C:$C,0)","v":29}]
[525599078,10,"БЖУР131",475497611,"Ставрианиди","Анна","Георгиевна","1301219087","Физическая культура",0,"Зачет","2014/2015 учебный год 4 модуль",null,0,0,1,1,508316804,2098,null,"stCommon","Журналистика",{"$f":"MATCH(D1171,Отчет!$C:$C,0)","v":50}]
[525599144,10,"БЖУР131",475497743,"Тищенко","Виктория","Андреевна","1301219093","Физическая культура",0,"Зачет","2014/2015 учебный год 4 модуль",null,0,0,1,1,508316804,2098,null,"stCommon","Журналистика",{"$f":"MATCH(D1172,Отчет!$C:$C,0)","v":52}]
[525599290,10,"БЖУР131",475497867,"Яковец","Елизавета","Николаевна","1301219107","Физическая культура",0,"Зачет","2014/2015 учебный год 4 модуль",null,0,0,1,1,508316804,2098,null,"stCommon","Журналистика",{"$f":"MATCH(D1173,Отчет!$C:$C,0)","v":27}]
[525599527,10,"БЖУР132",475498195,"Булатова","Катерина","Николаевна","1301219012","Физическая культура",0,"Зачет","2014/2015 учебный год 4 модуль",null,0,0,1,1,508316804,2098,null,"stCommon","Журналистика",{"$f":"MATCH(D1174,Отчет!$C:$C,0)","v":34}]
[525600233,10,"БЖУР132",475498343,"Дмитриева","Ольга","Олеговна","1301219031","Физическая культура",0,"Зачет","2014/2015 учебный год 4 модуль",null,0,0,1,1,508316804,2098,null,"stCommon","Журналистика",{"$f":"MATCH(D1175,Отчет!$C:$C,0)","v":59}]
[525600698,10,"БЖУР132",475498638,"Огурцова","Евгения","Алексеевна","1301219069","Физическая культура",0,"Зачет","2014/2015 учебный год 4 модуль",null,0,0,1,1,508316804,2098,null,"stCommon","Журналистика",{"$f":"MATCH(D1176,Отчет!$C:$C,0)","v":37}]
[525597849,10,"БЖУР131",474332631,"Астапенко","Ольга","Юрьевна","1301219003","Физическая культура",0,"Зачет","2014/2015 учебный год 4 модуль",null,0,0,1,1,508316804,2098,null,"stCommon","Журналистика",{"$f":"MATCH(D1177,Отчет!$C:$C,0)","v":44}]
[525597923,10,"БЖУР131",481496658,"Афанасьева","Татьяна","Валерьевна","1311219005","Физическая культура",0,"Зачет","2014/2015 учебный год 4 модуль",null,0,0,1,0,508316804,2098,null,"stCommon","Журналистика",{"$f":"MATCH(D1178,Отчет!$C:$C,0)","v":33}]
[525598271,10,"БЖУР131",481496795,"Ероносов","Александр","Эдуардович","1311219034","Физическая культура",0,"Зачет","2014/2015 учебный год 4 модуль",null,0,0,1,0,508316804,2098,null,"stCommon","Журналистика",{"$f":"MATCH(D1179,Отчет!$C:$C,0)","v":72}]
[525598404,10,"БЖУР131",481496924,"Зубкевич","Андрей","Вадимович","1311219037","Физическая культура",0,"Зачет","2014/2015 учебный год 4 модуль",null,0,0,1,0,508316804,2098,null,"stCommon","Журналистика",{"$f":"MATCH(D1180,Отчет!$C:$C,0)","v":104}]
[525598670,10,"БЖУР131",481497225,"Морозова","Николь","Дмитриевна","1311219062","Физическая культура",0,"Зачет","2014/2015 учебный год 4 модуль",null,0,0,1,0,508316804,2098,null,"stCommon","Журналистика",{"$f":"MATCH(D1181,Отчет!$C:$C,0)","v":22}]
[525598736,10,"БЖУР131",481497357,"Муратова","Анастасия","Александровна","1311219063","Физическая культура",0,"Зачет","2014/2015 учебный год 4 модуль",null,0,0,1,0,508316804,2098,null,"stCommon","Журналистика",{"$f":"MATCH(D1182,Отчет!$C:$C,0)","v":56}]
[525598802,10,"БЖУР131",481497484,"Нещадимова","Дарья","Викторовна","1311219067","Физическая культура",0,"Зачет","2014/2015 учебный год 4 модуль",null,0,0,1,0,508316804,2098,null,"stCommon","Журналистика",{"$f":"MATCH(D1183,Отчет!$C:$C,0)","v":54}]
[525600098,10,"БЖУР132",481499019,"Голованов","Сергей","Сергеевич","1311219022","Физическая культура",0,"Зачет","2014/2015 учебный год 4 модуль",null,0,0,1,0,508316804,2098,null,"stCommon","Журналистика",{"$f":"MATCH(D1184,Отчет!$C:$C,0)","v":46}]
[525600432,10,"БЖУР132",481499520,"Королева","Виолетта","Николаевна","1311219043","Физическая культура",0,"Зачет","2014/2015 учебный год 4 модуль",null,0,0,1,0,508316804,2098,null,"stCommon","Журналистика",{"$f":"MATCH(D1185,Отчет!$C:$C,0)","v":82}]
[525600500,10,"БЖУР132",481499652,"Королькова","Елизавета","Дмитриевна","1311219045","Физическая культура",0,"Зачет","2014/2015 учебный год 4 модуль",null,0,0,1,0,508316804,2098,null,"stCommon","Журналистика",{"$f":"MATCH(D1186,Отчет!$C:$C,0)","v":16}]
[525600566,10,"БЖУР132",481500039,"Лебедева","Ксения","Кирилловна","1311219048","Физическая культура",0,"Зачет","2014/2015 учебный год 4 модуль",null,0,0,1,0,508316804,2098,null,"stCommon","Журналистика",{"$f":"MATCH(D1187,Отчет!$C:$C,0)","v":15}]
[525600632,10,"БЖУР132",481500235,"Немченко","Илья","Михайлович","1311219066","Физическая культура",0,"Зачет","2014/2015 учебный год 4 модуль",null,0,0,1,0,508316804,2098,null,"stCommon","Журналистика",{"$f":"MATCH(D1188,Отчет!$C:$C,0)","v":103}]
[525600764,10,"БЖУР132",481500392,"Павлова","Алиса","Павловна","1311219071","Физическая культура",0,"Зачет","2014/2015 учебный год 4 модуль",null,0,0,1,0,508316804,2098,null,"stCommon","Журналистика",{"$f":"MATCH(D1189,Отчет!$C:$C,0)","v":89}]
[525600832,10,"БЖУР132",481500535,"Правдюк","Анна","Сергеевна","1311219075","Физическая культура",0,"Зачет","2014/2015 учебный год 4 модуль",null,0,0,1,0,508316804,2098,null,"stCommon","Журналистика",{"$f":"MATCH(D1190,Отчет!$C:$C,0)","v":12}]
[525600898,10,"БЖУР132",481500688,"Ревоненко","Анна","Николаевна","1311219078","Физическая культура",0,"Зачет","2014/2015 учебный год 4 модуль",null,0,0,1,0,508316804,2098,null,"stCommon","Журналистика",{"$f":"MATCH(D1191,Отчет!$C:$C,0)","v":23}]
[525601234,10,"БЖУР132",481500835,"Цегалко","Яна","Николаевна","1311219101","Физическая культура",0,"Зачет","2014/2015 учебный год 4 модуль",null,0,0,1,0,508316804,2098,null,"stCommon","Журналистика",{"$f":"MATCH(D1192,Отчет!$C:$C,0)","v":61}]
[525601711,10,"БЖУР133",481501546,"Атасунцев","Александр","Григорьевич","1311219004","Физическая культура",0,"Зачет","2014/2015 учебный год 4 модуль",null,0,0,1,0,508316804,2098,null,"stCommon","Журналистика",{"$f":"MATCH(D1193,Отчет!$C:$C,0)","v":67}]
[525602419,10,"БЖУР133",481501825,"Лымарева","Мария","Андреевна","1311219052","Физическая культура",0,"Зачет","2014/2015 учебный год 4 модуль",null,0,0,1,0,508316804,2098,null,"stCommon","Журналистика",{"$f":"MATCH(D1194,Отчет!$C:$C,0)","v":108}]
[525602618,10,"БЖУР133",481501975,"Молоствова","Анна","Александровна","1311219061","Физическая культура",0,"Зачет","2014/2015 учебный год 4 модуль",null,0,0,1,0,508316804,2098,null,"stCommon","Журналистика",{"$f":"MATCH(D1195,Отчет!$C:$C,0)","v":35}]
[525602957,10,"БЖУР133",481502112,"Сидоров","Всеволод","Дмитриевич","1311219085","Физическая культура",0,"Зачет","2014/2015 учебный год 4 модуль",null,0,0,1,0,508316804,2098,null,"stCommon","Журналистика",{"$f":"MATCH(D1196,Отчет!$C:$C,0)","v":60}]
[525603091,10,"БЖУР133",481502259,"Титов","Игорь","Игоревич","1311219092","Физическая культура",0,"Зачет","2014/2015 учебный год 4 модуль",null,0,0,1,0,508316804,2098,null,"stCommon","Журналистика",{"$f":"MATCH(D1197,Отчет!$C:$C,0)","v":58}]
[525604145,10,"БЖУР134",481504306,"Кокорева","Мария","Викторовна","1311219040","Физическая культура",0,"Зачет","2014/2015 учебный год 4 модуль",null,0,0,1,0,508316804,2098,null,"stCommon","Журналистика",{"$f":"MATCH(D1198,Отчет!$C:$C,0)","v":18}]
[525604211,10,"БЖУР134",481504458,"Королева","Ольга","Викторовна","1311219044","Физическая культура",0,"Зачет","2014/2015 учебный год 4 модуль",null,0,0,1,0,508316804,2098,null,"stCommon","Журналистика",{"$f":"MATCH(D1199,Отчет!$C:$C,0)","v":14}]
[525604277,10,"БЖУР134",481504593,"Круглова","Ирина","Викторовна","1311219047","Физическая культура",0,"Зачет","2014/2015 учебный год 4 модуль",null,0,0,1,0,508316804,2098,null,"stCommon","Журналистика",{"$f":"MATCH(D1200,Отчет!$C:$C,0)","v":32}]
[525604687,10,"БЖУР134",481504754,"Петренко","Валерия","Денисовна","1311219073","Физическая культура",0,"Зачет","2014/2015 учебный год 4 модуль",null,0,0,1,0,508316804,2098,null,"stCommon","Журналистика",{"$f":"MATCH(D1201,Отчет!$C:$C,0)","v":88}]
[525604911,10,"БЖУР134",481504898,"Русских","Арина","Сергеевна","1311219082","Физическая культура",0,"Зачет","2014/2015 учебный год 4 модуль",null,0,0,1,0,508316804,2098,null,"stCommon","Журналистика",{"$f":"MATCH(D1202,Отчет!$C:$C,0)","v":45}]
[525597658,10,"БЖУР131",475557752,"Аветисян","Виолетта","Александровна","1311219001","Физическая культура",0,"Зачет","2014/2015 учебный год 4 модуль",null,0,0,1,0,508316804,2098,null,"stCommon","Журналистика",{"$f":"MATCH(D1203,Отчет!$C:$C,0)","v":74}]
[525598001,10,"БЖУР131",475557886,"Белобеева","Ангелина","Анатольевна","1311219008","Физическая культура",0,"Зачет","2014/2015 учебный год 4 модуль",null,0,0,1,0,508316804,2098,"ikPlanned","stCommon","Журналистика",{"$f":"MATCH(D1204,Отчет!$C:$C,0)","v":107}]
[525598604,10,"БЖУР131",475558344,"Маммаева","Фарида","Сулеймановна","1301219057","Физическая культура",0,"Зачет","2014/2015 учебный год 4 модуль",null,0,0,1,1,508316804,2098,null,"stCommon","Журналистика",{"$f":"MATCH(D1205,Отчет!$C:$C,0)","v":101}]
[525599012,10,"БЖУР131",475558722,"Пржевальская","Анастасия","Всеволодовна","1301219076","Физическая культура",0,"Зачет","2014/2015 учебный год 4 модуль",null,0,0,1,1,508316804,2098,null,"stCommon","Журналистика",{"$f":"MATCH(D1206,Отчет!$C:$C,0)","v":55}]
[525604977,10,"БЖУР134",481505031,"Савина","София","Леонидовна","1311219083","Физическая культура",0,"Зачет","2014/2015 учебный год 4 модуль",null,0,0,1,0,508316804,2098,null,"stCommon","Журналистика",{"$f":"MATCH(D1207,Отчет!$C:$C,0)","v":19}]
[525605321,10,"БЖУР134",481505154,"Швецова","Екатерина","Константиновна","1311219105","Физическая культура",0,"Зачет","2014/2015 учебный год 4 модуль",null,0,0,1,0,508316804,2098,null,"stCommon","Журналистика",{"$f":"MATCH(D1208,Отчет!$C:$C,0)","v":86}]
[525599457,10,"БЖУР132",475560308,"Бидзионашвили","Кетеван","-","1301219111","Физическая культура",0,"Зачет","2014/2015 учебный год 4 модуль",null,0,0,1,1,508316804,2098,"ikPlanned","stCommon","Журналистика",{"$f":"MATCH(D1209,Отчет!$C:$C,0)","v":90}]
[525599593,10,"БЖУР132",475560500,"Буримова","Александра","Сергеевна","1311219014","Физическая культура",0,"Зачет","2014/2015 учебный год 4 модуль",null,0,0,1,0,508316804,2098,null,"stCommon","Журналистика",{"$f":"MATCH(D1210,Отчет!$C:$C,0)","v":96}]
[523091870,10,"БЖУР132",475560670,"Бурцева","Анастасия","Юрьевна","1311219015","Физическая культура",0,"Зачет","2014/2015 учебный год 4 модуль",null,0,0,1,0,508316804,2098,null,"stCommon","Журналистика",{"$f":"MATCH(D1211,Отчет!$C:$C,0)","v":73}]
[525599824,10,"БЖУР132",475560846,"Винокур","Дана","Витальевна","1311219018","Физическая культура",0,"Зачет","2014/2015 учебный год 4 модуль",null,0,0,1,0,508316804,2098,null,"stCommon","Журналистика",{"$f":"MATCH(D1212,Отчет!$C:$C,0)","v":85}]
[525599890,10,"БЖУР132",475561061,"Вишнякова","Екатерина","Владимировна","1311219019","Физическая культура",0,"Зачет","2014/2015 учебный год 4 модуль",null,0,0,1,0,508316804,2098,null,"stCommon","Журналистика",{"$f":"MATCH(D1213,Отчет!$C:$C,0)","v":77}]
[525599966,10,"БЖУР132",475561255,"Волчек","Никита","Алексеевич","1311219112","Физическая культура",0,"Зачет","2014/2015 учебный год 4 модуль",null,0,0,1,0,508316804,2098,"ikPlanned","stCommon","Журналистика",{"$f":"MATCH(D1214,Отчет!$C:$C,0)","v":97}]
[525600167,10,"БЖУР132",475561427,"Гранкова","Ксения","Сергеевна","1311219027","Физическая культура",0,"Зачет","2014/2015 учебный год 4 модуль",null,0,0,1,0,508316804,2098,"ikPlanned","stCommon","Журналистика",{"$f":"MATCH(D1215,Отчет!$C:$C,0)","v":102}]
[525601300,10,"БЖУР132",475561559,"Шевелёва","Кристина","Дмитриевна","1311219106","Физическая культура",0,"Зачет","2014/2015 учебный год 4 модуль",null,0,0,1,0,508316804,2098,"ikPlanned","stCommon","Журналистика",{"$f":"MATCH(D1216,Отчет!$C:$C,0)","v":87}]
[525601645,10,"БЖУР133",475562216,"Аммосова","Людмила","Михайловна","1311219002","Физическая культура",0,"Зачет","2014/2015 учебный год 4 модуль",null,0,0,1,0,508316804,2098,null,"stCommon","Журналистика",{"$f":"MATCH(D1217,Отчет!$C:$C,0)","v":39}]
[525601783,10,"БЖУР133",475562419,"Афян","Мария","Геннадьевна","1311219006","Физическая культура",0,"Зачет","2014/2015 учебный год 4 модуль",null,0,0,1,0,508316804,2098,"ikPlanned","stCommon","Журналистика",{"$f":"MATCH(D1218,Отчет!$C:$C,0)","v":69}]
[525601918,10,"БЖУР133",475562579,"Герасимова","Мария","Александровна","1311219020","Физическая культура",0,"Зачет","2014/2015 учебный год 4 модуль",null,0,0,1,0,508316804,2098,null,"stCommon","Журналистика",{"$f":"MATCH(D1219,Отчет!$C:$C,0)","v":28}]
[525602187,10,"БЖУР133",475562897,"Кистерев","Алексей","Валерьевич","12701089","Физическая культура",0,"Зачет","2014/2015 учебный год 4 модуль",null,0,0,1,0,508316804,2098,"ikPlanned","stCommon","Журналистика",{"$f":"MATCH(D1220,Отчет!$C:$C,0)","v":105}]
[525602485,10,"БЖУР133",475563046,"Люля","Арина","Артемовна","1311219053","Физическая культура",0,"Зачет","2014/2015 учебный год 4 модуль",null,0,0,1,0,508316804,2098,"ikPlanned","stCommon","Журналистика",{"$f":"MATCH(D1221,Отчет!$C:$C,0)","v":91}]
[525602552,10,"БЖУР133",475563206,"Малышева","Ирина","Александровна","1301219056","Физическая культура",0,"Зачет","2014/2015 учебный год 4 модуль",null,0,0,1,1,508316804,2098,null,"stCommon","Журналистика",{"$f":"MATCH(D1222,Отчет!$C:$C,0)","v":66}]
[525602692,10,"БЖУР133",475563331,"Мусина","Юлия","Маратовна","1301219064","Физическая культура",0,"Зачет","2014/2015 учебный год 4 модуль",null,0,0,1,1,508316804,2098,null,"stCommon","Журналистика",{"$f":"MATCH(D1223,Отчет!$C:$C,0)","v":26}]
[525600964,10,"БЖУР132",475498778,"Рудакова","Юлия","Владиславовна","1301219081","Физическая культура",0,"Зачет","2014/2015 учебный год 4 модуль",null,0,0,1,1,508316804,2098,null,"stCommon","Журналистика",{"$f":"MATCH(D1224,Отчет!$C:$C,0)","v":21}]
[525601034,10,"БЖУР132",475498901,"Скворцова","Дарья","Андреевна","1301219086","Физическая культура",0,"Зачет","2014/2015 учебный год 4 модуль",null,0,0,1,1,508316804,2098,null,"stCommon","Журналистика",{"$f":"MATCH(D1225,Отчет!$C:$C,0)","v":17}]
[525601168,10,"БЖУР132",475499056,"Федорова","Анастасия","Александровна","1301219096","Физическая культура",0,"Зачет","2014/2015 учебный год 4 модуль",null,0,0,1,1,508316804,2098,null,"stCommon","Журналистика",{"$f":"MATCH(D1226,Отчет!$C:$C,0)","v":30}]
[525601102,10,"БЖУР132",475499184,"Устюжанинова","Анна","Александровна","1301219095","Физическая культура",0,"Зачет","2014/2015 учебный год 4 модуль",null,0,0,1,1,508316804,2098,null,"stCommon","Журналистика",{"$f":"MATCH(D1227,Отчет!$C:$C,0)","v":84}]
[525601368,10,"БЖУР132",475499320,"Якубович","Анастасия","Александровна","1301219108","Физическая культура",0,"Зачет","2014/2015 учебный год 4 модуль",null,0,0,1,1,508316804,2098,null,"stCommon","Журналистика",{"$f":"MATCH(D1228,Отчет!$C:$C,0)","v":63}]
[796966770,10,"БЖУР131",796834861,"Тесфайе","Анна-Мария","Синтайе","10701175","Физическая культура",0.25,"Зачет","2014/2015 учебный год 4 модуль",null,2.5,0.25,1,0,508316804,2098,"ikPassed","stCommon","Журналистика",{"$f":"MATCH(D1229,Отчет!$C:$C,0)","v":109}]
[525600032,10,"БЖУР132",481498934,"Глазунов","Никита","Сергеевич","116-24/12-036","Физическая культура",0.28000000000000003,"Зачет","2014/2015 учебный год 4 модуль",null,2.8000000000000003,0.28000000000000003,1,0,508316804,2098,"ikPassed","stCommon","Журналистика",{"$f":"MATCH(D1230,Отчет!$C:$C,0)","v":106}]
[617793358,9,"БЖУР131",580462633,"Немкова","Екатерина","Дмитриевна","131232209","Язык и политика",1.5,"Зачет","2014/2015 учебный год 4 модуль",null,13.5,1.5,1,0,508316804,2098,"ikPassed","stChoosen","Журналистика",{"$f":"MATCH(D1231,Отчет!$C:$C,0)","v":98}]