{"text_format":"1","workbook":"xlsx","n_sheets":2,"sheets":["Отчет","Данные"],"not_rendered":{"charts":0,"images":1,"macros":1,"external_links":0,"defined_names":0,"comments":0,"pivot_tables":0},"unopened":[],"bounds":{"document_bytes":16777216,"sheet_cells":100000,"rows_first":2000,"rows_last":500,"rows_between":2000,"halvings":0,"cell_chars":16384,"cell_head_chars":4096},"cells_cut":0,"cells_raw":0,"read":"whole","date_system":"1900"}

{"sheet":"Отчет","index":0,"n_rows":122,"n_cols":23,"rows_kept":122,"cut":false,"hidden":false,"merged":[[7,21,10,21],[10,0,10,4],[7,20,10,20],[7,11,10,11],[7,14,10,14],[7,0,9,0],[7,19,10,19],[7,12,10,12],[11,0,12,0],[7,2,9,2],[0,17,0,20],[7,18,10,18],[7,16,10,16],[7,3,9,3],[7,15,10,15],[1,17,2,20],[7,13,10,13],[7,1,9,1],[7,4,9,4],[7,17,10,17],[7,5,7,6],[8,5,8,6],[8,7,8,9],[7,7,7,10],[69,0,70,0],[13,0,17,0],[18,0,26,0],[27,0,29,0],[30,0,35,0],[38,0,39,0],[40,0,44,0],[46,0,52,0],[53,0,56,0],[58,0,60,0],[61,0,66,0],[67,0,68,0],[116,0,118,0],[71,0,73,0],[74,0,77,0],[80,0,83,0],[84,0,86,0],[87,0,90,0],[93,0,94,0],[95,0,96,0],[97,0,98,0],[99,0,100,0],[103,0,106,0],[107,0,111,0]]}
["Текущий рейтинг студентов (до пересдач)",null,null,null,null,null,null,null,null,null,null,null,null,null,null,null,null,"Приложение 3"]
["Дата выгрузки: 20.01.2016",null,null,null,null,null,null,null,null,null,null,null,null,null,null,null,null,"к Положению о рейтинговой системе комплексной оценки знаний студентов "]
["Период: c 2015/2016 учебный год I семестр по 2015/2016 учебный год I семестр"]
["Факультет/отделение: Факультет коммуникаций, медиа и дизайна"]
["Направление подготовки: Журналистика"]
["Уровень образования, номер курса: Бакалавриат 4 курс",null,null,null,null,null," - студенты имеющие задолженности"]
[null,null,null,null,null,"*"," - изучение по ИУП"]
["Место","Студент","ID","Группа","Образовательная программа студента","2015/2016 учебный год 1 модуль",null,"2015/2016 учебный год 2 модуль",null,null,null,"Кредитно-рейтинговая оценка","Нормировочный коэффициент","Сумма всех кредитов ","Нормированная кредитно-рейтинговая оценка","Сумма всех оценок","Количество всех оценок","Средний балл","Минимальный балл","Наличие неудовлетворительных оценок и неявок","Количество удовлетворительных оценок","Номер места"]
[null,null,null,null,null,"Экзамен",null,"Экзамен",null,null,"Зачет"]
[null,null,null,null,null,"Вторая производственная практика","Информационные технологии подготовки печатных и электронных СМИ","Исследование медиа-процессов","История и теория литературы","Политическая журналистика","Физическая культура"]
["Число текущих кредитов:",null,null,null,null,0,3,1.05,6,7,0.44]
["1 - 2","Ивлиева Маргарита Дмитриевна",481528286,"БЖУР124","Журналистика",10,null,null,10,10,10,134.4,{"$f":"IF(N12 > 0, MAX(N$12:N$122) / N12, 0)","v":1.2232142857142858},13.44,{"$f":"L12*M12","v":164.4},40,4,{"$f":"IF(Q12 > 0,P12/Q12,0)","v":10},{"$f":"MIN($F12:K12)","v":10},null,4,1,"ОК"]
[null,"Миннуллина Екатерина Маратовна",481515713,"БЖУР122","Журналистика",10,null,null,10,10,10,134.4,1.2232142857142858,13.44,164.4,40,4,10,{"$f":"MIN($F13:K13)","v":10},null,4,2,"ОК"]
["3 - 7","Воронкова Алена Борисовна",481512248,"БЖУР122","Журналистика",10,null,null,9,10,10,128.4,1.2232142857142858,13.44,157.06071428571431,39,4,9.75,{"$f":"MIN($F14:K14)","v":9},null,4,3,"ОК"]
[null,"Головач Евгения Максимовна",481512855,"БЖУР122","Журналистика",10,null,null,9,10,10,128.4,1.2232142857142858,13.44,157.06071428571431,39,4,9.75,{"$f":"MIN($F15:K15)","v":9},null,4,4,"ОК"]
[null,"Козкина Анна Леонидовна",481514993,"БЖУР122","Журналистика",10,null,null,9,10,10,128.4,1.2232142857142858,13.44,157.06071428571431,39,4,9.75,{"$f":"MIN($F16:K16)","v":9},null,4,5,"ОК"]
[null,"Пиянзина Мария Сергеевна",481508707,"БЖУР121","Журналистика",9,null,null,9,10,10,128.4,1.2232142857142858,13.44,157.06071428571431,38,4,9.5,{"$f":"MIN($F17:K17)","v":9},null,4,6,"ОК"]
[null,"Лобзова Евгения Константиновна",475514009,"БЖУР124","Журналистика",7,null,null,9,10,10,128.4,1.2232142857142858,13.44,157.06071428571431,36,4,9,{"$f":"MIN($F18:K18)","v":7},null,4,7,"ОК"]
["8 - 16","Долинина Ирина Николаевна",475508457,"БЖУР122","Журналистика",10,null,null,10,9,10,127.4,1.2232142857142858,13.44,155.83750000000001,39,4,9.75,{"$f":"MIN($F19:K19)","v":9},null,4,8,"ОК"]
[null,"Мароховская Алеся Алексеевна",475514276,"БЖУР124","Журналистика",10,null,null,10,9,10,127.4,1.2232142857142858,13.44,155.83750000000001,39,4,9.75,{"$f":"MIN($F20:K20)","v":9},null,4,9,"ОК"]
[null,"Радина Алена Альбертовна",481525662,"БЖУР123","Журналистика",10,null,null,10,9,10,127.4,1.2232142857142858,13.44,155.83750000000001,39,4,9.75,{"$f":"MIN($F21:K21)","v":9},null,4,10,"ОК"]
[null,"Рябцева Наталия  Викторовна",481529293,"БЖУР124","Журналистика",10,null,null,10,9,10,127.4,1.2232142857142858,13.44,155.83750000000001,39,4,9.75,{"$f":"MIN($F22:K22)","v":9},null,4,11,"ОК"]
[null,"Тарасова Екатерина Сергеевна",475515356,"БЖУР124","Журналистика",10,null,null,10,9,10,127.4,1.2232142857142858,13.44,155.83750000000001,39,4,9.75,{"$f":"MIN($F23:K23)","v":9},null,4,12,"ОК"]
[null,"Черных Виктория Николаевна",475573015,"БЖУР121","Журналистика",10,null,null,10,9,10,127.4,1.2232142857142858,13.44,155.83750000000001,39,4,9.75,{"$f":"MIN($F24:K24)","v":9},null,4,13,"ОК"]
[null,"Румянцева Мария Андреевна",481529012,"БЖУР124","Журналистика",9,null,null,10,9,10,127.4,1.2232142857142858,13.44,155.83750000000001,38,4,9.5,{"$f":"MIN($F25:K25)","v":9},null,4,14,"ОК"]
[null,"Шепелёв Дмитрий Алексеевич",475516186,"БЖУР124","Журналистика",9,null,null,10,9,10,127.4,1.2232142857142858,13.44,155.83750000000001,38,4,9.5,{"$f":"MIN($F26:K26)","v":9},null,4,15,"ОК"]
[null,"Чунова Александра Владимировна",475515912,"БЖУР124","Журналистика",8,null,null,10,9,10,127.4,1.2232142857142858,13.44,155.83750000000001,37,4,9.25,{"$f":"MIN($F27:K27)","v":8},null,4,16,"ОК"]
["17 - 19","Малюк Татьяна Дмитриевна",475506053,"БЖУР121","Журналистика",10,null,null,8,10,10,122.4,1.2232142857142858,13.44,149.72142857142859,38,4,9.5,{"$f":"MIN($F28:K28)","v":8},null,4,17,"ОК"]
[null,"Савин Павел Дмитриевич",481509017,"БЖУР121","Журналистика",10,null,null,8,10,10,122.4,1.2232142857142858,13.44,149.72142857142859,38,4,9.5,{"$f":"MIN($F29:K29)","v":8},null,4,18,"ОК"]
[null,"Сидненко Алеся Александровна",481509290,"БЖУР121","Журналистика",10,null,null,8,10,10,122.4,1.2232142857142858,13.44,149.72142857142859,38,4,9.5,{"$f":"MIN($F30:K30)","v":8},null,4,19,"ОК"]
["20 - 25","Грачева Дарья Сергеевна",475575725,"БЖУР123","Журналистика",10,null,null,9,9,10,121.4,1.2232142857142858,13.44,148.49821428571431,38,4,9.5,{"$f":"MIN($F31:K31)","v":9},null,4,20,"ОК"]
[null,"Ибрагимова Элина Рустемовна",481513639,"БЖУР122","Журналистика",10,null,null,9,9,10,121.4,1.2232142857142858,13.44,148.49821428571431,38,4,9.5,{"$f":"MIN($F32:K32)","v":9},null,4,21,"ОК"]
[null,"Слюсаренко Дарья Сергеевна",475514804,"БЖУР124","Журналистика",10,null,null,9,9,10,121.4,1.2232142857142858,13.44,148.49821428571431,38,4,9.5,{"$f":"MIN($F33:K33)","v":9},null,4,22,"ОК"]
[null,"Устюгова Екатерина Вадимовна",481510230,"БЖУР121","Журналистика",10,null,null,9,9,10,121.4,1.2232142857142858,13.44,148.49821428571431,38,4,9.5,{"$f":"MIN($F34:K34)","v":9},null,4,23,"ОК"]
[null,"Голенкова Екатерина Викторовна",481527213,"БЖУР124","Журналистика",9,null,null,9,9,10,121.4,1.2232142857142858,13.44,148.49821428571431,37,4,9.25,{"$f":"MIN($F35:K35)","v":9},null,4,24,"ОК"]
[null,"Юртов Тимофей Матвеевич",481529559,"БЖУР124","Журналистика",7,null,null,9,9,10,121.4,1.2232142857142858,13.44,148.49821428571431,35,4,8.75,{"$f":"MIN($F36:K36)","v":7},null,4,25,"ОК"]
[26,"Сидоркова Инна Сергеевна",475511255,"БЖУР123","Журналистика",10,null,null,10,8,10,120.4,1.2232142857142858,13.44,147.27500000000001,38,4,9.5,{"$f":"MIN($F37:K37)","v":8},null,4,26,"ОК"]
[27,"Соколов Никита Алексеевич",475515075,"БЖУР124","Журналистика",9,null,null,7,10,10,116.4,1.2232142857142858,13.44,142.38214285714287,36,4,9,{"$f":"MIN($F38:K38)","v":7},null,4,27,"ОК"]
["28 - 29","Соболевская Анастасия Павловна",481509618,"БЖУР121","Журналистика",10,null,null,8,9,10,115.4,1.2232142857142858,13.44,141.15892857142859,37,4,9.25,{"$f":"MIN($F39:K39)","v":8},null,4,28,"ОК"]
[null,"Гречаная Тамара Владимировна",475510314,"БЖУР123","Журналистика",9,null,null,8,9,10,115.4,1.2232142857142858,13.44,141.15892857142859,36,4,9,{"$f":"MIN($F40:K40)","v":8},null,4,29,"ОК"]
["30 - 34","Колесникова Анастасия Сергеевна",475505148,"БЖУР121","Журналистика",10,null,null,9,8,10,114.4,1.2232142857142858,13.44,139.93571428571431,37,4,9.25,{"$f":"MIN($F41:K41)","v":8},null,4,30,"ОК"]
[null,"Кузьмина Ольга Валерьевна",475505469,"БЖУР121","Журналистика",10,null,null,9,8,10,114.4,1.2232142857142858,13.44,139.93571428571431,37,4,9.25,{"$f":"MIN($F42:K42)","v":8},null,4,31,"ОК"]
[null,"Калюжная Екатерина Константиновна",719859018,"БЖУР122","Журналистика","н/я",null,null,9,8,10,114.4,1.2232142857142858,13.44,139.93571428571431,27,3,9,{"$f":"MIN($F43:K43)","v":8},"Да",3,32,"ОК"]
[null,"Шайдуллина Юлия Ильдаровна",481510870,"БЖУР121","Журналистика",9,null,null,9,8,10,114.4,{"$f":"IF(N44 > 0, MAX(N$12:N$122) / N44, 0)","v":1.2232142857142858},13.44,{"$f":"L44*M44","v":139.93571428571431},36,4,{"$f":"IF(Q44 > 0,P44/Q44,0)","v":9},{"$f":"MIN($F44:K44)","v":8},null,4,33,"ОК"]
[null,"Емельянова Софья Андреевна",507021579,"БЖУР123","Журналистика",8,null,null,9,8,10,114.4,1.2232142857142858,13.44,139.93571428571431,35,4,8.75,{"$f":"MIN($F45:K45)","v":8},null,4,34,"ОК"]
[35,"Негря Валерия Олеговна",475506339,"БЖУР121","Журналистика",10,null,null,10,7,10,113.4,1.2232142857142858,13.44,138.71250000000001,37,4,9.25,{"$f":"MIN($F46:K46)","v":7},null,4,35,"ОК"]
["36 - 42","Долина Евгения Александровна",475504262,"БЖУР121","Журналистика",10,null,null,8,8,10,108.4,1.2232142857142858,13.44,132.59642857142859,36,4,9,{"$f":"MIN($F47:K47)","v":8},null,4,36,"ОК"]
[null,"Лукьянова Александра Георгиевна",481524709,"БЖУР123","Журналистика",10,null,null,8,8,10,108.4,1.2232142857142858,13.44,132.59642857142859,36,4,9,{"$f":"MIN($F48:K48)","v":8},null,4,37,"ОК"]
[null,"Гречко Полина Сергеевна",481527610,"БЖУР124","Журналистика",9,null,null,8,8,10,108.4,1.2232142857142858,13.44,132.59642857142859,35,4,8.75,{"$f":"MIN($F49:K49)","v":8},null,4,38,"ОК"]
[null,"Илюхина Анастасия Михайловна",481514116,"БЖУР122","Журналистика",8,null,null,8,8,10,108.4,1.2232142857142858,13.44,132.59642857142859,34,4,8.5,{"$f":"MIN($F50:K50)","v":8},null,4,39,"ОК"]
[null,"Рязанцева Елена Сергеевна",481516842,"БЖУР122","Журналистика",8,null,null,8,8,10,108.4,1.2232142857142858,13.44,132.59642857142859,34,4,8.5,{"$f":"MIN($F51:K51)","v":8},null,4,40,"ОК"]
[null,"Семихина Анна Андреевна",475573890,"БЖУР122","Журналистика",8,null,null,8,8,10,108.4,1.2232142857142858,13.44,132.59642857142859,34,4,8.5,{"$f":"MIN($F52:K52)","v":8},null,4,41,"ОК"]
[null,"Полякова Анна Сергеевна",481528648,"БЖУР124","Журналистика",5,null,null,8,8,10,108.4,1.2232142857142858,13.44,132.59642857142859,31,4,7.75,{"$f":"MIN($F53:K53)","v":5},null,4,42,"ОК"]
["43 - 46","Грачев Максим Игоревич",475569292,"БЖУР121","Журналистика",9,null,null,9,7,10,107.4,1.2232142857142858,13.44,131.37321428571431,35,4,8.75,{"$f":"MIN($F54:K54)","v":7},null,4,43,"ОК"]
[null,"Симонаева Анна Валерьевна",481517536,"БЖУР122","Журналистика",8,null,null,9,7,10,107.4,1.2232142857142858,13.44,131.37321428571431,34,4,8.5,{"$f":"MIN($F55:K55)","v":7},null,4,44,"ОК"]
[null,"Умецкая Анастасия Ильинична",475572360,"БЖУР121","Журналистика",8,null,null,9,7,10,107.4,1.2232142857142858,13.44,131.37321428571431,34,4,8.5,{"$f":"MIN($F56:K56)","v":7},null,4,45,"ОК"]
[null,"Черкашина Анастасия Алексеевна",481510571,"БЖУР121","Журналистика",8,null,null,9,7,10,107.4,1.2232142857142858,13.44,131.37321428571431,34,4,8.5,{"$f":"MIN($F57:K57)","v":7},null,4,46,"ОК"]
[47,"Спиранде Валерия Юрьевна",475509036,"БЖУР122","Журналистика",10,null,null,10,6,10,106.4,1.2232142857142858,13.44,130.15,36,4,9,{"$f":"MIN($F58:K58)","v":6},null,4,47,"ОК"]
["48 - 50","Погосян Марина Ваграмовна",475508769,"БЖУР122","Журналистика",10,null,null,7,8,10,102.4,1.2232142857142858,13.44,125.25714285714287,35,4,8.75,{"$f":"MIN($F59:K59)","v":7},null,4,48,"ОК"]
[null,"Крашенинникова Елизавета Андреевна",475577399,"БЖУР124","Журналистика","н/я",null,null,7,8,10,102.4,1.2232142857142858,13.44,125.25714285714287,25,3,8.3333333333333339,{"$f":"MIN($F60:K60)","v":7},"Да",3,49,"ОК"]
[null,"Романова Марина Сергеевна",481526030,"БЖУР123","Журналистика",7,null,null,7,8,10,102.4,1.2232142857142858,13.44,125.25714285714287,32,4,8,{"$f":"MIN($F61:K61)","v":7},null,4,50,"ОК"]
["51 - 56","Сулеева Амина Эдировна",475506618,"БЖУР121","Журналистика",10,null,null,8,7,10,101.4,1.2232142857142858,13.44,124.03392857142859,35,4,8.75,{"$f":"MIN($F62:K62)","v":7},null,4,51,"ОК"]
[null,"Токмаш Юрие",475506879,"БЖУР121","Журналистика",10,null,null,8,7,10,101.4,1.2232142857142858,13.44,124.03392857142859,35,4,8.75,{"$f":"MIN($F63:K63)","v":7},null,4,52,"ОК"]
[null,"Уродов Андрей Николаевич",475507222,"БЖУР121","Журналистика",10,null,null,8,7,10,101.4,1.2232142857142858,13.44,124.03392857142859,35,4,8.75,{"$f":"MIN($F64:K64)","v":7},null,4,53,"ОК"]
[null,"Эльзенбах Мария Андреевна",475507521,"БЖУР121","Журналистика",10,null,null,8,7,10,101.4,1.2232142857142858,13.44,124.03392857142859,35,4,8.75,{"$f":"MIN($F65:K65)","v":7},null,4,54,"ОК"]
[null,"Боровиков Антон Николаевич",475513250,"БЖУР124","Журналистика","н/я",null,null,8,7,10,101.4,1.2232142857142858,13.44,124.03392857142859,25,3,8.3333333333333339,{"$f":"MIN($F66:K66)","v":7},"Да",3,55,"ОК"]
[null,"Талызина Мария Александровна",481509921,"БЖУР121","Журналистика","н/я",null,null,8,7,10,101.4,1.2232142857142858,13.44,124.03392857142859,25,3,8.3333333333333339,{"$f":"MIN($F67:K67)","v":7},"Да",3,56,"ОК"]
["57 - 58","Феоктистова Софья Эдуардовна",475512367,"БЖУР123","Журналистика",10,null,null,9,6,10,100.4,1.2232142857142858,13.44,122.8107142857143,35,4,8.75,{"$f":"MIN($F68:K68)","v":6},null,4,57,"ОК"]
[null,"Джиоева Ольга Валерьевна",481522314,"БЖУР123","Журналистика",9,null,null,9,6,10,100.4,1.2232142857142858,13.44,122.8107142857143,34,4,8.5,{"$f":"MIN($F69:K69)","v":6},null,4,58,"ОК"]
["59 - 60","Анисимов Артемий Михайлович",475576790,"БЖУР124","Журналистика",8,null,null,6,8,10,96.4,1.2232142857142858,13.44,117.91785714285716,32,4,8,{"$f":"MIN($F70:K70)","v":6},null,4,59,"ОК"]
[null,"Венедиктова Екатерина Александровна",481511889,"БЖУР122","Журналистика",8,null,null,6,8,10,96.4,1.2232142857142858,13.44,117.91785714285716,32,4,8,{"$f":"MIN($F71:K71)","v":6},null,4,60,"ОК"]
["61 - 63","Дербикова Татьяна Олеговна",481507744,"БЖУР121","Журналистика",9,null,null,7,7,10,95.4,1.2232142857142858,13.44,116.69464285714287,33,4,8.25,{"$f":"MIN($F72:K72)","v":7},null,4,61,"ОК"]
[null,"Орлова Ирина Андреевна",481516134,"БЖУР122","Журналистика","н/я",null,null,7,7,10,95.4,1.2232142857142858,13.44,116.69464285714287,24,3,8,{"$f":"MIN($F73:K73)","v":7},"Да",3,62,"ОК"]
[null,"Дёмочкина Анна Викторовна",475577144,"БЖУР124","Журналистика",6,null,null,7,7,10,95.4,1.2232142857142858,13.44,116.69464285714287,30,4,7.5,{"$f":"MIN($F74:K74)","v":6},null,4,63,"ОК"]
["64 - 67","Шилохвостов Максим Витальевич",481511198,"БЖУР121","Журналистика",10,null,null,8,6,10,94.4,1.2232142857142858,13.44,115.47142857142859,34,4,8.5,{"$f":"MIN($F75:K75)","v":6},null,4,64,"ОК"]
[null,"Игнатьева Маргарита Маратовна",475504558,"БЖУР121","Журналистика",9,null,null,8,6,10,94.4,{"$f":"IF(N76 > 0, MAX(N$12:N$122) / N76, 0)","v":1.2232142857142858},13.44,{"$f":"L76*M76","v":115.47142857142859},33,4,{"$f":"IF(Q76 > 0,P76/Q76,0)","v":8.25},{"$f":"MIN($F76:K76)","v":6},null,4,65,"ОК"]
[null,"Иващенко Матвей Михайлович",481523393,"БЖУР123","Журналистика",8,null,null,8,6,10,94.4,1.2232142857142858,13.44,115.47142857142859,32,4,8,{"$f":"MIN($F77:K77)","v":6},null,4,66,"ОК"]
[null,"Евган Тимофей Никитич",481508084,"БЖУР121","Журналистика",7,null,null,8,6,10,94.4,1.2232142857142858,13.44,115.47142857142859,31,4,7.75,{"$f":"MIN($F78:K78)","v":6},null,4,67,"ОК"]
[68,"Ракицкая Екатерина Владиславовна",481516474,"БЖУР122","Журналистика",10,null,null,10,4,10,92.4,1.2232142857142858,13.44,113.02500000000002,34,4,8.5,{"$f":"MIN($F79:K79)","v":4},null,4,68,"ОК"]
[69,"Приданова Анна Алексеевна",475514550,"БЖУР124","Журналистика",8,null,null,5,8,10,90.4,1.2232142857142858,13.44,110.57857142857145,31,4,7.75,{"$f":"MIN($F80:K80)","v":5},null,4,69,"ОК"]
["70 - 73","Марсакова Кристина Юрьевна",475571742,"БЖУР121","Журналистика",9,null,null,6,7,10,89.4,1.2232142857142858,13.44,109.35535714285716,32,4,8,{"$f":"MIN($F81:K81)","v":6},null,4,70,"ОК"]
[null,"Коновалова Лидия Александровна",481508406,"БЖУР121","Журналистика",8,null,null,6,7,10,89.4,1.2232142857142858,13.44,109.35535714285716,31,4,7.75,{"$f":"MIN($F82:K82)","v":6},null,4,71,"ОК"]
[null,"Савельева Алёна Алексеевна",481517205,"БЖУР122","Журналистика","н/я",null,null,6,7,10,89.4,1.2232142857142858,13.44,109.35535714285716,23,3,7.666666666666667,{"$f":"MIN($F83:K83)","v":6},"Да",3,72,"ОК"]
[null,"Шведов Владимир Сергеевич",475512687,"БЖУР123","Журналистика","н/я",null,null,6,7,10,89.4,1.2232142857142858,13.44,109.35535714285716,23,3,7.666666666666667,{"$f":"MIN($F84:K84)","v":6},"Да",3,73,"ОК"]
["74 - 76","Дудник Ксения Андреевна",481522740,"БЖУР123","Журналистика",10,null,null,7,6,10,88.4,1.2232142857142858,13.44,108.13214285714287,33,4,8.25,{"$f":"MIN($F85:K85)","v":6},null,4,74,"ОК"]
[null,"Логинова Елена Михайловна",475505755,"БЖУР121","Журналистика",10,null,null,7,6,10,88.4,1.2232142857142858,13.44,108.13214285714287,33,4,8.25,{"$f":"MIN($F86:K86)","v":6},null,4,75,"ОК"]
[null,"Шилко Александра Сергеевна",481519225,"БЖУР122","Журналистика",8,null,null,7,6,10,88.4,1.2232142857142858,13.44,108.13214285714287,31,4,7.75,{"$f":"MIN($F87:K87)","v":6},null,4,76,"ОК"]
["77 - 80","Алишова Таиса Шаиг кызы",475575058,"БЖУР123","Журналистика",10,null,null,8,5,10,87.4,1.2232142857142858,13.44,106.90892857142859,33,4,8.25,{"$f":"MIN($F88:K88)","v":5},null,4,77,"ОК"]
[null,"Тяпкин Вячеслав Алексеевич",481518601,"БЖУР122","Журналистика",9,null,null,8,5,10,87.4,1.2232142857142858,13.44,106.90892857142859,32,4,8,{"$f":"MIN($F89:K89)","v":5},null,4,78,"ОК"]
[null,"Ермолаева Ирина Дмитриевна",481513180,"БЖУР122","Журналистика","н/я",null,null,8,5,10,87.4,1.2232142857142858,13.44,106.90892857142859,23,3,7.666666666666667,{"$f":"MIN($F90:K90)","v":5},"Да",3,79,"ОК"]
[null,"Демчук Матвей Романович",475571288,"БЖУР121","Журналистика",6,null,null,8,5,10,87.4,1.2232142857142858,13.44,106.90892857142859,29,4,7.25,{"$f":"MIN($F91:K91)","v":5},null,4,80,"ОК"]
[81,"Коноплева Анастасия  Андреевна",481524442,"БЖУР123","Журналистика",8,7,null,6,6,10,103.4,1,16.440000000000001,103.4,37,5,7.4,{"$f":"MIN($F92:K92)","v":6},null,5,81,"ОК"]
[82,"Шевцова Марьяна Искандеровна",481518905,"БЖУР122","Журналистика",10,null,null,6,6,10,82.4,1.2232142857142858,13.44,100.79285714285716,32,4,8,{"$f":"MIN($F93:K93)","v":6},null,4,82,"ОК"]
["83 - 84","Куреша Мария Олеговна",475510931,"БЖУР123","Журналистика",9,null,null,7,5,10,81.400000000000006,1.2232142857142858,13.44,99.569642857142867,31,4,7.75,{"$f":"MIN($F94:K94)","v":5},null,4,83,"ОК"]
[null,"Степаненкова Екатерина Дмитриевна",475511562,"БЖУР123","Журналистика",7,null,null,7,5,10,81.400000000000006,1.2232142857142858,13.44,99.569642857142867,29,4,7.25,{"$f":"MIN($F95:K95)","v":5},null,4,84,"ОК"]
["85 - 86","Белякова Яна Романовна",475508143,"БЖУР122","Журналистика",10,null,null,8,4,10,80.400000000000006,1.2232142857142858,13.44,98.346428571428589,32,4,8,{"$f":"MIN($F96:K96)","v":4},null,4,85,"ОК"]
[null,"Устинова Надежда Владимировна",475511861,"БЖУР123","Журналистика",9,null,null,8,4,10,80.400000000000006,1.2232142857142858,13.44,98.346428571428589,31,4,7.75,{"$f":"MIN($F97:K97)","v":4},null,4,86,"ОК"]
["87 - 88","Галяткин Андрей Сергеевич",481521551,"БЖУР123","Журналистика",10,null,null,5,6,10,76.400000000000006,1.2232142857142858,13.44,93.453571428571436,31,4,7.75,{"$f":"MIN($F98:K98)","v":5},null,4,87,"ОК"]
[null,"Касянчук Денис Евгеньевич",475510622,"БЖУР123","Журналистика",10,null,null,5,6,10,76.400000000000006,1.2232142857142858,13.44,93.453571428571436,31,4,7.75,{"$f":"MIN($F99:K99)","v":5},null,4,88,"ОК"]
["89 - 90","Галлай Анна Игоревна",481512582,"БЖУР122","Журналистика",10,null,null,6,5,10,75.400000000000006,1.2232142857142858,13.44,92.230357142857159,31,4,7.75,{"$f":"MIN($F100:K100)","v":5},null,4,89,"ОК"]
[null,"Балюк Мария Юрьевна",481507421,"БЖУР121","Журналистика",9,null,null,6,5,10,75.400000000000006,1.2232142857142858,13.44,92.230357142857159,30,4,7.5,{"$f":"MIN($F101:K101)","v":5},null,4,90,"ОК"]
[91,"Соколова Анастасия Сергеевна",481526367,"БЖУР123","Журналистика",9,null,null,7,4,10,74.400000000000006,1.2232142857142858,13.44,91.007142857142867,30,4,7.5,{"$f":"MIN($F102:K102)","v":4},null,4,91,"ОК"]
[92,"Затари Амалия Абдулловна",481527967,"БЖУР124","Журналистика",10,null,null,4,6,10,70.400000000000006,1.2232142857142858,13.44,86.114285714285728,30,4,7.5,{"$f":"MIN($F103:K103)","v":4},null,4,92,"ОК"]
["93 - 96","Горбачева Мария Александровна",481521937,"БЖУР123","Журналистика",10,null,null,5,5,10,69.400000000000006,1.2232142857142858,13.44,84.891071428571436,30,4,7.5,{"$f":"MIN($F104:K104)","v":5},null,4,93,"ОК"]
[null,"Дупелич Александра Юрьевна",481523081,"БЖУР123","Журналистика",9,null,null,5,5,10,69.400000000000006,1.2232142857142858,13.44,84.891071428571436,29,4,7.25,{"$f":"MIN($F105:K105)","v":5},null,4,94,"ОК"]
[null,"Исаченко Вероника Викторовна",481523734,"БЖУР123","Журналистика",9,null,null,5,5,10,69.400000000000006,1.2232142857142858,13.44,84.891071428571436,29,4,7.25,{"$f":"MIN($F106:K106)","v":5},null,4,95,"ОК"]
[null,"Истомина Карина Игоревна",481524106,"БЖУР123","Журналистика",7,null,null,5,5,10,69.400000000000006,1.2232142857142858,13.44,84.891071428571436,27,4,6.75,{"$f":"MIN($F107:K107)","v":5},null,4,96,"ОК"]
["97 - 101","Тавлуева Алина Дмитриевна",475509307,"БЖУР122","Журналистика",10,null,null,6,4,10,68.400000000000006,{"$f":"IF(N108 > 0, MAX(N$12:N$122) / N108, 0)","v":1.2232142857142858},13.44,{"$f":"L108*M108","v":83.667857142857159},30,4,{"$f":"IF(Q108 > 0,P108/Q108,0)","v":7.5},{"$f":"MIN($F108:K108)","v":4},null,4,97,"ОК"]
[null,"Толоконников Иван Александрович",475574160,"БЖУР122","Журналистика",9,null,null,6,4,10,68.400000000000006,1.2232142857142858,13.44,83.667857142857159,29,4,7.25,{"$f":"MIN($F109:K109)","v":4},null,4,98,"ОК"]
[null,"Ломакин Борис Евгеньевич",481515353,"БЖУР122","Журналистика",8,null,null,6,4,10,68.400000000000006,1.2232142857142858,13.44,83.667857142857159,28,4,7,{"$f":"MIN($F110:K110)","v":4},null,4,99,"ОК"]
[null,"Фирсова Екатерина Андреевна",475515621,"БЖУР124","Журналистика",8,null,null,6,4,10,68.400000000000006,1.2232142857142858,13.44,83.667857142857159,28,4,7,{"$f":"MIN($F111:K111)","v":4},null,4,100,"ОК"]
[null,"Тетерина Кристина Романовна",481518238,"БЖУР122","Журналистика","н/я",null,null,6,4,10,68.400000000000006,1.2232142857142858,13.44,83.667857142857159,20,3,6.666666666666667,{"$f":"MIN($F112:K112)","v":4},"Да",3,101,"ОК"]
[102,"Карчебанова Алена Алексеевна",475504841,"БЖУР121","Журналистика",10,null,null,10,"н/я",10,64.400000000000006,1.2232142857142858,13.44,78.77500000000002,30,3,10,{"$f":"MIN($F113:K113)","v":10},"Да",3,102,"ОК"]
[103,"Кленова Татьяна Игоревна",481514509,"БЖУР122","Журналистика",9,null,null,4,5,10,63.4,1.2232142857142858,13.44,77.551785714285714,28,4,7,{"$f":"MIN($F114:K114)","v":4},null,4,103,"ОК"]
[104,"Скрябова Юлия Валерьевна",481517936,"БЖУР122","Журналистика",10,null,null,5,4,10,62.4,1.2232142857142858,13.44,76.328571428571436,29,4,7.25,{"$f":"MIN($F115:K115)","v":4},null,4,104,"ОК"]
[105,"Закружный Семен Викторович",475575387,"БЖУР123","Журналистика",9,null,"0 *",5,4,10,62.4,1.134575569358178,14.49,70.79751552795031,28,5,5.6,{"$f":"MIN($F116:K116)","v":4},"Да",4,105,"ОК"]
["106 - 108","Борзунова Мария Михайловна",481521205,"БЖУР123","Журналистика",10,null,null,4,4,10,56.4,1.2232142857142858,13.44,68.989285714285714,28,4,7,{"$f":"MIN($F117:K117)","v":4},null,4,106,"ОК"]
[null,"Курганская Анастасия Сергеевна",475513758,"БЖУР124","Журналистика",8,null,null,4,4,10,56.4,1.2232142857142858,13.44,68.989285714285714,26,4,6.5,{"$f":"MIN($F118:K118)","v":4},null,4,107,"ОК"]
[null,"Петров Роман Евгеньевич",475572032,"БЖУР121","Журналистика","н/я",null,null,4,4,10,56.4,1.2232142857142858,13.44,68.989285714285714,18,3,6,{"$f":"MIN($F119:K119)","v":4},"Да",3,108,"ОК"]
[109,"Адаричева Анна Андреевна",475503952,"БЖУР121","Журналистика",10,null,null,8,"н/я (ув)",10,52.4,1.2232142857142858,13.44,64.096428571428575,28,3,9.3333333333333339,{"$f":"MIN($F120:K120)","v":8},"Да",3,109,"ОК"]
[110,"Цыбулина Елизавета Юрьевна",475574645,"БЖУР122","Журналистика","н/я (ув)",null,null,5,"н/я (ув)",10,34.4,1.2232142857142858,13.44,42.078571428571429,15,2,7.5,{"$f":"MIN($F121:K121)","v":5},"Да",2,110,"ОК"]
[111,"Сагеева Дария Альбиртовна",475577694,"БЖУР124","Журналистика",8,null,null,"н/я",4,10,32.4,1.2232142857142858,13.44,39.63214285714286,22,3,7.333333333333333,{"$f":"MIN($F122:K122)","v":4},"Да",3,111,"ОК"]

{"sheet":"Данные","index":1,"n_rows":448,"n_cols":23,"rows_kept":448,"cut":false,"hidden":true,"merged":[]}
["ID","Оценка из 10 баллов до пересдач","Группа","Студент","Фамилия","Имя","Отчество","Номер студенческого билета","Строка учебного плана","Текущих кредитов за испытание","Вид испытания","Календарный период по плану","Неявка до пересдач","В текущий рейтинг","Текущих кредитов для студента","Оценка зачет/незачет до пересдач","Является бюджетным","Учебный план","Вид записи РУП","Вид записи ИУП","Номер Row"]
[1,2,3,4,5,6,7,8,9,10,11,12,13,14,15,16,17,18,19,20,21]
[1025732116,null,"БЖУР121",475572032,"Петров","Роман","Евгеньевич","121219060","Вторая производственная практика",0,"Экзамен","2015/2016 учебный год 1 модуль",0,0,0,null,0,1025647437,4347,null,null,"Журналистика",{"$f":"MATCH(D3,Отчет!$C:$C,0)","v":119}]
[1025724941,8,"БЖУР121",475572360,"Умецкая","Анастасия","Ильинична","121219087","Вторая производственная практика",0,"Экзамен","2015/2016 учебный год 1 модуль",null,0,0,1,0,1025647437,4347,null,null,"Журналистика",{"$f":"MATCH(D4,Отчет!$C:$C,0)","v":56}]
[1025733466,10,"БЖУР121",475573015,"Черных","Виктория","Николаевна","120219096","Вторая производственная практика",0,"Экзамен","2015/2016 учебный год 1 модуль",null,0,0,1,1,1025647437,4347,null,null,"Журналистика",{"$f":"MATCH(D5,Отчет!$C:$C,0)","v":24}]
[1025724341,8,"БЖУР122",475573890,"Семихина","Анна","Андреевна","1211232056","Вторая производственная практика",0,"Экзамен","2015/2016 учебный год 1 модуль",null,0,0,1,0,1025647437,4347,null,null,"Журналистика",{"$f":"MATCH(D6,Отчет!$C:$C,0)","v":52}]
[1025729006,9,"БЖУР122",475574160,"Толоконников","Иван","Александрович","1114193","Вторая производственная практика",0,"Экзамен","2015/2016 учебный год 1 модуль",null,0,0,1,0,1025647437,4347,null,null,"Журналистика",{"$f":"MATCH(D7,Отчет!$C:$C,0)","v":109}]
[1025728768,null,"БЖУР122",475574645,"Цыбулина","Елизавета","Юрьевна","121219093","Вторая производственная практика",0,"Экзамен","2015/2016 учебный год 1 модуль",1,0,0,null,0,1025647437,4347,null,null,"Журналистика",{"$f":"MATCH(D8,Отчет!$C:$C,0)","v":121}]
[1025733213,10,"БЖУР123",475575058,"Алишова","Таиса","Шаиг кызы","120219003","Вторая производственная практика",0,"Экзамен","2015/2016 учебный год 1 модуль",null,0,0,1,1,1025647437,4347,null,null,"Журналистика",{"$f":"MATCH(D9,Отчет!$C:$C,0)","v":88}]
[1025732513,9,"БЖУР123",475575387,"Закружный","Семен","Викторович","121219031","Вторая производственная практика",0,"Экзамен","2015/2016 учебный год 1 модуль",null,0,0,1,0,1025647437,4347,"ikPlanned",null,"Журналистика",{"$f":"MATCH(D10,Отчет!$C:$C,0)","v":116}]
[1025726772,10,"БЖУР123",475575725,"Грачева","Дарья","Сергеевна","1311219116","Вторая производственная практика",0,"Экзамен","2015/2016 учебный год 1 модуль",null,0,0,1,0,1025647437,4347,null,null,"Журналистика",{"$f":"MATCH(D11,Отчет!$C:$C,0)","v":31}]
[1025725127,8,"БЖУР124",475576790,"Анисимов","Артемий","Михайлович","121219004","Вторая производственная практика",0,"Экзамен","2015/2016 учебный год 1 модуль",null,0,0,1,0,1025647437,4347,null,null,"Журналистика",{"$f":"MATCH(D12,Отчет!$C:$C,0)","v":70}]
[1025723753,10,"БЖУР121",475503952,"Адаричева","Анна","Андреевна","120219002","Вторая производственная практика",0,"Экзамен","2015/2016 учебный год 1 модуль",null,0,0,1,1,1025647437,4347,null,null,"Журналистика",{"$f":"MATCH(D13,Отчет!$C:$C,0)","v":120}]
[1025726931,10,"БЖУР121",475504262,"Долина","Евгения","Александровна","120219025","Вторая производственная практика",0,"Экзамен","2015/2016 учебный год 1 модуль",null,0,0,1,1,1025647437,4347,null,null,"Журналистика",{"$f":"MATCH(D14,Отчет!$C:$C,0)","v":47}]
[1192670319,9,"БЖУР121",475504558,"Игнатьева","Маргарита","Маратовна","120219037","Вторая производственная практика",0,"Экзамен","2015/2016 учебный год 1 модуль",null,0,0,1,1,1025647437,4347,null,null,"Журналистика",{"$f":"MATCH(D15,Отчет!$C:$C,0)","v":76}]
[1025723911,10,"БЖУР121",475504841,"Карчебанова","Алена","Алексеевна","120219040","Вторая производственная практика",0,"Экзамен","2015/2016 учебный год 1 модуль",null,0,0,1,1,1025647437,4347,null,null,"Журналистика",{"$f":"MATCH(D16,Отчет!$C:$C,0)","v":113}]
[1025725883,10,"БЖУР121",475505148,"Колесникова","Анастасия","Сергеевна","120219043","Вторая производственная практика",0,"Экзамен","2015/2016 учебный год 1 модуль",null,0,0,1,1,1025647437,4347,null,null,"Журналистика",{"$f":"MATCH(D17,Отчет!$C:$C,0)","v":41}]
[1025731805,10,"БЖУР121",475505469,"Кузьмина","Ольга","Валерьевна","120219045","Вторая производственная практика",0,"Экзамен","2015/2016 учебный год 1 модуль",null,0,0,1,1,1025647437,4347,null,null,"Журналистика",{"$f":"MATCH(D18,Отчет!$C:$C,0)","v":42}]
[1025727736,10,"БЖУР121",475505755,"Логинова","Елена","Михайловна","120219049","Вторая производственная практика",0,"Экзамен","2015/2016 учебный год 1 модуль",null,0,0,1,1,1025647437,4347,null,null,"Журналистика",{"$f":"MATCH(D19,Отчет!$C:$C,0)","v":86}]
[1025732691,10,"БЖУР121",475506053,"Малюк","Татьяна","Дмитриевна","120219052","Вторая производственная практика",0,"Экзамен","2015/2016 учебный год 1 модуль",null,0,0,1,1,1025647437,4347,null,null,"Журналистика",{"$f":"MATCH(D20,Отчет!$C:$C,0)","v":28}]
[1192670431,10,"БЖУР121",475506339,"Негря","Валерия","Олеговна","120219194","Вторая производственная практика",0,"Экзамен","2015/2016 учебный год 1 модуль",null,0,0,1,1,1025647437,4347,null,null,"Журналистика",{"$f":"MATCH(D21,Отчет!$C:$C,0)","v":46}]
[1025724719,10,"БЖУР121",475506618,"Сулеева","Амина","Эдировна","120219193","Вторая производственная практика",0,"Экзамен","2015/2016 учебный год 1 модуль",null,0,0,1,1,1025647437,4347,null,null,"Журналистика",{"$f":"MATCH(D22,Отчет!$C:$C,0)","v":62}]
[1025733971,10,"БЖУР121",475506879,"Токмаш","Юрие","-","120219194","Вторая производственная практика",0,"Экзамен","2015/2016 учебный год 1 модуль",null,0,0,1,1,1025647437,4347,null,null,"Журналистика",{"$f":"MATCH(D23,Отчет!$C:$C,0)","v":63}]
[1025725441,10,"БЖУР121",475507222,"Уродов","Андрей","Николаевич","120219088","Вторая производственная практика",0,"Экзамен","2015/2016 учебный год 1 модуль",null,0,0,1,1,1025647437,4347,null,null,"Журналистика",{"$f":"MATCH(D24,Отчет!$C:$C,0)","v":64}]
[1025730103,10,"БЖУР121",475507521,"Эльзенбах","Мария","Андреевна","120219103","Вторая производственная практика",0,"Экзамен","2015/2016 учебный год 1 модуль",null,0,0,1,1,1025647437,4347,null,null,"Журналистика",{"$f":"MATCH(D25,Отчет!$C:$C,0)","v":65}]
[1025733882,10,"БЖУР122",475508143,"Белякова","Яна","Романовна","120219006","Вторая производственная практика",0,"Экзамен","2015/2016 учебный год 1 модуль",null,0,0,1,1,1025647437,4347,null,null,"Журналистика",{"$f":"MATCH(D26,Отчет!$C:$C,0)","v":96}]
[1025729238,10,"БЖУР122",475508457,"Долинина","Ирина","Николаевна","120219026","Вторая производственная практика",0,"Экзамен","2015/2016 учебный год 1 модуль",null,0,0,1,1,1025647437,4347,null,null,"Журналистика",{"$f":"MATCH(D27,Отчет!$C:$C,0)","v":19}]
[1025731184,10,"БЖУР122",475508769,"Погосян","Марина","Ваграмовна","120219062","Вторая производственная практика",0,"Экзамен","2015/2016 учебный год 1 модуль",null,0,0,1,1,1025647437,4347,null,null,"Журналистика",{"$f":"MATCH(D28,Отчет!$C:$C,0)","v":59}]
[1025733773,10,"БЖУР122",475509036,"Спиранде","Валерия","Юрьевна","120219082","Вторая производственная практика",0,"Экзамен","2015/2016 учебный год 1 модуль",null,0,0,1,1,1025647437,4347,null,null,"Журналистика",{"$f":"MATCH(D29,Отчет!$C:$C,0)","v":58}]
[1025724651,10,"БЖУР122",475509307,"Тавлуева","Алина","Дмитриевна","130219200","Вторая производственная практика",0,"Экзамен","2015/2016 учебный год 1 модуль",null,0,0,1,1,1025647437,4347,null,null,"Журналистика",{"$f":"MATCH(D30,Отчет!$C:$C,0)","v":108}]
[1025733287,9,"БЖУР123",475510314,"Гречаная","Тамара","Владимировна","120219019","Вторая производственная практика",0,"Экзамен","2015/2016 учебный год 1 модуль",null,0,0,1,1,1025647437,4347,null,null,"Журналистика",{"$f":"MATCH(D31,Отчет!$C:$C,0)","v":40}]
[1025726700,10,"БЖУР123",475510622,"Касянчук","Денис","Евгеньевич","120219041","Вторая производственная практика",0,"Экзамен","2015/2016 учебный год 1 модуль",null,0,0,1,1,1025647437,4347,null,null,"Журналистика",{"$f":"MATCH(D32,Отчет!$C:$C,0)","v":99}]
[1025730823,9,"БЖУР123",475510931,"Куреша","Мария","Олеговна","120219047","Вторая производственная практика",0,"Экзамен","2015/2016 учебный год 1 модуль",null,0,0,1,1,1025647437,4347,null,null,"Журналистика",{"$f":"MATCH(D33,Отчет!$C:$C,0)","v":94}]
[1025729360,10,"БЖУР123",475511255,"Сидоркова","Инна","Сергеевна","121219075","Вторая производственная практика",0,"Экзамен","2015/2016 учебный год 1 модуль",null,0,0,1,1,1025647437,4347,null,null,"Журналистика",{"$f":"MATCH(D34,Отчет!$C:$C,0)","v":37}]
[1025727230,7,"БЖУР123",475511562,"Степаненкова","Екатерина","Дмитриевна","120219083","Вторая производственная практика",0,"Экзамен","2015/2016 учебный год 1 модуль",null,0,0,1,1,1025647437,4347,null,null,"Журналистика",{"$f":"MATCH(D35,Отчет!$C:$C,0)","v":95}]
[1025731604,9,"БЖУР123",475511861,"Устинова","Надежда","Владимировна","120219089","Вторая производственная практика",0,"Экзамен","2015/2016 учебный год 1 модуль",null,0,0,1,1,1025647437,4347,null,null,"Журналистика",{"$f":"MATCH(D36,Отчет!$C:$C,0)","v":97}]
[1025732293,10,"БЖУР123",475512367,"Феоктистова","Софья","Эдуардовна","120219091","Вторая производственная практика",0,"Экзамен","2015/2016 учебный год 1 модуль",null,0,0,1,1,1025647437,4347,null,null,"Журналистика",{"$f":"MATCH(D37,Отчет!$C:$C,0)","v":68}]
[1025733558,null,"БЖУР123",475512687,"Шведов","Владимир","Сергеевич","120219099","Вторая производственная практика",0,"Экзамен","2015/2016 учебный год 1 модуль",0,0,0,null,1,1025647437,4347,null,null,"Журналистика",{"$f":"MATCH(D38,Отчет!$C:$C,0)","v":84}]
[1025725283,null,"БЖУР124",475513250,"Боровиков","Антон","Николаевич","120219008","Вторая производственная практика",0,"Экзамен","2015/2016 учебный год 1 модуль",0,0,0,null,1,1025647437,4347,null,null,"Журналистика",{"$f":"MATCH(D39,Отчет!$C:$C,0)","v":66}]
[1146623184,8,"БЖУР124",475513758,"Курганская","Анастасия","Сергеевна","120219046","Вторая производственная практика",0,"Экзамен","2015/2016 учебный год 1 модуль",null,0,0,1,1,1025647437,4347,null,null,"Журналистика",{"$f":"MATCH(D40,Отчет!$C:$C,0)","v":118}]
[1025727499,7,"БЖУР124",475514009,"Лобзова","Евгения","Константиновна","120219048","Вторая производственная практика",0,"Экзамен","2015/2016 учебный год 1 модуль",null,0,0,1,1,1025647437,4347,null,null,"Журналистика",{"$f":"MATCH(D41,Отчет!$C:$C,0)","v":18}]
[1025724051,10,"БЖУР124",475514276,"Мароховская","Алеся","Алексеевна","121219053","Вторая производственная практика",0,"Экзамен","2015/2016 учебный год 1 модуль",null,0,0,1,1,1025647437,4347,null,null,"Журналистика",{"$f":"MATCH(D42,Отчет!$C:$C,0)","v":20}]
[1025724143,8,"БЖУР124",475514550,"Приданова","Анна","Алексеевна","120219064","Вторая производственная практика",0,"Экзамен","2015/2016 учебный год 1 модуль",null,0,0,1,1,1025647437,4347,null,null,"Журналистика",{"$f":"MATCH(D43,Отчет!$C:$C,0)","v":80}]
[1025726833,10,"БЖУР124",475514804,"Слюсаренко","Дарья","Сергеевна","120219078","Вторая производственная практика",0,"Экзамен","2015/2016 учебный год 1 модуль",null,0,0,1,1,1025647437,4347,null,null,"Журналистика",{"$f":"MATCH(D44,Отчет!$C:$C,0)","v":33}]
[1025731418,9,"БЖУР124",475515075,"Соколов","Никита","Алексеевич","120219080","Вторая производственная практика",0,"Экзамен","2015/2016 учебный год 1 модуль",null,0,0,1,1,1025647437,4347,null,null,"Журналистика",{"$f":"MATCH(D45,Отчет!$C:$C,0)","v":38}]
[1025728281,10,"БЖУР124",475515356,"Тарасова","Екатерина","Сергеевна","120219085","Вторая производственная практика",0,"Экзамен","2015/2016 учебный год 1 модуль",null,0,0,1,1,1025647437,4347,null,null,"Журналистика",{"$f":"MATCH(D46,Отчет!$C:$C,0)","v":23}]
[1025727003,8,"БЖУР124",475515621,"Фирсова","Екатерина","Андреевна","121219092","Вторая производственная практика",0,"Экзамен","2015/2016 учебный год 1 модуль",null,0,0,1,1,1025647437,4347,null,null,"Журналистика",{"$f":"MATCH(D47,Отчет!$C:$C,0)","v":111}]
[1025726264,8,"БЖУР124",475515912,"Чунова","Александра","Владимировна","120219097","Вторая производственная практика",0,"Экзамен","2015/2016 учебный год 1 модуль",null,0,0,1,1,1025647437,4347,null,null,"Журналистика",{"$f":"MATCH(D48,Отчет!$C:$C,0)","v":27}]
[1025732213,8,"БЖУР123",507021579,"Емельянова","Софья","Андреевна","120219029","Вторая производственная практика",0,"Экзамен","2015/2016 учебный год 1 модуль",null,0,0,1,1,1025647437,4347,null,null,"Журналистика",{"$f":"MATCH(D49,Отчет!$C:$C,0)","v":45}]
[1025727337,null,"БЖУР122",719859018,"Калюжная","Екатерина","Константиновна","1004119","Вторая производственная практика",0,"Экзамен","2015/2016 учебный год 1 модуль",0,0,0,null,0,1025647437,4347,null,null,"Журналистика",{"$f":"MATCH(D50,Отчет!$C:$C,0)","v":43}]
[1025726640,9,"БЖУР124",475516186,"Шепелёв","Дмитрий","Алексеевич","120219100","Вторая производственная практика",0,"Экзамен","2015/2016 учебный год 1 модуль",null,0,0,1,1,1025647437,4347,null,null,"Журналистика",{"$f":"MATCH(D51,Отчет!$C:$C,0)","v":26}]
[1025731335,9,"БЖУР121",481507421,"Балюк","Мария","Юрьевна","121219005","Вторая производственная практика",0,"Экзамен","2015/2016 учебный год 1 модуль",null,0,0,1,0,1025647437,4347,null,null,"Журналистика",{"$f":"MATCH(D52,Отчет!$C:$C,0)","v":101}]
[1025733138,9,"БЖУР121",481507744,"Дербикова","Татьяна","Олеговна","121219022","Вторая производственная практика",0,"Экзамен","2015/2016 учебный год 1 модуль",null,0,0,1,0,1025647437,4347,null,null,"Журналистика",{"$f":"MATCH(D53,Отчет!$C:$C,0)","v":72}]
[1025733036,7,"БЖУР121",481508084,"Евган","Тимофей","Никитич","121219028","Вторая производственная практика",0,"Экзамен","2015/2016 учебный год 1 модуль",null,0,0,1,0,1025647437,4347,null,null,"Журналистика",{"$f":"MATCH(D54,Отчет!$C:$C,0)","v":78}]
[1025730041,8,"БЖУР121",481508406,"Коновалова","Лидия","Александровна","121219044","Вторая производственная практика",0,"Экзамен","2015/2016 учебный год 1 модуль",null,0,0,1,0,1025647437,4347,null,null,"Журналистика",{"$f":"MATCH(D55,Отчет!$C:$C,0)","v":82}]
[1025731032,9,"БЖУР121",481508707,"Пиянзина","Мария","Сергеевна","121219061","Вторая производственная практика",0,"Экзамен","2015/2016 учебный год 1 модуль",null,0,0,1,0,1025647437,4347,null,null,"Журналистика",{"$f":"MATCH(D56,Отчет!$C:$C,0)","v":17}]
[1025731903,10,"БЖУР121",481509017,"Савин","Павел","Дмитриевич","121219071","Вторая производственная практика",0,"Экзамен","2015/2016 учебный год 1 модуль",null,0,0,1,0,1025647437,4347,null,null,"Журналистика",{"$f":"MATCH(D57,Отчет!$C:$C,0)","v":29}]
[1025724405,10,"БЖУР121",481509290,"Сидненко","Алеся","Александровна","121219074","Вторая производственная практика",0,"Экзамен","2015/2016 учебный год 1 модуль",null,0,0,1,0,1025647437,4347,null,null,"Журналистика",{"$f":"MATCH(D58,Отчет!$C:$C,0)","v":30}]
[1025725640,10,"БЖУР121",481509618,"Соболевская","Анастасия","Павловна","121219079","Вторая производственная практика",0,"Экзамен","2015/2016 учебный год 1 модуль",null,0,0,1,0,1025647437,4347,null,null,"Журналистика",{"$f":"MATCH(D59,Отчет!$C:$C,0)","v":39}]
[1025730374,null,"БЖУР121",481509921,"Талызина","Мария","Александровна","121219084","Вторая производственная практика",0,"Экзамен","2015/2016 учебный год 1 модуль",0,0,0,null,0,1025647437,4347,null,null,"Журналистика",{"$f":"MATCH(D60,Отчет!$C:$C,0)","v":67}]
[1025728636,10,"БЖУР121",481510230,"Устюгова","Екатерина","Вадимовна","121219090","Вторая производственная практика",0,"Экзамен","2015/2016 учебный год 1 модуль",null,0,0,1,0,1025647437,4347,null,null,"Журналистика",{"$f":"MATCH(D61,Отчет!$C:$C,0)","v":34}]
[1025723844,8,"БЖУР121",481510571,"Черкашина","Анастасия","Алексеевна","121219095","Вторая производственная практика",0,"Экзамен","2015/2016 учебный год 1 модуль",null,0,0,1,0,1025647437,4347,null,null,"Журналистика",{"$f":"MATCH(D62,Отчет!$C:$C,0)","v":57}]
[1025734044,9,"БЖУР121",481510870,"Шайдуллина","Юлия","Ильдаровна","121219098","Вторая производственная практика",0,"Экзамен","2015/2016 учебный год 1 модуль",null,0,0,1,0,1025647437,4347,null,null,"Журналистика",{"$f":"MATCH(D63,Отчет!$C:$C,0)","v":44}]
[1025731256,10,"БЖУР121",481511198,"Шилохвостов","Максим","Витальевич","121219102","Вторая производственная практика",0,"Экзамен","2015/2016 учебный год 1 модуль",null,0,0,1,0,1025647437,4347,null,null,"Журналистика",{"$f":"MATCH(D64,Отчет!$C:$C,0)","v":75}]
[1025727151,8,"БЖУР122",481511889,"Венедиктова","Екатерина","Александровна","121219010","Вторая производственная практика",0,"Экзамен","2015/2016 учебный год 1 модуль",null,0,0,1,0,1025647437,4347,null,null,"Журналистика",{"$f":"MATCH(D65,Отчет!$C:$C,0)","v":71}]
[1025724535,10,"БЖУР122",481512248,"Воронкова","Алена","Борисовна","121219013","Вторая производственная практика",0,"Экзамен","2015/2016 учебный год 1 модуль",null,0,0,1,0,1025647437,4347,null,null,"Журналистика",{"$f":"MATCH(D66,Отчет!$C:$C,0)","v":14}]
[1025724871,10,"БЖУР122",481512582,"Галлай","Анна","Игоревна","121219014","Вторая производственная практика",0,"Экзамен","2015/2016 учебный год 1 модуль",null,0,0,1,0,1025647437,4347,null,null,"Журналистика",{"$f":"MATCH(D67,Отчет!$C:$C,0)","v":100}]
[1025727627,10,"БЖУР122",481512855,"Головач","Евгения","Максимовна","121219017","Вторая производственная практика",0,"Экзамен","2015/2016 учебный год 1 модуль",null,0,0,1,0,1025647437,4347,null,null,"Журналистика",{"$f":"MATCH(D68,Отчет!$C:$C,0)","v":15}]
[1025724205,10,"БЖУР123",481525662,"Радина","Алена","Альбертовна","121219065","Вторая производственная практика",0,"Экзамен","2015/2016 учебный год 1 модуль",null,0,0,1,0,1025647437,4347,null,null,"Журналистика",{"$f":"MATCH(D69,Отчет!$C:$C,0)","v":21}]
[1025731102,7,"БЖУР123",481526030,"Романова","Марина","Сергеевна","121219067","Вторая производственная практика",0,"Экзамен","2015/2016 учебный год 1 модуль",null,0,0,1,0,1025647437,4347,null,null,"Журналистика",{"$f":"MATCH(D70,Отчет!$C:$C,0)","v":61}]
[1025726123,9,"БЖУР123",481526367,"Соколова","Анастасия","Сергеевна","121219081","Вторая производственная практика",0,"Экзамен","2015/2016 учебный год 1 модуль",null,0,0,1,0,1025647437,4347,null,null,"Журналистика",{"$f":"MATCH(D71,Отчет!$C:$C,0)","v":102}]
[1025728396,9,"БЖУР124",481527213,"Голенкова","Екатерина","Викторовна","121219016","Вторая производственная практика",0,"Экзамен","2015/2016 учебный год 1 модуль",null,0,0,1,0,1025647437,4347,null,null,"Журналистика",{"$f":"MATCH(D72,Отчет!$C:$C,0)","v":35}]
[1025731999,9,"БЖУР124",481527610,"Гречко","Полина","Сергеевна","121219020","Вторая производственная практика",0,"Экзамен","2015/2016 учебный год 1 модуль",null,0,0,1,0,1025647437,4347,null,null,"Журналистика",{"$f":"MATCH(D73,Отчет!$C:$C,0)","v":49}]
[1025724472,10,"БЖУР124",481527967,"Затари","Амалия","Абдулловна","121219032","Вторая производственная практика",0,"Экзамен","2015/2016 учебный год 1 модуль",null,0,0,1,0,1025647437,4347,null,null,"Журналистика",{"$f":"MATCH(D74,Отчет!$C:$C,0)","v":103}]
[1025730439,10,"БЖУР124",481528286,"Ивлиева","Маргарита","Дмитриевна","121219036","Вторая производственная практика",0,"Экзамен","2015/2016 учебный год 1 модуль",null,0,0,1,1,1025647437,4347,null,null,"Журналистика",{"$f":"MATCH(D75,Отчет!$C:$C,0)","v":12}]
[1025729129,null,"БЖУР122",481513180,"Ермолаева","Ирина","Дмитриевна","121219030","Вторая производственная практика",0,"Экзамен","2015/2016 учебный год 1 модуль",0,0,0,null,0,1025647437,4347,null,null,"Журналистика",{"$f":"MATCH(D76,Отчет!$C:$C,0)","v":90}]
[1025727958,10,"БЖУР122",481513639,"Ибрагимова","Элина","Рустемовна","121219034","Вторая производственная практика",0,"Экзамен","2015/2016 учебный год 1 модуль",null,0,0,1,0,1025647437,4347,null,null,"Журналистика",{"$f":"MATCH(D77,Отчет!$C:$C,0)","v":32}]
[1025725201,8,"БЖУР122",481514116,"Илюхина","Анастасия","Михайловна","121219038","Вторая производственная практика",0,"Экзамен","2015/2016 учебный год 1 модуль",null,0,0,1,0,1025647437,4347,null,null,"Журналистика",{"$f":"MATCH(D78,Отчет!$C:$C,0)","v":50}]
[1025732804,9,"БЖУР122",481514509,"Кленова","Татьяна","Игоревна","130219202","Вторая производственная практика",0,"Экзамен","2015/2016 учебный год 1 модуль",null,0,0,1,0,1025647437,4347,null,null,"Журналистика",{"$f":"MATCH(D79,Отчет!$C:$C,0)","v":114}]
[1025730570,9,"БЖУР121",475569292,"Грачев","Максим","Игоревич","120219018","Вторая производственная практика",0,"Экзамен","2015/2016 учебный год 1 модуль",null,0,0,1,1,1025647437,4347,null,null,"Журналистика",{"$f":"MATCH(D80,Отчет!$C:$C,0)","v":54}]
[1025726375,6,"БЖУР124",475577144,"Дёмочкина","Анна","Викторовна","1311219113","Вторая производственная практика",0,"Экзамен","2015/2016 учебный год 1 модуль",null,0,0,1,0,1025647437,4347,null,null,"Журналистика",{"$f":"MATCH(D81,Отчет!$C:$C,0)","v":74}]
[1025727082,null,"БЖУР124",475577399,"Крашенинникова","Елизавета","Андреевна","1114165","Вторая производственная практика",0,"Экзамен","2015/2016 учебный год 1 модуль",0,0,0,null,0,1025647437,4347,null,null,"Журналистика",{"$f":"MATCH(D82,Отчет!$C:$C,0)","v":60}]
[1025726583,8,"БЖУР124",475577694,"Сагеева","Дария","Альбиртовна","1114179","Вторая производственная практика",0,"Экзамен","2015/2016 учебный год 1 модуль",null,0,0,1,0,1025647437,4347,"ikPlanned",null,"Журналистика",{"$f":"MATCH(D83,Отчет!$C:$C,0)","v":122}]
[1025725964,5,"БЖУР124",481528648,"Полякова","Анна","Сергеевна","120219063","Вторая производственная практика",0,"Экзамен","2015/2016 учебный год 1 модуль",null,0,0,1,0,1025647437,4347,null,null,"Журналистика",{"$f":"MATCH(D84,Отчет!$C:$C,0)","v":53}]
[1025730286,9,"БЖУР124",481529012,"Румянцева","Мария","Андреевна","234-34/121-084","Вторая производственная практика",0,"Экзамен","2015/2016 учебный год 1 модуль",null,0,0,1,0,1025647437,4347,null,null,"Журналистика",{"$f":"MATCH(D85,Отчет!$C:$C,0)","v":25}]
[1025731489,10,"БЖУР124",481529293,"Рябцева","Наталия ","Викторовна","1311219114","Вторая производственная практика",0,"Экзамен","2015/2016 учебный год 1 модуль",null,0,0,1,0,1025647437,4347,null,null,"Журналистика",{"$f":"MATCH(D86,Отчет!$C:$C,0)","v":22}]
[1025732938,7,"БЖУР124",481529559,"Юртов","Тимофей","Матвеевич","121219104","Вторая производственная практика",0,"Экзамен","2015/2016 учебный год 1 модуль",null,0,0,1,0,1025647437,4347,null,null,"Журналистика",{"$f":"MATCH(D87,Отчет!$C:$C,0)","v":36}]
[1025727842,10,"БЖУР122",481515713,"Миннуллина","Екатерина","Маратовна","121219057","Вторая производственная практика",0,"Экзамен","2015/2016 учебный год 1 модуль",null,0,0,1,0,1025647437,4347,null,null,"Журналистика",{"$f":"MATCH(D88,Отчет!$C:$C,0)","v":13}]
[1025728903,null,"БЖУР122",481516134,"Орлова","Ирина","Андреевна","121219058","Вторая производственная практика",0,"Экзамен","2015/2016 учебный год 1 модуль",0,0,0,null,0,1025647437,4347,null,null,"Журналистика",{"$f":"MATCH(D89,Отчет!$C:$C,0)","v":73}]
[1025728528,10,"БЖУР122",481516474,"Ракицкая","Екатерина","Владиславовна","1211232051","Вторая производственная практика",0,"Экзамен","2015/2016 учебный год 1 модуль",null,0,0,1,0,1025647437,4347,null,null,"Журналистика",{"$f":"MATCH(D90,Отчет!$C:$C,0)","v":79}]
[1025728168,8,"БЖУР122",481516842,"Рязанцева","Елена","Сергеевна","121219069","Вторая производственная практика",0,"Экзамен","2015/2016 учебный год 1 модуль",null,0,0,1,0,1025647437,4347,null,null,"Журналистика",{"$f":"MATCH(D91,Отчет!$C:$C,0)","v":51}]
[1025724270,null,"БЖУР122",481517205,"Савельева","Алёна","Алексеевна","121219070","Вторая производственная практика",0,"Экзамен","2015/2016 учебный год 1 модуль",0,0,0,null,0,1025647437,4347,null,null,"Журналистика",{"$f":"MATCH(D92,Отчет!$C:$C,0)","v":83}]
[1025726465,8,"БЖУР122",481517536,"Симонаева","Анна","Валерьевна","1211232057","Вторая производственная практика",0,"Экзамен","2015/2016 учебный год 1 модуль",null,0,0,1,0,1025647437,4347,null,null,"Журналистика",{"$f":"MATCH(D93,Отчет!$C:$C,0)","v":55}]
[1025734117,10,"БЖУР122",481517936,"Скрябова","Юлия","Валерьевна","121219077","Вторая производственная практика",0,"Экзамен","2015/2016 учебный год 1 модуль",null,0,0,1,0,1025647437,4347,null,null,"Журналистика",{"$f":"MATCH(D94,Отчет!$C:$C,0)","v":115}]
[1025729846,null,"БЖУР122",481518238,"Тетерина","Кристина","Романовна","121219086","Вторая производственная практика",0,"Экзамен","2015/2016 учебный год 1 модуль",0,0,0,null,0,1025647437,4347,null,null,"Журналистика",{"$f":"MATCH(D95,Отчет!$C:$C,0)","v":112}]
[1025733369,9,"БЖУР122",481518601,"Тяпкин","Вячеслав","Алексеевич","130219201","Вторая производственная практика",0,"Экзамен","2015/2016 учебный год 1 модуль",null,0,0,1,0,1025647437,4347,null,null,"Журналистика",{"$f":"MATCH(D96,Отчет!$C:$C,0)","v":89}]
[1025730512,10,"БЖУР122",481518905,"Шевцова","Марьяна","Искандеровна","121219021","Вторая производственная практика",0,"Экзамен","2015/2016 учебный год 1 модуль",null,0,0,1,0,1025647437,4347,null,null,"Журналистика",{"$f":"MATCH(D97,Отчет!$C:$C,0)","v":93}]
[1025726063,8,"БЖУР122",481519225,"Шилко","Александра","Сергеевна","121219101","Вторая производственная практика",0,"Экзамен","2015/2016 учебный год 1 модуль",null,0,0,1,0,1025647437,4347,null,null,"Журналистика",{"$f":"MATCH(D98,Отчет!$C:$C,0)","v":87}]
[1025730633,10,"БЖУР123",481521205,"Борзунова","Мария","Михайловна","121219007","Вторая производственная практика",0,"Экзамен","2015/2016 учебный год 1 модуль",null,0,0,1,0,1025647437,4347,null,null,"Журналистика",{"$f":"MATCH(D99,Отчет!$C:$C,0)","v":117}]
[1025725727,10,"БЖУР123",481521551,"Галяткин","Андрей","Сергеевич","121219015","Вторая производственная практика",0,"Экзамен","2015/2016 учебный год 1 модуль",null,0,0,1,0,1025647437,4347,null,null,"Журналистика",{"$f":"MATCH(D100,Отчет!$C:$C,0)","v":98}]
[1025730198,10,"БЖУР123",481521937,"Горбачева","Мария","Александровна","1104105","Вторая производственная практика",0,"Экзамен","2015/2016 учебный год 1 модуль",null,0,0,1,0,1025647437,4347,null,null,"Журналистика",{"$f":"MATCH(D101,Отчет!$C:$C,0)","v":104}]
[1025731707,9,"БЖУР123",481522314,"Джиоева","Ольга","Валерьевна","121219023","Вторая производственная практика",0,"Экзамен","2015/2016 учебный год 1 модуль",null,0,0,1,0,1025647437,4347,null,null,"Журналистика",{"$f":"MATCH(D102,Отчет!$C:$C,0)","v":69}]
[1025729482,10,"БЖУР123",481522740,"Дудник","Ксения","Андреевна","121219027","Вторая производственная практика",0,"Экзамен","2015/2016 учебный год 1 модуль",null,0,0,1,0,1025647437,4347,null,null,"Журналистика",{"$f":"MATCH(D103,Отчет!$C:$C,0)","v":85}]
[1025726526,9,"БЖУР123",481523081,"Дупелич","Александра","Юрьевна","1311219117","Вторая производственная практика",0,"Экзамен","2015/2016 учебный год 1 модуль",null,0,0,1,0,1025647437,4347,null,null,"Журналистика",{"$f":"MATCH(D104,Отчет!$C:$C,0)","v":105}]
[1025730704,8,"БЖУР123",481523393,"Иващенко","Матвей","Михайлович","121219035","Вторая производственная практика",0,"Экзамен","2015/2016 учебный год 1 модуль",null,0,0,1,0,1025647437,4347,null,null,"Журналистика",{"$f":"MATCH(D105,Отчет!$C:$C,0)","v":77}]
[1025733638,9,"БЖУР123",481523734,"Исаченко","Вероника","Викторовна","121219188","Вторая производственная практика",0,"Экзамен","2015/2016 учебный год 1 модуль",null,0,0,1,0,1025647437,4347,null,null,"Журналистика",{"$f":"MATCH(D106,Отчет!$C:$C,0)","v":106}]
[1025729679,7,"БЖУР123",481524106,"Истомина","Карина","Игоревна","121219039","Вторая производственная практика",0,"Экзамен","2015/2016 учебный год 1 модуль",null,0,0,1,0,1025647437,4347,null,null,"Журналистика",{"$f":"MATCH(D107,Отчет!$C:$C,0)","v":107}]
[1025723990,8,"БЖУР123",481524442,"Коноплева","Анастасия ","Андреевна","1311219115","Вторая производственная практика",0,"Экзамен","2015/2016 учебный год 1 модуль",null,0,0,1,0,1025647437,4347,null,null,"Журналистика",{"$f":"MATCH(D108,Отчет!$C:$C,0)","v":92}]
[1025724795,10,"БЖУР123",481524709,"Лукьянова","Александра","Георгиевна","121219051","Вторая производственная практика",0,"Экзамен","2015/2016 учебный год 1 модуль",null,0,0,1,0,1025647437,4347,null,null,"Журналистика",{"$f":"MATCH(D109,Отчет!$C:$C,0)","v":48}]
[1025725018,10,"БЖУР122",481514993,"Козкина","Анна","Леонидовна","121219042","Вторая производственная практика",0,"Экзамен","2015/2016 учебный год 1 модуль",null,0,0,1,0,1025647437,4347,null,null,"Журналистика",{"$f":"MATCH(D110,Отчет!$C:$C,0)","v":16}]
[1192670787,8,"БЖУР122",481515353,"Ломакин","Борис","Евгеньевич","121219050","Вторая производственная практика",0,"Экзамен","2015/2016 учебный год 1 модуль",null,0,0,1,0,1025647437,4347,null,null,"Журналистика",{"$f":"MATCH(D111,Отчет!$C:$C,0)","v":110}]
[1025730923,6,"БЖУР121",475571288,"Демчук","Матвей","Романович","1004112","Вторая производственная практика",0,"Экзамен","2015/2016 учебный год 1 модуль",null,0,0,1,1,1025647437,4347,null,null,"Журналистика",{"$f":"MATCH(D112,Отчет!$C:$C,0)","v":91}]
[1025729949,9,"БЖУР121",475571742,"Марсакова","Кристина","Юрьевна","120219054","Вторая производственная практика",0,"Экзамен","2015/2016 учебный год 1 модуль",null,0,0,1,1,1025647437,4347,null,null,"Журналистика",{"$f":"MATCH(D113,Отчет!$C:$C,0)","v":81}]
[1315146766,7,"БЖУР123",481524442,"Коноплева","Анастасия ","Андреевна","1311219115","Информационные технологии подготовки печатных и электронных СМИ",3,"Экзамен","2015/2016 учебный год 1 модуль",null,21,3,1,0,1014950343,2098,null,"stCommon","Журналистика",{"$f":"MATCH(D114,Отчет!$C:$C,0)","v":92}]
[1164732911,0,"БЖУР123",475575387,"Закружный","Семен","Викторович","121219031","Исследование медиа-процессов",1.05,"Экзамен","2015/2016 учебный год 2 модуль",null,0,1.05,0,0,1025645129,2098,"ikRepeat","stCommon","Журналистика",{"$f":"MATCH(D115,Отчет!$C:$C,0)","v":116}]
[1025724908,9,"БЖУР121",475572360,"Умецкая","Анастасия","Ильинична","121219087","История и теория литературы",6,"Экзамен","2015/2016 учебный год 2 модуль",null,54,6,1,0,1025647437,2098,null,"stCommon","Журналистика",{"$f":"MATCH(D116,Отчет!$C:$C,0)","v":56}]
[1025733411,10,"БЖУР121",475573015,"Черных","Виктория","Николаевна","120219096","История и теория литературы",6,"Экзамен","2015/2016 учебный год 2 модуль",null,60,6,1,1,1025647437,2098,null,"stCommon","Журналистика",{"$f":"MATCH(D117,Отчет!$C:$C,0)","v":24}]
[1025724308,8,"БЖУР122",475573890,"Семихина","Анна","Андреевна","1211232056","История и теория литературы",6,"Экзамен","2015/2016 учебный год 2 модуль",null,48,6,1,0,1025647437,2098,null,"stCommon","Журналистика",{"$f":"MATCH(D118,Отчет!$C:$C,0)","v":52}]
[1025728959,6,"БЖУР122",475574160,"Толоконников","Иван","Александрович","1114193","История и теория литературы",6,"Экзамен","2015/2016 учебный год 2 модуль",null,36,6,1,0,1025647437,2098,"ikPlanned","stCommon","Журналистика",{"$f":"MATCH(D119,Отчет!$C:$C,0)","v":109}]
[1025728703,5,"БЖУР122",475574645,"Цыбулина","Елизавета","Юрьевна","121219093","История и теория литературы",6,"Экзамен","2015/2016 учебный год 2 модуль",null,30,6,1,0,1025647437,2098,null,"stCommon","Журналистика",{"$f":"MATCH(D120,Отчет!$C:$C,0)","v":121}]
[1025733170,8,"БЖУР123",475575058,"Алишова","Таиса","Шаиг кызы","120219003","История и теория литературы",6,"Экзамен","2015/2016 учебный год 2 модуль",null,48,6,1,1,1025647437,2098,null,"stCommon","Журналистика",{"$f":"MATCH(D121,Отчет!$C:$C,0)","v":88}]
[1025732434,5,"БЖУР123",475575387,"Закружный","Семен","Викторович","121219031","История и теория литературы",6,"Экзамен","2015/2016 учебный год 2 модуль",null,30,6,1,0,1025647437,2098,"ikPlanned","stCommon","Журналистика",{"$f":"MATCH(D122,Отчет!$C:$C,0)","v":116}]
[1025726740,9,"БЖУР123",475575725,"Грачева","Дарья","Сергеевна","1311219116","История и теория литературы",6,"Экзамен","2015/2016 учебный год 2 модуль",null,54,6,1,0,1025647437,2098,null,"stCommon","Журналистика",{"$f":"MATCH(D123,Отчет!$C:$C,0)","v":31}]
[1025725058,6,"БЖУР124",475576790,"Анисимов","Артемий","Михайлович","121219004","История и теория литературы",6,"Экзамен","2015/2016 учебный год 2 модуль",null,36,6,1,0,1025647437,2098,null,"stCommon","Журналистика",{"$f":"MATCH(D124,Отчет!$C:$C,0)","v":70}]
[1025723710,8,"БЖУР121",475503952,"Адаричева","Анна","Андреевна","120219002","История и теория литературы",6,"Экзамен","2015/2016 учебный год 2 модуль",null,48,6,1,1,1025647437,2098,null,"stCommon","Журналистика",{"$f":"MATCH(D125,Отчет!$C:$C,0)","v":120}]
[1025726875,8,"БЖУР121",475504262,"Долина","Евгения","Александровна","120219025","История и теория литературы",6,"Экзамен","2015/2016 учебный год 2 модуль",null,48,6,1,1,1025647437,2098,null,"stCommon","Журналистика",{"$f":"MATCH(D126,Отчет!$C:$C,0)","v":47}]
[1192670295,8,"БЖУР121",475504558,"Игнатьева","Маргарита","Маратовна","120219037","История и теория литературы",6,"Экзамен","2015/2016 учебный год 2 модуль",null,48,6,1,1,1025647437,2098,null,"stCommon","Журналистика",{"$f":"MATCH(D127,Отчет!$C:$C,0)","v":76}]
[1025723882,10,"БЖУР121",475504841,"Карчебанова","Алена","Алексеевна","120219040","История и теория литературы",6,"Экзамен","2015/2016 учебный год 2 модуль",null,60,6,1,1,1025647437,2098,null,"stCommon","Журналистика",{"$f":"MATCH(D128,Отчет!$C:$C,0)","v":113}]
[1025725796,9,"БЖУР121",475505148,"Колесникова","Анастасия","Сергеевна","120219043","История и теория литературы",6,"Экзамен","2015/2016 учебный год 2 модуль",null,54,6,1,1,1025647437,2098,null,"stCommon","Журналистика",{"$f":"MATCH(D129,Отчет!$C:$C,0)","v":41}]
[1025731753,9,"БЖУР121",475505469,"Кузьмина","Ольга","Валерьевна","120219045","История и теория литературы",6,"Экзамен","2015/2016 учебный год 2 модуль",null,54,6,1,1,1025647437,2098,null,"stCommon","Журналистика",{"$f":"MATCH(D130,Отчет!$C:$C,0)","v":42}]
[1025727690,7,"БЖУР121",475505755,"Логинова","Елена","Михайловна","120219049","История и теория литературы",6,"Экзамен","2015/2016 учебный год 2 модуль",null,42,6,1,1,1025647437,2098,null,"stCommon","Журналистика",{"$f":"MATCH(D131,Отчет!$C:$C,0)","v":86}]
[1025732594,8,"БЖУР121",475506053,"Малюк","Татьяна","Дмитриевна","120219052","История и теория литературы",6,"Экзамен","2015/2016 учебный год 2 модуль",null,48,6,1,1,1025647437,2098,null,"stCommon","Журналистика",{"$f":"MATCH(D132,Отчет!$C:$C,0)","v":28}]
[1192670407,10,"БЖУР121",475506339,"Негря","Валерия","Олеговна","120219194","История и теория литературы",6,"Экзамен","2015/2016 учебный год 2 модуль",null,60,6,1,1,1025647437,2098,null,"stCommon","Журналистика",{"$f":"MATCH(D133,Отчет!$C:$C,0)","v":46}]
[1025724691,8,"БЖУР121",475506618,"Сулеева","Амина","Эдировна","120219193","История и теория литературы",6,"Экзамен","2015/2016 учебный год 2 модуль",null,48,6,1,1,1025647437,2098,null,"stCommon","Журналистика",{"$f":"MATCH(D134,Отчет!$C:$C,0)","v":62}]
[1025733931,8,"БЖУР121",475506879,"Токмаш","Юрие","-","120219194","История и теория литературы",6,"Экзамен","2015/2016 учебный год 2 модуль",null,48,6,1,1,1025647437,2098,null,"stCommon","Журналистика",{"$f":"MATCH(D135,Отчет!$C:$C,0)","v":63}]
[1025725387,8,"БЖУР121",475507222,"Уродов","Андрей","Николаевич","120219088","История и теория литературы",6,"Экзамен","2015/2016 учебный год 2 модуль",null,48,6,1,1,1025647437,2098,null,"stCommon","Журналистика",{"$f":"MATCH(D136,Отчет!$C:$C,0)","v":64}]
[1025730071,8,"БЖУР121",475507521,"Эльзенбах","Мария","Андреевна","120219103","История и теория литературы",6,"Экзамен","2015/2016 учебный год 2 модуль",null,48,6,1,1,1025647437,2098,null,"stCommon","Журналистика",{"$f":"MATCH(D137,Отчет!$C:$C,0)","v":65}]
[1025733845,8,"БЖУР122",475508143,"Белякова","Яна","Романовна","120219006","История и теория литературы",6,"Экзамен","2015/2016 учебный год 2 модуль",null,48,6,1,1,1025647437,2098,null,"stCommon","Журналистика",{"$f":"MATCH(D138,Отчет!$C:$C,0)","v":96}]
[1025729188,10,"БЖУР122",475508457,"Долинина","Ирина","Николаевна","120219026","История и теория литературы",6,"Экзамен","2015/2016 учебный год 2 модуль",null,60,6,1,1,1025647437,2098,null,"stCommon","Журналистика",{"$f":"MATCH(D139,Отчет!$C:$C,0)","v":19}]
[1025731156,7,"БЖУР122",475508769,"Погосян","Марина","Ваграмовна","120219062","История и теория литературы",6,"Экзамен","2015/2016 учебный год 2 модуль",null,42,6,1,1,1025647437,2098,null,"stCommon","Журналистика",{"$f":"MATCH(D140,Отчет!$C:$C,0)","v":59}]
[1025733691,10,"БЖУР122",475509036,"Спиранде","Валерия","Юрьевна","120219082","История и теория литературы",6,"Экзамен","2015/2016 учебный год 2 модуль",null,60,6,1,1,1025647437,2098,null,"stCommon","Журналистика",{"$f":"MATCH(D141,Отчет!$C:$C,0)","v":58}]
[1025724588,6,"БЖУР122",475509307,"Тавлуева","Алина","Дмитриевна","130219200","История и теория литературы",6,"Экзамен","2015/2016 учебный год 2 модуль",null,36,6,1,1,1025647437,2098,null,"stCommon","Журналистика",{"$f":"MATCH(D142,Отчет!$C:$C,0)","v":108}]
[1025733258,8,"БЖУР123",475510314,"Гречаная","Тамара","Владимировна","120219019","История и теория литературы",6,"Экзамен","2015/2016 учебный год 2 модуль",null,48,6,1,1,1025647437,2098,null,"stCommon","Журналистика",{"$f":"MATCH(D143,Отчет!$C:$C,0)","v":40}]
[1025726669,5,"БЖУР123",475510622,"Касянчук","Денис","Евгеньевич","120219041","История и теория литературы",6,"Экзамен","2015/2016 учебный год 2 модуль",null,30,6,1,1,1025647437,2098,null,"stCommon","Журналистика",{"$f":"MATCH(D144,Отчет!$C:$C,0)","v":99}]
[1025730757,7,"БЖУР123",475510931,"Куреша","Мария","Олеговна","120219047","История и теория литературы",6,"Экзамен","2015/2016 учебный год 2 модуль",null,42,6,1,1,1025647437,2098,null,"stCommon","Журналистика",{"$f":"MATCH(D145,Отчет!$C:$C,0)","v":94}]
[1025729312,10,"БЖУР123",475511255,"Сидоркова","Инна","Сергеевна","121219075","История и теория литературы",6,"Экзамен","2015/2016 учебный год 2 модуль",null,60,6,1,1,1025647437,2098,null,"stCommon","Журналистика",{"$f":"MATCH(D146,Отчет!$C:$C,0)","v":37}]
[1025727199,7,"БЖУР123",475511562,"Степаненкова","Екатерина","Дмитриевна","120219083","История и теория литературы",6,"Экзамен","2015/2016 учебный год 2 модуль",null,42,6,1,1,1025647437,2098,null,"stCommon","Журналистика",{"$f":"MATCH(D147,Отчет!$C:$C,0)","v":95}]
[1025731547,8,"БЖУР123",475511861,"Устинова","Надежда","Владимировна","120219089","История и теория литературы",6,"Экзамен","2015/2016 учебный год 2 модуль",null,48,6,1,1,1025647437,2098,null,"stCommon","Журналистика",{"$f":"MATCH(D148,Отчет!$C:$C,0)","v":97}]
[1025732257,9,"БЖУР123",475512367,"Феоктистова","Софья","Эдуардовна","120219091","История и теория литературы",6,"Экзамен","2015/2016 учебный год 2 модуль",null,54,6,1,1,1025647437,2098,null,"stCommon","Журналистика",{"$f":"MATCH(D149,Отчет!$C:$C,0)","v":68}]
[1025733516,6,"БЖУР123",475512687,"Шведов","Владимир","Сергеевич","120219099","История и теория литературы",6,"Экзамен","2015/2016 учебный год 2 модуль",null,36,6,1,1,1025647437,2098,null,"stCommon","Журналистика",{"$f":"MATCH(D150,Отчет!$C:$C,0)","v":84}]
[1025725249,8,"БЖУР124",475513250,"Боровиков","Антон","Николаевич","120219008","История и теория литературы",6,"Экзамен","2015/2016 учебный год 2 модуль",null,48,6,1,1,1025647437,2098,null,"stCommon","Журналистика",{"$f":"MATCH(D151,Отчет!$C:$C,0)","v":66}]
[1146623156,4,"БЖУР124",475513758,"Курганская","Анастасия","Сергеевна","120219046","История и теория литературы",6,"Экзамен","2015/2016 учебный год 2 модуль",null,24,6,1,1,1025647437,2098,null,"stCommon","Журналистика",{"$f":"MATCH(D152,Отчет!$C:$C,0)","v":118}]
[1025727438,9,"БЖУР124",475514009,"Лобзова","Евгения","Константиновна","120219048","История и теория литературы",6,"Экзамен","2015/2016 учебный год 2 модуль",null,54,6,1,1,1025647437,2098,null,"stCommon","Журналистика",{"$f":"MATCH(D153,Отчет!$C:$C,0)","v":18}]
[1025724022,10,"БЖУР124",475514276,"Мароховская","Алеся","Алексеевна","121219053","История и теория литературы",6,"Экзамен","2015/2016 учебный год 2 модуль",null,60,6,1,1,1025647437,2098,null,"stCommon","Журналистика",{"$f":"MATCH(D154,Отчет!$C:$C,0)","v":20}]
[1025724105,5,"БЖУР124",475514550,"Приданова","Анна","Алексеевна","120219064","История и теория литературы",6,"Экзамен","2015/2016 учебный год 2 модуль",null,30,6,1,1,1025647437,2098,null,"stCommon","Журналистика",{"$f":"MATCH(D155,Отчет!$C:$C,0)","v":80}]
[1025726803,9,"БЖУР124",475514804,"Слюсаренко","Дарья","Сергеевна","120219078","История и теория литературы",6,"Экзамен","2015/2016 учебный год 2 модуль",null,54,6,1,1,1025647437,2098,null,"stCommon","Журналистика",{"$f":"MATCH(D156,Отчет!$C:$C,0)","v":33}]
[1025731385,7,"БЖУР124",475515075,"Соколов","Никита","Алексеевич","120219080","История и теория литературы",6,"Экзамен","2015/2016 учебный год 2 модуль",null,42,6,1,1,1025647437,2098,null,"stCommon","Журналистика",{"$f":"MATCH(D157,Отчет!$C:$C,0)","v":38}]
[1025728234,10,"БЖУР124",475515356,"Тарасова","Екатерина","Сергеевна","120219085","История и теория литературы",6,"Экзамен","2015/2016 учебный год 2 модуль",null,60,6,1,1,1025647437,2098,null,"stCommon","Журналистика",{"$f":"MATCH(D158,Отчет!$C:$C,0)","v":23}]
[1025726961,6,"БЖУР124",475515621,"Фирсова","Екатерина","Андреевна","121219092","История и теория литературы",6,"Экзамен","2015/2016 учебный год 2 модуль",null,36,6,1,1,1025647437,2098,null,"stCommon","Журналистика",{"$f":"MATCH(D159,Отчет!$C:$C,0)","v":111}]
[1025726185,10,"БЖУР124",475515912,"Чунова","Александра","Владимировна","120219097","История и теория литературы",6,"Экзамен","2015/2016 учебный год 2 модуль",null,60,6,1,1,1025647437,2098,null,"stCommon","Журналистика",{"$f":"MATCH(D160,Отчет!$C:$C,0)","v":27}]
[1025732156,9,"БЖУР123",507021579,"Емельянова","Софья","Андреевна","120219029","История и теория литературы",6,"Экзамен","2015/2016 учебный год 2 модуль",null,54,6,1,1,1025647437,2098,null,"stCommon","Журналистика",{"$f":"MATCH(D161,Отчет!$C:$C,0)","v":45}]
[1025727278,9,"БЖУР122",719859018,"Калюжная","Екатерина","Константиновна","1004119","История и теория литературы",6,"Экзамен","2015/2016 учебный год 2 модуль",null,54,6,1,0,1025647437,2098,null,"stCommon","Журналистика",{"$f":"MATCH(D162,Отчет!$C:$C,0)","v":43}]
[1025726612,10,"БЖУР124",475516186,"Шепелёв","Дмитрий","Алексеевич","120219100","История и теория литературы",6,"Экзамен","2015/2016 учебный год 2 модуль",null,60,6,1,1,1025647437,2098,null,"stCommon","Журналистика",{"$f":"MATCH(D163,Отчет!$C:$C,0)","v":26}]
[1025731294,6,"БЖУР121",481507421,"Балюк","Мария","Юрьевна","121219005","История и теория литературы",6,"Экзамен","2015/2016 учебный год 2 модуль",null,36,6,1,0,1025647437,2098,null,"stCommon","Журналистика",{"$f":"MATCH(D164,Отчет!$C:$C,0)","v":101}]
[1025733085,7,"БЖУР121",481507744,"Дербикова","Татьяна","Олеговна","121219022","История и теория литературы",6,"Экзамен","2015/2016 учебный год 2 модуль",null,42,6,1,0,1025647437,2098,null,"stCommon","Журналистика",{"$f":"MATCH(D165,Отчет!$C:$C,0)","v":72}]
[1025732998,8,"БЖУР121",481508084,"Евган","Тимофей","Никитич","121219028","История и теория литературы",6,"Экзамен","2015/2016 учебный год 2 модуль",null,48,6,1,0,1025647437,2098,null,"stCommon","Журналистика",{"$f":"MATCH(D166,Отчет!$C:$C,0)","v":78}]
[1025729991,6,"БЖУР121",481508406,"Коновалова","Лидия","Александровна","121219044","История и теория литературы",6,"Экзамен","2015/2016 учебный год 2 модуль",null,36,6,1,0,1025647437,2098,null,"stCommon","Журналистика",{"$f":"MATCH(D167,Отчет!$C:$C,0)","v":82}]
[1025730981,9,"БЖУР121",481508707,"Пиянзина","Мария","Сергеевна","121219061","История и теория литературы",6,"Экзамен","2015/2016 учебный год 2 модуль",null,54,6,1,0,1025647437,2098,null,"stCommon","Журналистика",{"$f":"MATCH(D168,Отчет!$C:$C,0)","v":17}]
[1025731854,8,"БЖУР121",481509017,"Савин","Павел","Дмитриевич","121219071","История и теория литературы",6,"Экзамен","2015/2016 учебный год 2 модуль",null,48,6,1,0,1025647437,2098,null,"stCommon","Журналистика",{"$f":"MATCH(D169,Отчет!$C:$C,0)","v":29}]
[1025724376,8,"БЖУР121",481509290,"Сидненко","Алеся","Александровна","121219074","История и теория литературы",6,"Экзамен","2015/2016 учебный год 2 модуль",null,48,6,1,0,1025647437,2098,null,"stCommon","Журналистика",{"$f":"MATCH(D170,Отчет!$C:$C,0)","v":30}]
[1025725525,8,"БЖУР121",481509618,"Соболевская","Анастасия","Павловна","121219079","История и теория литературы",6,"Экзамен","2015/2016 учебный год 2 модуль",null,48,6,1,0,1025647437,2098,null,"stCommon","Журналистика",{"$f":"MATCH(D171,Отчет!$C:$C,0)","v":39}]
[1025730338,8,"БЖУР121",481509921,"Талызина","Мария","Александровна","121219084","История и теория литературы",6,"Экзамен","2015/2016 учебный год 2 модуль",null,48,6,1,0,1025647437,2098,null,"stCommon","Журналистика",{"$f":"MATCH(D172,Отчет!$C:$C,0)","v":67}]
[1025728586,9,"БЖУР121",481510230,"Устюгова","Екатерина","Вадимовна","121219090","История и теория литературы",6,"Экзамен","2015/2016 учебный год 2 модуль",null,54,6,1,0,1025647437,2098,null,"stCommon","Журналистика",{"$f":"MATCH(D173,Отчет!$C:$C,0)","v":34}]
[1025723815,9,"БЖУР121",481510571,"Черкашина","Анастасия","Алексеевна","121219095","История и теория литературы",6,"Экзамен","2015/2016 учебный год 2 модуль",null,54,6,1,0,1025647437,2098,null,"stCommon","Журналистика",{"$f":"MATCH(D174,Отчет!$C:$C,0)","v":57}]
[1025734014,9,"БЖУР121",481510870,"Шайдуллина","Юлия","Ильдаровна","121219098","История и теория литературы",6,"Экзамен","2015/2016 учебный год 2 модуль",null,54,6,1,0,1025647437,2098,null,"stCommon","Журналистика",{"$f":"MATCH(D175,Отчет!$C:$C,0)","v":44}]
[1025731220,8,"БЖУР121",481511198,"Шилохвостов","Максим","Витальевич","121219102","История и теория литературы",6,"Экзамен","2015/2016 учебный год 2 модуль",null,48,6,1,0,1025647437,2098,null,"stCommon","Журналистика",{"$f":"MATCH(D176,Отчет!$C:$C,0)","v":75}]
[1025727119,6,"БЖУР122",481511889,"Венедиктова","Екатерина","Александровна","121219010","История и теория литературы",6,"Экзамен","2015/2016 учебный год 2 модуль",null,36,6,1,0,1025647437,2098,null,"stCommon","Журналистика",{"$f":"MATCH(D177,Отчет!$C:$C,0)","v":71}]
[1025724510,9,"БЖУР122",481512248,"Воронкова","Алена","Борисовна","121219013","История и теория литературы",6,"Экзамен","2015/2016 учебный год 2 модуль",null,54,6,1,0,1025647437,2098,null,"stCommon","Журналистика",{"$f":"MATCH(D178,Отчет!$C:$C,0)","v":14}]
[1025724836,6,"БЖУР122",481512582,"Галлай","Анна","Игоревна","121219014","История и теория литературы",6,"Экзамен","2015/2016 учебный год 2 модуль",null,36,6,1,0,1025647437,2098,null,"stCommon","Журналистика",{"$f":"MATCH(D179,Отчет!$C:$C,0)","v":100}]
[1025727579,9,"БЖУР122",481512855,"Головач","Евгения","Максимовна","121219017","История и теория литературы",6,"Экзамен","2015/2016 учебный год 2 модуль",null,54,6,1,0,1025647437,2098,null,"stCommon","Журналистика",{"$f":"MATCH(D180,Отчет!$C:$C,0)","v":15}]
[1025724176,10,"БЖУР123",481525662,"Радина","Алена","Альбертовна","121219065","История и теория литературы",6,"Экзамен","2015/2016 учебный год 2 модуль",null,60,6,1,0,1025647437,2098,null,"stCommon","Журналистика",{"$f":"MATCH(D181,Отчет!$C:$C,0)","v":21}]
[1025731068,7,"БЖУР123",481526030,"Романова","Марина","Сергеевна","121219067","История и теория литературы",6,"Экзамен","2015/2016 учебный год 2 модуль",null,42,6,1,0,1025647437,2098,null,"stCommon","Журналистика",{"$f":"MATCH(D182,Отчет!$C:$C,0)","v":61}]
[1025726095,7,"БЖУР123",481526367,"Соколова","Анастасия","Сергеевна","121219081","История и теория литературы",6,"Экзамен","2015/2016 учебный год 2 модуль",null,42,6,1,0,1025647437,2098,null,"stCommon","Журналистика",{"$f":"MATCH(D183,Отчет!$C:$C,0)","v":102}]
[1025728352,9,"БЖУР124",481527213,"Голенкова","Екатерина","Викторовна","121219016","История и теория литературы",6,"Экзамен","2015/2016 учебный год 2 модуль",null,54,6,1,0,1025647437,2098,null,"stCommon","Журналистика",{"$f":"MATCH(D184,Отчет!$C:$C,0)","v":35}]
[1025731958,8,"БЖУР124",481527610,"Гречко","Полина","Сергеевна","121219020","История и теория литературы",6,"Экзамен","2015/2016 учебный год 2 модуль",null,48,6,1,0,1025647437,2098,null,"stCommon","Журналистика",{"$f":"MATCH(D185,Отчет!$C:$C,0)","v":49}]
[1025724440,4,"БЖУР124",481527967,"Затари","Амалия","Абдулловна","121219032","История и теория литературы",6,"Экзамен","2015/2016 учебный год 2 модуль",null,24,6,1,0,1025647437,2098,null,"stCommon","Журналистика",{"$f":"MATCH(D186,Отчет!$C:$C,0)","v":103}]
[1025730414,10,"БЖУР124",481528286,"Ивлиева","Маргарита","Дмитриевна","121219036","История и теория литературы",6,"Экзамен","2015/2016 учебный год 2 модуль",null,60,6,1,1,1025647437,2098,null,"stCommon","Журналистика",{"$f":"MATCH(D187,Отчет!$C:$C,0)","v":12}]
[1025729076,8,"БЖУР122",481513180,"Ермолаева","Ирина","Дмитриевна","121219030","История и теория литературы",6,"Экзамен","2015/2016 учебный год 2 модуль",null,48,6,1,0,1025647437,2098,null,"stCommon","Журналистика",{"$f":"MATCH(D188,Отчет!$C:$C,0)","v":90}]
[1025727906,9,"БЖУР122",481513639,"Ибрагимова","Элина","Рустемовна","121219034","История и теория литературы",6,"Экзамен","2015/2016 учебный год 2 модуль",null,54,6,1,0,1025647437,2098,null,"stCommon","Журналистика",{"$f":"MATCH(D189,Отчет!$C:$C,0)","v":32}]
[1025725168,8,"БЖУР122",481514116,"Илюхина","Анастасия","Михайловна","121219038","История и теория литературы",6,"Экзамен","2015/2016 учебный год 2 модуль",null,48,6,1,0,1025647437,2098,null,"stCommon","Журналистика",{"$f":"MATCH(D190,Отчет!$C:$C,0)","v":50}]
[1025732755,4,"БЖУР122",481514509,"Кленова","Татьяна","Игоревна","130219202","История и теория литературы",6,"Экзамен","2015/2016 учебный год 2 модуль",null,24,6,1,0,1025647437,2098,null,"stCommon","Журналистика",{"$f":"MATCH(D191,Отчет!$C:$C,0)","v":114}]
[1025730544,9,"БЖУР121",475569292,"Грачев","Максим","Игоревич","120219018","История и теория литературы",6,"Экзамен","2015/2016 учебный год 2 модуль",null,54,6,1,1,1025647437,2098,null,"stCommon","Журналистика",{"$f":"MATCH(D192,Отчет!$C:$C,0)","v":54}]
[1025726338,7,"БЖУР124",475577144,"Дёмочкина","Анна","Викторовна","1311219113","История и теория литературы",6,"Экзамен","2015/2016 учебный год 2 модуль",null,42,6,1,0,1025647437,2098,null,"stCommon","Журналистика",{"$f":"MATCH(D193,Отчет!$C:$C,0)","v":74}]
[1025727046,7,"БЖУР124",475577399,"Крашенинникова","Елизавета","Андреевна","1114165","История и теория литературы",6,"Экзамен","2015/2016 учебный год 2 модуль",null,42,6,1,0,1025647437,2098,null,"stCommon","Журналистика",{"$f":"MATCH(D194,Отчет!$C:$C,0)","v":60}]
[1025726557,null,"БЖУР124",475577694,"Сагеева","Дария","Альбиртовна","1114179","История и теория литературы",6,"Экзамен","2015/2016 учебный год 2 модуль",0,0,6,null,0,1025647437,2098,"ikPlanned","stCommon","Журналистика",{"$f":"MATCH(D195,Отчет!$C:$C,0)","v":122}]
[1025725917,8,"БЖУР124",481528648,"Полякова","Анна","Сергеевна","120219063","История и теория литературы",6,"Экзамен","2015/2016 учебный год 2 модуль",null,48,6,1,0,1025647437,2098,null,"stCommon","Журналистика",{"$f":"MATCH(D196,Отчет!$C:$C,0)","v":53}]
[1025730242,10,"БЖУР124",481529012,"Румянцева","Мария","Андреевна","234-34/121-084","История и теория литературы",6,"Экзамен","2015/2016 учебный год 2 модуль",null,60,6,1,0,1025647437,2098,null,"stCommon","Журналистика",{"$f":"MATCH(D197,Отчет!$C:$C,0)","v":25}]
[1025731455,10,"БЖУР124",481529293,"Рябцева","Наталия ","Викторовна","1311219114","История и теория литературы",6,"Экзамен","2015/2016 учебный год 2 модуль",null,60,6,1,0,1025647437,2098,null,"stCommon","Журналистика",{"$f":"MATCH(D198,Отчет!$C:$C,0)","v":22}]
[1025732883,9,"БЖУР124",481529559,"Юртов","Тимофей","Матвеевич","121219104","История и теория литературы",6,"Экзамен","2015/2016 учебный год 2 модуль",null,54,6,1,0,1025647437,2098,null,"stCommon","Журналистика",{"$f":"MATCH(D199,Отчет!$C:$C,0)","v":36}]
[1025727792,10,"БЖУР122",481515713,"Миннуллина","Екатерина","Маратовна","121219057","История и теория литературы",6,"Экзамен","2015/2016 учебный год 2 модуль",null,60,6,1,0,1025647437,2098,null,"stCommon","Журналистика",{"$f":"MATCH(D200,Отчет!$C:$C,0)","v":13}]
[1025728851,7,"БЖУР122",481516134,"Орлова","Ирина","Андреевна","121219058","История и теория литературы",6,"Экзамен","2015/2016 учебный год 2 модуль",null,42,6,1,0,1025647437,2098,null,"stCommon","Журналистика",{"$f":"MATCH(D201,Отчет!$C:$C,0)","v":73}]
[1025728469,10,"БЖУР122",481516474,"Ракицкая","Екатерина","Владиславовна","1211232051","История и теория литературы",6,"Экзамен","2015/2016 учебный год 2 модуль",null,60,6,1,0,1025647437,2098,null,"stCommon","Журналистика",{"$f":"MATCH(D202,Отчет!$C:$C,0)","v":79}]
[1025728116,8,"БЖУР122",481516842,"Рязанцева","Елена","Сергеевна","121219069","История и теория литературы",6,"Экзамен","2015/2016 учебный год 2 модуль",null,48,6,1,0,1025647437,2098,null,"stCommon","Журналистика",{"$f":"MATCH(D203,Отчет!$C:$C,0)","v":51}]
[1025724242,6,"БЖУР122",481517205,"Савельева","Алёна","Алексеевна","121219070","История и теория литературы",6,"Экзамен","2015/2016 учебный год 2 модуль",null,36,6,1,0,1025647437,2098,null,"stCommon","Журналистика",{"$f":"MATCH(D204,Отчет!$C:$C,0)","v":83}]
[1025726424,9,"БЖУР122",481517536,"Симонаева","Анна","Валерьевна","1211232057","История и теория литературы",6,"Экзамен","2015/2016 учебный год 2 модуль",null,54,6,1,0,1025647437,2098,null,"stCommon","Журналистика",{"$f":"MATCH(D205,Отчет!$C:$C,0)","v":55}]
[1025734076,5,"БЖУР122",481517936,"Скрябова","Юлия","Валерьевна","121219077","История и теория литературы",6,"Экзамен","2015/2016 учебный год 2 модуль",null,30,6,1,0,1025647437,2098,null,"stCommon","Журналистика",{"$f":"MATCH(D206,Отчет!$C:$C,0)","v":115}]
[1025729765,6,"БЖУР122",481518238,"Тетерина","Кристина","Романовна","121219086","История и теория литературы",6,"Экзамен","2015/2016 учебный год 2 модуль",null,36,6,1,0,1025647437,2098,null,"stCommon","Журналистика",{"$f":"MATCH(D207,Отчет!$C:$C,0)","v":112}]
[1025733331,8,"БЖУР122",481518601,"Тяпкин","Вячеслав","Алексеевич","130219201","История и теория литературы",6,"Экзамен","2015/2016 учебный год 2 модуль",null,48,6,1,0,1025647437,2098,null,"stCommon","Журналистика",{"$f":"MATCH(D208,Отчет!$C:$C,0)","v":89}]
[1025730480,6,"БЖУР122",481518905,"Шевцова","Марьяна","Искандеровна","121219021","История и теория литературы",6,"Экзамен","2015/2016 учебный год 2 модуль",null,36,6,1,0,1025647437,2098,null,"stCommon","Журналистика",{"$f":"MATCH(D209,Отчет!$C:$C,0)","v":93}]
[1025726009,7,"БЖУР122",481519225,"Шилко","Александра","Сергеевна","121219101","История и теория литературы",6,"Экзамен","2015/2016 учебный год 2 модуль",null,42,6,1,0,1025647437,2098,null,"stCommon","Журналистика",{"$f":"MATCH(D210,Отчет!$C:$C,0)","v":87}]
[1025730600,4,"БЖУР123",481521205,"Борзунова","Мария","Михайловна","121219007","История и теория литературы",6,"Экзамен","2015/2016 учебный год 2 модуль",null,24,6,1,0,1025647437,2098,null,"stCommon","Журналистика",{"$f":"MATCH(D211,Отчет!$C:$C,0)","v":117}]
[1025725679,5,"БЖУР123",481521551,"Галяткин","Андрей","Сергеевич","121219015","История и теория литературы",6,"Экзамен","2015/2016 учебный год 2 модуль",null,30,6,1,0,1025647437,2098,null,"stCommon","Журналистика",{"$f":"MATCH(D212,Отчет!$C:$C,0)","v":98}]
[1025730151,5,"БЖУР123",481521937,"Горбачева","Мария","Александровна","1104105","История и теория литературы",6,"Экзамен","2015/2016 учебный год 2 модуль",null,30,6,1,0,1025647437,2098,null,"stCommon","Журналистика",{"$f":"MATCH(D213,Отчет!$C:$C,0)","v":104}]
[1025731660,9,"БЖУР123",481522314,"Джиоева","Ольга","Валерьевна","121219023","История и теория литературы",6,"Экзамен","2015/2016 учебный год 2 модуль",null,54,6,1,0,1025647437,2098,null,"stCommon","Журналистика",{"$f":"MATCH(D214,Отчет!$C:$C,0)","v":69}]
[1025729415,7,"БЖУР123",481522740,"Дудник","Ксения","Андреевна","121219027","История и теория литературы",6,"Экзамен","2015/2016 учебный год 2 модуль",null,42,6,1,0,1025647437,2098,null,"stCommon","Журналистика",{"$f":"MATCH(D215,Отчет!$C:$C,0)","v":85}]
[1025726501,5,"БЖУР123",481523081,"Дупелич","Александра","Юрьевна","1311219117","История и теория литературы",6,"Экзамен","2015/2016 учебный год 2 модуль",null,30,6,1,0,1025647437,2098,null,"stCommon","Журналистика",{"$f":"MATCH(D216,Отчет!$C:$C,0)","v":105}]
[1025730666,8,"БЖУР123",481523393,"Иващенко","Матвей","Михайлович","121219035","История и теория литературы",6,"Экзамен","2015/2016 учебный год 2 модуль",null,48,6,1,0,1025647437,2098,null,"stCommon","Журналистика",{"$f":"MATCH(D217,Отчет!$C:$C,0)","v":77}]
[1025733610,5,"БЖУР123",481523734,"Исаченко","Вероника","Викторовна","121219188","История и теория литературы",6,"Экзамен","2015/2016 учебный год 2 модуль",null,30,6,1,0,1025647437,2098,null,"stCommon","Журналистика",{"$f":"MATCH(D218,Отчет!$C:$C,0)","v":106}]
[1025729577,5,"БЖУР123",481524106,"Истомина","Карина","Игоревна","121219039","История и теория литературы",6,"Экзамен","2015/2016 учебный год 2 модуль",null,30,6,1,0,1025647437,2098,null,"stCommon","Журналистика",{"$f":"MATCH(D219,Отчет!$C:$C,0)","v":107}]
[1025723960,6,"БЖУР123",481524442,"Коноплева","Анастасия ","Андреевна","1311219115","История и теория литературы",6,"Экзамен","2015/2016 учебный год 2 модуль",null,36,6,1,0,1025647437,2098,null,"stCommon","Журналистика",{"$f":"MATCH(D220,Отчет!$C:$C,0)","v":92}]
[1025724756,8,"БЖУР123",481524709,"Лукьянова","Александра","Георгиевна","121219051","История и теория литературы",6,"Экзамен","2015/2016 учебный год 2 модуль",null,48,6,1,0,1025647437,2098,null,"stCommon","Журналистика",{"$f":"MATCH(D221,Отчет!$C:$C,0)","v":48}]
[1025724987,9,"БЖУР122",481514993,"Козкина","Анна","Леонидовна","121219042","История и теория литературы",6,"Экзамен","2015/2016 учебный год 2 модуль",null,54,6,1,0,1025647437,2098,null,"stCommon","Журналистика",{"$f":"MATCH(D222,Отчет!$C:$C,0)","v":16}]
[1192670717,6,"БЖУР122",481515353,"Ломакин","Борис","Евгеньевич","121219050","История и теория литературы",6,"Экзамен","2015/2016 учебный год 2 модуль",null,36,6,1,0,1025647437,2098,"ikPlanned","stCommon","Журналистика",{"$f":"MATCH(D223,Отчет!$C:$C,0)","v":110}]
[1025730858,8,"БЖУР121",475571288,"Демчук","Матвей","Романович","1004112","История и теория литературы",6,"Экзамен","2015/2016 учебный год 2 модуль",null,48,6,1,1,1025647437,2098,null,"stCommon","Журналистика",{"$f":"MATCH(D224,Отчет!$C:$C,0)","v":91}]
[1025729922,6,"БЖУР121",475571742,"Марсакова","Кристина","Юрьевна","120219054","История и теория литературы",6,"Экзамен","2015/2016 учебный год 2 модуль",null,36,6,1,1,1025647437,2098,null,"stCommon","Журналистика",{"$f":"MATCH(D225,Отчет!$C:$C,0)","v":81}]
[1025732066,4,"БЖУР121",475572032,"Петров","Роман","Евгеньевич","121219060","История и теория литературы",6,"Экзамен","2015/2016 учебный год 2 модуль",null,24,6,1,0,1025647437,2098,null,"stCommon","Журналистика",{"$f":"MATCH(D226,Отчет!$C:$C,0)","v":119}]
[1025726622,9,"БЖУР124",475516186,"Шепелёв","Дмитрий","Алексеевич","120219100","Политическая журналистика",7,"Экзамен","2015/2016 учебный год 2 модуль",null,63,7,1,1,1025647437,2098,null,"stCommon","Журналистика",{"$f":"MATCH(D227,Отчет!$C:$C,0)","v":26}]
[1025731308,5,"БЖУР121",481507421,"Балюк","Мария","Юрьевна","121219005","Политическая журналистика",7,"Экзамен","2015/2016 учебный год 2 модуль",null,35,7,1,0,1025647437,2098,null,"stCommon","Журналистика",{"$f":"MATCH(D228,Отчет!$C:$C,0)","v":101}]
[1025733110,7,"БЖУР121",481507744,"Дербикова","Татьяна","Олеговна","121219022","Политическая журналистика",7,"Экзамен","2015/2016 учебный год 2 модуль",null,49,7,1,0,1025647437,2098,null,"stCommon","Журналистика",{"$f":"MATCH(D229,Отчет!$C:$C,0)","v":72}]
[1025733012,6,"БЖУР121",481508084,"Евган","Тимофей","Никитич","121219028","Политическая журналистика",7,"Экзамен","2015/2016 учебный год 2 модуль",null,42,7,1,0,1025647437,2098,null,"stCommon","Журналистика",{"$f":"MATCH(D230,Отчет!$C:$C,0)","v":78}]
[1025730012,7,"БЖУР121",481508406,"Коновалова","Лидия","Александровна","121219044","Политическая журналистика",7,"Экзамен","2015/2016 учебный год 2 модуль",null,49,7,1,0,1025647437,2098,null,"stCommon","Журналистика",{"$f":"MATCH(D231,Отчет!$C:$C,0)","v":82}]
[1025731003,10,"БЖУР121",481508707,"Пиянзина","Мария","Сергеевна","121219061","Политическая журналистика",7,"Экзамен","2015/2016 учебный год 2 модуль",null,70,7,1,0,1025647437,2098,null,"stCommon","Журналистика",{"$f":"MATCH(D232,Отчет!$C:$C,0)","v":17}]
[1025731878,10,"БЖУР121",481509017,"Савин","Павел","Дмитриевич","121219071","Политическая журналистика",7,"Экзамен","2015/2016 учебный год 2 модуль",null,70,7,1,0,1025647437,2098,null,"stCommon","Журналистика",{"$f":"MATCH(D233,Отчет!$C:$C,0)","v":29}]
[1025724385,10,"БЖУР121",481509290,"Сидненко","Алеся","Александровна","121219074","Политическая журналистика",7,"Экзамен","2015/2016 учебный год 2 модуль",null,70,7,1,0,1025647437,2098,null,"stCommon","Журналистика",{"$f":"MATCH(D234,Отчет!$C:$C,0)","v":30}]
[1025725569,9,"БЖУР121",481509618,"Соболевская","Анастасия","Павловна","121219079","Политическая журналистика",7,"Экзамен","2015/2016 учебный год 2 модуль",null,63,7,1,0,1025647437,2098,null,"stCommon","Журналистика",{"$f":"MATCH(D235,Отчет!$C:$C,0)","v":39}]
[1025730350,7,"БЖУР121",481509921,"Талызина","Мария","Александровна","121219084","Политическая журналистика",7,"Экзамен","2015/2016 учебный год 2 модуль",null,49,7,1,0,1025647437,2098,null,"stCommon","Журналистика",{"$f":"MATCH(D236,Отчет!$C:$C,0)","v":67}]
[1025728606,9,"БЖУР121",481510230,"Устюгова","Екатерина","Вадимовна","121219090","Политическая журналистика",7,"Экзамен","2015/2016 учебный год 2 модуль",null,63,7,1,0,1025647437,2098,null,"stCommon","Журналистика",{"$f":"MATCH(D237,Отчет!$C:$C,0)","v":34}]
[1025723825,7,"БЖУР121",481510571,"Черкашина","Анастасия","Алексеевна","121219095","Политическая журналистика",7,"Экзамен","2015/2016 учебный год 2 модуль",null,49,7,1,0,1025647437,2098,null,"stCommon","Журналистика",{"$f":"MATCH(D238,Отчет!$C:$C,0)","v":57}]
[1025734024,8,"БЖУР121",481510870,"Шайдуллина","Юлия","Ильдаровна","121219098","Политическая журналистика",7,"Экзамен","2015/2016 учебный год 2 модуль",null,56,7,1,0,1025647437,2098,null,"stCommon","Журналистика",{"$f":"MATCH(D239,Отчет!$C:$C,0)","v":44}]
[1025731231,6,"БЖУР121",481511198,"Шилохвостов","Максим","Витальевич","121219102","Политическая журналистика",7,"Экзамен","2015/2016 учебный год 2 модуль",null,42,7,1,0,1025647437,2098,null,"stCommon","Журналистика",{"$f":"MATCH(D240,Отчет!$C:$C,0)","v":75}]
[1025727128,8,"БЖУР122",481511889,"Венедиктова","Екатерина","Александровна","121219010","Политическая журналистика",7,"Экзамен","2015/2016 учебный год 2 модуль",null,56,7,1,0,1025647437,2098,null,"stCommon","Журналистика",{"$f":"MATCH(D241,Отчет!$C:$C,0)","v":71}]
[1025724519,10,"БЖУР122",481512248,"Воронкова","Алена","Борисовна","121219013","Политическая журналистика",7,"Экзамен","2015/2016 учебный год 2 модуль",null,70,7,1,0,1025647437,2098,null,"stCommon","Журналистика",{"$f":"MATCH(D242,Отчет!$C:$C,0)","v":14}]
[1025724846,5,"БЖУР122",481512582,"Галлай","Анна","Игоревна","121219014","Политическая журналистика",7,"Экзамен","2015/2016 учебный год 2 модуль",null,35,7,1,0,1025647437,2098,null,"stCommon","Журналистика",{"$f":"MATCH(D243,Отчет!$C:$C,0)","v":100}]
[1025727595,10,"БЖУР122",481512855,"Головач","Евгения","Максимовна","121219017","Политическая журналистика",7,"Экзамен","2015/2016 учебный год 2 модуль",null,70,7,1,0,1025647437,2098,null,"stCommon","Журналистика",{"$f":"MATCH(D244,Отчет!$C:$C,0)","v":15}]
[1025724186,9,"БЖУР123",481525662,"Радина","Алена","Альбертовна","121219065","Политическая журналистика",7,"Экзамен","2015/2016 учебный год 2 модуль",null,63,7,1,0,1025647437,2098,null,"stCommon","Журналистика",{"$f":"MATCH(D245,Отчет!$C:$C,0)","v":21}]
[1025731078,8,"БЖУР123",481526030,"Романова","Марина","Сергеевна","121219067","Политическая журналистика",7,"Экзамен","2015/2016 учебный год 2 модуль",null,56,7,1,0,1025647437,2098,null,"stCommon","Журналистика",{"$f":"MATCH(D246,Отчет!$C:$C,0)","v":61}]
[1025726106,4,"БЖУР123",481526367,"Соколова","Анастасия","Сергеевна","121219081","Политическая журналистика",7,"Экзамен","2015/2016 учебный год 2 модуль",null,28,7,1,0,1025647437,2098,null,"stCommon","Журналистика",{"$f":"MATCH(D247,Отчет!$C:$C,0)","v":102}]
[1025728366,9,"БЖУР124",481527213,"Голенкова","Екатерина","Викторовна","121219016","Политическая журналистика",7,"Экзамен","2015/2016 учебный год 2 модуль",null,63,7,1,0,1025647437,2098,null,"stCommon","Журналистика",{"$f":"MATCH(D248,Отчет!$C:$C,0)","v":35}]
[1025731973,8,"БЖУР124",481527610,"Гречко","Полина","Сергеевна","121219020","Политическая журналистика",7,"Экзамен","2015/2016 учебный год 2 модуль",null,56,7,1,0,1025647437,2098,null,"stCommon","Журналистика",{"$f":"MATCH(D249,Отчет!$C:$C,0)","v":49}]
[1025724453,6,"БЖУР124",481527967,"Затари","Амалия","Абдулловна","121219032","Политическая журналистика",7,"Экзамен","2015/2016 учебный год 2 модуль",null,42,7,1,0,1025647437,2098,null,"stCommon","Журналистика",{"$f":"MATCH(D250,Отчет!$C:$C,0)","v":103}]
[1025730422,10,"БЖУР124",481528286,"Ивлиева","Маргарита","Дмитриевна","121219036","Политическая журналистика",7,"Экзамен","2015/2016 учебный год 2 модуль",null,70,7,1,1,1025647437,2098,null,"stCommon","Журналистика",{"$f":"MATCH(D251,Отчет!$C:$C,0)","v":12}]
[1025729097,5,"БЖУР122",481513180,"Ермолаева","Ирина","Дмитриевна","121219030","Политическая журналистика",7,"Экзамен","2015/2016 учебный год 2 модуль",null,35,7,1,0,1025647437,2098,null,"stCommon","Журналистика",{"$f":"MATCH(D252,Отчет!$C:$C,0)","v":90}]
[1025727928,9,"БЖУР122",481513639,"Ибрагимова","Элина","Рустемовна","121219034","Политическая журналистика",7,"Экзамен","2015/2016 учебный год 2 модуль",null,63,7,1,0,1025647437,2098,null,"stCommon","Журналистика",{"$f":"MATCH(D253,Отчет!$C:$C,0)","v":32}]
[1025725182,8,"БЖУР122",481514116,"Илюхина","Анастасия","Михайловна","121219038","Политическая журналистика",7,"Экзамен","2015/2016 учебный год 2 модуль",null,56,7,1,0,1025647437,2098,null,"stCommon","Журналистика",{"$f":"MATCH(D254,Отчет!$C:$C,0)","v":50}]
[1025732773,5,"БЖУР122",481514509,"Кленова","Татьяна","Игоревна","130219202","Политическая журналистика",7,"Экзамен","2015/2016 учебный год 2 модуль",null,35,7,1,0,1025647437,2098,null,"stCommon","Журналистика",{"$f":"MATCH(D255,Отчет!$C:$C,0)","v":114}]
[1025730554,7,"БЖУР121",475569292,"Грачев","Максим","Игоревич","120219018","Политическая журналистика",7,"Экзамен","2015/2016 учебный год 2 модуль",null,49,7,1,1,1025647437,2098,null,"stCommon","Журналистика",{"$f":"MATCH(D256,Отчет!$C:$C,0)","v":54}]
[1025726350,7,"БЖУР124",475577144,"Дёмочкина","Анна","Викторовна","1311219113","Политическая журналистика",7,"Экзамен","2015/2016 учебный год 2 модуль",null,49,7,1,0,1025647437,2098,null,"stCommon","Журналистика",{"$f":"MATCH(D257,Отчет!$C:$C,0)","v":74}]
[1025727058,8,"БЖУР124",475577399,"Крашенинникова","Елизавета","Андреевна","1114165","Политическая журналистика",7,"Экзамен","2015/2016 учебный год 2 модуль",null,56,7,1,0,1025647437,2098,null,"stCommon","Журналистика",{"$f":"MATCH(D258,Отчет!$C:$C,0)","v":60}]
[1025726566,4,"БЖУР124",475577694,"Сагеева","Дария","Альбиртовна","1114179","Политическая журналистика",7,"Экзамен","2015/2016 учебный год 2 модуль",null,28,7,1,0,1025647437,2098,"ikPlanned","stCommon","Журналистика",{"$f":"MATCH(D259,Отчет!$C:$C,0)","v":122}]
[1025725929,8,"БЖУР124",481528648,"Полякова","Анна","Сергеевна","120219063","Политическая журналистика",7,"Экзамен","2015/2016 учебный год 2 модуль",null,56,7,1,0,1025647437,2098,null,"stCommon","Журналистика",{"$f":"MATCH(D260,Отчет!$C:$C,0)","v":53}]
[1025730265,9,"БЖУР124",481529012,"Румянцева","Мария","Андреевна","234-34/121-084","Политическая журналистика",7,"Экзамен","2015/2016 учебный год 2 модуль",null,63,7,1,0,1025647437,2098,null,"stCommon","Журналистика",{"$f":"MATCH(D261,Отчет!$C:$C,0)","v":25}]
[1025731468,9,"БЖУР124",481529293,"Рябцева","Наталия ","Викторовна","1311219114","Политическая журналистика",7,"Экзамен","2015/2016 учебный год 2 модуль",null,63,7,1,0,1025647437,2098,null,"stCommon","Журналистика",{"$f":"MATCH(D262,Отчет!$C:$C,0)","v":22}]
[1025732902,9,"БЖУР124",481529559,"Юртов","Тимофей","Матвеевич","121219104","Политическая журналистика",7,"Экзамен","2015/2016 учебный год 2 модуль",null,63,7,1,0,1025647437,2098,null,"stCommon","Журналистика",{"$f":"MATCH(D263,Отчет!$C:$C,0)","v":36}]
[1025727807,10,"БЖУР122",481515713,"Миннуллина","Екатерина","Маратовна","121219057","Политическая журналистика",7,"Экзамен","2015/2016 учебный год 2 модуль",null,70,7,1,0,1025647437,2098,null,"stCommon","Журналистика",{"$f":"MATCH(D264,Отчет!$C:$C,0)","v":13}]
[1025728870,7,"БЖУР122",481516134,"Орлова","Ирина","Андреевна","121219058","Политическая журналистика",7,"Экзамен","2015/2016 учебный год 2 модуль",null,49,7,1,0,1025647437,2098,null,"stCommon","Журналистика",{"$f":"MATCH(D265,Отчет!$C:$C,0)","v":73}]
[1025728491,4,"БЖУР122",481516474,"Ракицкая","Екатерина","Владиславовна","1211232051","Политическая журналистика",7,"Экзамен","2015/2016 учебный год 2 модуль",null,28,7,1,0,1025647437,2098,null,"stCommon","Журналистика",{"$f":"MATCH(D266,Отчет!$C:$C,0)","v":79}]
[1025728133,8,"БЖУР122",481516842,"Рязанцева","Елена","Сергеевна","121219069","Политическая журналистика",7,"Экзамен","2015/2016 учебный год 2 модуль",null,56,7,1,0,1025647437,2098,null,"stCommon","Журналистика",{"$f":"MATCH(D267,Отчет!$C:$C,0)","v":51}]
[1025724252,7,"БЖУР122",481517205,"Савельева","Алёна","Алексеевна","121219070","Политическая журналистика",7,"Экзамен","2015/2016 учебный год 2 модуль",null,49,7,1,0,1025647437,2098,null,"stCommon","Журналистика",{"$f":"MATCH(D268,Отчет!$C:$C,0)","v":83}]
[1025726439,7,"БЖУР122",481517536,"Симонаева","Анна","Валерьевна","1211232057","Политическая журналистика",7,"Экзамен","2015/2016 учебный год 2 модуль",null,49,7,1,0,1025647437,2098,null,"stCommon","Журналистика",{"$f":"MATCH(D269,Отчет!$C:$C,0)","v":55}]
[1025734097,4,"БЖУР122",481517936,"Скрябова","Юлия","Валерьевна","121219077","Политическая журналистика",7,"Экзамен","2015/2016 учебный год 2 модуль",null,28,7,1,0,1025647437,2098,null,"stCommon","Журналистика",{"$f":"MATCH(D270,Отчет!$C:$C,0)","v":115}]
[1025729777,4,"БЖУР122",481518238,"Тетерина","Кристина","Романовна","121219086","Политическая журналистика",7,"Экзамен","2015/2016 учебный год 2 модуль",null,28,7,1,0,1025647437,2098,null,"stCommon","Журналистика",{"$f":"MATCH(D271,Отчет!$C:$C,0)","v":112}]
[1025733344,5,"БЖУР122",481518601,"Тяпкин","Вячеслав","Алексеевич","130219201","Политическая журналистика",7,"Экзамен","2015/2016 учебный год 2 модуль",null,35,7,1,0,1025647437,2098,null,"stCommon","Журналистика",{"$f":"MATCH(D272,Отчет!$C:$C,0)","v":89}]
[1025730492,6,"БЖУР122",481518905,"Шевцова","Марьяна","Искандеровна","121219021","Политическая журналистика",7,"Экзамен","2015/2016 учебный год 2 модуль",null,42,7,1,0,1025647437,2098,null,"stCommon","Журналистика",{"$f":"MATCH(D273,Отчет!$C:$C,0)","v":93}]
[1025726017,6,"БЖУР122",481519225,"Шилко","Александра","Сергеевна","121219101","Политическая журналистика",7,"Экзамен","2015/2016 учебный год 2 модуль",null,42,7,1,0,1025647437,2098,null,"stCommon","Журналистика",{"$f":"MATCH(D274,Отчет!$C:$C,0)","v":87}]
[1025730611,4,"БЖУР123",481521205,"Борзунова","Мария","Михайловна","121219007","Политическая журналистика",7,"Экзамен","2015/2016 учебный год 2 модуль",null,28,7,1,0,1025647437,2098,null,"stCommon","Журналистика",{"$f":"MATCH(D275,Отчет!$C:$C,0)","v":117}]
[1025725696,6,"БЖУР123",481521551,"Галяткин","Андрей","Сергеевич","121219015","Политическая журналистика",7,"Экзамен","2015/2016 учебный год 2 модуль",null,42,7,1,0,1025647437,2098,null,"stCommon","Журналистика",{"$f":"MATCH(D276,Отчет!$C:$C,0)","v":98}]
[1025730167,5,"БЖУР123",481521937,"Горбачева","Мария","Александровна","1104105","Политическая журналистика",7,"Экзамен","2015/2016 учебный год 2 модуль",null,35,7,1,0,1025647437,2098,null,"stCommon","Журналистика",{"$f":"MATCH(D277,Отчет!$C:$C,0)","v":104}]
[1025731679,6,"БЖУР123",481522314,"Джиоева","Ольга","Валерьевна","121219023","Политическая журналистика",7,"Экзамен","2015/2016 учебный год 2 модуль",null,42,7,1,0,1025647437,2098,null,"stCommon","Журналистика",{"$f":"MATCH(D278,Отчет!$C:$C,0)","v":69}]
[1025729428,6,"БЖУР123",481522740,"Дудник","Ксения","Андреевна","121219027","Политическая журналистика",7,"Экзамен","2015/2016 учебный год 2 модуль",null,42,7,1,0,1025647437,2098,null,"stCommon","Журналистика",{"$f":"MATCH(D279,Отчет!$C:$C,0)","v":85}]
[1025726509,5,"БЖУР123",481523081,"Дупелич","Александра","Юрьевна","1311219117","Политическая журналистика",7,"Экзамен","2015/2016 учебный год 2 модуль",null,35,7,1,0,1025647437,2098,null,"stCommon","Журналистика",{"$f":"MATCH(D280,Отчет!$C:$C,0)","v":105}]
[1025730674,6,"БЖУР123",481523393,"Иващенко","Матвей","Михайлович","121219035","Политическая журналистика",7,"Экзамен","2015/2016 учебный год 2 модуль",null,42,7,1,0,1025647437,2098,null,"stCommon","Журналистика",{"$f":"MATCH(D281,Отчет!$C:$C,0)","v":77}]
[1025733619,5,"БЖУР123",481523734,"Исаченко","Вероника","Викторовна","121219188","Политическая журналистика",7,"Экзамен","2015/2016 учебный год 2 модуль",null,35,7,1,0,1025647437,2098,null,"stCommon","Журналистика",{"$f":"MATCH(D282,Отчет!$C:$C,0)","v":106}]
[1025729599,5,"БЖУР123",481524106,"Истомина","Карина","Игоревна","121219039","Политическая журналистика",7,"Экзамен","2015/2016 учебный год 2 модуль",null,35,7,1,0,1025647437,2098,null,"stCommon","Журналистика",{"$f":"MATCH(D283,Отчет!$C:$C,0)","v":107}]
[1025723969,6,"БЖУР123",481524442,"Коноплева","Анастасия ","Андреевна","1311219115","Политическая журналистика",7,"Экзамен","2015/2016 учебный год 2 модуль",null,42,7,1,0,1025647437,2098,null,"stCommon","Журналистика",{"$f":"MATCH(D284,Отчет!$C:$C,0)","v":92}]
[1025724768,8,"БЖУР123",481524709,"Лукьянова","Александра","Георгиевна","121219051","Политическая журналистика",7,"Экзамен","2015/2016 учебный год 2 модуль",null,56,7,1,0,1025647437,2098,null,"stCommon","Журналистика",{"$f":"MATCH(D285,Отчет!$C:$C,0)","v":48}]
[1025724999,10,"БЖУР122",481514993,"Козкина","Анна","Леонидовна","121219042","Политическая журналистика",7,"Экзамен","2015/2016 учебный год 2 модуль",null,70,7,1,0,1025647437,2098,null,"stCommon","Журналистика",{"$f":"MATCH(D286,Отчет!$C:$C,0)","v":16}]
[1192670743,4,"БЖУР122",481515353,"Ломакин","Борис","Евгеньевич","121219050","Политическая журналистика",7,"Экзамен","2015/2016 учебный год 2 модуль",null,28,7,1,0,1025647437,2098,"ikPlanned","stCommon","Журналистика",{"$f":"MATCH(D287,Отчет!$C:$C,0)","v":110}]
[1025730898,5,"БЖУР121",475571288,"Демчук","Матвей","Романович","1004112","Политическая журналистика",7,"Экзамен","2015/2016 учебный год 2 модуль",null,35,7,1,1,1025647437,2098,null,"stCommon","Журналистика",{"$f":"MATCH(D288,Отчет!$C:$C,0)","v":91}]
[1025729930,7,"БЖУР121",475571742,"Марсакова","Кристина","Юрьевна","120219054","Политическая журналистика",7,"Экзамен","2015/2016 учебный год 2 модуль",null,49,7,1,1,1025647437,2098,null,"stCommon","Журналистика",{"$f":"MATCH(D289,Отчет!$C:$C,0)","v":81}]
[1025732088,4,"БЖУР121",475572032,"Петров","Роман","Евгеньевич","121219060","Политическая журналистика",7,"Экзамен","2015/2016 учебный год 2 модуль",null,28,7,1,0,1025647437,2098,null,"stCommon","Журналистика",{"$f":"MATCH(D290,Отчет!$C:$C,0)","v":119}]
[1025724921,7,"БЖУР121",475572360,"Умецкая","Анастасия","Ильинична","121219087","Политическая журналистика",7,"Экзамен","2015/2016 учебный год 2 модуль",null,49,7,1,0,1025647437,2098,null,"stCommon","Журналистика",{"$f":"MATCH(D291,Отчет!$C:$C,0)","v":56}]
[1025733427,9,"БЖУР121",475573015,"Черных","Виктория","Николаевна","120219096","Политическая журналистика",7,"Экзамен","2015/2016 учебный год 2 модуль",null,63,7,1,1,1025647437,2098,null,"stCommon","Журналистика",{"$f":"MATCH(D292,Отчет!$C:$C,0)","v":24}]
[1025724320,8,"БЖУР122",475573890,"Семихина","Анна","Андреевна","1211232056","Политическая журналистика",7,"Экзамен","2015/2016 учебный год 2 модуль",null,56,7,1,0,1025647437,2098,null,"stCommon","Журналистика",{"$f":"MATCH(D293,Отчет!$C:$C,0)","v":52}]
[1025728978,4,"БЖУР122",475574160,"Толоконников","Иван","Александрович","1114193","Политическая журналистика",7,"Экзамен","2015/2016 учебный год 2 модуль",null,28,7,1,0,1025647437,2098,"ikPlanned","stCommon","Журналистика",{"$f":"MATCH(D294,Отчет!$C:$C,0)","v":109}]
[1025728723,null,"БЖУР122",475574645,"Цыбулина","Елизавета","Юрьевна","121219093","Политическая журналистика",7,"Экзамен","2015/2016 учебный год 2 модуль",1,0,7,null,0,1025647437,2098,null,"stCommon","Журналистика",{"$f":"MATCH(D295,Отчет!$C:$C,0)","v":121}]
[1025733182,5,"БЖУР123",475575058,"Алишова","Таиса","Шаиг кызы","120219003","Политическая журналистика",7,"Экзамен","2015/2016 учебный год 2 модуль",null,35,7,1,1,1025647437,2098,null,"stCommon","Журналистика",{"$f":"MATCH(D296,Отчет!$C:$C,0)","v":88}]
[1025732471,4,"БЖУР123",475575387,"Закружный","Семен","Викторович","121219031","Политическая журналистика",7,"Экзамен","2015/2016 учебный год 2 модуль",null,28,7,1,0,1025647437,2098,"ikPlanned","stCommon","Журналистика",{"$f":"MATCH(D297,Отчет!$C:$C,0)","v":116}]
[1025726754,9,"БЖУР123",475575725,"Грачева","Дарья","Сергеевна","1311219116","Политическая журналистика",7,"Экзамен","2015/2016 учебный год 2 модуль",null,63,7,1,0,1025647437,2098,null,"stCommon","Журналистика",{"$f":"MATCH(D298,Отчет!$C:$C,0)","v":31}]
[1025725083,8,"БЖУР124",475576790,"Анисимов","Артемий","Михайлович","121219004","Политическая журналистика",7,"Экзамен","2015/2016 учебный год 2 модуль",null,56,7,1,0,1025647437,2098,null,"stCommon","Журналистика",{"$f":"MATCH(D299,Отчет!$C:$C,0)","v":70}]
[1025723718,null,"БЖУР121",475503952,"Адаричева","Анна","Андреевна","120219002","Политическая журналистика",7,"Экзамен","2015/2016 учебный год 2 модуль",1,0,7,null,1,1025647437,2098,null,"stCommon","Журналистика",{"$f":"MATCH(D300,Отчет!$C:$C,0)","v":120}]
[1025726895,8,"БЖУР121",475504262,"Долина","Евгения","Александровна","120219025","Политическая журналистика",7,"Экзамен","2015/2016 учебный год 2 модуль",null,56,7,1,1,1025647437,2098,null,"stCommon","Журналистика",{"$f":"MATCH(D301,Отчет!$C:$C,0)","v":47}]
[1192670303,6,"БЖУР121",475504558,"Игнатьева","Маргарита","Маратовна","120219037","Политическая журналистика",7,"Экзамен","2015/2016 учебный год 2 модуль",null,42,7,1,1,1025647437,2098,null,"stCommon","Журналистика",{"$f":"MATCH(D302,Отчет!$C:$C,0)","v":76}]
[1025723895,null,"БЖУР121",475504841,"Карчебанова","Алена","Алексеевна","120219040","Политическая журналистика",7,"Экзамен","2015/2016 учебный год 2 модуль",0,0,7,null,1,1025647437,2098,null,"stCommon","Журналистика",{"$f":"MATCH(D303,Отчет!$C:$C,0)","v":113}]
[1025725823,8,"БЖУР121",475505148,"Колесникова","Анастасия","Сергеевна","120219043","Политическая журналистика",7,"Экзамен","2015/2016 учебный год 2 модуль",null,56,7,1,1,1025647437,2098,null,"stCommon","Журналистика",{"$f":"MATCH(D304,Отчет!$C:$C,0)","v":41}]
[1025731766,8,"БЖУР121",475505469,"Кузьмина","Ольга","Валерьевна","120219045","Политическая журналистика",7,"Экзамен","2015/2016 учебный год 2 модуль",null,56,7,1,1,1025647437,2098,null,"stCommon","Журналистика",{"$f":"MATCH(D305,Отчет!$C:$C,0)","v":42}]
[1025727709,6,"БЖУР121",475505755,"Логинова","Елена","Михайловна","120219049","Политическая журналистика",7,"Экзамен","2015/2016 учебный год 2 модуль",null,42,7,1,1,1025647437,2098,null,"stCommon","Журналистика",{"$f":"MATCH(D306,Отчет!$C:$C,0)","v":86}]
[1025732606,10,"БЖУР121",475506053,"Малюк","Татьяна","Дмитриевна","120219052","Политическая журналистика",7,"Экзамен","2015/2016 учебный год 2 модуль",null,70,7,1,1,1025647437,2098,null,"stCommon","Журналистика",{"$f":"MATCH(D307,Отчет!$C:$C,0)","v":28}]
[1192670415,7,"БЖУР121",475506339,"Негря","Валерия","Олеговна","120219194","Политическая журналистика",7,"Экзамен","2015/2016 учебный год 2 модуль",null,49,7,1,1,1025647437,2098,null,"stCommon","Журналистика",{"$f":"MATCH(D308,Отчет!$C:$C,0)","v":46}]
[1025724700,7,"БЖУР121",475506618,"Сулеева","Амина","Эдировна","120219193","Политическая журналистика",7,"Экзамен","2015/2016 учебный год 2 модуль",null,49,7,1,1,1025647437,2098,null,"stCommon","Журналистика",{"$f":"MATCH(D309,Отчет!$C:$C,0)","v":62}]
[1025733945,7,"БЖУР121",475506879,"Токмаш","Юрие","-","120219194","Политическая журналистика",7,"Экзамен","2015/2016 учебный год 2 модуль",null,49,7,1,1,1025647437,2098,null,"stCommon","Журналистика",{"$f":"MATCH(D310,Отчет!$C:$C,0)","v":63}]
[1025725395,7,"БЖУР121",475507222,"Уродов","Андрей","Николаевич","120219088","Политическая журналистика",7,"Экзамен","2015/2016 учебный год 2 модуль",null,49,7,1,1,1025647437,2098,null,"stCommon","Журналистика",{"$f":"MATCH(D311,Отчет!$C:$C,0)","v":64}]
[1025730085,7,"БЖУР121",475507521,"Эльзенбах","Мария","Андреевна","120219103","Политическая журналистика",7,"Экзамен","2015/2016 учебный год 2 модуль",null,49,7,1,1,1025647437,2098,null,"stCommon","Журналистика",{"$f":"MATCH(D312,Отчет!$C:$C,0)","v":65}]
[1025733861,4,"БЖУР122",475508143,"Белякова","Яна","Романовна","120219006","Политическая журналистика",7,"Экзамен","2015/2016 учебный год 2 модуль",null,28,7,1,1,1025647437,2098,null,"stCommon","Журналистика",{"$f":"MATCH(D313,Отчет!$C:$C,0)","v":96}]
[1025729206,9,"БЖУР122",475508457,"Долинина","Ирина","Николаевна","120219026","Политическая журналистика",7,"Экзамен","2015/2016 учебный год 2 модуль",null,63,7,1,1,1025647437,2098,null,"stCommon","Журналистика",{"$f":"MATCH(D314,Отчет!$C:$C,0)","v":19}]
[1025731164,8,"БЖУР122",475508769,"Погосян","Марина","Ваграмовна","120219062","Политическая журналистика",7,"Экзамен","2015/2016 учебный год 2 модуль",null,56,7,1,1,1025647437,2098,null,"stCommon","Журналистика",{"$f":"MATCH(D315,Отчет!$C:$C,0)","v":59}]
[1025733742,6,"БЖУР122",475509036,"Спиранде","Валерия","Юрьевна","120219082","Политическая журналистика",7,"Экзамен","2015/2016 учебный год 2 модуль",null,42,7,1,1,1025647437,2098,null,"stCommon","Журналистика",{"$f":"MATCH(D316,Отчет!$C:$C,0)","v":58}]
[1025724616,4,"БЖУР122",475509307,"Тавлуева","Алина","Дмитриевна","130219200","Политическая журналистика",7,"Экзамен","2015/2016 учебный год 2 модуль",null,28,7,1,1,1025647437,2098,null,"stCommon","Журналистика",{"$f":"MATCH(D317,Отчет!$C:$C,0)","v":108}]
[1025733269,9,"БЖУР123",475510314,"Гречаная","Тамара","Владимировна","120219019","Политическая журналистика",7,"Экзамен","2015/2016 учебный год 2 модуль",null,63,7,1,1,1025647437,2098,null,"stCommon","Журналистика",{"$f":"MATCH(D318,Отчет!$C:$C,0)","v":40}]
[1025726677,6,"БЖУР123",475510622,"Касянчук","Денис","Евгеньевич","120219041","Политическая журналистика",7,"Экзамен","2015/2016 учебный год 2 модуль",null,42,7,1,1,1025647437,2098,null,"stCommon","Журналистика",{"$f":"MATCH(D319,Отчет!$C:$C,0)","v":99}]
[1025730804,5,"БЖУР123",475510931,"Куреша","Мария","Олеговна","120219047","Политическая журналистика",7,"Экзамен","2015/2016 учебный год 2 модуль",null,35,7,1,1,1025647437,2098,null,"stCommon","Журналистика",{"$f":"MATCH(D320,Отчет!$C:$C,0)","v":94}]
[1025729332,8,"БЖУР123",475511255,"Сидоркова","Инна","Сергеевна","121219075","Политическая журналистика",7,"Экзамен","2015/2016 учебный год 2 модуль",null,56,7,1,1,1025647437,2098,null,"stCommon","Журналистика",{"$f":"MATCH(D321,Отчет!$C:$C,0)","v":37}]
[1025727210,5,"БЖУР123",475511562,"Степаненкова","Екатерина","Дмитриевна","120219083","Политическая журналистика",7,"Экзамен","2015/2016 учебный год 2 модуль",null,35,7,1,1,1025647437,2098,null,"stCommon","Журналистика",{"$f":"MATCH(D322,Отчет!$C:$C,0)","v":95}]
[1025731562,4,"БЖУР123",475511861,"Устинова","Надежда","Владимировна","120219089","Политическая журналистика",7,"Экзамен","2015/2016 учебный год 2 модуль",null,28,7,1,1,1025647437,2098,null,"stCommon","Журналистика",{"$f":"MATCH(D323,Отчет!$C:$C,0)","v":97}]
[1025732267,6,"БЖУР123",475512367,"Феоктистова","Софья","Эдуардовна","120219091","Политическая журналистика",7,"Экзамен","2015/2016 учебный год 2 модуль",null,42,7,1,1,1025647437,2098,null,"stCommon","Журналистика",{"$f":"MATCH(D324,Отчет!$C:$C,0)","v":68}]
[1025733532,7,"БЖУР123",475512687,"Шведов","Владимир","Сергеевич","120219099","Политическая журналистика",7,"Экзамен","2015/2016 учебный год 2 модуль",null,49,7,1,1,1025647437,2098,null,"stCommon","Журналистика",{"$f":"MATCH(D325,Отчет!$C:$C,0)","v":84}]
[1025725260,7,"БЖУР124",475513250,"Боровиков","Антон","Николаевич","120219008","Политическая журналистика",7,"Экзамен","2015/2016 учебный год 2 модуль",null,49,7,1,1,1025647437,2098,null,"stCommon","Журналистика",{"$f":"MATCH(D326,Отчет!$C:$C,0)","v":66}]
[1146623164,4,"БЖУР124",475513758,"Курганская","Анастасия","Сергеевна","120219046","Политическая журналистика",7,"Экзамен","2015/2016 учебный год 2 модуль",null,28,7,1,1,1025647437,2098,null,"stCommon","Журналистика",{"$f":"MATCH(D327,Отчет!$C:$C,0)","v":118}]
[1025727463,10,"БЖУР124",475514009,"Лобзова","Евгения","Константиновна","120219048","Политическая журналистика",7,"Экзамен","2015/2016 учебный год 2 модуль",null,70,7,1,1,1025647437,2098,null,"stCommon","Журналистика",{"$f":"MATCH(D328,Отчет!$C:$C,0)","v":18}]
[1025724032,9,"БЖУР124",475514276,"Мароховская","Алеся","Алексеевна","121219053","Политическая журналистика",7,"Экзамен","2015/2016 учебный год 2 модуль",null,63,7,1,1,1025647437,2098,null,"stCommon","Журналистика",{"$f":"MATCH(D329,Отчет!$C:$C,0)","v":20}]
[1025724116,8,"БЖУР124",475514550,"Приданова","Анна","Алексеевна","120219064","Политическая журналистика",7,"Экзамен","2015/2016 учебный год 2 модуль",null,56,7,1,1,1025647437,2098,null,"stCommon","Журналистика",{"$f":"MATCH(D330,Отчет!$C:$C,0)","v":80}]
[1025726812,9,"БЖУР124",475514804,"Слюсаренко","Дарья","Сергеевна","120219078","Политическая журналистика",7,"Экзамен","2015/2016 учебный год 2 модуль",null,63,7,1,1,1025647437,2098,null,"stCommon","Журналистика",{"$f":"MATCH(D331,Отчет!$C:$C,0)","v":33}]
[1025731396,10,"БЖУР124",475515075,"Соколов","Никита","Алексеевич","120219080","Политическая журналистика",7,"Экзамен","2015/2016 учебный год 2 модуль",null,70,7,1,1,1025647437,2098,null,"stCommon","Журналистика",{"$f":"MATCH(D332,Отчет!$C:$C,0)","v":38}]
[1025728249,9,"БЖУР124",475515356,"Тарасова","Екатерина","Сергеевна","120219085","Политическая журналистика",7,"Экзамен","2015/2016 учебный год 2 модуль",null,63,7,1,1,1025647437,2098,null,"stCommon","Журналистика",{"$f":"MATCH(D333,Отчет!$C:$C,0)","v":23}]
[1025726970,4,"БЖУР124",475515621,"Фирсова","Екатерина","Андреевна","121219092","Политическая журналистика",7,"Экзамен","2015/2016 учебный год 2 модуль",null,28,7,1,1,1025647437,2098,null,"stCommon","Журналистика",{"$f":"MATCH(D334,Отчет!$C:$C,0)","v":111}]
[1025726205,9,"БЖУР124",475515912,"Чунова","Александра","Владимировна","120219097","Политическая журналистика",7,"Экзамен","2015/2016 учебный год 2 модуль",null,63,7,1,1,1025647437,2098,null,"stCommon","Журналистика",{"$f":"MATCH(D335,Отчет!$C:$C,0)","v":27}]
[1025732175,8,"БЖУР123",507021579,"Емельянова","Софья","Андреевна","120219029","Политическая журналистика",7,"Экзамен","2015/2016 учебный год 2 модуль",null,56,7,1,1,1025647437,2098,null,"stCommon","Журналистика",{"$f":"MATCH(D336,Отчет!$C:$C,0)","v":45}]
[1025727301,8,"БЖУР122",719859018,"Калюжная","Екатерина","Константиновна","1004119","Политическая журналистика",7,"Экзамен","2015/2016 учебный год 2 модуль",null,56,7,1,0,1025647437,2098,null,"stCommon","Журналистика",{"$f":"MATCH(D337,Отчет!$C:$C,0)","v":43}]
[1025724894,10,"БЖУР121",475572360,"Умецкая","Анастасия","Ильинична","121219087","Физическая культура",0.44,"Зачет","2015/2016 учебный год 2 модуль",null,4.4000000000000004,0.44,1,0,1025647437,2098,null,"stCommon","Журналистика",{"$f":"MATCH(D338,Отчет!$C:$C,0)","v":56}]
[1025733396,10,"БЖУР121",475573015,"Черных","Виктория","Николаевна","120219096","Физическая культура",0.44,"Зачет","2015/2016 учебный год 2 модуль",null,4.4000000000000004,0.44,1,1,1025647437,2098,null,"stCommon","Журналистика",{"$f":"MATCH(D339,Отчет!$C:$C,0)","v":24}]
[1025724289,10,"БЖУР122",475573890,"Семихина","Анна","Андреевна","1211232056","Физическая культура",0.44,"Зачет","2015/2016 учебный год 2 модуль",null,4.4000000000000004,0.44,1,0,1025647437,2098,null,"stCommon","Журналистика",{"$f":"MATCH(D340,Отчет!$C:$C,0)","v":52}]
[1025728940,10,"БЖУР122",475574160,"Толоконников","Иван","Александрович","1114193","Физическая культура",0.44,"Зачет","2015/2016 учебный год 2 модуль",null,4.4000000000000004,0.44,1,0,1025647437,2098,"ikPlanned","stCommon","Журналистика",{"$f":"MATCH(D341,Отчет!$C:$C,0)","v":109}]
[1025728671,10,"БЖУР122",475574645,"Цыбулина","Елизавета","Юрьевна","121219093","Физическая культура",0.44,"Зачет","2015/2016 учебный год 2 модуль",null,4.4000000000000004,0.44,1,0,1025647437,2098,null,"stCommon","Журналистика",{"$f":"MATCH(D342,Отчет!$C:$C,0)","v":121}]
[1025733159,10,"БЖУР123",475575058,"Алишова","Таиса","Шаиг кызы","120219003","Физическая культура",0.44,"Зачет","2015/2016 учебный год 2 модуль",null,4.4000000000000004,0.44,1,1,1025647437,2098,null,"stCommon","Журналистика",{"$f":"MATCH(D343,Отчет!$C:$C,0)","v":88}]
[1025732370,10,"БЖУР123",475575387,"Закружный","Семен","Викторович","121219031","Физическая культура",0.44,"Зачет","2015/2016 учебный год 2 модуль",null,4.4000000000000004,0.44,1,0,1025647437,2098,"ikPlanned","stCommon","Журналистика",{"$f":"MATCH(D344,Отчет!$C:$C,0)","v":116}]
[1025726723,10,"БЖУР123",475575725,"Грачева","Дарья","Сергеевна","1311219116","Физическая культура",0.44,"Зачет","2015/2016 учебный год 2 модуль",null,4.4000000000000004,0.44,1,0,1025647437,2098,null,"stCommon","Журналистика",{"$f":"MATCH(D345,Отчет!$C:$C,0)","v":31}]
[1025725040,10,"БЖУР124",475576790,"Анисимов","Артемий","Михайлович","121219004","Физическая культура",0.44,"Зачет","2015/2016 учебный год 2 модуль",null,4.4000000000000004,0.44,1,0,1025647437,2098,null,"stCommon","Журналистика",{"$f":"MATCH(D346,Отчет!$C:$C,0)","v":70}]
[1025723690,10,"БЖУР121",475503952,"Адаричева","Анна","Андреевна","120219002","Физическая культура",0.44,"Зачет","2015/2016 учебный год 2 модуль",null,4.4000000000000004,0.44,1,1,1025647437,2098,null,"stCommon","Журналистика",{"$f":"MATCH(D347,Отчет!$C:$C,0)","v":120}]
[1025726855,10,"БЖУР121",475504262,"Долина","Евгения","Александровна","120219025","Физическая культура",0.44,"Зачет","2015/2016 учебный год 2 модуль",null,4.4000000000000004,0.44,1,1,1025647437,2098,null,"stCommon","Журналистика",{"$f":"MATCH(D348,Отчет!$C:$C,0)","v":47}]
[1192670285,10,"БЖУР121",475504558,"Игнатьева","Маргарита","Маратовна","120219037","Физическая культура",0.44,"Зачет","2015/2016 учебный год 2 модуль",null,4.4000000000000004,0.44,1,1,1025647437,2098,null,"stCommon","Журналистика",{"$f":"MATCH(D349,Отчет!$C:$C,0)","v":76}]
[1025723868,10,"БЖУР121",475504841,"Карчебанова","Алена","Алексеевна","120219040","Физическая культура",0.44,"Зачет","2015/2016 учебный год 2 модуль",null,4.4000000000000004,0.44,1,1,1025647437,2098,null,"stCommon","Журналистика",{"$f":"MATCH(D350,Отчет!$C:$C,0)","v":113}]
[1025725765,10,"БЖУР121",475505148,"Колесникова","Анастасия","Сергеевна","120219043","Физическая культура",0.44,"Зачет","2015/2016 учебный год 2 модуль",null,4.4000000000000004,0.44,1,1,1025647437,2098,null,"stCommon","Журналистика",{"$f":"MATCH(D351,Отчет!$C:$C,0)","v":41}]
[1025731730,10,"БЖУР121",475505469,"Кузьмина","Ольга","Валерьевна","120219045","Физическая культура",0.44,"Зачет","2015/2016 учебный год 2 модуль",null,4.4000000000000004,0.44,1,1,1025647437,2098,null,"stCommon","Журналистика",{"$f":"MATCH(D352,Отчет!$C:$C,0)","v":42}]
[1025727672,10,"БЖУР121",475505755,"Логинова","Елена","Михайловна","120219049","Физическая культура",0.44,"Зачет","2015/2016 учебный год 2 модуль",null,4.4000000000000004,0.44,1,1,1025647437,2098,null,"stCommon","Журналистика",{"$f":"MATCH(D353,Отчет!$C:$C,0)","v":86}]
[1025732564,10,"БЖУР121",475506053,"Малюк","Татьяна","Дмитриевна","120219052","Физическая культура",0.44,"Зачет","2015/2016 учебный год 2 модуль",null,4.4000000000000004,0.44,1,1,1025647437,2098,null,"stCommon","Журналистика",{"$f":"MATCH(D354,Отчет!$C:$C,0)","v":28}]
[1192670395,10,"БЖУР121",475506339,"Негря","Валерия","Олеговна","120219194","Физическая культура",0.44,"Зачет","2015/2016 учебный год 2 модуль",null,4.4000000000000004,0.44,1,1,1025647437,2098,null,"stCommon","Журналистика",{"$f":"MATCH(D355,Отчет!$C:$C,0)","v":46}]
[1025724680,10,"БЖУР121",475506618,"Сулеева","Амина","Эдировна","120219193","Физическая культура",0.44,"Зачет","2015/2016 учебный год 2 модуль",null,4.4000000000000004,0.44,1,1,1025647437,2098,null,"stCommon","Журналистика",{"$f":"MATCH(D356,Отчет!$C:$C,0)","v":62}]
[1025733907,10,"БЖУР121",475506879,"Токмаш","Юрие","-","120219194","Физическая культура",0.44,"Зачет","2015/2016 учебный год 2 модуль",null,4.4000000000000004,0.44,1,1,1025647437,2098,null,"stCommon","Журналистика",{"$f":"MATCH(D357,Отчет!$C:$C,0)","v":63}]
[1025725375,10,"БЖУР121",475507222,"Уродов","Андрей","Николаевич","120219088","Физическая культура",0.44,"Зачет","2015/2016 учебный год 2 модуль",null,4.4000000000000004,0.44,1,1,1025647437,2098,null,"stCommon","Журналистика",{"$f":"MATCH(D358,Отчет!$C:$C,0)","v":64}]
[1025730059,10,"БЖУР121",475507521,"Эльзенбах","Мария","Андреевна","120219103","Физическая культура",0.44,"Зачет","2015/2016 учебный год 2 модуль",null,4.4000000000000004,0.44,1,1,1025647437,2098,null,"stCommon","Журналистика",{"$f":"MATCH(D359,Отчет!$C:$C,0)","v":65}]
[1025733805,10,"БЖУР122",475508143,"Белякова","Яна","Романовна","120219006","Физическая культура",0.44,"Зачет","2015/2016 учебный год 2 модуль",null,4.4000000000000004,0.44,1,1,1025647437,2098,null,"stCommon","Журналистика",{"$f":"MATCH(D360,Отчет!$C:$C,0)","v":96}]
[1025729166,10,"БЖУР122",475508457,"Долинина","Ирина","Николаевна","120219026","Физическая культура",0.44,"Зачет","2015/2016 учебный год 2 модуль",null,4.4000000000000004,0.44,1,1,1025647437,2098,null,"stCommon","Журналистика",{"$f":"MATCH(D361,Отчет!$C:$C,0)","v":19}]
[1025731138,10,"БЖУР122",475508769,"Погосян","Марина","Ваграмовна","120219062","Физическая культура",0.44,"Зачет","2015/2016 учебный год 2 модуль",null,4.4000000000000004,0.44,1,1,1025647437,2098,null,"stCommon","Журналистика",{"$f":"MATCH(D362,Отчет!$C:$C,0)","v":59}]
[1025733677,10,"БЖУР122",475509036,"Спиранде","Валерия","Юрьевна","120219082","Физическая культура",0.44,"Зачет","2015/2016 учебный год 2 модуль",null,4.4000000000000004,0.44,1,1,1025647437,2098,null,"stCommon","Журналистика",{"$f":"MATCH(D363,Отчет!$C:$C,0)","v":58}]
[1025724560,10,"БЖУР122",475509307,"Тавлуева","Алина","Дмитриевна","130219200","Физическая культура",0.44,"Зачет","2015/2016 учебный год 2 модуль",null,4.4000000000000004,0.44,1,1,1025647437,2098,null,"stCommon","Журналистика",{"$f":"MATCH(D364,Отчет!$C:$C,0)","v":108}]
[1025733240,10,"БЖУР123",475510314,"Гречаная","Тамара","Владимировна","120219019","Физическая культура",0.44,"Зачет","2015/2016 учебный год 2 модуль",null,4.4000000000000004,0.44,1,1,1025647437,2098,null,"stCommon","Журналистика",{"$f":"MATCH(D365,Отчет!$C:$C,0)","v":40}]
[1025726659,10,"БЖУР123",475510622,"Касянчук","Денис","Евгеньевич","120219041","Физическая культура",0.44,"Зачет","2015/2016 учебный год 2 модуль",null,4.4000000000000004,0.44,1,1,1025647437,2098,null,"stCommon","Журналистика",{"$f":"MATCH(D366,Отчет!$C:$C,0)","v":99}]
[1025730736,10,"БЖУР123",475510931,"Куреша","Мария","Олеговна","120219047","Физическая культура",0.44,"Зачет","2015/2016 учебный год 2 модуль",null,4.4000000000000004,0.44,1,1,1025647437,2098,null,"stCommon","Журналистика",{"$f":"MATCH(D367,Отчет!$C:$C,0)","v":94}]
[1025729282,10,"БЖУР123",475511255,"Сидоркова","Инна","Сергеевна","121219075","Физическая культура",0.44,"Зачет","2015/2016 учебный год 2 модуль",null,4.4000000000000004,0.44,1,1,1025647437,2098,null,"stCommon","Журналистика",{"$f":"MATCH(D368,Отчет!$C:$C,0)","v":37}]
[1025727182,10,"БЖУР123",475511562,"Степаненкова","Екатерина","Дмитриевна","120219083","Физическая культура",0.44,"Зачет","2015/2016 учебный год 2 модуль",null,4.4000000000000004,0.44,1,1,1025647437,2098,null,"stCommon","Журналистика",{"$f":"MATCH(D369,Отчет!$C:$C,0)","v":95}]
[1025731525,10,"БЖУР123",475511861,"Устинова","Надежда","Владимировна","120219089","Физическая культура",0.44,"Зачет","2015/2016 учебный год 2 модуль",null,4.4000000000000004,0.44,1,1,1025647437,2098,null,"stCommon","Журналистика",{"$f":"MATCH(D370,Отчет!$C:$C,0)","v":97}]
[1025732240,10,"БЖУР123",475512367,"Феоктистова","Софья","Эдуардовна","120219091","Физическая культура",0.44,"Зачет","2015/2016 учебный год 2 модуль",null,4.4000000000000004,0.44,1,1,1025647437,2098,null,"stCommon","Журналистика",{"$f":"MATCH(D371,Отчет!$C:$C,0)","v":68}]
[1025733492,10,"БЖУР123",475512687,"Шведов","Владимир","Сергеевич","120219099","Физическая культура",0.44,"Зачет","2015/2016 учебный год 2 модуль",null,4.4000000000000004,0.44,1,1,1025647437,2098,null,"stCommon","Журналистика",{"$f":"MATCH(D372,Отчет!$C:$C,0)","v":84}]
[1025725231,10,"БЖУР124",475513250,"Боровиков","Антон","Николаевич","120219008","Физическая культура",0.44,"Зачет","2015/2016 учебный год 2 модуль",null,4.4000000000000004,0.44,1,1,1025647437,2098,null,"stCommon","Журналистика",{"$f":"MATCH(D373,Отчет!$C:$C,0)","v":66}]
[1146623146,10,"БЖУР124",475513758,"Курганская","Анастасия","Сергеевна","120219046","Физическая культура",0.44,"Зачет","2015/2016 учебный год 2 модуль",null,4.4000000000000004,0.44,1,1,1025647437,2098,null,"stCommon","Журналистика",{"$f":"MATCH(D374,Отчет!$C:$C,0)","v":118}]
[1025727385,10,"БЖУР124",475514009,"Лобзова","Евгения","Константиновна","120219048","Физическая культура",0.44,"Зачет","2015/2016 учебный год 2 модуль",null,4.4000000000000004,0.44,1,1,1025647437,2098,null,"stCommon","Журналистика",{"$f":"MATCH(D375,Отчет!$C:$C,0)","v":18}]
[1025724010,10,"БЖУР124",475514276,"Мароховская","Алеся","Алексеевна","121219053","Физическая культура",0.44,"Зачет","2015/2016 учебный год 2 модуль",null,4.4000000000000004,0.44,1,1,1025647437,2098,null,"stCommon","Журналистика",{"$f":"MATCH(D376,Отчет!$C:$C,0)","v":20}]
[1025724088,10,"БЖУР124",475514550,"Приданова","Анна","Алексеевна","120219064","Физическая культура",0.44,"Зачет","2015/2016 учебный год 2 модуль",null,4.4000000000000004,0.44,1,1,1025647437,2098,null,"stCommon","Журналистика",{"$f":"MATCH(D377,Отчет!$C:$C,0)","v":80}]
[1025726792,10,"БЖУР124",475514804,"Слюсаренко","Дарья","Сергеевна","120219078","Физическая культура",0.44,"Зачет","2015/2016 учебный год 2 модуль",null,4.4000000000000004,0.44,1,1,1025647437,2098,null,"stCommon","Журналистика",{"$f":"MATCH(D378,Отчет!$C:$C,0)","v":33}]
[1025731362,10,"БЖУР124",475515075,"Соколов","Никита","Алексеевич","120219080","Физическая культура",0.44,"Зачет","2015/2016 учебный год 2 модуль",null,4.4000000000000004,0.44,1,1,1025647437,2098,null,"stCommon","Журналистика",{"$f":"MATCH(D379,Отчет!$C:$C,0)","v":38}]
[1025728209,10,"БЖУР124",475515356,"Тарасова","Екатерина","Сергеевна","120219085","Физическая культура",0.44,"Зачет","2015/2016 учебный год 2 модуль",null,4.4000000000000004,0.44,1,1,1025647437,2098,null,"stCommon","Журналистика",{"$f":"MATCH(D380,Отчет!$C:$C,0)","v":23}]
[1025726951,10,"БЖУР124",475515621,"Фирсова","Екатерина","Андреевна","121219092","Физическая культура",0.44,"Зачет","2015/2016 учебный год 2 модуль",null,4.4000000000000004,0.44,1,1,1025647437,2098,null,"stCommon","Журналистика",{"$f":"MATCH(D381,Отчет!$C:$C,0)","v":111}]
[1025726173,10,"БЖУР124",475515912,"Чунова","Александра","Владимировна","120219097","Физическая культура",0.44,"Зачет","2015/2016 учебный год 2 модуль",null,4.4000000000000004,0.44,1,1,1025647437,2098,null,"stCommon","Журналистика",{"$f":"MATCH(D382,Отчет!$C:$C,0)","v":27}]
[1025732136,10,"БЖУР123",507021579,"Емельянова","Софья","Андреевна","120219029","Физическая культура",0.44,"Зачет","2015/2016 учебный год 2 модуль",null,4.4000000000000004,0.44,1,1,1025647437,2098,null,"stCommon","Журналистика",{"$f":"MATCH(D383,Отчет!$C:$C,0)","v":45}]
[1025727258,10,"БЖУР122",719859018,"Калюжная","Екатерина","Константиновна","1004119","Физическая культура",0.44,"Зачет","2015/2016 учебный год 2 модуль",null,4.4000000000000004,0.44,1,0,1025647437,2098,null,"stCommon","Журналистика",{"$f":"MATCH(D384,Отчет!$C:$C,0)","v":43}]
[1025726602,10,"БЖУР124",475516186,"Шепелёв","Дмитрий","Алексеевич","120219100","Физическая культура",0.44,"Зачет","2015/2016 учебный год 2 модуль",null,4.4000000000000004,0.44,1,1,1025647437,2098,null,"stCommon","Журналистика",{"$f":"MATCH(D385,Отчет!$C:$C,0)","v":26}]
[1025731283,10,"БЖУР121",481507421,"Балюк","Мария","Юрьевна","121219005","Физическая культура",0.44,"Зачет","2015/2016 учебный год 2 модуль",null,4.4000000000000004,0.44,1,0,1025647437,2098,null,"stCommon","Журналистика",{"$f":"MATCH(D386,Отчет!$C:$C,0)","v":101}]
[1025733067,10,"БЖУР121",481507744,"Дербикова","Татьяна","Олеговна","121219022","Физическая культура",0.44,"Зачет","2015/2016 учебный год 2 модуль",null,4.4000000000000004,0.44,1,0,1025647437,2098,null,"stCommon","Журналистика",{"$f":"MATCH(D387,Отчет!$C:$C,0)","v":72}]
[1025732977,10,"БЖУР121",481508084,"Евган","Тимофей","Никитич","121219028","Физическая культура",0.44,"Зачет","2015/2016 учебный год 2 модуль",null,4.4000000000000004,0.44,1,0,1025647437,2098,null,"stCommon","Журналистика",{"$f":"MATCH(D388,Отчет!$C:$C,0)","v":78}]
[1025729975,10,"БЖУР121",481508406,"Коновалова","Лидия","Александровна","121219044","Физическая культура",0.44,"Зачет","2015/2016 учебный год 2 модуль",null,4.4000000000000004,0.44,1,0,1025647437,2098,null,"stCommon","Журналистика",{"$f":"MATCH(D389,Отчет!$C:$C,0)","v":82}]
[1025730953,10,"БЖУР121",481508707,"Пиянзина","Мария","Сергеевна","121219061","Физическая культура",0.44,"Зачет","2015/2016 учебный год 2 модуль",null,4.4000000000000004,0.44,1,0,1025647437,2098,null,"stCommon","Журналистика",{"$f":"MATCH(D390,Отчет!$C:$C,0)","v":17}]
[1025731829,10,"БЖУР121",481509017,"Савин","Павел","Дмитриевич","121219071","Физическая культура",0.44,"Зачет","2015/2016 учебный год 2 модуль",null,4.4000000000000004,0.44,1,0,1025647437,2098,null,"stCommon","Журналистика",{"$f":"MATCH(D391,Отчет!$C:$C,0)","v":29}]
[1025724359,10,"БЖУР121",481509290,"Сидненко","Алеся","Александровна","121219074","Физическая культура",0.44,"Зачет","2015/2016 учебный год 2 модуль",null,4.4000000000000004,0.44,1,0,1025647437,2098,null,"stCommon","Журналистика",{"$f":"MATCH(D392,Отчет!$C:$C,0)","v":30}]
[1025725493,10,"БЖУР121",481509618,"Соболевская","Анастасия","Павловна","121219079","Физическая культура",0.44,"Зачет","2015/2016 учебный год 2 модуль",null,4.4000000000000004,0.44,1,0,1025647437,2098,null,"stCommon","Журналистика",{"$f":"MATCH(D393,Отчет!$C:$C,0)","v":39}]
[1025730314,10,"БЖУР121",481509921,"Талызина","Мария","Александровна","121219084","Физическая культура",0.44,"Зачет","2015/2016 учебный год 2 модуль",null,4.4000000000000004,0.44,1,0,1025647437,2098,null,"stCommon","Журналистика",{"$f":"MATCH(D394,Отчет!$C:$C,0)","v":67}]
[1025728570,10,"БЖУР121",481510230,"Устюгова","Екатерина","Вадимовна","121219090","Физическая культура",0.44,"Зачет","2015/2016 учебный год 2 модуль",null,4.4000000000000004,0.44,1,0,1025647437,2098,null,"stCommon","Журналистика",{"$f":"MATCH(D395,Отчет!$C:$C,0)","v":34}]
[1025723800,10,"БЖУР121",481510571,"Черкашина","Анастасия","Алексеевна","121219095","Физическая культура",0.44,"Зачет","2015/2016 учебный год 2 модуль",null,4.4000000000000004,0.44,1,0,1025647437,2098,null,"stCommon","Журналистика",{"$f":"MATCH(D396,Отчет!$C:$C,0)","v":57}]
[1025734002,10,"БЖУР121",481510870,"Шайдуллина","Юлия","Ильдаровна","121219098","Физическая культура",0.44,"Зачет","2015/2016 учебный год 2 модуль",null,4.4000000000000004,0.44,1,0,1025647437,2098,null,"stCommon","Журналистика",{"$f":"MATCH(D397,Отчет!$C:$C,0)","v":44}]
[1025731206,10,"БЖУР121",481511198,"Шилохвостов","Максим","Витальевич","121219102","Физическая культура",0.44,"Зачет","2015/2016 учебный год 2 модуль",null,4.4000000000000004,0.44,1,0,1025647437,2098,null,"stCommon","Журналистика",{"$f":"MATCH(D398,Отчет!$C:$C,0)","v":75}]
[1025727106,10,"БЖУР122",481511889,"Венедиктова","Екатерина","Александровна","121219010","Физическая культура",0.44,"Зачет","2015/2016 учебный год 2 модуль",null,4.4000000000000004,0.44,1,0,1025647437,2098,null,"stCommon","Журналистика",{"$f":"MATCH(D399,Отчет!$C:$C,0)","v":71}]
[1025724496,10,"БЖУР122",481512248,"Воронкова","Алена","Борисовна","121219013","Физическая культура",0.44,"Зачет","2015/2016 учебный год 2 модуль",null,4.4000000000000004,0.44,1,0,1025647437,2098,null,"stCommon","Журналистика",{"$f":"MATCH(D400,Отчет!$C:$C,0)","v":14}]
[1025724820,10,"БЖУР122",481512582,"Галлай","Анна","Игоревна","121219014","Физическая культура",0.44,"Зачет","2015/2016 учебный год 2 модуль",null,4.4000000000000004,0.44,1,0,1025647437,2098,null,"stCommon","Журналистика",{"$f":"MATCH(D401,Отчет!$C:$C,0)","v":100}]
[1025727549,10,"БЖУР122",481512855,"Головач","Евгения","Максимовна","121219017","Физическая культура",0.44,"Зачет","2015/2016 учебный год 2 модуль",null,4.4000000000000004,0.44,1,0,1025647437,2098,null,"stCommon","Журналистика",{"$f":"MATCH(D402,Отчет!$C:$C,0)","v":15}]
[1025724164,10,"БЖУР123",481525662,"Радина","Алена","Альбертовна","121219065","Физическая культура",0.44,"Зачет","2015/2016 учебный год 2 модуль",null,4.4000000000000004,0.44,1,0,1025647437,2098,null,"stCommon","Журналистика",{"$f":"MATCH(D403,Отчет!$C:$C,0)","v":21}]
[1025731054,10,"БЖУР123",481526030,"Романова","Марина","Сергеевна","121219067","Физическая культура",0.44,"Зачет","2015/2016 учебный год 2 модуль",null,4.4000000000000004,0.44,1,0,1025647437,2098,null,"stCommon","Журналистика",{"$f":"MATCH(D404,Отчет!$C:$C,0)","v":61}]
[1025726081,10,"БЖУР123",481526367,"Соколова","Анастасия","Сергеевна","121219081","Физическая культура",0.44,"Зачет","2015/2016 учебный год 2 модуль",null,4.4000000000000004,0.44,1,0,1025647437,2098,null,"stCommon","Журналистика",{"$f":"MATCH(D405,Отчет!$C:$C,0)","v":102}]
[1025728327,10,"БЖУР124",481527213,"Голенкова","Екатерина","Викторовна","121219016","Физическая культура",0.44,"Зачет","2015/2016 учебный год 2 модуль",null,4.4000000000000004,0.44,1,0,1025647437,2098,null,"stCommon","Журналистика",{"$f":"MATCH(D406,Отчет!$C:$C,0)","v":35}]
[1025731946,10,"БЖУР124",481527610,"Гречко","Полина","Сергеевна","121219020","Физическая культура",0.44,"Зачет","2015/2016 учебный год 2 модуль",null,4.4000000000000004,0.44,1,0,1025647437,2098,null,"stCommon","Журналистика",{"$f":"MATCH(D407,Отчет!$C:$C,0)","v":49}]
[1025724423,10,"БЖУР124",481527967,"Затари","Амалия","Абдулловна","121219032","Физическая культура",0.44,"Зачет","2015/2016 учебный год 2 модуль",null,4.4000000000000004,0.44,1,0,1025647437,2098,null,"stCommon","Журналистика",{"$f":"MATCH(D408,Отчет!$C:$C,0)","v":103}]
[1025730401,10,"БЖУР124",481528286,"Ивлиева","Маргарита","Дмитриевна","121219036","Физическая культура",0.44,"Зачет","2015/2016 учебный год 2 модуль",null,4.4000000000000004,0.44,1,1,1025647437,2098,null,"stCommon","Журналистика",{"$f":"MATCH(D409,Отчет!$C:$C,0)","v":12}]
[1025729047,10,"БЖУР122",481513180,"Ермолаева","Ирина","Дмитриевна","121219030","Физическая культура",0.44,"Зачет","2015/2016 учебный год 2 модуль",null,4.4000000000000004,0.44,1,0,1025647437,2098,null,"stCommon","Журналистика",{"$f":"MATCH(D410,Отчет!$C:$C,0)","v":90}]
[1025727880,10,"БЖУР122",481513639,"Ибрагимова","Элина","Рустемовна","121219034","Физическая культура",0.44,"Зачет","2015/2016 учебный год 2 модуль",null,4.4000000000000004,0.44,1,0,1025647437,2098,null,"stCommon","Журналистика",{"$f":"MATCH(D411,Отчет!$C:$C,0)","v":32}]
[1025725152,10,"БЖУР122",481514116,"Илюхина","Анастасия","Михайловна","121219038","Физическая культура",0.44,"Зачет","2015/2016 учебный год 2 модуль",null,4.4000000000000004,0.44,1,0,1025647437,2098,null,"stCommon","Журналистика",{"$f":"MATCH(D412,Отчет!$C:$C,0)","v":50}]
[1025732738,10,"БЖУР122",481514509,"Кленова","Татьяна","Игоревна","130219202","Физическая культура",0.44,"Зачет","2015/2016 учебный год 2 модуль",null,4.4000000000000004,0.44,1,0,1025647437,2098,null,"stCommon","Журналистика",{"$f":"MATCH(D413,Отчет!$C:$C,0)","v":114}]
[1025730532,10,"БЖУР121",475569292,"Грачев","Максим","Игоревич","120219018","Физическая культура",0.44,"Зачет","2015/2016 учебный год 2 модуль",null,4.4000000000000004,0.44,1,1,1025647437,2098,null,"stCommon","Журналистика",{"$f":"MATCH(D414,Отчет!$C:$C,0)","v":54}]
[1025726321,10,"БЖУР124",475577144,"Дёмочкина","Анна","Викторовна","1311219113","Физическая культура",0.44,"Зачет","2015/2016 учебный год 2 модуль",null,4.4000000000000004,0.44,1,0,1025647437,2098,null,"stCommon","Журналистика",{"$f":"MATCH(D415,Отчет!$C:$C,0)","v":74}]
[1025727028,10,"БЖУР124",475577399,"Крашенинникова","Елизавета","Андреевна","1114165","Физическая культура",0.44,"Зачет","2015/2016 учебный год 2 модуль",null,4.4000000000000004,0.44,1,0,1025647437,2098,null,"stCommon","Журналистика",{"$f":"MATCH(D416,Отчет!$C:$C,0)","v":60}]
[1025726543,10,"БЖУР124",475577694,"Сагеева","Дария","Альбиртовна","1114179","Физическая культура",0.44,"Зачет","2015/2016 учебный год 2 модуль",null,4.4000000000000004,0.44,1,0,1025647437,2098,"ikPlanned","stCommon","Журналистика",{"$f":"MATCH(D417,Отчет!$C:$C,0)","v":122}]
[1025725907,10,"БЖУР124",481528648,"Полякова","Анна","Сергеевна","120219063","Физическая культура",0.44,"Зачет","2015/2016 учебный год 2 модуль",null,4.4000000000000004,0.44,1,0,1025647437,2098,null,"stCommon","Журналистика",{"$f":"MATCH(D418,Отчет!$C:$C,0)","v":53}]
[1025730228,10,"БЖУР124",481529012,"Румянцева","Мария","Андреевна","234-34/121-084","Физическая культура",0.44,"Зачет","2015/2016 учебный год 2 модуль",null,4.4000000000000004,0.44,1,0,1025647437,2098,null,"stCommon","Журналистика",{"$f":"MATCH(D419,Отчет!$C:$C,0)","v":25}]
[1025731445,10,"БЖУР124",481529293,"Рябцева","Наталия ","Викторовна","1311219114","Физическая культура",0.44,"Зачет","2015/2016 учебный год 2 модуль",null,4.4000000000000004,0.44,1,0,1025647437,2098,null,"stCommon","Журналистика",{"$f":"MATCH(D420,Отчет!$C:$C,0)","v":22}]
[1025732864,10,"БЖУР124",481529559,"Юртов","Тимофей","Матвеевич","121219104","Физическая культура",0.44,"Зачет","2015/2016 учебный год 2 модуль",null,4.4000000000000004,0.44,1,0,1025647437,2098,null,"stCommon","Журналистика",{"$f":"MATCH(D421,Отчет!$C:$C,0)","v":36}]
[1025727772,10,"БЖУР122",481515713,"Миннуллина","Екатерина","Маратовна","121219057","Физическая культура",0.44,"Зачет","2015/2016 учебный год 2 модуль",null,4.4000000000000004,0.44,1,0,1025647437,2098,null,"stCommon","Журналистика",{"$f":"MATCH(D422,Отчет!$C:$C,0)","v":13}]
[1025728827,10,"БЖУР122",481516134,"Орлова","Ирина","Андреевна","121219058","Физическая культура",0.44,"Зачет","2015/2016 учебный год 2 модуль",null,4.4000000000000004,0.44,1,0,1025647437,2098,null,"stCommon","Журналистика",{"$f":"MATCH(D423,Отчет!$C:$C,0)","v":73}]
[1025728445,10,"БЖУР122",481516474,"Ракицкая","Екатерина","Владиславовна","1211232051","Физическая культура",0.44,"Зачет","2015/2016 учебный год 2 модуль",null,4.4000000000000004,0.44,1,0,1025647437,2098,null,"stCommon","Журналистика",{"$f":"MATCH(D424,Отчет!$C:$C,0)","v":79}]
[1025728092,10,"БЖУР122",481516842,"Рязанцева","Елена","Сергеевна","121219069","Физическая культура",0.44,"Зачет","2015/2016 учебный год 2 модуль",null,4.4000000000000004,0.44,1,0,1025647437,2098,null,"stCommon","Журналистика",{"$f":"MATCH(D425,Отчет!$C:$C,0)","v":51}]
[1025724228,10,"БЖУР122",481517205,"Савельева","Алёна","Алексеевна","121219070","Физическая культура",0.44,"Зачет","2015/2016 учебный год 2 модуль",null,4.4000000000000004,0.44,1,0,1025647437,2098,null,"stCommon","Журналистика",{"$f":"MATCH(D426,Отчет!$C:$C,0)","v":83}]
[1025726408,10,"БЖУР122",481517536,"Симонаева","Анна","Валерьевна","1211232057","Физическая культура",0.44,"Зачет","2015/2016 учебный год 2 модуль",null,4.4000000000000004,0.44,1,0,1025647437,2098,null,"stCommon","Журналистика",{"$f":"MATCH(D427,Отчет!$C:$C,0)","v":55}]
[1025734063,10,"БЖУР122",481517936,"Скрябова","Юлия","Валерьевна","121219077","Физическая культура",0.44,"Зачет","2015/2016 учебный год 2 модуль",null,4.4000000000000004,0.44,1,0,1025647437,2098,null,"stCommon","Журналистика",{"$f":"MATCH(D428,Отчет!$C:$C,0)","v":115}]
[1025729731,10,"БЖУР122",481518238,"Тетерина","Кристина","Романовна","121219086","Физическая культура",0.44,"Зачет","2015/2016 учебный год 2 модуль",null,4.4000000000000004,0.44,1,0,1025647437,2098,null,"stCommon","Журналистика",{"$f":"MATCH(D429,Отчет!$C:$C,0)","v":112}]
[1025733313,10,"БЖУР122",481518601,"Тяпкин","Вячеслав","Алексеевич","130219201","Физическая культура",0.44,"Зачет","2015/2016 учебный год 2 модуль",null,4.4000000000000004,0.44,1,0,1025647437,2098,null,"stCommon","Журналистика",{"$f":"MATCH(D430,Отчет!$C:$C,0)","v":89}]
[1025730469,10,"БЖУР122",481518905,"Шевцова","Марьяна","Искандеровна","121219021","Физическая культура",0.44,"Зачет","2015/2016 учебный год 2 модуль",null,4.4000000000000004,0.44,1,0,1025647437,2098,null,"stCommon","Журналистика",{"$f":"MATCH(D431,Отчет!$C:$C,0)","v":93}]
[1025725996,10,"БЖУР122",481519225,"Шилко","Александра","Сергеевна","121219101","Физическая культура",0.44,"Зачет","2015/2016 учебный год 2 модуль",null,4.4000000000000004,0.44,1,0,1025647437,2098,null,"stCommon","Журналистика",{"$f":"MATCH(D432,Отчет!$C:$C,0)","v":87}]
[1025730587,10,"БЖУР123",481521205,"Борзунова","Мария","Михайловна","121219007","Физическая культура",0.44,"Зачет","2015/2016 учебный год 2 модуль",null,4.4000000000000004,0.44,1,0,1025647437,2098,null,"stCommon","Журналистика",{"$f":"MATCH(D433,Отчет!$C:$C,0)","v":117}]
[1025725663,10,"БЖУР123",481521551,"Галяткин","Андрей","Сергеевич","121219015","Физическая культура",0.44,"Зачет","2015/2016 учебный год 2 модуль",null,4.4000000000000004,0.44,1,0,1025647437,2098,null,"stCommon","Журналистика",{"$f":"MATCH(D434,Отчет!$C:$C,0)","v":98}]
[1025730133,10,"БЖУР123",481521937,"Горбачева","Мария","Александровна","1104105","Физическая культура",0.44,"Зачет","2015/2016 учебный год 2 модуль",null,4.4000000000000004,0.44,1,0,1025647437,2098,null,"stCommon","Журналистика",{"$f":"MATCH(D435,Отчет!$C:$C,0)","v":104}]
[1025731641,10,"БЖУР123",481522314,"Джиоева","Ольга","Валерьевна","121219023","Физическая культура",0.44,"Зачет","2015/2016 учебный год 2 модуль",null,4.4000000000000004,0.44,1,0,1025647437,2098,null,"stCommon","Журналистика",{"$f":"MATCH(D436,Отчет!$C:$C,0)","v":69}]
[1025729398,10,"БЖУР123",481522740,"Дудник","Ксения","Андреевна","121219027","Физическая культура",0.44,"Зачет","2015/2016 учебный год 2 модуль",null,4.4000000000000004,0.44,1,0,1025647437,2098,null,"stCommon","Журналистика",{"$f":"MATCH(D437,Отчет!$C:$C,0)","v":85}]
[1025726490,10,"БЖУР123",481523081,"Дупелич","Александра","Юрьевна","1311219117","Физическая культура",0.44,"Зачет","2015/2016 учебный год 2 модуль",null,4.4000000000000004,0.44,1,0,1025647437,2098,null,"stCommon","Журналистика",{"$f":"MATCH(D438,Отчет!$C:$C,0)","v":105}]
[1025730654,10,"БЖУР123",481523393,"Иващенко","Матвей","Михайлович","121219035","Физическая культура",0.44,"Зачет","2015/2016 учебный год 2 модуль",null,4.4000000000000004,0.44,1,0,1025647437,2098,null,"stCommon","Журналистика",{"$f":"MATCH(D439,Отчет!$C:$C,0)","v":77}]
[1025733595,10,"БЖУР123",481523734,"Исаченко","Вероника","Викторовна","121219188","Физическая культура",0.44,"Зачет","2015/2016 учебный год 2 модуль",null,4.4000000000000004,0.44,1,0,1025647437,2098,null,"stCommon","Журналистика",{"$f":"MATCH(D440,Отчет!$C:$C,0)","v":106}]
[1025729541,10,"БЖУР123",481524106,"Истомина","Карина","Игоревна","121219039","Физическая культура",0.44,"Зачет","2015/2016 учебный год 2 модуль",null,4.4000000000000004,0.44,1,0,1025647437,2098,null,"stCommon","Журналистика",{"$f":"MATCH(D441,Отчет!$C:$C,0)","v":107}]
[1025723939,10,"БЖУР123",481524442,"Коноплева","Анастасия ","Андреевна","1311219115","Физическая культура",0.44,"Зачет","2015/2016 учебный год 2 модуль",null,4.4000000000000004,0.44,1,0,1025647437,2098,null,"stCommon","Журналистика",{"$f":"MATCH(D442,Отчет!$C:$C,0)","v":92}]
[1025724742,10,"БЖУР123",481524709,"Лукьянова","Александра","Георгиевна","121219051","Физическая культура",0.44,"Зачет","2015/2016 учебный год 2 модуль",null,4.4000000000000004,0.44,1,0,1025647437,2098,null,"stCommon","Журналистика",{"$f":"MATCH(D443,Отчет!$C:$C,0)","v":48}]
[1025724965,10,"БЖУР122",481514993,"Козкина","Анна","Леонидовна","121219042","Физическая культура",0.44,"Зачет","2015/2016 учебный год 2 модуль",null,4.4000000000000004,0.44,1,0,1025647437,2098,null,"stCommon","Журналистика",{"$f":"MATCH(D444,Отчет!$C:$C,0)","v":16}]
[1192670687,10,"БЖУР122",481515353,"Ломакин","Борис","Евгеньевич","121219050","Физическая культура",0.44,"Зачет","2015/2016 учебный год 2 модуль",null,4.4000000000000004,0.44,1,0,1025647437,2098,"ikPlanned","stCommon","Журналистика",{"$f":"MATCH(D445,Отчет!$C:$C,0)","v":110}]
[1025730846,10,"БЖУР121",475571288,"Демчук","Матвей","Романович","1004112","Физическая культура",0.44,"Зачет","2015/2016 учебный год 2 модуль",null,4.4000000000000004,0.44,1,1,1025647437,2098,null,"stCommon","Журналистика",{"$f":"MATCH(D446,Отчет!$C:$C,0)","v":91}]
[1025729894,10,"БЖУР121",475571742,"Марсакова","Кристина","Юрьевна","120219054","Физическая культура",0.44,"Зачет","2015/2016 учебный год 2 модуль",null,4.4000000000000004,0.44,1,1,1025647437,2098,null,"stCommon","Журналистика",{"$f":"MATCH(D447,Отчет!$C:$C,0)","v":81}]
[1025732046,10,"БЖУР121",475572032,"Петров","Роман","Евгеньевич","121219060","Физическая культура",0.44,"Зачет","2015/2016 учебный год 2 модуль",null,4.4000000000000004,0.44,1,0,1025647437,2098,null,"stCommon","Журналистика",{"$f":"MATCH(D448,Отчет!$C:$C,0)","v":119}]