{"text_format":"1","workbook":"xlsx","n_sheets":2,"sheets":["Отчет","Данные"],"not_rendered":{"charts":0,"images":1,"macros":1,"external_links":0,"defined_names":0,"comments":0,"pivot_tables":0},"unopened":[],"bounds":{"document_bytes":16777216,"sheet_cells":100000,"rows_first":2000,"rows_last":500,"rows_between":2000,"halvings":0,"cell_chars":16384,"cell_head_chars":4096},"cells_cut":0,"cells_raw":0,"read":"whole","date_system":"1900"}

{"sheet":"Отчет","index":0,"n_rows":179,"n_cols":106,"rows_kept":179,"cut":false,"hidden":false,"merged":[[144,0,145,0],[148,0,149,0],[151,0,152,0],[156,0,157,0],[125,0,126,0],[127,0,129,0],[131,0,133,0],[135,0,136,0],[137,0,138,0],[108,0,111,0],[114,0,115,0],[116,0,117,0],[118,0,119,0],[121,0,122,0],[90,0,91,0],[95,0,96,0],[98,0,99,0],[100,0,102,0],[105,0,106,0],[67,0,68,0],[72,0,73,0],[78,0,79,0],[82,0,83,0],[85,0,86,0],[49,0,50,0],[51,0,52,0],[56,0,58,0],[59,0,60,0],[64,0,65,0],[15,0,16,0],[27,0,28,0],[32,0,33,0],[38,0,39,0],[41,0,42,0],[7,1,9,1],[7,8,10,8],[7,9,10,9],[10,0,10,4],[7,2,9,2],[7,4,9,4],[7,0,9,0],[7,6,9,6],[7,15,7,21],[8,15,8,21],[7,22,7,28],[8,22,8,28],[7,29,7,44],[8,29,8,44],[7,45,7,105],[8,45,8,105],[7,13,10,13],[7,12,10,12],[7,10,10,10],[7,11,10,11],[7,3,9,3],[7,5,9,5]]}
["Кумулятивный рейтинг студентов"]
["Дата выгрузки: 15.11.2018"]
["Период: с начала обучения по  2017/2018 учебный год II семестр"]
["Факультет/отделение: Факультет бизнеса и менеджмента"]
["Направление  подготовки: Бизнес-информатика"]
["Уровень образования, номер курса: Магистратура 1 курс"]
[]
["Место","Номер зачетной книжки","Студент","ID","Группа","Образовательная программа студента","Вид места",null,"Кумулятивный рейтинг","Сумма оценок","Количество оценок","Средняя оценка","Минимальный балл","Номер места","2016/2017 учебный год 4 модуль","2017/2018 учебный год 1 модуль",null,null,null,null,null,null,"2017/2018 учебный год 2 модуль",null,null,null,null,null,null,"2017/2018 учебный год 3 модуль",null,null,null,null,null,null,null,null,null,null,null,null,null,null,null,"2017/2018 учебный год 4 модуль"]
[null,null,null,null,null,null,null,null,null,null,null,null,null,null,"Экзамен","Экзамен",null,null,null,null,null,null,"Экзамен",null,null,null,null,null,null,"Экзамен",null,null,null,null,null,null,null,null,null,null,null,null,null,null,null,"Экзамен"]
[null,null,null,null,null,null,null,null,null,null,null,null,null,null,"Анализ социальных сетей","Анализ данных","Архитектура предприятия","Методология и инструментарий для моделирования бизнес-процессов","Проектирование информационных систем","Процессы и инструменты управления проектами","Системный анализ и проектирование","Экономико-математическое моделирование","Научно-исследовательский семинар","Организационно-правовые аспекты информационной безопасности","Предпринимательство и модели бизнеса в Интернет","Русский язык как иностранный. Уровень 1. Elementary","Системный анализ и проектирование","Совершенствование архитектуры предприятия","Совершенствование архитектуры предприятия","Актуальные проблемы конкурентной (деловой) разведки","Анализ поведения потребителя в коммерческих информационных сетях","Безопасность информации в государственном и частном секторах","История технологического развития общества","Методология и практика ИТ-консалтинга","Перспективные методы анализа данных и Большие данные в бизнес-интеллекте","Практика управленческих решений в системе международного бизнеса","Предпринимательство и модели бизнеса в Интернет","Психология креативности","Психология семейных отношений (как психологи вывели Формулу качества брака)","Сбор, хранение и обработка данных в гетерогенных распределенных компьютерных сетях","Системы бизнес-интеллекта","Системы поддержки принятия решений","Теория поколений для бизнеса, политики, общества","Управление Интернет-проектами","Управление рисками IT-проектов","3-D моделирование в компьютерной графике в пакете AutoCAD и трёхмерное мышление человека","Анализ данных","Анализ неструктурированной информации","Анализ социальных сетей","Введение в нейроэкономику","Визуализация данных","Выбор и методологии внедрения ИТ-решений","Дебаты на английском языке","Интеграция бизнес-процессов на базе информационных систем","Интеллектуальные технологии в бизнесе","Информационно-аналитические системы управления корпоративной результативностью на базе решений IBM Cognos TM1","Информационные системы корпоративного управления на платформе 1С","Исследования в Интернет","Криптографические методы защиты информации","Культурное потребление и исследования аудитории","Культурный ландшафт города","Курсовая работа","Курсовая работа","Литература русской эмиграции","Машинное обучение с использованием больших данных","Международный деловой этикет и дипломатический протокол","Моделирование больших данных и системы управления большими данными","Научно-исследовательский семинар","Научно-исследовательский семинар \"Информационная бизнес-аналитика\"","Научно-исследовательский семинар \"Моделирование и оптимизация бизнес-процессов\"","Научно-исследовательский семинар \"Проблемы управления информационной безопасностью","Научно-исследовательский семинар \"Управление жизненным циклом информационных систем\"","Научно-исследовательский семинар \"Электронный бизнес: исследования, разработки, обучение\"","Облачные вычисления","Основные виды академического письма","Основы SAP","Основы астрономии","Правовые основы высокотехнологичного бизнеса","Прикладные аспекты машинного обучения","Применение облачных вычислений, часть I: Облачные системы и инфраструктура","Применение облачных вычислений, часть II: Применение технологий больших данных в облачных системах","Прогностическая аналитика","Программирование в R","Проектирование систем","Проектирование человеко-машинного взаимодействия","Психология управления организацией","Разработка и внедрение систем больших данных","Системы управления эффективностью бизнеса","Современный менеджмент данных","Специальные методики сбора и анализа данных в маркетинговых исследованиях","Статистические методы в обеспечении информационной безопасности","Теоретические аспекты безопасности компьютерных систем","Техника презентаций","Технологии извлечения знаний из большого объема данных","Технологии манипулирования сознанием и поведением людей: выявление, анализ, противодействие","Технологические основы разработки и управления интернет-проектами","Типовые подсистемы и решения обеспечения информационной безопасности","Управление IT проектами","Управление IT-сервисами","Управление внедрением информационных систем","Управление развитием информационных систем","Управление устойчивостью бизнеса","Финансовые рынки, институты и инструменты","Экономическая психология","Экстремальная психология","Электронный бизнес"]
["Число кумулятивных кредитов:",null,null,null,null,null,null,null,null,null,null,null,null,null,3,3,3,3,3,2,3,3,5,4,3,6,4,3,4,3,5,4,3,5,5,3,6,3,3,5,5,5,3,5,5,3,3,5,3,3,4,3,3,5,3,5,3,5,6,3,3,5,6,3,3,3,3,6,10,10,10,10,10,3,3,5,3,5,4,3,3,5,3,5,3,3,5,5,3,3,5,5,3,3,3,5,5,3,5,6,5,3,3,3,3,5]
[1,"М171МСБДН002","Вилкова Елена Александровна",1937366422,"МБД171","Системы больших данных","Бюдж",{"$f":"MATCH(D12,Данные!$D$1:$D$65536,0)","v":10},674,167,18,{"$f":"IF(K12 > 0,J12/K12,0)","v":9.2777777777777786},{"$f":"MIN($O12:DB12)","v":7},1,null,7,9,null,null,null,null,8,10,null,null,null,10,9,null,null,null,null,null,null,10,null,null,null,null,10,null,null,null,null,null,null,null,null,9,null,10,null,null,null,null,null,null,9,null,null,null,9,null,null,null,null,null,9,null,null,null,null,null,10,null,null,null,null,10,null,null,null,null,null,null,null,10,null,10,null,null,null,null,8]
[2,"М171МСБДН024","Прохоренков Дмитрий Викторович",1940816185,"МБД171","Системы больших данных","Комм",{"$f":"MATCH(D13,Данные!$D$1:$D$65536,0)","v":26},660,168,18,{"$f":"IF(K13 > 0,J13/K13,0)","v":9.3333333333333339},{"$f":"MIN($O13:DB13)","v":7},2,null,7,9,null,null,null,null,9,10,null,null,null,10,8,null,null,null,null,null,null,10,null,null,null,null,10,null,null,null,null,null,null,null,null,8,null,10,null,null,null,null,null,null,null,null,null,null,10,null,null,null,null,10,9,null,null,null,null,null,10,null,null,null,null,9,null,null,null,null,null,null,null,10,null,10,null,null,null,null,9]
[3,"М171МБИИН090","Рябов Дмитрий Валерьевич",1941989108,"МБИ173","Бизнес-информатика","Бюдж",{"$f":"MATCH(D14,Данные!$D$1:$D$65536,0)","v":89},651,137,14,{"$f":"IF(K14 > 0,J14/K14,0)","v":9.7857142857142865},{"$f":"MIN($O14:DB14)","v":8},3,null,null,null,10,8,null,9,10,null,null,null,null,null,null,10,null,null,null,null,10,null,null,null,null,null,null,null,null,null,null,10,null,null,null,null,null,null,10,null,10,null,null,null,null,null,null,null,null,10,null,null,null,null,null,null,null,null,10,null,null,null,null,null,null,null,null,null,null,null,null,null,null,null,null,null,null,null,null,null,null,null,null,null,null,10,10,10]
[4,"М171МБИИН089","Павлова Татьяна Михайловна",1941989121,"МБИ172","Бизнес-информатика","Комм",{"$f":"MATCH(D15,Данные!$D$1:$D$65536,0)","v":90},640,135,14,{"$f":"IF(K15 > 0,J15/K15,0)","v":9.6428571428571423},{"$f":"MIN($O15:DB15)","v":9},4,null,null,null,10,9,null,9,10,null,null,null,null,null,null,10,null,null,null,null,10,null,null,null,null,null,null,null,null,null,null,10,null,null,null,null,null,null,9,null,9,null,null,null,null,null,null,null,null,10,null,null,null,null,null,null,null,null,10,null,null,null,null,null,null,null,null,null,null,null,null,null,null,null,null,null,null,null,null,null,null,null,null,null,null,10,9,10]
["5 - 6","М171МСБДН001","Архипенко Анастасия Дмитриевна",1937366216,"МБД171","Системы больших данных","Бюдж",{"$f":"MATCH(D16,Данные!$D$1:$D$65536,0)","v":8},638,157,17,{"$f":"IF(K16 > 0,J16/K16,0)","v":9.235294117647058},{"$f":"MIN($O16:DB16)","v":8},5,null,10,9,null,null,null,null,8,10,null,null,null,9,9,null,null,null,null,null,null,9,null,null,null,null,10,null,null,null,null,null,null,null,null,9,null,10,null,null,null,null,null,null,8,null,null,null,10,null,null,null,null,9,8,null,null,null,null,null,null,null,null,null,null,10,null,null,null,null,null,null,null,10,null,9]
[null,"М171МСБДН017","Шеин Александр Владимирович",1937366348,"МБД171","Системы больших данных","Бюдж",{"$f":"MATCH(D17,Данные!$D$1:$D$65536,0)","v":14},638,162,18,{"$f":"IF(K17 > 0,J17/K17,0)","v":9},{"$f":"MIN($O17:DB17)","v":7},6,null,8,7,null,null,null,null,8,10,null,null,null,10,7,null,null,null,null,null,null,9,null,null,9,null,9,null,null,null,null,null,null,null,null,null,null,9,null,null,null,null,null,null,null,null,null,null,10,null,null,null,null,null,9,null,null,null,null,null,8,null,null,null,null,10,null,9,null,null,null,null,null,10,null,10,null,null,null,null,10]
[7,"М171МБИИН082","Бородко Вера Николаевна",1941989199,"МБИ171","Бизнес-информатика","Комм",{"$f":"MATCH(D18,Данные!$D$1:$D$65536,0)","v":100},633,135,14,{"$f":"IF(K18 > 0,J18/K18,0)","v":9.6428571428571423},{"$f":"MIN($O18:DB18)","v":8},7,null,null,null,10,10,null,10,10,null,null,null,null,null,null,9,null,null,null,null,10,null,null,null,null,null,null,null,null,null,null,10,null,null,null,null,null,null,10,null,9,null,null,null,null,null,null,null,null,9,null,null,null,null,null,null,null,null,10,null,null,null,null,null,null,null,null,null,null,null,null,null,null,null,null,null,null,null,null,null,null,null,null,null,null,10,8,10]
[8,"М171МСБДН009","Кулаков Александр Сергеевич",1937366334,"МБД171","Системы больших данных","Бюдж",{"$f":"MATCH(D19,Данные!$D$1:$D$65536,0)","v":16},611,154,17,{"$f":"IF(K19 > 0,J19/K19,0)","v":9.0588235294117645},{"$f":"MIN($O19:DB19)","v":7},8,null,7,7,null,null,null,null,8,9,null,null,null,9,9,null,null,null,null,null,null,10,null,null,null,null,10,null,null,null,null,null,null,null,null,9,null,10,null,null,null,null,null,null,null,null,null,null,8,null,null,null,null,null,9,null,null,null,null,null,10,null,null,null,null,9,null,null,null,10,null,null,null,10,null,10]
[9,"М171МУБЕЗ007","Иванов Владислав Сергеевич",1937370369,"МИБ171","Управление информационной безопасностью","Бюдж",{"$f":"MATCH(D20,Данные!$D$1:$D$65536,0)","v":73},605,132,14,{"$f":"IF(K20 > 0,J20/K20,0)","v":9.4285714285714288},{"$f":"MIN($O20:DB20)","v":8},9,null,null,null,9,null,8,10,8,null,10,null,null,null,null,9,9,null,10,null,null,null,null,null,null,null,null,null,null,null,null,null,null,null,null,null,null,null,null,null,null,null,null,null,null,10,null,null,null,10,null,null,null,null,null,null,null,10,null,null,null,null,null,null,null,null,null,null,null,null,null,null,null,null,null,null,null,9,10,null,null,null,null,10]
[10,"М171МСБДН005","Дякин Николай Валерьевич",1937366231,"МБД171","Системы больших данных","Бюдж",{"$f":"MATCH(D21,Данные!$D$1:$D$65536,0)","v":4},602,153,18,{"$f":"IF(K21 > 0,J21/K21,0)","v":8.5},{"$f":"MIN($O21:DB21)","v":7},10,null,9,8,null,null,null,null,8,8,null,null,null,9,7,null,null,null,null,null,null,10,null,null,null,null,8,null,null,null,null,null,null,null,null,8,null,9,null,null,null,null,null,null,null,null,null,null,9,null,null,null,null,null,9,null,null,null,null,null,8,null,null,null,null,8,9,null,null,null,null,null,null,10,null,8,null,null,null,null,8]
[11,"М171МБИИН093","Бытка Дарья",1944931265,"МБИ171","Бизнес-информатика","Бюдж",{"$f":"MATCH(D22,Данные!$D$1:$D$65536,0)","v":51},601,128,14,{"$f":"IF(K22 > 0,J22/K22,0)","v":9.1428571428571423},{"$f":"MIN($O22:DB22)","v":8},11,null,null,null,9,10,null,10,8,null,null,null,null,null,null,8,null,null,null,null,9,null,null,null,null,null,null,null,null,null,null,null,null,null,null,null,null,null,null,null,9,null,9,null,null,null,null,null,null,8,null,null,null,null,null,null,null,null,9,null,null,null,null,null,null,null,null,null,null,null,null,null,null,null,null,null,null,null,null,null,null,null,null,null,null,10,10,9,10]
[12,"М171МБИИН036","Конова Марина Валерьевна",1937363600,"МБИ172","Бизнес-информатика","Бюдж",{"$f":"MATCH(D23,Данные!$D$1:$D$65536,0)","v":53},600,127,14,{"$f":"IF(K23 > 0,J23/K23,0)","v":9.0714285714285712},{"$f":"MIN($O23:DB23)","v":6},12,null,null,null,10,8,null,10,10,null,null,null,null,null,null,9,null,null,null,null,8,null,null,null,null,null,null,null,null,null,null,10,null,null,null,null,null,null,9,null,9,null,null,null,null,null,null,null,null,10,null,null,null,null,null,null,null,null,10,null,null,null,null,null,null,null,null,null,null,null,null,null,null,null,null,null,null,null,null,null,null,null,null,null,null,10,8,6]
[13,"М171МЭЛБЗ025","Юлдашева Камилла Адилевна",1937372852,"МЭБ171","Электронный бизнес","Бюдж",{"$f":"MATCH(D24,Данные!$D$1:$D$65536,0)","v":82},597,128,14,{"$f":"IF(K24 > 0,J24/K24,0)","v":9.1428571428571423},{"$f":"MIN($O24:DB24)","v":7},13,null,null,null,10,null,null,9,7,null,null,10,null,null,null,8,null,10,null,null,null,null,null,9,null,null,null,null,null,null,10,null,null,null,null,null,null,null,null,null,null,null,null,null,9,null,null,null,null,8,null,null,null,null,null,null,null,null,null,8,null,null,null,null,10,null,null,null,null,null,null,null,null,null,null,null,10,null,null,null,null,null,10]
[14,"М171МУБЕЗ013","Осадчая Алина Дмитриевна",1937370517,"МИБ171","Управление информационной безопасностью","Бюдж",{"$f":"MATCH(D25,Данные!$D$1:$D$65536,0)","v":66},596,131,14,{"$f":"IF(K25 > 0,J25/K25,0)","v":9.3571428571428577},{"$f":"MIN($O25:DB25)","v":7},14,null,null,null,10,null,10,9,7,null,10,null,null,null,null,7,10,null,10,null,null,null,null,null,null,null,null,null,null,null,null,null,null,null,null,null,null,null,null,null,null,null,null,null,null,10,null,null,null,10,null,null,null,null,null,null,null,10,null,null,null,null,null,null,null,null,null,null,null,null,null,null,null,null,null,null,null,9,9,null,null,null,null,10]
[15,"М171МБИИН058","Сафохин Андрей Дмитриевич",1937363386,"МБИ173","Бизнес-информатика","Бюдж",{"$f":"MATCH(D26,Данные!$D$1:$D$65536,0)","v":55},589,124,14,{"$f":"IF(K26 > 0,J26/K26,0)","v":8.8571428571428577},{"$f":"MIN($O26:DB26)","v":6},15,null,null,null,10,8,null,10,10,null,null,null,null,null,null,6,null,null,null,null,8,null,null,null,null,null,null,null,null,null,null,10,null,null,null,null,null,null,null,null,8,null,null,null,null,null,null,null,null,9,null,null,null,null,null,null,null,null,10,null,null,null,null,null,null,null,null,null,null,null,null,null,8,null,null,null,null,null,null,null,null,null,null,null,null,10,8,9]
[16,"М171МЭЛБЗ022","Суряднов Дмитрий Юрьевич",1937373025,"МЭБ171","Электронный бизнес","Бюдж",{"$f":"MATCH(D27,Данные!$D$1:$D$65536,0)","v":80},586,123,14,{"$f":"IF(K27 > 0,J27/K27,0)","v":8.7857142857142865},{"$f":"MIN($O27:DB27)","v":7},16,null,null,null,10,null,null,10,7,null,null,8,null,null,null,8,null,8,null,null,null,null,null,9,null,null,null,null,null,null,9,null,null,null,null,null,null,null,null,null,null,null,null,null,10,null,null,null,null,9,null,null,null,null,null,null,null,null,null,9,null,null,null,null,10,null,null,null,null,null,null,null,null,null,null,null,null,null,null,null,null,null,9,null,null,null,null,null,null,7]
["17 - 18","М171МБИИН034","Клименко Екатерина Андреевна",1937364110,"МБИ172","Бизнес-информатика","Бюдж",{"$f":"MATCH(D28,Данные!$D$1:$D$65536,0)","v":58},581,123,14,{"$f":"IF(K28 > 0,J28/K28,0)","v":8.7857142857142865},{"$f":"MIN($O28:DB28)","v":6},17,null,null,null,10,8,null,10,8,null,null,null,null,null,null,6,null,null,null,null,9,null,null,null,null,null,null,null,null,null,null,null,null,null,null,null,null,null,null,null,8,null,10,null,null,null,null,null,null,9,null,null,null,null,null,null,null,null,9,null,null,null,null,null,null,null,null,null,null,null,null,null,null,null,10,null,null,null,null,9,null,null,null,null,null,null,8,9]
[null,"М171МБИИН075","Мирской Александр Леонидович",1940750974,"МБИ172","Бизнес-информатика","Комм",{"$f":"MATCH(D29,Данные!$D$1:$D$65536,0)","v":92},581,122,14,{"$f":"IF(K29 > 0,J29/K29,0)","v":8.7142857142857135},{"$f":"MIN($O29:DB29)","v":7},18,null,null,null,9,8,null,9,7,null,null,null,null,null,null,8,null,null,null,null,null,null,9,null,null,null,null,9,8,null,null,null,null,null,9,null,null,null,null,null,9,null,10,null,null,null,null,null,null,8,null,null,null,null,null,9,null,null,null,null,null,null,null,null,null,null,null,null,null,null,null,null,null,null,null,null,null,null,null,null,null,null,null,null,null,null,10]
[19,"М171МУБЕЗ005","Дарбишева Патимат Гаджимурадовна",1937370480,"МИБ171","Управление информационной безопасностью","Бюдж",{"$f":"MATCH(D30,Данные!$D$1:$D$65536,0)","v":78},576,125,14,{"$f":"IF(K30 > 0,J30/K30,0)","v":8.9285714285714288},{"$f":"MIN($O30:DB30)","v":5},19,null,null,null,9,null,9,9,5,null,10,null,null,null,null,7,10,null,8,null,null,null,null,null,null,null,null,null,null,null,null,null,null,null,null,null,null,null,null,null,null,null,null,null,null,9,null,null,null,10,null,null,null,null,null,null,null,10,null,null,null,null,null,null,null,null,null,null,null,null,null,null,null,null,null,null,null,10,9,null,null,null,null,10]
[20,"М171МБИИН077","Музыка Наталия Константиновна",1940815787,"МБИ172","Бизнес-информатика","Бюдж",{"$f":"MATCH(D31,Данные!$D$1:$D$65536,0)","v":97},573,121,14,{"$f":"IF(K31 > 0,J31/K31,0)","v":8.6428571428571423},{"$f":"MIN($O31:DB31)","v":6},20,null,null,null,9,8,null,9,6,null,null,null,null,null,null,8,null,null,null,null,8,null,null,null,null,null,null,null,null,null,null,10,9,null,null,null,null,null,null,null,9,null,null,null,null,null,null,null,null,9,null,null,null,null,null,null,null,null,8,null,null,null,null,null,null,null,null,null,null,null,null,null,null,null,null,null,null,null,null,null,null,null,null,null,null,10,9,9]
[21,"М171МСБДН018","Шубина Виктория Ильинична",1937366394,"МБД171","Системы больших данных","Бюдж",{"$f":"MATCH(D32,Данные!$D$1:$D$65536,0)","v":6},572,142,17,{"$f":"IF(K32 > 0,J32/K32,0)","v":8.3529411764705888},{"$f":"MIN($O32:DB32)","v":5},21,null,7,7,null,null,null,null,7,10,null,null,null,10,8,null,null,null,null,null,null,9,null,null,null,null,8,null,null,null,null,null,null,null,null,null,9,9,null,null,null,null,null,null,null,null,null,null,10,null,null,null,null,null,9,null,null,null,null,null,9,null,null,null,null,6,null,null,null,null,null,null,null,10,null,9,null,null,null,null,5]
["22 - 23","М171МУБЕЗ020","Смирнов Данил Вадимович",1937370596,"МИБ171","Управление информационной безопасностью","Бюдж",{"$f":"MATCH(D33,Данные!$D$1:$D$65536,0)","v":69},570,124,14,{"$f":"IF(K33 > 0,J33/K33,0)","v":8.8571428571428577},{"$f":"MIN($O33:DB33)","v":8},22,null,null,null,9,null,8,10,8,null,8,null,null,null,null,9,8,null,8,null,null,null,null,null,null,null,null,null,null,null,null,null,null,null,null,null,null,null,null,null,null,null,null,null,null,9,null,null,null,10,null,null,null,null,null,null,null,10,null,null,null,null,null,null,null,null,null,null,null,null,null,null,null,null,null,null,null,8,9,null,null,null,null,10]
[null,"М171МСБДН003","Гатина Эльмира Ринатовна",1937366366,"МБД171","Системы больших данных","Бюдж",{"$f":"MATCH(D34,Данные!$D$1:$D$65536,0)","v":22},570,145,17,{"$f":"IF(K34 > 0,J34/K34,0)","v":8.5294117647058822},{"$f":"MIN($O34:DB34)","v":6},23,null,10,8,null,null,null,null,9,8,null,null,null,9,8,null,null,null,null,null,null,9,null,null,null,null,7,null,null,null,null,null,null,null,null,6,null,8,null,null,null,null,null,null,null,null,null,null,9,null,null,null,null,null,8,null,null,null,null,null,8,null,null,null,null,8,null,null,null,null,null,null,null,10,null,10,null,null,null,null,10]
[24,"М171МБИИН018","Войнов Евгений Вадимович",1937363332,"МБИ171","Бизнес-информатика","Бюдж",{"$f":"MATCH(D35,Данные!$D$1:$D$65536,0)","v":54},568,119,14,{"$f":"IF(K35 > 0,J35/K35,0)","v":8.5},{"$f":"MIN($O35:DB35)","v":8},24,null,null,null,8,8,null,9,10,null,null,null,null,null,null,8,null,null,null,null,8,null,null,null,null,null,null,null,null,null,null,8,null,null,null,null,null,null,8,null,8,null,null,null,null,null,null,null,null,9,null,null,null,null,null,null,null,null,10,null,null,null,null,null,null,null,null,null,null,null,null,null,null,null,null,null,null,null,null,null,null,null,null,null,null,8,8,9]
[25,"М171МСБДН023","Обаляева Екатерина Ильинична",1940816199,"МБД171","Системы больших данных","Комм",{"$f":"MATCH(D36,Данные!$D$1:$D$65536,0)","v":5},565,143,17,{"$f":"IF(K36 > 0,J36/K36,0)","v":8.4117647058823533},{"$f":"MIN($O36:DB36)","v":4},25,null,10,9,null,null,null,null,10,8,null,null,null,8,8,null,null,null,null,null,null,9,null,null,null,null,8,null,null,null,null,null,null,null,null,8,null,8,null,null,null,null,null,null,null,null,null,null,8,null,null,null,null,null,8,null,null,null,null,null,8,null,null,null,null,10,null,null,null,null,null,null,null,10,null,9,null,null,null,null,4]
[26,"М171МЭЛБЗ023","Фахрова Дина Вадимовна",1937372985,"МЭБ171","Электронный бизнес","Бюдж",{"$f":"MATCH(D37,Данные!$D$1:$D$65536,0)","v":79},564,123,14,{"$f":"IF(K37 > 0,J37/K37,0)","v":8.7857142857142865},{"$f":"MIN($O37:DB37)","v":6},26,null,null,null,10,null,null,10,7,null,null,9,null,null,null,9,null,9,null,null,null,null,null,9,null,null,null,null,null,null,10,null,null,null,null,null,null,null,null,null,null,null,null,null,9,null,null,null,null,6,null,null,null,null,null,null,null,null,null,7,null,null,null,null,8,null,null,null,null,null,null,null,null,null,null,null,null,null,null,null,null,10,10]
[27,"М171МБИИН074","Матвиенко Андрей Кириллович",1940815773,"МБИ172","Бизнес-информатика","Бюдж",{"$f":"MATCH(D38,Данные!$D$1:$D$65536,0)","v":96},557,115,14,{"$f":"IF(K38 > 0,J38/K38,0)","v":8.2142857142857135},{"$f":"MIN($O38:DB38)","v":6},27,null,null,null,7,7,null,10,6,null,null,null,null,null,null,7,9,null,null,null,null,null,null,null,null,null,null,7,null,null,null,10,null,null,null,null,null,null,null,null,8,null,null,null,null,null,null,null,null,9,null,null,null,null,null,null,10,null,null,null,null,null,null,null,null,null,null,null,null,null,null,null,null,null,8,null,null,null,null,null,null,null,null,null,null,null,8,9]
["28 - 29","М171МУБЕЗ004","Гультяева Полина Николаевна",1937371178,"МИБ171","Управление информационной безопасностью","Бюдж",{"$f":"MATCH(D39,Данные!$D$1:$D$65536,0)","v":84},556,121,14,{"$f":"IF(K39 > 0,J39/K39,0)","v":8.6428571428571423},{"$f":"MIN($O39:DB39)","v":6},28,null,null,null,10,null,7,10,6,null,8,null,null,null,null,8,7,null,10,null,null,null,null,null,null,null,null,null,null,null,null,null,null,null,null,null,null,null,null,null,null,null,null,null,null,10,null,null,null,9,null,null,null,null,null,null,null,9,null,null,null,null,null,null,null,null,null,null,null,null,null,null,null,null,null,null,null,8,9,null,null,null,null,10]
[null,"М171МСБДН033","Штройхофэр Кристофер",1959612809,"МБД171","Системы больших данных","Бюдж",{"$f":"MATCH(D40,Данные!$D$1:$D$65536,0)","v":9},556,127,16,{"$f":"IF(K40 > 0,J40/K40,0)","v":7.9375},{"$f":"MIN($O40:DB40)","v":5},29,null,9,7,null,null,null,null,7,8,null,null,6,9,9,null,null,null,null,null,null,7,null,null,null,null,9,null,null,null,null,null,null,null,null,null,null,null,null,null,null,null,null,null,null,null,null,null,6,null,null,null,null,null,8,null,null,null,null,null,null,null,10,null,null,null,null,null,null,null,7,null,null,5,null,null,null,null,null,null,null,null,null,null,10,null,null,null,null,null,null,null,10]
[30,"М171МБИИН024","Григорьева Юлия Сергеевна",1937363811,"МБИ171","Бизнес-информатика","Бюдж",{"$f":"MATCH(D41,Данные!$D$1:$D$65536,0)","v":103},555,116,14,{"$f":"IF(K41 > 0,J41/K41,0)","v":8.2857142857142865},{"$f":"MIN($O41:DB41)","v":6},30,null,null,null,8,8,null,9,6,null,null,null,null,null,null,6,null,null,null,null,null,null,9,null,null,null,null,8,null,null,null,10,null,null,9,null,null,null,null,null,null,null,null,null,null,null,null,null,null,8,null,null,null,null,null,9,null,null,null,null,null,null,null,null,null,null,null,null,8,null,null,null,null,null,null,null,null,null,null,null,null,null,null,null,null,10,8]
["31 - 32","М171МЭЛБЗ005","Горобец Валерия Валентиновна",1937372998,"МЭБ171","Электронный бизнес","Бюдж",{"$f":"MATCH(D42,Данные!$D$1:$D$65536,0)","v":177},554,112,13,{"$f":"IF(K42 > 0,J42/K42,0)","v":8.615384615384615},{"$f":"MIN($O42:DB42)","v":6},31,null,null,null,null,null,null,8,8,null,null,9,null,null,null,6,null,8,null,null,null,null,null,9,null,null,null,null,null,null,8,null,null,null,null,null,null,null,null,null,null,null,null,null,10,null,null,null,null,10,null,null,null,null,null,null,null,null,null,9,null,null,null,null,10,null,null,null,null,null,null,null,null,null,null,null,null,null,null,7,null,null,10]
[null,"М171МСБДН016","Чувилина Анна Андреевна",1937366407,"МБД171","Системы больших данных","Бюдж",{"$f":"MATCH(D43,Данные!$D$1:$D$65536,0)","v":18},554,138,17,{"$f":"IF(K43 > 0,J43/K43,0)","v":8.117647058823529},{"$f":"MIN($O43:DB43)","v":4},32,null,7,9,null,null,null,null,9,9,null,null,null,9,9,null,null,null,null,null,null,9,null,null,null,null,9,null,null,null,null,null,null,null,null,4,null,9,null,null,null,null,null,null,null,null,null,null,8,null,null,null,null,null,9,null,null,null,null,null,8,null,null,null,null,9,null,null,null,null,null,null,null,8,null,8,null,null,null,null,5]
[33,"М171МЭЛБЗ018","Осипова Мария Андреевна",1937372757,"МЭБ171","Электронный бизнес","Бюдж",{"$f":"MATCH(D44,Данные!$D$1:$D$65536,0)","v":86},553,115,14,{"$f":"IF(K44 > 0,J44/K44,0)","v":8.2142857142857135},{"$f":"MIN($O44:DB44)","v":6},33,null,null,null,10,null,null,8,6,null,null,7,null,null,null,9,null,9,null,null,null,null,null,8,null,null,null,null,null,null,9,null,null,null,null,7,null,null,null,null,null,null,null,null,6,null,null,null,null,10,null,null,null,null,null,null,null,null,null,9,null,null,null,null,8,null,null,null,null,null,null,null,null,null,null,null,null,null,null,null,null,null,9]
[34,"М171МСБДН013","Сысоев Марк Валерьевич",1937366436,"МБД171","Системы больших данных","Бюдж",{"$f":"MATCH(D45,Данные!$D$1:$D$65536,0)","v":24},552,140,17,{"$f":"IF(K45 > 0,J45/K45,0)","v":8.235294117647058},{"$f":"MIN($O45:DB45)","v":6},34,null,8,8,null,null,null,null,8,8,null,null,null,7,9,null,null,null,null,null,null,9,null,null,null,null,10,null,null,null,null,null,null,null,null,7,null,8,null,null,null,null,null,null,null,null,null,null,10,null,null,null,null,null,8,null,null,null,null,null,8,null,null,null,null,7,null,null,null,10,null,null,null,6,null,9]
[35,"М171МБИИН086","Мельникова Анастасия Игоревна",1941989160,"МБИ172","Бизнес-информатика","Комм",{"$f":"MATCH(D46,Данные!$D$1:$D$65536,0)","v":99},550,115,14,{"$f":"IF(K46 > 0,J46/K46,0)","v":8.2142857142857135},{"$f":"MIN($O46:DB46)","v":6},35,null,null,null,8,8,null,8,8,null,null,null,null,null,null,10,null,null,null,null,8,null,null,null,null,null,null,null,null,null,null,8,null,null,null,null,null,null,8,null,8,null,null,null,null,null,null,null,null,9,null,null,null,null,null,null,null,null,10,null,null,null,null,null,null,null,null,null,null,null,null,null,null,null,null,null,null,null,null,null,null,null,null,null,null,7,6,9]
[36,"М171МЭЛБЗ003","Бадамова Екатерина Дмитриевна",1937372729,"МЭБ171","Электронный бизнес","Бюдж",{"$f":"MATCH(D47,Данные!$D$1:$D$65536,0)","v":191},549,113,13,{"$f":"IF(K47 > 0,J47/K47,0)","v":8.6923076923076916},{"$f":"MIN($O47:DB47)","v":8},36,null,null,null,null,null,null,8,8,null,null,8,null,null,null,9,null,9,null,null,null,null,null,8,null,null,null,null,null,10,10,null,null,null,null,null,null,null,null,null,null,null,null,null,8,null,null,null,null,8,null,null,null,null,null,null,null,null,null,9,null,null,null,null,8,null,null,null,null,null,null,null,null,null,null,null,null,null,null,null,null,null,10]
[37,"М171МСБДН022","Иванов Никита Павлович",1940816150,"МБД171","Системы больших данных","Комм",{"$f":"MATCH(D48,Данные!$D$1:$D$65536,0)","v":423},547,137,16,{"$f":"IF(K48 > 0,J48/K48,0)","v":8.5625},{"$f":"MIN($O48:DB48)","v":6},37,null,null,null,null,null,null,null,8,9,null,null,null,9,9,null,null,null,null,null,null,8,null,null,null,null,8,null,null,null,null,null,null,null,null,8,null,9,null,null,null,null,null,null,null,null,null,null,9,null,null,null,null,null,8,null,null,null,null,null,9,null,null,null,null,6,null,10,null,null,null,null,null,10,null,9,null,null,null,null,8]
[38,"М171МЭЛБЗ008","Калинин Дмитрий Владимирович",1937372783,"МЭБ171","Электронный бизнес","Бюдж",{"$f":"MATCH(D49,Данные!$D$1:$D$65536,0)","v":87},545,115,14,{"$f":"IF(K49 > 0,J49/K49,0)","v":8.2142857142857135},{"$f":"MIN($O49:DB49)","v":6},38,null,null,null,10,null,null,10,7,null,null,8,null,null,null,8,null,8,null,null,null,null,null,7,null,null,null,null,null,null,8,null,null,null,null,null,null,null,null,null,null,null,null,null,8,null,null,null,null,8,null,null,null,null,null,null,null,null,null,9,null,null,null,null,8,null,null,null,null,null,null,null,null,null,null,null,null,null,null,null,null,null,10,null,null,null,null,null,null,6]
["39 - 40","М171МБИИН030","Калашников Сергей Владимирович",1937364001,"МБИ172","Бизнес-информатика","Бюдж",{"$f":"MATCH(D50,Данные!$D$1:$D$65536,0)","v":266},544,107,12,{"$f":"IF(K50 > 0,J50/K50,0)","v":8.9166666666666661},{"$f":"MIN($O50:DB50)","v":7},39,null,null,null,null,null,null,10,8,null,null,null,null,null,null,9,null,null,null,null,8,null,null,null,null,null,null,null,null,null,null,10,null,null,8,7,null,null,null,null,null,null,null,null,null,null,null,null,null,9,null,null,null,null,null,null,null,null,10,null,null,null,null,null,null,null,null,null,null,null,null,null,null,null,null,null,null,null,null,null,null,null,null,null,null,10,9,9]
[null,"М171МБИИН045","Медведева Мария Вячеславовна",1937364137,"МБИ172","Бизнес-информатика","Бюдж",{"$f":"MATCH(D51,Данные!$D$1:$D$65536,0)","v":60},544,115,14,{"$f":"IF(K51 > 0,J51/K51,0)","v":8.2142857142857135},{"$f":"MIN($O51:DB51)","v":5},40,null,null,null,9,8,null,9,7,null,null,null,null,null,null,5,null,null,null,null,null,null,null,null,null,null,null,null,8,null,null,10,null,null,null,null,null,null,null,null,8,null,null,null,null,null,null,null,null,8,null,null,null,null,null,null,null,null,8,null,null,null,null,null,null,null,null,null,null,null,null,null,null,null,null,null,null,null,null,null,null,null,null,null,null,10,8,9,8]
["41 - 42","М171МЭЛБЗ002","Бабаджанян Армен Кароевич",1937372839,"МЭБ171","Электронный бизнес","Бюдж",{"$f":"MATCH(D52,Данные!$D$1:$D$65536,0)","v":182},543,111,13,{"$f":"IF(K52 > 0,J52/K52,0)","v":8.5384615384615383},{"$f":"MIN($O52:DB52)","v":7},41,null,null,null,null,null,null,10,8,null,null,8,null,null,null,8,null,9,null,null,null,null,null,8,7,null,null,null,null,null,9,null,null,null,null,null,null,null,null,null,null,null,null,null,9,null,null,null,null,9,null,null,null,null,null,null,null,null,null,9,null,null,null,null,9,null,null,null,null,null,null,null,null,null,null,null,null,null,null,null,null,null,8]
[null,"М171МУБЕЗ002","Бочарова Ксения Михайловна",1937370385,"МИБ171","Управление информационной безопасностью","Бюдж",{"$f":"MATCH(D53,Данные!$D$1:$D$65536,0)","v":74},543,117,14,{"$f":"IF(K53 > 0,J53/K53,0)","v":8.3571428571428577},{"$f":"MIN($O53:DB53)","v":5},42,null,null,null,10,null,8,9,5,null,8,null,null,null,null,7,null,null,6,null,null,null,null,null,null,null,null,null,null,null,null,null,null,null,null,null,null,null,null,null,null,null,null,null,null,9,null,null,null,10,null,null,null,null,null,null,null,10,null,null,null,null,null,9,null,null,null,null,null,null,null,null,null,null,null,null,null,8,8,null,null,null,null,10]
[43,"М171МБИИН048","Новицкая Валерия Андреевна",1937363587,"МБИ173","Бизнес-информатика","Бюдж",{"$f":"MATCH(D54,Данные!$D$1:$D$65536,0)","v":232},541,106,12,{"$f":"IF(K54 > 0,J54/K54,0)","v":8.8333333333333339},{"$f":"MIN($O54:DB54)","v":6},43,null,null,null,null,null,null,9,6,null,null,null,null,null,null,9,null,null,null,null,9,null,null,null,null,null,null,null,null,null,null,10,null,null,null,null,null,null,null,9,7,null,null,null,null,null,null,null,null,10,null,null,null,null,null,null,10,null,null,null,null,null,null,null,null,null,null,null,null,null,null,null,null,null,null,null,null,null,null,null,null,null,null,null,null,10,8,9]
[44,"М171МЭЛБЗ021","Смирнов Константин Борисович",1937372893,"МЭБ171","Электронный бизнес","Бюдж",{"$f":"MATCH(D55,Данные!$D$1:$D$65536,0)","v":83},540,116,14,{"$f":"IF(K55 > 0,J55/K55,0)","v":8.2857142857142865},{"$f":"MIN($O55:DB55)","v":6},44,null,null,null,9,null,null,9,7,null,null,10,null,null,null,9,null,8,null,null,null,null,null,9,null,null,null,null,null,null,8,null,null,null,null,null,null,null,null,9,null,null,null,null,6,null,null,null,null,8,null,null,null,null,null,null,null,null,null,8,null,null,null,null,8,null,null,null,null,null,null,null,null,null,null,null,null,null,null,null,null,null,8]
[45,"М171МСБДН010","Пахолкова Анна Юрьевна",1937366259,"МБД171","Системы больших данных","Бюдж",{"$f":"MATCH(D56,Данные!$D$1:$D$65536,0)","v":348},539,134,15,{"$f":"IF(K56 > 0,J56/K56,0)","v":8.9333333333333336},{"$f":"MIN($O56:DB56)","v":6},45,null,null,null,null,null,null,null,10,10,null,null,null,8,9,null,null,null,null,null,null,8,null,null,null,null,10,null,null,null,null,null,null,null,null,null,null,9,null,null,null,null,null,null,null,null,null,null,10,null,null,null,null,null,8,null,null,null,null,null,9,null,null,null,null,null,10,null,null,null,null,null,null,10,null,10,null,null,null,null,6,null,null,null,null,null,null,null,null,null,7]
["46 - 48","М171МБИИН016","Бутченко Антон Олегович",1937364220,"МБИ171","Бизнес-информатика","Бюдж",{"$f":"MATCH(D57,Данные!$D$1:$D$65536,0)","v":63},538,113,14,{"$f":"IF(K57 > 0,J57/K57,0)","v":8.0714285714285712},{"$f":"MIN($O57:DB57)","v":6},46,null,null,null,8,8,null,10,7,null,null,null,null,null,null,6,null,null,null,null,6,null,null,null,null,null,null,null,null,null,null,10,null,null,null,null,null,null,null,null,8,null,null,null,null,null,null,null,null,9,null,null,null,null,null,null,null,null,9,null,null,null,null,null,null,null,null,null,null,null,null,null,null,null,null,null,null,null,null,null,null,null,null,null,null,10,7,7,null,8]
[null,"М171МСБДН025","Садыкова Сабина Бахтияровна",1940816117,"МБД171","Системы больших данных","Комм",{"$f":"MATCH(D58,Данные!$D$1:$D$65536,0)","v":23},538,135,17,{"$f":"IF(K58 > 0,J58/K58,0)","v":7.9411764705882355},{"$f":"MIN($O58:DB58)","v":6},47,null,7,8,null,null,null,null,7,9,null,null,null,8,8,null,null,null,null,null,null,8,null,null,null,null,8,null,null,null,null,null,null,null,null,6,null,9,null,null,null,null,null,null,null,null,null,null,8,null,null,9,null,null,8,null,null,null,null,null,null,null,null,null,null,6,null,null,null,null,null,null,null,10,null,9,null,null,null,null,7]
[null,"М171МСБДН012","Рахимов Севастьян Эдуардович",1937366317,"МБД171","Системы больших данных","Бюдж",{"$f":"MATCH(D59,Данные!$D$1:$D$65536,0)","v":20},538,134,17,{"$f":"IF(K59 > 0,J59/K59,0)","v":7.882352941176471},{"$f":"MIN($O59:DB59)","v":4},48,null,7,7,null,null,null,null,9,10,null,null,null,9,8,null,null,null,null,null,null,10,null,null,null,null,8,null,null,null,null,null,null,null,null,5,null,9,null,null,null,null,null,null,null,null,null,null,8,null,null,null,null,null,8,null,null,null,null,null,9,null,null,null,null,6,null,null,null,9,null,null,null,8,null,null,null,null,null,null,4]
["49 - 50","М171МУБЕЗ010","Михеева Вероника Вячеславовна",1937370436,"МИБ171","Управление информационной безопасностью","Бюдж",{"$f":"MATCH(D60,Данные!$D$1:$D$65536,0)","v":77},537,119,14,{"$f":"IF(K60 > 0,J60/K60,0)","v":8.5},{"$f":"MIN($O60:DB60)","v":6},49,null,null,null,9,null,8,8,6,null,10,null,null,null,null,6,10,null,10,null,null,null,null,null,null,null,null,null,null,null,null,null,null,null,null,null,null,null,null,null,null,null,null,null,null,10,null,null,null,8,null,null,null,null,null,null,null,8,null,null,null,null,null,null,null,null,null,null,null,null,null,null,null,null,null,null,null,8,8,null,null,null,null,10]
[null,"М171МСБДН029","Ержанова Тогжан",1942007946,"МБД171","Системы больших данных","Бюдж",{"$f":"MATCH(D61,Данные!$D$1:$D$65536,0)","v":7},537,134,17,{"$f":"IF(K61 > 0,J61/K61,0)","v":7.882352941176471},{"$f":"MIN($O61:DB61)","v":5},50,null,8,7,null,null,null,null,8,9,null,null,null,9,9,null,null,null,null,9,null,9,null,null,null,null,8,null,null,null,null,null,null,null,null,null,null,8,null,null,null,null,null,null,null,null,null,null,10,null,null,null,null,null,8,null,null,null,null,null,7,null,null,null,null,6,null,null,null,null,null,null,null,8,null,6,null,null,null,null,5]
[51,"М171МСБДН011","Полушин Глеб Валерьевич",1937366380,"МБД171","Системы больших данных","Бюдж",{"$f":"MATCH(D62,Данные!$D$1:$D$65536,0)","v":342},536,131,15,{"$f":"IF(K62 > 0,J62/K62,0)","v":8.7333333333333325},{"$f":"MIN($O62:DB62)","v":8},51,null,null,null,null,null,null,null,8,8,null,null,null,8,8,null,null,null,null,null,null,10,null,null,null,null,8,null,null,null,null,null,null,null,null,9,null,9,null,null,null,null,null,null,null,null,null,null,9,null,null,10,null,null,9,null,null,null,null,null,8,null,null,null,null,9,null,null,null,null,null,null,null,10,null,8]
[52,"М171МСБДН004","Дмитриев Виктор Андреевич",1937366244,"МБД171","Системы больших данных","Бюдж",{"$f":"MATCH(D63,Данные!$D$1:$D$65536,0)","v":347},531,132,15,{"$f":"IF(K63 > 0,J63/K63,0)","v":8.8000000000000007},{"$f":"MIN($O63:DB63)","v":6},52,null,null,null,null,null,null,null,10,9,null,null,null,8,6,null,null,null,null,null,null,8,null,null,null,null,10,null,null,null,null,null,null,null,null,null,null,9,null,null,null,null,null,null,null,null,null,null,10,null,null,null,null,null,8,null,null,null,null,null,9,null,null,null,null,null,10,null,null,null,null,null,null,10,null,10,null,null,null,null,7,null,null,null,null,null,null,null,null,null,8]
[53,"М171МБИИН055","Ригин Алексей Алексеевич",1937363758,"МБИ173","Бизнес-информатика","Бюдж",{"$f":"MATCH(D64,Данные!$D$1:$D$65536,0)","v":274},530,107,12,{"$f":"IF(K64 > 0,J64/K64,0)","v":8.9166666666666661},{"$f":"MIN($O64:DB64)","v":7},53,null,null,null,null,null,null,10,8,null,null,null,null,null,null,9,null,null,null,null,9,null,null,null,null,null,null,null,null,null,null,10,null,null,null,null,null,null,null,null,7,null,null,9,null,null,null,null,null,10,null,null,null,null,null,null,null,null,8,null,null,null,null,null,null,null,null,null,null,null,null,null,null,null,null,null,null,null,null,null,null,null,null,null,null,10,8,9]
["54 - 55","М171МБИИН032","Карнаух Егор Сергеевич",1937364071,"МБИ172","Бизнес-информатика","Бюдж",{"$f":"MATCH(D65,Данные!$D$1:$D$65536,0)","v":249},528,105,12,{"$f":"IF(K65 > 0,J65/K65,0)","v":8.75},{"$f":"MIN($O65:DB65)","v":7},54,null,null,null,null,null,null,10,8,null,null,null,null,null,null,8,null,null,null,null,null,null,null,null,null,null,null,null,7,null,null,null,null,null,null,null,null,null,null,null,8,null,10,null,null,null,null,null,null,9,null,null,null,null,null,9,null,null,null,null,null,null,null,null,null,null,null,null,9,null,null,null,null,null,10,null,null,null,null,null,null,null,null,null,null,null,9,null,null,8]
[null,"М171МСБДН026","Семес Алексей Владимирович",1940751998,"МБД171","Системы больших данных","Комм",{"$f":"MATCH(D66,Данные!$D$1:$D$65536,0)","v":19},528,134,17,{"$f":"IF(K66 > 0,J66/K66,0)","v":7.882352941176471},{"$f":"MIN($O66:DB66)","v":5},55,null,8,8,null,null,null,null,9,9,null,null,null,9,7,null,null,null,null,8,null,8,null,null,null,null,8,null,null,null,null,null,null,null,null,null,null,8,null,null,null,null,null,null,null,null,null,null,8,null,null,null,null,null,7,null,null,null,null,null,null,null,null,null,null,6,null,null,null,10,null,null,null,8,null,8,null,null,null,null,5]
[56,"М171МБИИН068","Черепнина Дарья Олеговна",1937363495,"МБИ173","Бизнес-информатика","Бюдж",{"$f":"MATCH(D67,Данные!$D$1:$D$65536,0)","v":50},526,111,14,{"$f":"IF(K67 > 0,J67/K67,0)","v":7.9285714285714288},{"$f":"MIN($O67:DB67)","v":4},56,null,null,null,10,8,null,10,4,null,null,null,null,null,null,8,null,null,null,null,8,null,null,null,null,null,null,null,6,null,null,null,null,null,null,null,null,null,null,null,8,null,8,null,null,null,null,null,null,8,null,null,null,null,null,null,null,null,8,null,null,null,null,null,null,null,null,null,null,null,null,null,null,null,null,null,null,null,null,7,null,null,null,null,null,null,9,9]
["57 - 58","М171МБИИН041","Лиховцев Вадим Александрович",1937363838,"МБИ172","Бизнес-информатика","Бюдж",{"$f":"MATCH(D68,Данные!$D$1:$D$65536,0)","v":225},525,103,12,{"$f":"IF(K68 > 0,J68/K68,0)","v":8.5833333333333339},{"$f":"MIN($O68:DB68)","v":5},57,null,null,null,null,null,null,9,5,null,null,null,null,null,null,7,null,null,null,null,8,null,null,null,null,null,null,9,null,null,null,10,null,null,null,null,null,null,null,null,9,null,null,null,null,null,null,null,null,8,null,null,null,null,null,9,null,null,null,null,null,null,null,null,null,null,null,null,null,null,null,null,9,null,null,null,null,null,null,null,null,null,null,null,null,10,10]
[null,"М171МБИИН078","Овсянникова Ольга Андреевна",1940751185,"МБИ173","Бизнес-информатика","Комм",{"$f":"MATCH(D69,Данные!$D$1:$D$65536,0)","v":93},525,110,14,{"$f":"IF(K69 > 0,J69/K69,0)","v":7.8571428571428568},{"$f":"MIN($O69:DB69)","v":5},58,null,null,null,9,8,null,9,7,null,null,null,null,null,null,8,null,null,null,null,7,null,null,null,null,null,null,null,null,null,null,10,null,null,null,null,null,null,null,null,5,null,null,null,null,null,null,null,null,8,null,null,null,null,null,null,null,null,9,null,null,null,null,null,null,null,null,null,null,null,null,null,null,null,null,null,null,null,null,null,null,null,null,null,null,10,6,9,null,5]
[59,"М171МСБДН028","Ширяева Кристина Александровна",1940816171,"МБД171","Системы больших данных","Комм",{"$f":"MATCH(D70,Данные!$D$1:$D$65536,0)","v":452},522,130,16,{"$f":"IF(K70 > 0,J70/K70,0)","v":8.125},{"$f":"MIN($O70:DB70)","v":6},59,null,null,null,null,null,null,null,7,9,null,null,null,9,8,null,null,null,null,null,null,9,null,null,null,null,8,null,null,null,null,null,null,null,null,7,null,9,null,null,null,null,null,null,null,null,null,null,6,null,null,null,null,null,8,null,null,null,null,null,9,null,null,null,null,6,null,10,null,null,null,null,null,10,null,8,null,null,null,null,7]
[60,"М171МСБДН006","Иванова Анастасия Михайловна",1937366273,"МБД171","Системы больших данных","Бюдж",{"$f":"MATCH(D71,Данные!$D$1:$D$65536,0)","v":349},521,125,15,{"$f":"IF(K71 > 0,J71/K71,0)","v":8.3333333333333339},{"$f":"MIN($O71:DB71)","v":4},60,null,null,null,null,null,null,null,8,9,null,null,null,9,9,null,null,null,null,null,null,8,null,null,null,null,10,null,null,null,null,null,null,null,null,null,null,8,null,null,null,null,null,null,null,null,null,null,10,null,null,9,null,null,9,null,null,null,null,null,8,null,null,null,null,8,null,null,null,null,null,null,null,10,null,6,null,null,null,null,null,null,null,null,null,null,null,null,null,null,4]
[61,"М171МБИИН029","Захаров Алексей Александрович",1937363666,"МБИ172","Бизнес-информатика","Бюдж",{"$f":"MATCH(D72,Данные!$D$1:$D$65536,0)","v":267},520,104,12,{"$f":"IF(K72 > 0,J72/K72,0)","v":8.6666666666666661},{"$f":"MIN($O72:DB72)","v":7},61,null,null,null,null,null,null,9,7,null,null,null,null,null,null,10,null,null,null,null,8,null,null,null,null,null,null,null,null,null,null,10,null,null,7,8,null,null,null,null,null,null,null,null,null,null,null,null,null,9,null,null,null,null,null,null,null,null,8,null,null,null,null,null,null,null,null,null,null,null,null,null,null,null,null,null,null,null,null,null,null,null,null,null,null,10,9,9]
["62 - 63","М171МБИИН065","Токарев Иван Максимович",1937363399,"МБИ173","Бизнес-информатика","Бюдж",{"$f":"MATCH(D73,Данные!$D$1:$D$65536,0)","v":243},518,103,12,{"$f":"IF(K73 > 0,J73/K73,0)","v":8.5833333333333339},{"$f":"MIN($O73:DB73)","v":6},62,null,null,null,null,null,null,9,6,null,null,null,null,null,null,8,null,null,null,null,8,null,null,null,null,null,null,null,null,null,null,10,null,null,null,null,null,null,null,null,7,null,null,null,null,null,null,null,null,9,null,null,null,null,null,null,null,null,8,null,null,null,null,null,null,null,null,null,null,null,null,null,9,null,null,null,null,null,null,null,null,null,null,null,null,10,10,9]
[null,"М171МБИИН057","Салтыкова Екатерина Андреевна",1937363413,"МБИ173","Бизнес-информатика","Бюдж",{"$f":"MATCH(D74,Данные!$D$1:$D$65536,0)","v":56},518,112,14,{"$f":"IF(K74 > 0,J74/K74,0)","v":8},{"$f":"MIN($O74:DB74)","v":5},63,null,null,null,10,8,null,10,7,null,null,null,null,null,null,8,null,null,null,null,null,null,null,null,null,null,null,8,null,null,null,10,null,null,8,6,null,null,null,null,null,null,null,null,null,null,null,null,null,5,null,null,null,null,null,7,null,null,null,null,null,null,null,null,null,null,null,null,7,null,null,null,null,null,null,null,null,null,null,null,null,null,null,null,null,10,8]
[64,"М171МУБЕЗ014","Петрина Матвей Олегович",1937370498,"МИБ171","Управление информационной безопасностью","Бюдж",{"$f":"MATCH(D75,Данные!$D$1:$D$65536,0)","v":137},517,109,13,{"$f":"IF(K75 > 0,J75/K75,0)","v":8.384615384615385},{"$f":"MIN($O75:DB75)","v":6},64,null,null,null,null,null,7,8,6,null,9,null,null,null,null,9,null,null,8,null,null,null,null,null,null,null,null,null,null,null,null,null,null,null,null,null,null,null,null,null,null,null,null,null,null,10,null,null,null,8,null,null,null,null,null,null,null,9,null,null,null,null,null,8,null,null,null,null,null,null,null,null,null,null,null,null,null,8,9,null,null,null,null,10]
[65,"М171МСБДН015","Ферягина Екатерина Андреевна",1937366302,"МБД171","Системы больших данных","Бюдж",{"$f":"MATCH(D76,Данные!$D$1:$D$65536,0)","v":351},516,125,15,{"$f":"IF(K76 > 0,J76/K76,0)","v":8.3333333333333339},{"$f":"MIN($O76:DB76)","v":5},65,null,null,null,null,null,null,null,8,9,null,null,null,9,8,null,null,null,null,null,null,9,null,null,null,null,8,null,null,null,null,null,null,null,null,7,null,8,null,null,null,null,null,null,null,null,null,null,8,null,null,10,null,null,9,null,null,null,null,null,null,null,null,null,null,9,null,null,null,null,null,null,null,10,null,8,null,null,null,null,5]
[66,"М171МБИИН063","Сухова Ксения Игоревна",1937364177,"МБИ173","Бизнес-информатика","Бюдж",{"$f":"MATCH(D77,Данные!$D$1:$D$65536,0)","v":62},514,111,14,{"$f":"IF(K77 > 0,J77/K77,0)","v":7.9285714285714288},{"$f":"MIN($O77:DB77)","v":6},66,null,null,null,10,8,null,10,6,null,null,null,null,null,null,7,8,null,null,null,8,null,null,null,null,null,null,null,7,null,null,null,null,null,null,null,null,null,null,null,7,null,null,null,null,null,null,null,null,7,null,null,null,null,null,null,7,null,null,null,null,null,null,null,null,null,null,null,8,null,null,null,null,null,null,null,null,null,null,null,null,null,null,null,null,10,8]
[67,"М171МЭЛБЗ027","Кондращенко Ярослав Константинович",1940816486,"МЭБ171","Электронный бизнес","Комм",{"$f":"MATCH(D78,Данные!$D$1:$D$65536,0)","v":199},510,104,13,{"$f":"IF(K78 > 0,J78/K78,0)","v":8},{"$f":"MIN($O78:DB78)","v":7},67,null,null,null,null,null,null,9,8,null,null,7,null,null,null,7,null,7,null,null,null,null,null,8,null,null,null,null,null,null,8,null,null,null,null,null,null,null,null,null,null,null,null,null,8,null,null,null,null,8,null,null,null,null,null,null,null,null,null,9,null,null,null,8,7,null,null,null,null,null,null,null,null,null,null,null,null,null,null,null,null,null,10]
["68 - 69","М171МБИИН046","Миллер Кирилл Александрович",1937364163,"МБИ172","Бизнес-информатика","Бюдж",{"$f":"MATCH(D79,Данные!$D$1:$D$65536,0)","v":254},509,101,12,{"$f":"IF(K79 > 0,J79/K79,0)","v":8.4166666666666661},{"$f":"MIN($O79:DB79)","v":6},68,null,null,null,null,null,null,9,6,null,null,null,null,null,null,7,10,null,null,null,8,null,null,null,null,null,null,null,null,null,null,10,null,null,null,null,null,null,null,null,9,null,null,null,null,null,null,null,null,8,null,null,null,null,null,null,null,null,9,null,null,null,null,null,null,null,null,null,8,null,null,null,null,null,null,null,null,null,null,null,null,null,null,null,null,null,8,9]
[null,"М171МБИИН017","Вишняков Азим Азимович",1937364123,"МБИ171","Бизнес-информатика","Бюдж",{"$f":"MATCH(D80,Данные!$D$1:$D$65536,0)","v":59},509,108,14,{"$f":"IF(K80 > 0,J80/K80,0)","v":7.7142857142857144},{"$f":"MIN($O80:DB80)","v":4},69,null,null,null,9,8,null,8,10,null,null,null,null,null,null,8,null,null,null,null,4,null,null,null,null,null,null,null,null,null,null,8,null,null,null,null,null,null,null,null,7,null,null,null,null,null,null,null,null,9,null,null,null,null,null,null,null,null,9,null,null,null,null,null,null,null,null,null,null,null,null,null,null,null,null,null,null,null,null,null,null,7,null,null,null,7,7,7]
[70,"М171МСБДН007","Ильяшенко Григорий Анатольевич",1937366203,"МБД171","Системы больших данных","Бюдж",{"$f":"MATCH(D81,Данные!$D$1:$D$65536,0)","v":360},508,125,15,{"$f":"IF(K81 > 0,J81/K81,0)","v":8.3333333333333339},{"$f":"MIN($O81:DB81)","v":6},70,null,null,null,null,null,null,null,10,6,null,null,null,7,6,null,null,null,null,null,null,10,null,null,null,null,7,null,null,null,null,null,null,null,null,8,null,8,null,null,null,null,null,null,null,null,null,null,9,null,null,null,null,null,8,null,null,null,null,null,null,null,null,null,null,10,null,null,null,10,null,null,null,10,null,8,null,null,null,null,8]
[71,"М171МБИИН066","Улямаев Альберт Ирекович",1937363613,"МБИ173","Бизнес-информатика","Бюдж",{"$f":"MATCH(D82,Данные!$D$1:$D$65536,0)","v":234},507,101,12,{"$f":"IF(K82 > 0,J82/K82,0)","v":8.4166666666666661},{"$f":"MIN($O82:DB82)","v":7},71,null,null,null,null,null,null,9,7,null,null,null,null,null,null,8,null,null,null,null,8,null,null,null,null,null,null,null,null,null,null,9,null,null,null,null,null,null,null,null,7,null,null,null,null,null,null,null,null,9,null,null,null,null,null,null,null,null,8,null,null,null,null,null,null,null,null,null,null,null,null,null,8,null,null,null,null,null,null,null,null,null,null,null,null,10,9,9]
["72 - 73","М171МБИИН011","Белова Евгения Александровна",1937363904,"МБИ171","Бизнес-информатика","Бюдж",{"$f":"MATCH(D83,Данные!$D$1:$D$65536,0)","v":61},506,109,14,{"$f":"IF(K83 > 0,J83/K83,0)","v":7.7857142857142856},{"$f":"MIN($O83:DB83)","v":6},72,null,null,null,8,8,null,10,7,null,null,null,null,null,null,6,null,null,null,null,null,null,null,null,null,null,null,7,null,null,null,10,null,null,8,null,null,null,null,null,7,9,null,null,null,null,null,null,null,8,null,null,null,null,null,7,null,null,null,null,null,null,null,null,null,null,null,null,6,null,null,null,null,null,null,null,null,null,null,null,null,null,null,null,null,null,8]
[null,"М171МСБДН036","Ислам Эмди Шафикул",1972663851,"МБД171","Системы больших данных","Комм",{"$f":"MATCH(D84,Данные!$D$1:$D$65536,0)","v":15},506,129,17,{"$f":"IF(K84 > 0,J84/K84,0)","v":7.5882352941176467},{"$f":"MIN($O84:DB84)","v":5},73,null,7,7,null,null,null,null,8,8,null,null,null,10,8,null,null,null,null,6,null,9,null,null,null,null,7,null,null,null,null,null,null,null,null,null,null,9,null,null,null,null,null,null,null,null,null,null,5,null,null,null,null,null,7,null,null,null,null,null,10,null,null,null,null,7,null,null,null,null,null,null,null,7,null,9,null,null,null,null,5]
[74,"М171МЭЛБЗ007","Джаббарова Лейла Мехман гызы",1937372743,"МЭБ171","Электронный бизнес","Бюдж",{"$f":"MATCH(D85,Данные!$D$1:$D$65536,0)","v":85},504,108,14,{"$f":"IF(K85 > 0,J85/K85,0)","v":7.7142857142857144},{"$f":"MIN($O85:DB85)","v":6},74,null,null,null,10,null,null,9,7,null,null,10,null,null,null,7,null,8,null,null,null,null,null,8,null,null,null,null,null,null,8,null,null,6,null,null,null,null,null,null,null,null,null,null,6,null,null,null,null,7,null,null,null,null,null,null,null,null,null,8,null,null,null,null,8,null,null,null,null,null,null,null,null,null,null,null,null,null,null,null,null,null,6]
["75 - 76","М171МУБЕЗ012","Оленева Валерия Александровна",1937370536,"МИБ171","Управление информационной безопасностью","Бюдж",{"$f":"MATCH(D86,Данные!$D$1:$D$65536,0)","v":67},503,113,14,{"$f":"IF(K86 > 0,J86/K86,0)","v":8.0714285714285712},{"$f":"MIN($O86:DB86)","v":5},75,null,null,null,9,null,10,9,5,null,10,null,null,null,null,8,null,null,7,null,null,null,null,null,null,null,null,null,null,null,null,null,8,null,null,null,null,null,null,null,null,null,null,null,null,7,null,null,null,8,null,null,null,null,null,null,null,8,null,null,null,null,null,null,null,null,null,null,null,null,null,null,null,null,null,null,null,6,8,null,null,null,null,10]
[null,"М171МБИИН081","Щеголев Андрей Александрович",1940815759,"МБИ173","Бизнес-информатика","Бюдж",{"$f":"MATCH(D87,Данные!$D$1:$D$65536,0)","v":95},503,109,14,{"$f":"IF(K87 > 0,J87/K87,0)","v":7.7857142857142856},{"$f":"MIN($O87:DB87)","v":6},76,null,null,null,10,8,null,9,8,null,null,null,null,null,null,6,8,null,null,null,null,null,null,null,null,null,null,7,7,null,null,null,null,null,7,null,null,null,null,null,null,null,8,null,null,null,null,null,null,6,null,null,null,null,null,7,null,null,null,null,null,null,null,null,null,null,null,null,9,null,null,null,null,null,null,null,null,null,null,null,null,null,null,null,null,null,9]
[77,"М171МБИИН062","Стогова Анастасия Германовна",1937363693,"МБИ173","Бизнес-информатика","Бюдж",{"$f":"MATCH(D88,Данные!$D$1:$D$65536,0)","v":269},502,101,12,{"$f":"IF(K88 > 0,J88/K88,0)","v":8.4166666666666661},{"$f":"MIN($O88:DB88)","v":6},77,null,null,null,null,null,null,10,6,null,null,null,null,null,null,8,null,null,null,null,null,null,null,null,null,null,null,9,null,null,null,null,null,null,null,null,null,null,null,null,7,8,null,null,null,null,null,null,null,10,null,null,null,null,null,null,7,null,null,null,null,null,null,null,null,null,null,null,null,null,null,null,null,null,9,null,null,null,null,null,null,null,null,null,null,10,8,9]
[78,"М171МСБДН032","Фаур Назим Ахмад",1950215429,"МБД171","Системы больших данных","Комм",{"$f":"MATCH(D89,Данные!$D$1:$D$65536,0)","v":13},500,125,17,{"$f":"IF(K89 > 0,J89/K89,0)","v":7.3529411764705879},{"$f":"MIN($O89:DB89)","v":4},78,null,9,6,null,null,null,null,7,7,null,null,null,9,5,null,null,null,null,7,null,9,null,null,null,null,8,null,null,null,null,null,null,null,null,null,null,6,null,null,null,null,null,null,null,null,null,null,9,null,null,null,null,10,6,null,null,null,null,null,null,null,null,null,null,6,null,null,null,null,null,null,null,10,null,7,null,null,null,null,4]
[79,"М171МЭЛБЗ020","Семенкович Софья Алексеевна",1937372866,"МЭБ171","Электронный бизнес","Бюдж",{"$f":"MATCH(D90,Данные!$D$1:$D$65536,0)","v":184},499,101,13,{"$f":"IF(K90 > 0,J90/K90,0)","v":7.7692307692307692},{"$f":"MIN($O90:DB90)","v":6},79,null,null,null,null,null,null,9,6,null,null,7,null,null,null,6,null,7,null,null,null,null,null,7,null,null,null,null,null,null,9,null,null,null,null,null,null,null,null,null,null,null,null,null,7,null,null,null,null,10,null,null,null,null,null,null,null,null,null,9,null,null,null,9,6,null,null,null,null,null,null,null,null,null,null,null,null,null,null,null,null,null,9]
["80 - 81","М171МБИИН037","Коновалова Аделина Евгеньевна",1937363891,"МБИ172","Бизнес-информатика","Бюдж",{"$f":"MATCH(D91,Данные!$D$1:$D$65536,0)","v":258},498,99,12,{"$f":"IF(K91 > 0,J91/K91,0)","v":8.25},{"$f":"MIN($O91:DB91)","v":6},80,null,null,null,null,null,null,10,6,null,null,null,null,null,null,7,null,null,null,null,null,null,null,null,null,null,null,7,null,null,null,10,null,null,null,null,null,null,null,null,6,null,null,null,null,null,null,null,null,10,null,null,null,null,null,null,8,null,null,null,null,null,null,null,null,null,null,null,null,null,null,null,null,null,9,null,null,null,null,null,null,null,null,null,null,10,8,null,8]
[null,"М171МБИИН013","Богданов Павел Владимирович",1937363522,"МБИ171","Бизнес-информатика","Бюдж",{"$f":"MATCH(D92,Данные!$D$1:$D$65536,0)","v":52},498,105,14,{"$f":"IF(K92 > 0,J92/K92,0)","v":7.5},{"$f":"MIN($O92:DB92)","v":5},81,null,null,null,8,8,null,9,6,null,null,null,null,null,null,9,null,null,null,null,null,null,null,null,null,null,null,7,null,null,null,9,null,null,null,null,null,null,null,null,5,null,8,null,null,null,null,null,null,8,null,null,null,null,null,8,null,null,null,null,null,null,null,null,null,null,null,null,6,null,null,null,null,null,null,null,null,null,null,null,null,null,null,null,null,null,8,null,null,6]
[82,"М171МСБДН027","Телышева Татьяна Романовна",1940816098,"МБД171","Системы больших данных","Комм",{"$f":"MATCH(D93,Данные!$D$1:$D$65536,0)","v":25},496,124,17,{"$f":"IF(K93 > 0,J93/K93,0)","v":7.2941176470588234},{"$f":"MIN($O93:DB93)","v":4},82,null,7,7,null,null,null,null,9,8,null,null,null,8,6,null,null,null,null,null,null,8,null,null,null,null,7,null,null,null,null,null,null,null,null,4,null,8,null,null,null,null,null,null,null,null,null,null,8,null,null,9,null,null,8,null,null,null,null,null,null,null,null,null,null,6,null,null,null,null,null,null,null,8,null,9,null,null,null,null,4]
[83,"М171МБИИН088","Морева Галина Сергеевна",1941989134,"МБИ172","Бизнес-информатика","Комм",{"$f":"MATCH(D94,Данные!$D$1:$D$65536,0)","v":204},495,98,12,{"$f":"IF(K94 > 0,J94/K94,0)","v":8.1666666666666661},{"$f":"MIN($O94:DB94)","v":6},83,null,null,null,null,null,null,8,8,null,null,null,null,null,null,10,null,null,null,null,8,null,null,null,null,null,null,null,null,null,null,8,null,null,null,null,null,null,9,null,9,null,null,null,null,null,null,null,null,9,null,null,null,null,null,null,null,null,10,null,null,null,null,null,null,null,null,null,null,null,null,null,null,null,null,null,null,null,null,null,null,null,null,null,null,7,6,6]
[84,"М171МБИИН003","Андрюхина Дарья Сергеевна",1937363878,"МБИ171","Бизнес-информатика","Бюдж",{"$f":"MATCH(D95,Данные!$D$1:$D$65536,0)","v":257},494,99,12,{"$f":"IF(K95 > 0,J95/K95,0)","v":8.25},{"$f":"MIN($O95:DB95)","v":6},84,null,null,null,null,null,null,9,6,null,null,null,null,null,null,8,null,null,null,null,null,null,null,null,null,null,null,8,null,null,null,10,null,null,null,null,null,null,null,null,7,null,null,null,null,null,null,null,null,10,null,null,null,null,null,null,7,null,null,null,null,null,null,null,null,null,null,null,null,null,null,null,null,null,8,null,null,null,null,null,null,null,null,null,null,10,8,null,8]
["85 - 86","М171МСБДН019","Яковлева Дарья Александровна",1937366289,"МБД171","Системы больших данных","Бюдж",{"$f":"MATCH(D96,Данные!$D$1:$D$65536,0)","v":350},493,121,15,{"$f":"IF(K96 > 0,J96/K96,0)","v":8.0666666666666664},{"$f":"MIN($O96:DB96)","v":6},85,null,null,null,null,null,null,null,9,7,null,null,null,7,6,null,null,null,null,null,null,9,null,null,null,null,8,null,null,null,null,null,null,null,null,7,null,8,null,null,null,null,null,null,null,null,null,null,10,null,null,null,null,null,7,null,null,null,null,null,null,null,null,null,null,10,null,null,null,10,null,null,null,8,null,9,null,null,null,null,6]
[null,"М171МЭЛБЗ006","Давыдова Ксения Валерьевна",1937373012,"МЭБ171","Электронный бизнес","Бюдж",{"$f":"MATCH(D97,Данные!$D$1:$D$65536,0)","v":178},493,103,13,{"$f":"IF(K97 > 0,J97/K97,0)","v":7.9230769230769234},{"$f":"MIN($O97:DB97)","v":7},86,null,null,null,null,null,null,9,7,null,null,9,null,null,null,8,null,7,null,null,null,null,null,7,null,null,null,null,null,null,9,null,null,null,null,null,null,null,null,null,null,null,null,null,8,null,null,null,null,7,null,null,null,null,null,null,null,null,null,8,null,null,null,9,7,null,null,null,null,null,null,null,null,null,null,null,null,null,null,null,null,null,8]
[87,"М171МБИИН094","Вовк Иларион Анатольевич",1944939253,"МБИ172","Бизнес-информатика","Комм",{"$f":"MATCH(D98,Данные!$D$1:$D$65536,0)","v":216},492,97,12,{"$f":"IF(K98 > 0,J98/K98,0)","v":8.0833333333333339},{"$f":"MIN($O98:DB98)","v":5},87,null,null,null,null,null,null,7,5,null,null,null,null,null,null,6,null,null,null,null,null,null,9,null,null,null,null,null,null,null,null,9,null,null,7,null,null,null,null,null,8,null,null,null,null,null,null,null,null,10,null,null,null,null,null,null,7,null,null,null,null,null,null,null,null,null,null,null,null,null,null,null,null,null,null,null,null,null,null,null,null,null,null,null,null,10,10,9]
["88 - 89","М171МУБЕЗ017","Рудаков Андрей Дмитриевич",1937370552,"МИБ171","Управление информационной безопасностью","Бюдж",{"$f":"MATCH(D99,Данные!$D$1:$D$65536,0)","v":151},490,101,13,{"$f":"IF(K99 > 0,J99/K99,0)","v":7.7692307692307692},{"$f":"MIN($O99:DB99)","v":4},88,null,null,null,null,null,6,7,4,null,7,null,null,null,null,8,null,null,10,null,null,null,null,null,null,null,null,null,null,null,null,null,null,null,null,null,null,null,null,null,null,null,null,null,null,8,null,null,null,10,null,null,null,null,null,null,null,10,null,null,null,null,null,9,null,null,null,null,null,null,null,null,null,null,null,null,null,6,6,null,null,null,null,10]
[null,"М171МЭЛБЗ024","Цуканов Иван Викторович",1937372945,"МЭБ171","Электронный бизнес","Бюдж",{"$f":"MATCH(D100,Данные!$D$1:$D$65536,0)","v":173},490,99,13,{"$f":"IF(K100 > 0,J100/K100,0)","v":7.615384615384615},{"$f":"MIN($O100:DB100)","v":6},89,null,null,null,null,null,null,7,7,null,null,8,null,null,null,6,null,8,null,null,null,null,null,8,null,null,null,null,null,null,9,null,null,null,null,null,null,null,null,null,null,null,null,null,8,null,null,null,null,9,null,null,null,null,null,null,null,null,null,8,null,null,null,null,6,null,null,null,null,null,null,null,6,null,null,null,null,null,null,null,null,null,9]
["90 - 92","М171МУБЕЗ016","Пупышева Анна Андреевна",1937370565,"МИБ171","Управление информационной безопасностью","Бюдж",{"$f":"MATCH(D101,Данные!$D$1:$D$65536,0)","v":150},488,105,13,{"$f":"IF(K101 > 0,J101/K101,0)","v":8.0769230769230766},{"$f":"MIN($O101:DB101)","v":6},90,null,null,null,null,null,7,8,6,null,9,null,null,null,null,8,8,null,10,null,null,null,null,null,null,null,null,null,null,null,null,null,null,null,null,null,null,null,null,null,null,null,null,null,null,7,null,null,null,8,null,null,null,null,null,null,null,8,null,null,null,null,null,null,null,null,null,null,null,null,null,null,null,null,null,null,null,8,8,null,null,null,null,10]
[null,"М171МЭЛБЗ010","Кирилловых Андрей Максимович",1937372770,"МЭБ171","Электронный бизнес","Бюдж",{"$f":"MATCH(D102,Данные!$D$1:$D$65536,0)","v":194},488,100,13,{"$f":"IF(K102 > 0,J102/K102,0)","v":7.6923076923076925},{"$f":"MIN($O102:DB102)","v":6},91,null,null,null,null,null,null,9,7,null,null,8,null,null,null,7,null,8,null,null,null,null,null,8,null,null,null,null,null,null,8,null,null,null,null,null,null,null,null,null,null,null,null,null,6,null,6,null,null,7,null,null,null,null,null,null,null,null,null,8,null,null,null,null,9,null,null,null,null,null,null,null,null,null,null,null,null,null,null,null,null,null,9]
[null,"М171МБИИН051","Полторак Анастасия Игоревна",1937364031,"МБИ173","Бизнес-информатика","Бюдж",{"$f":"MATCH(D103,Данные!$D$1:$D$65536,0)","v":64},488,103,14,{"$f":"IF(K103 > 0,J103/K103,0)","v":7.3571428571428568},{"$f":"MIN($O103:DB103)","v":5},92,null,null,null,8,8,null,9,5,null,null,null,null,null,null,5,null,null,null,null,5,null,null,null,null,null,null,null,null,null,null,10,null,null,null,null,null,null,null,null,6,null,null,null,null,null,null,null,null,8,null,null,null,null,null,7,null,null,null,null,null,null,null,null,null,null,null,null,null,null,null,null,null,null,null,null,null,null,null,7,null,null,null,null,null,10,9,6]
[93,"М171МБИИН076","Монгуш Алдын-Ай Владимировна",1940815727,"МБИ172","Бизнес-информатика","Комм",{"$f":"MATCH(D104,Данные!$D$1:$D$65536,0)","v":94},487,103,14,{"$f":"IF(K104 > 0,J104/K104,0)","v":7.3571428571428568},{"$f":"MIN($O104:DB104)","v":5},93,null,null,null,6,8,null,9,5,null,null,null,null,null,null,6,null,null,null,null,7,null,null,null,null,null,null,null,null,null,null,9,8,null,null,null,null,null,null,null,5,null,null,null,null,null,null,null,null,7,null,null,null,null,null,null,7,null,null,null,null,null,null,null,null,null,null,null,null,null,null,null,null,null,null,null,null,null,null,null,null,null,null,null,null,9,8,9]
[94,"М171МЭЛБЗ001","Абросимова Анастасия Михайловна",1937372932,"МЭБ171","Электронный бизнес","Бюдж",{"$f":"MATCH(D105,Данные!$D$1:$D$65536,0)","v":189},485,101,13,{"$f":"IF(K105 > 0,J105/K105,0)","v":7.7692307692307692},{"$f":"MIN($O105:DB105)","v":7},94,null,null,null,null,null,null,8,7,null,null,8,null,null,null,8,null,8,null,null,null,null,null,8,null,null,null,null,null,null,8,null,null,null,null,null,null,null,null,null,null,null,null,null,8,null,null,null,null,7,null,null,null,null,null,null,null,null,null,7,null,null,null,null,7,null,null,null,null,null,null,null,8,null,null,null,null,null,null,null,null,null,9]
["95 - 96","М171МУБЕЗ003","Варламова Виктория Викторовна",1937371161,"МИБ171","Управление информационной безопасностью","Бюдж",{"$f":"MATCH(D106,Данные!$D$1:$D$65536,0)","v":72},484,106,14,{"$f":"IF(K106 > 0,J106/K106,0)","v":7.5714285714285712},{"$f":"MIN($O106:DB106)","v":5},95,null,null,null,8,null,7,8,5,null,8,null,null,null,null,5,null,null,10,null,null,null,null,null,null,null,null,null,null,null,null,null,null,null,null,null,null,null,null,null,null,null,null,null,null,8,null,null,null,8,null,null,8,null,null,null,null,8,null,null,null,null,null,null,null,null,null,null,null,null,null,null,null,null,null,null,null,7,6,null,null,null,null,10]
[null,"М171МЭЛБЗ017","Михайлов Егор Александрович",1937372919,"МЭБ171","Электронный бизнес","Бюдж",{"$f":"MATCH(D107,Данные!$D$1:$D$65536,0)","v":188},484,98,13,{"$f":"IF(K107 > 0,J107/K107,0)","v":7.5384615384615383},{"$f":"MIN($O107:DB107)","v":5},96,null,null,null,null,null,null,8,6,null,null,8,null,null,null,7,null,8,null,null,null,null,null,7,null,null,null,null,null,null,9,null,null,null,null,null,null,null,null,null,null,null,null,null,8,null,null,null,null,8,null,null,5,null,null,null,null,null,null,8,null,null,null,null,7,null,null,null,null,null,null,null,null,null,null,null,null,null,null,null,null,null,9]
[97,"М171МБИИН052","Пронин Никита Вадимович",1937363798,"МБИ173","Бизнес-информатика","Бюдж",{"$f":"MATCH(D108,Данные!$D$1:$D$65536,0)","v":223},482,97,12,{"$f":"IF(K108 > 0,J108/K108,0)","v":8.0833333333333339},{"$f":"MIN($O108:DB108)","v":6},97,null,null,null,null,null,null,10,6,null,null,null,null,null,null,8,null,null,null,null,null,null,null,null,null,null,null,8,null,null,null,null,null,null,null,null,null,null,null,null,8,null,null,null,null,null,null,null,null,10,null,null,null,null,null,null,7,null,null,null,null,null,null,null,null,null,null,null,null,null,null,null,null,null,8,null,null,null,null,7,null,null,null,null,null,10,6,9]
["98 - 101","М171МСБДН008","Канищев Кирилл Валерьевич",1937366160,"МБД171","Системы больших данных","Бюдж",{"$f":"MATCH(D109,Данные!$D$1:$D$65536,0)","v":358},480,119,15,{"$f":"IF(K109 > 0,J109/K109,0)","v":7.9333333333333336},{"$f":"MIN($O109:DB109)","v":6},98,null,null,null,null,null,null,null,10,7,null,null,null,7,9,null,null,null,null,null,null,8,null,null,null,null,8,null,null,null,null,null,null,null,null,null,null,6,null,null,null,null,null,null,null,null,null,null,10,null,null,9,null,null,8,null,null,null,null,null,8,null,null,null,null,null,null,null,null,null,null,null,null,10,null,7,null,null,null,null,6,null,null,null,null,null,null,null,null,null,6]
[null,"М171МЭЛБЗ013","Кяргин Антон Юрьевич",1937373039,"МЭБ171","Электронный бизнес","Бюдж",{"$f":"MATCH(D110,Данные!$D$1:$D$65536,0)","v":180},480,98,13,{"$f":"IF(K110 > 0,J110/K110,0)","v":7.5384615384615383},{"$f":"MIN($O110:DB110)","v":5},99,null,null,null,null,null,null,8,6,null,null,8,null,null,null,7,null,10,null,null,null,null,null,8,null,null,null,null,null,null,9,null,null,null,null,null,null,null,null,null,null,null,null,null,6,null,null,null,null,8,null,null,null,null,null,null,null,null,null,7,null,null,null,null,7,null,null,null,null,null,null,null,null,null,null,null,null,null,null,null,null,null,9,null,null,null,null,null,null,5]
[null,"М171МСБДН021","Арча Александр Михайлович",1940816134,"МБД171","Системы больших данных","Комм",{"$f":"MATCH(D111,Данные!$D$1:$D$65536,0)","v":21},480,123,17,{"$f":"IF(K111 > 0,J111/K111,0)","v":7.2352941176470589},{"$f":"MIN($O111:DB111)","v":4},100,null,8,9,null,null,null,null,10,8,null,null,null,9,7,null,null,null,null,8,null,9,null,null,null,null,7,null,null,null,null,null,null,null,null,null,null,6,null,null,null,null,null,null,null,null,null,null,4,null,null,null,null,null,8,null,null,null,null,null,null,null,null,null,null,6,9,null,null,null,null,null,null,5,null,6,null,null,null,null,4]
[null,"М171МСБДН031","Сиахпутра Эдо",1950255571,"МБД171","Системы больших данных","Бюдж",{"$f":"MATCH(D112,Данные!$D$1:$D$65536,0)","v":12},480,119,17,{"$f":"IF(K112 > 0,J112/K112,0)","v":7},{"$f":"MIN($O112:DB112)","v":2},101,null,7,6,null,null,null,null,8,7,null,null,null,9,6,null,null,null,null,null,null,10,null,null,null,null,8,null,null,null,null,null,null,null,null,2,null,7,null,null,null,null,null,null,null,null,null,null,7,null,null,null,null,null,7,null,null,null,null,null,8,null,null,null,null,8,null,null,null,null,null,null,null,7,null,8,null,null,null,null,4]
[102,"М171МБИИН009","Бегларян Амалия Мгеровна",1937363535,"МБИ171","Бизнес-информатика","Бюдж",{"$f":"MATCH(D113,Данные!$D$1:$D$65536,0)","v":228},479,96,12,{"$f":"IF(K113 > 0,J113/K113,0)","v":8},{"$f":"MIN($O113:DB113)","v":5},102,null,null,null,null,null,null,10,8,null,null,null,null,null,null,7,null,null,null,null,null,null,null,null,null,null,null,null,6,null,null,10,null,null,9,null,null,null,null,null,7,null,null,null,null,null,null,null,null,8,null,null,null,null,null,null,7,null,null,null,null,null,null,null,null,null,null,null,null,null,null,null,null,null,null,null,null,null,null,null,null,null,null,null,null,10,9,null,null,5]
[103,"М171МБИИН096","Пак Александр Сергеевич",1945753603,"МБИ173","Бизнес-информатика","Комм",{"$f":"MATCH(D114,Данные!$D$1:$D$65536,0)","v":98},477,100,14,{"$f":"IF(K114 > 0,J114/K114,0)","v":7.1428571428571432},{"$f":"MIN($O114:DB114)","v":4},103,null,null,null,9,8,null,9,4,null,null,null,null,null,null,6,null,null,null,null,6,null,null,null,null,null,null,null,null,null,null,9,null,null,null,null,null,null,null,null,6,null,null,null,null,null,null,null,null,6,null,null,5,null,null,null,null,null,8,null,null,null,null,null,null,null,null,null,null,null,null,null,null,null,null,null,null,null,null,null,null,null,null,null,null,10,7,7]
["104 - 105","М171МУБЕЗ018","Ряховский Сергей Алексеевич",1937370421,"МИБ171","Управление информационной безопасностью","Бюдж",{"$f":"MATCH(D115,Данные!$D$1:$D$65536,0)","v":76},476,107,14,{"$f":"IF(K115 > 0,J115/K115,0)","v":7.6428571428571432},{"$f":"MIN($O115:DB115)","v":5},104,null,null,null,9,null,9,8,5,null,8,null,null,null,null,8,null,null,7,null,null,null,null,null,null,7,null,null,null,null,null,null,null,null,null,null,null,null,null,null,null,null,null,null,null,7,null,null,null,7,null,null,null,null,null,null,null,7,null,null,null,null,null,null,null,null,null,null,null,null,null,null,null,null,null,null,null,8,7,null,null,null,null,10]
[null,"М171МУБЕЗ006","Жучков Константин Сергеевич",1937370401,"МИБ171","Управление информационной безопасностью","Бюдж",{"$f":"MATCH(D116,Данные!$D$1:$D$65536,0)","v":75},476,102,14,{"$f":"IF(K116 > 0,J116/K116,0)","v":7.2857142857142856},{"$f":"MIN($O116:DB116)","v":4},105,null,null,null,6,null,8,6,6,null,8,null,null,null,null,7,null,null,7,null,null,null,null,null,null,null,null,null,null,null,null,null,null,null,null,null,null,null,null,null,null,null,null,null,null,8,null,null,null,8,null,null,null,null,null,null,null,8,null,null,null,null,null,null,null,null,null,null,null,null,null,null,null,null,null,null,null,8,8,4,null,null,null,10]
["106 - 107","М171МБИИН060","Сиднев Игорь Дмитриевич",1937363561,"МБИ173","Бизнес-информатика","Бюдж",{"$f":"MATCH(D117,Данные!$D$1:$D$65536,0)","v":230},474,94,12,{"$f":"IF(K117 > 0,J117/K117,0)","v":7.833333333333333},{"$f":"MIN($O117:DB117)","v":5},106,null,null,null,null,null,null,10,5,null,null,null,null,null,null,7,null,null,null,null,7,null,null,null,null,null,null,null,null,null,null,8,null,null,null,null,null,null,null,null,8,null,null,null,null,null,null,null,null,10,null,null,null,null,null,null,7,null,null,null,null,null,null,null,null,null,null,null,null,null,null,null,null,null,null,null,null,null,null,null,null,null,null,null,null,10,8,8,null,null,6]
[null,"М171МУБЕЗ008","Козлов Никита Вячеславович",1937370580,"МИБ171","Управление информационной безопасностью","Бюдж",{"$f":"MATCH(D118,Данные!$D$1:$D$65536,0)","v":68},474,101,14,{"$f":"IF(K118 > 0,J118/K118,0)","v":7.2142857142857144},{"$f":"MIN($O118:DB118)","v":5},107,null,null,null,6,null,10,7,7,null,7,null,null,null,null,6,null,null,6,null,null,null,null,null,null,null,null,null,null,null,null,null,null,null,null,5,null,null,null,null,null,null,null,null,null,8,null,null,null,10,null,null,null,null,null,null,null,10,null,null,null,null,null,null,null,null,null,null,null,null,null,null,null,null,null,null,null,8,6,null,null,null,null,5]
["108 - 109","М171МБИИН072","Кривенцов Феликс Константинович",1940815800,"МБИ172","Бизнес-информатика","Бюдж",{"$f":"MATCH(D119,Данные!$D$1:$D$65536,0)","v":205},473,95,12,{"$f":"IF(K119 > 0,J119/K119,0)","v":7.916666666666667},{"$f":"MIN($O119:DB119)","v":6},108,null,null,null,null,null,null,9,8,null,null,null,null,null,null,6,7,null,null,null,8,null,null,null,null,null,null,null,null,null,null,null,null,null,null,null,null,null,null,null,7,null,8,null,null,null,null,null,null,9,null,null,null,null,null,null,7,null,null,null,null,null,null,null,null,null,null,null,null,null,null,null,null,null,null,null,null,null,null,null,null,null,null,null,null,9,8,9]
[null,"М171МСБДН035","- Маниканта Рукмангада",1970446330,"МБД171","Системы больших данных","Бюдж",{"$f":"MATCH(D120,Данные!$D$1:$D$65536,0)","v":17},473,119,17,{"$f":"IF(K120 > 0,J120/K120,0)","v":7},{"$f":"MIN($O120:DB120)","v":4},109,null,7,9,null,null,null,null,8,8,null,null,null,9,4,null,null,null,null,null,null,7,null,null,null,null,8,null,null,null,null,null,null,null,null,null,6,6,null,null,null,null,null,null,null,null,null,null,6,null,null,null,null,null,7,null,null,null,null,null,7,null,null,null,null,6,null,null,null,null,null,null,null,8,null,9,null,null,null,null,4]
[110,"М171МЭЛБЗ009","Ким Дин Хо",1937373052,"МЭБ171","Электронный бизнес","Бюдж",{"$f":"MATCH(D121,Данные!$D$1:$D$65536,0)","v":181},472,96,13,{"$f":"IF(K121 > 0,J121/K121,0)","v":7.384615384615385},{"$f":"MIN($O121:DB121)","v":6},110,null,null,null,null,null,null,7,7,null,null,7,null,null,null,7,null,6,null,null,null,null,null,7,null,null,null,null,null,null,9,null,null,null,null,null,null,null,null,null,null,null,null,null,6,null,null,null,null,8,null,null,null,null,null,null,null,null,null,8,null,null,null,null,7,null,null,null,null,null,null,7,null,null,null,null,null,null,null,null,null,null,10]
["111 - 112","М161МБИИН048","Майборода Кирилл Алексеевич",2162833425,"МБИ173","Бизнес-информатика","Бюдж",{"$f":"MATCH(D122,Данные!$D$1:$D$65536,0)","v":215},471,89,12,{"$f":"IF(K122 > 0,J122/K122,0)","v":7.416666666666667},{"$f":"MIN($O122:DB122)","v":4},111,null,null,null,null,null,null,6,4,null,null,null,null,null,null,6,null,null,null,null,6,null,null,null,null,null,null,null,null,null,null,10,null,null,null,null,null,null,7,null,8,null,null,null,null,null,null,null,null,10,null,null,null,null,null,null,null,null,10,null,null,null,null,null,null,null,null,null,null,null,null,null,null,null,null,null,null,null,null,null,null,null,null,null,null,10,6,6]
[null,"М171МБИИН073","Масалимов Тимур Ринатович",1940815828,"МБИ172","Бизнес-информатика","Комм",{"$f":"MATCH(D123,Данные!$D$1:$D$65536,0)","v":91},471,100,14,{"$f":"IF(K123 > 0,J123/K123,0)","v":7.1428571428571432},{"$f":"MIN($O123:DB123)","v":5},112,null,null,null,7,8,null,8,7,null,null,null,null,null,null,6,null,null,null,null,null,null,null,null,null,null,null,5,5,null,null,null,null,null,null,null,null,null,null,null,null,null,null,null,null,null,null,null,null,6,null,null,null,null,null,8,null,null,null,null,null,null,null,null,null,null,null,null,8,null,null,null,null,null,null,null,null,null,null,null,null,null,null,null,null,10,7,7,null,8]
[113,"М171МБИИН004","Антонова Анастасия Романовна",1937363745,"МБИ171","Бизнес-информатика","Бюдж",{"$f":"MATCH(D124,Данные!$D$1:$D$65536,0)","v":273},470,94,12,{"$f":"IF(K124 > 0,J124/K124,0)","v":7.833333333333333},{"$f":"MIN($O124:DB124)","v":5},113,null,null,null,null,null,null,9,7,null,null,null,null,null,null,8,null,null,null,null,null,null,null,null,null,null,null,7,null,null,null,10,null,null,null,null,null,null,null,null,5,8,8,null,null,null,null,null,null,8,null,null,null,null,null,8,null,null,null,null,null,null,null,null,null,null,null,null,null,null,null,null,null,null,8,null,null,null,null,null,null,null,null,null,null,null,8]
[114,"М171МБИИН056","Рудь Роман Сергеевич",1937363680,"МБИ173","Бизнес-информатика","Бюдж",{"$f":"MATCH(D125,Данные!$D$1:$D$65536,0)","v":268},468,96,12,{"$f":"IF(K125 > 0,J125/K125,0)","v":8},{"$f":"MIN($O125:DB125)","v":5},114,null,null,null,null,null,null,10,7,null,null,null,null,null,null,7,null,null,null,null,null,null,null,null,null,null,null,9,null,null,null,null,null,null,null,null,null,null,null,null,7,9,null,null,null,null,null,null,null,5,null,null,null,null,null,null,7,null,null,null,null,null,null,null,null,null,null,null,null,null,null,null,null,null,9,null,null,null,null,null,null,null,null,null,null,10,7,9]
["115 - 116","М171МБИИН053","Пронин Никита Павлович",1937363469,"МБИ173","Бизнес-информатика","Бюдж",{"$f":"MATCH(D126,Данные!$D$1:$D$65536,0)","v":246},467,92,12,{"$f":"IF(K126 > 0,J126/K126,0)","v":7.666666666666667},{"$f":"MIN($O126:DB126)","v":5},115,null,null,null,null,null,null,7,7,null,null,null,null,null,null,7,null,null,null,null,null,null,null,null,null,null,null,null,null,null,null,10,null,null,null,null,null,null,null,null,7,null,8,null,null,null,null,null,null,9,null,null,null,null,null,null,7,null,null,null,null,null,null,null,null,null,null,null,null,null,null,5,null,null,null,null,null,null,null,null,null,null,null,null,null,10,8,7]
[null,"М171МСБДН014","Трегубова Инесса Александровна",1937366175,"МБД171","Системы больших данных","Бюдж",{"$f":"MATCH(D127,Данные!$D$1:$D$65536,0)","v":11},467,117,17,{"$f":"IF(K127 > 0,J127/K127,0)","v":6.882352941176471},{"$f":"MIN($O127:DB127)","v":4},116,null,7,6,null,null,null,null,9,6,null,null,null,7,5,null,null,null,null,null,null,7,null,null,null,null,6,null,null,null,null,null,null,null,null,4,null,7,null,null,null,null,null,null,null,null,null,null,8,null,null,null,null,null,8,null,null,null,null,null,null,null,null,null,null,8,null,null,null,10,null,null,null,8,null,7,null,null,null,null,4]
["117 - 119","М171МБИИН012","Богданов Кирилл Алексеевич",1937363732,"МБИ171","Бизнес-информатика","Бюдж",{"$f":"MATCH(D128,Данные!$D$1:$D$65536,0)","v":272},463,93,12,{"$f":"IF(K128 > 0,J128/K128,0)","v":7.75},{"$f":"MIN($O128:DB128)","v":6},117,null,null,null,null,null,null,10,6,null,null,null,null,null,null,9,null,null,null,null,null,null,null,null,null,null,null,null,6,null,null,10,null,null,null,null,null,null,null,null,7,null,null,null,null,null,null,null,null,10,null,null,null,null,null,null,7,null,null,null,null,null,null,null,null,null,null,null,6,null,null,null,null,null,null,null,null,null,null,null,null,null,null,null,null,10,6,null,null,6]
[null,"М171МБИИН008","Бардакова Мария Вячеславовна",1937363441,"МБИ171","Бизнес-информатика","Бюдж",{"$f":"MATCH(D129,Данные!$D$1:$D$65536,0)","v":245},463,92,12,{"$f":"IF(K129 > 0,J129/K129,0)","v":7.666666666666667},{"$f":"MIN($O129:DB129)","v":6},118,null,null,null,null,null,null,8,6,null,null,null,null,null,null,6,null,null,null,null,8,null,null,null,null,null,null,null,null,null,null,10,null,null,null,null,null,null,null,null,7,null,null,null,null,null,null,null,null,7,null,null,null,null,null,null,null,null,8,null,null,null,null,null,null,null,null,null,null,null,null,null,null,null,null,null,null,null,null,null,null,8,null,null,null,9,6,9]
[null,"М171МЭЛБЗ028","Цандере Юлия",1945760044,"МЭБ171","Электронный бизнес","Комм",{"$f":"MATCH(D130,Данные!$D$1:$D$65536,0)","v":218},463,94,13,{"$f":"IF(K130 > 0,J130/K130,0)","v":7.2307692307692308},{"$f":"MIN($O130:DB130)","v":4},119,null,null,null,null,null,null,8,5,null,null,8,null,null,null,7,null,8,null,null,null,null,null,8,null,null,null,null,null,7,8,null,null,null,null,null,null,null,null,null,null,null,null,null,4,null,null,null,null,8,null,null,null,null,null,null,null,null,null,8,null,null,null,null,7,null,null,null,null,null,null,null,null,null,null,null,null,null,null,null,null,null,8]
[120,"М171МБИИН069","Чубаров Алексей Глебович",1937364016,"МБИ173","Бизнес-информатика","Бюдж",{"$f":"MATCH(D131,Данные!$D$1:$D$65536,0)","v":279},461,92,12,{"$f":"IF(K131 > 0,J131/K131,0)","v":7.666666666666667},{"$f":"MIN($O131:DB131)","v":5},120,null,null,null,null,null,null,9,6,null,null,null,null,null,null,5,null,null,null,null,8,null,null,null,null,null,null,8,null,8,null,null,null,null,null,null,null,null,null,null,null,null,null,null,null,null,null,null,null,10,null,null,null,null,null,null,7,null,null,null,null,null,null,null,null,null,null,null,6,null,null,null,null,null,8,null,null,null,null,null,null,null,null,null,null,10,7]
["121 - 123","М171МБИИН070","Юдин Андрей Анатольевич",1937363359,"МБИ173","Бизнес-информатика","Бюдж",{"$f":"MATCH(D132,Данные!$D$1:$D$65536,0)","v":240},460,91,12,{"$f":"IF(K132 > 0,J132/K132,0)","v":7.583333333333333},{"$f":"MIN($O132:DB132)","v":6},121,null,null,null,null,null,null,7,6,null,null,null,null,null,null,8,null,null,null,null,8,null,null,null,null,null,null,null,null,null,null,8,null,null,null,null,null,null,null,7,7,null,null,null,null,null,null,null,null,7,null,null,null,null,null,null,null,null,8,null,null,null,null,null,null,null,null,null,null,null,null,null,null,null,null,null,null,null,null,null,null,null,null,null,null,10,6,9]
[null,"М171МЭЛБЗ015","Лучкин Андрей Владимирович",1937372880,"МЭБ171","Электронный бизнес","Бюдж",{"$f":"MATCH(D133,Данные!$D$1:$D$65536,0)","v":185},460,97,13,{"$f":"IF(K133 > 0,J133/K133,0)","v":7.4615384615384617},{"$f":"MIN($O133:DB133)","v":4},122,null,null,null,null,null,null,10,6,null,null,10,null,null,null,7,null,10,null,null,null,null,null,8,null,null,null,null,null,null,8,null,null,null,null,null,null,null,null,null,null,null,null,null,4,null,null,null,null,6,null,null,null,null,null,null,null,null,null,6,null,null,null,null,8,null,null,null,null,null,null,null,null,null,null,null,null,null,null,5,null,null,9]
[null,"М171МБИИН091","Сарычев Роман Владимирович",1941989095,"МБИ173","Бизнес-информатика","Комм",{"$f":"MATCH(D134,Данные!$D$1:$D$65536,0)","v":88},460,96,14,{"$f":"IF(K134 > 0,J134/K134,0)","v":6.8571428571428568},{"$f":"MIN($O134:DB134)","v":4},123,null,null,null,5,8,null,7,10,null,null,null,null,null,null,9,null,null,null,null,5,null,null,null,null,null,null,null,null,null,null,8,null,null,null,null,null,null,null,null,6,null,null,null,null,null,4,null,null,8,null,null,null,null,null,null,null,null,9,null,null,null,null,null,null,null,null,null,null,null,null,null,null,null,null,null,null,null,null,null,null,null,null,null,null,7,4,6]
[124,"М171МБИИН040","Лебедева Надежда Юрьевна",1937363970,"МБИ172","Бизнес-информатика","Бюдж",{"$f":"MATCH(D135,Данные!$D$1:$D$65536,0)","v":264},459,91,12,{"$f":"IF(K135 > 0,J135/K135,0)","v":7.583333333333333},{"$f":"MIN($O135:DB135)","v":5},124,null,null,null,null,null,null,7,6,null,null,null,null,null,null,7,null,null,null,null,7,null,null,null,null,null,null,null,null,null,null,10,null,null,null,null,null,null,null,8,6,null,null,null,null,null,null,null,null,5,null,null,null,null,null,null,null,null,8,null,null,null,null,null,null,null,null,null,null,null,null,null,null,null,null,null,null,null,null,null,null,null,null,null,null,10,8,9]
["125 - 126","М171МУБЕЗ009","Коровин Кирилл Сергеевич",1937370452,"МИБ171","Управление информационной безопасностью","Бюдж",{"$f":"MATCH(D136,Данные!$D$1:$D$65536,0)","v":139},456,96,13,{"$f":"IF(K136 > 0,J136/K136,0)","v":7.384615384615385},{"$f":"MIN($O136:DB136)","v":4},125,null,null,null,null,null,9,8,6,null,9,null,null,null,null,7,null,null,6,null,null,null,null,null,null,null,null,null,null,null,null,null,null,null,null,null,null,null,null,null,null,null,null,null,null,5,null,null,null,10,null,null,null,null,null,null,null,10,null,null,null,null,null,6,null,null,null,null,null,null,null,null,null,null,null,null,null,4,8,null,null,null,null,8]
[null,"М171МЭЛБЗ012","Куратова Александра Евгеньевна",1937372811,"МЭБ171","Электронный бизнес","Бюдж",{"$f":"MATCH(D137,Данные!$D$1:$D$65536,0)","v":197},456,92,13,{"$f":"IF(K137 > 0,J137/K137,0)","v":7.0769230769230766},{"$f":"MIN($O137:DB137)","v":6},126,null,null,null,null,null,null,7,6,null,null,7,null,null,null,8,null,7,null,null,null,null,null,8,null,null,null,null,null,null,8,null,null,null,null,null,null,null,null,null,null,null,null,null,6,null,null,null,null,8,null,null,6,null,null,null,null,null,null,8,null,null,null,null,7,null,null,null,null,null,null,null,null,null,null,null,null,null,null,null,null,null,6]
["127 - 128","М171МБИИН028","Ершова Александра Романовна",1937363957,"МБИ172","Бизнес-информатика","Бюдж",{"$f":"MATCH(D138,Данные!$D$1:$D$65536,0)","v":263},455,92,12,{"$f":"IF(K138 > 0,J138/K138,0)","v":7.666666666666667},{"$f":"MIN($O138:DB138)","v":5},127,null,null,null,null,null,null,10,7,null,null,null,null,null,null,8,null,null,null,null,6,null,null,null,null,null,null,null,null,null,null,10,null,null,null,null,null,null,null,null,5,null,null,null,null,null,null,null,null,8,null,null,null,null,null,7,null,null,null,null,null,null,null,null,null,null,null,null,null,null,null,null,null,null,null,null,null,null,null,7,null,null,null,null,null,10,8,6]
[null,"М171МЭЛБЗ019","Рубцова Екатерина Андреевна",1937372972,"МЭБ171","Электронный бизнес","Бюдж",{"$f":"MATCH(D139,Данные!$D$1:$D$65536,0)","v":175},455,93,13,{"$f":"IF(K139 > 0,J139/K139,0)","v":7.1538461538461542},{"$f":"MIN($O139:DB139)","v":5},128,null,null,null,null,null,null,8,6,null,null,7,null,null,null,7,null,8,null,null,null,null,null,8,null,5,null,null,null,null,9,null,null,null,null,null,null,null,null,null,null,null,null,null,6,null,null,null,null,6,null,null,null,null,null,null,null,null,null,7,null,null,null,null,8,null,null,null,null,null,null,null,null,null,null,null,null,null,null,null,null,null,8]
[129,"М171МБИИН023","Герасимов Станислав Александрович",1937364058,"МБИ171","Бизнес-информатика","Бюдж",{"$f":"MATCH(D140,Данные!$D$1:$D$65536,0)","v":57},454,96,14,{"$f":"IF(K140 > 0,J140/K140,0)","v":6.8571428571428568},{"$f":"MIN($O140:DB140)","v":4},129,null,null,null,7,8,null,8,5,null,null,null,null,null,null,6,null,null,null,null,5,null,null,null,null,null,null,null,null,null,null,10,null,null,null,null,null,null,null,null,7,null,null,null,null,null,null,null,null,7,null,null,null,null,null,6,null,null,null,null,null,null,null,null,null,null,null,null,null,null,null,null,null,null,null,null,null,null,null,null,null,null,null,null,null,10,7,6,null,4]
[130,"М171МУБЕЗ011","Никитин Андрей Олегович",1937371125,"МИБ171","Управление информационной безопасностью","Бюдж",{"$f":"MATCH(D141,Данные!$D$1:$D$65536,0)","v":70},453,98,14,{"$f":"IF(K141 > 0,J141/K141,0)","v":7},{"$f":"MIN($O141:DB141)","v":4},130,null,null,null,8,null,8,7,4,null,8,null,null,null,null,8,null,null,10,null,null,null,null,null,null,null,null,null,null,null,null,null,null,null,null,null,null,null,null,null,null,null,null,null,null,5,null,null,null,9,null,null,null,null,null,null,null,9,null,null,null,null,null,null,null,null,null,null,null,null,null,null,null,null,null,null,null,6,6,null,null,null,null,6,null,null,null,null,null,null,null,4]
[131,"М171МЭЛБЗ004","Гимашев Линар Русланович",1937372796,"МЭБ171","Электронный бизнес","Бюдж",{"$f":"MATCH(D142,Данные!$D$1:$D$65536,0)","v":196},452,93,13,{"$f":"IF(K142 > 0,J142/K142,0)","v":7.1538461538461542},{"$f":"MIN($O142:DB142)","v":5},131,null,null,null,null,null,null,9,5,null,null,8,null,null,null,6,null,7,null,null,null,null,null,8,null,null,null,null,null,null,8,null,null,null,null,null,null,null,null,null,null,null,null,null,7,null,6,null,null,6,null,null,null,null,null,null,null,null,null,7,null,null,null,null,7,null,null,null,null,null,null,null,null,null,null,null,null,null,null,null,null,null,9]
[132,"М171МБИИН042","Лобач Петр Сергеевич",1937363865,"МБИ172","Бизнес-информатика","Бюдж",{"$f":"MATCH(D143,Данные!$D$1:$D$65536,0)","v":256},449,90,12,{"$f":"IF(K143 > 0,J143/K143,0)","v":7.5},{"$f":"MIN($O143:DB143)","v":5},132,null,null,null,null,null,null,10,6,null,null,null,null,null,null,6,null,null,null,null,null,null,null,null,null,null,null,null,5,null,null,10,null,null,6,null,null,null,null,null,7,null,null,null,null,null,null,null,null,10,null,null,null,null,null,null,7,null,null,null,null,null,null,null,null,null,null,null,null,null,null,null,null,null,null,null,null,null,null,null,null,null,null,null,null,10,6,null,null,7]
[133,"М171МБИИН085","Гареев Эмиль Хамидович",1942008650,"МБИ171","Бизнес-информатика","Бюдж",{"$f":"MATCH(D144,Данные!$D$1:$D$65536,0)","v":156},448,90,12,{"$f":"IF(K144 > 0,J144/K144,0)","v":7.5},{"$f":"MIN($O144:DB144)","v":4},133,null,null,null,null,null,null,10,7,null,null,null,null,null,null,5,null,null,null,null,8,null,null,null,null,null,null,null,null,null,null,null,null,null,null,null,null,null,9,null,6,null,null,null,null,null,null,null,null,8,null,null,null,null,null,null,null,null,8,null,null,null,null,null,null,null,null,null,4,null,null,null,null,null,null,null,null,null,null,null,null,null,null,null,null,10,7,8]
["134 - 135","М171МБИИН027","Дунец Владислав Олегович",1937363785,"МБИ172","Бизнес-информатика","Бюдж",{"$f":"MATCH(D145,Данные!$D$1:$D$65536,0)","v":275},447,90,12,{"$f":"IF(K145 > 0,J145/K145,0)","v":7.5},{"$f":"MIN($O145:DB145)","v":4},134,null,null,null,null,null,null,10,6,null,null,null,null,null,null,6,null,null,null,null,null,null,null,null,null,null,null,null,6,null,null,10,null,null,null,null,null,null,null,null,7,null,null,null,null,null,null,null,null,9,null,null,null,null,null,null,7,null,null,null,null,null,null,8,null,null,null,null,4,null,null,null,null,null,null,null,null,null,null,null,null,null,null,null,null,10,7]
[null,"М171МЭЛБЗ016","Минеева Анастасия Сергеевна",1937372826,"МЭБ171","Электронный бизнес","Бюдж",{"$f":"MATCH(D146,Данные!$D$1:$D$65536,0)","v":81},447,93,14,{"$f":"IF(K146 > 0,J146/K146,0)","v":6.6428571428571432},{"$f":"MIN($O146:DB146)","v":5},135,null,null,null,6,null,null,8,5,null,null,7,null,null,null,6,null,7,null,null,null,null,null,8,null,null,null,null,null,null,7,null,null,null,null,null,null,null,null,null,null,null,null,null,5,null,null,null,null,7,null,null,null,null,null,null,null,null,null,7,null,null,null,null,6,null,null,null,null,null,null,5,null,null,null,null,null,null,null,null,null,null,9]
[136,"М171МБИИН025","Давтян Артем Сергеевич",1937363626,"МБИ171","Бизнес-информатика","Бюдж",{"$f":"MATCH(D147,Данные!$D$1:$D$65536,0)","v":235},442,88,12,{"$f":"IF(K147 > 0,J147/K147,0)","v":7.333333333333333},{"$f":"MIN($O147:DB147)","v":6},136,null,null,null,null,null,null,9,7,null,null,null,null,null,null,6,null,null,null,null,null,null,null,null,null,null,null,null,6,null,null,10,null,null,7,null,null,null,null,null,6,null,null,null,null,null,null,null,null,8,null,null,null,null,null,null,7,null,null,null,null,null,null,null,null,null,null,null,7,null,null,null,null,null,null,null,null,null,null,null,null,null,null,null,null,null,9,null,null,6]
[137,"М171МБИИН022","Гареев Артем Фаридович",1937364084,"МБИ171","Бизнес-информатика","Бюдж",{"$f":"MATCH(D148,Данные!$D$1:$D$65536,0)","v":250},438,87,12,{"$f":"IF(K148 > 0,J148/K148,0)","v":7.25},{"$f":"MIN($O148:DB148)","v":5},137,null,null,null,null,null,null,8,6,null,null,null,null,null,null,7,null,null,null,null,null,null,null,null,null,null,null,6,null,null,null,null,null,null,null,null,null,null,null,null,7,null,null,null,null,null,null,null,null,10,null,null,null,null,null,null,7,null,null,null,null,null,null,null,null,null,null,null,null,null,null,null,null,null,6,null,6,null,null,null,null,null,null,null,null,10,5,9]
["138 - 139","М171МБИИН054","Пьянов Родион Альбертович",1937363345,"МБИ173","Бизнес-информатика","Бюдж",{"$f":"MATCH(D149,Данные!$D$1:$D$65536,0)","v":239},434,87,12,{"$f":"IF(K149 > 0,J149/K149,0)","v":7.25},{"$f":"MIN($O149:DB149)","v":4},138,null,null,null,null,null,null,9,7,null,null,null,null,null,null,8,null,null,null,null,4,null,null,null,null,null,null,null,null,null,null,10,null,null,null,null,null,null,null,null,null,null,9,null,null,null,null,null,null,8,null,null,null,null,null,7,null,null,null,null,null,null,null,null,null,null,null,null,7,null,null,null,null,null,null,null,null,null,null,null,null,null,null,null,null,null,8,4,null,6]
[null,"М171МБИИН080","Шумилин Дмитрий Станиславович",1940815743,"МБИ173","Бизнес-информатика","Комм",{"$f":"MATCH(D150,Данные!$D$1:$D$65536,0)","v":212},434,87,12,{"$f":"IF(K150 > 0,J150/K150,0)","v":7.25},{"$f":"MIN($O150:DB150)","v":6},139,null,null,null,null,null,null,9,7,null,null,null,null,null,null,6,null,null,null,null,7,null,null,null,null,null,null,null,6,null,null,null,null,null,null,null,null,null,null,null,7,null,7,null,null,null,null,null,null,9,null,null,null,null,null,null,null,null,8,null,null,null,null,9,null,null,null,null,6,null,null,null,null,null,null,null,null,null,null,null,null,null,null,null,null,null,6]
[140,"М171МСБДН030","Скачок Андрей",1946791924,"МБД171","Системы больших данных","Комм",{"$f":"MATCH(D151,Данные!$D$1:$D$65536,0)","v":436},432,108,15,{"$f":"IF(K151 > 0,J151/K151,0)","v":7.2},{"$f":"MIN($O151:DB151)","v":4},140,null,null,null,null,null,null,null,9,6,null,null,null,8,6,null,null,null,null,9,null,8,null,null,null,null,7,null,null,null,null,null,null,null,null,null,null,null,null,null,null,null,null,null,null,null,null,null,6,null,null,9,null,null,8,null,null,null,null,null,7,null,null,null,null,6,null,null,null,null,null,null,null,8,null,7,null,null,null,null,4]
["141 - 142","М171МБИИН006","Бабанов Павел Александрович",1937363930,"МБИ171","Бизнес-информатика","Бюдж",{"$f":"MATCH(D152,Данные!$D$1:$D$65536,0)","v":261},430,86,12,{"$f":"IF(K152 > 0,J152/K152,0)","v":7.166666666666667},{"$f":"MIN($O152:DB152)","v":6},141,null,null,null,null,null,null,9,6,null,null,null,null,null,null,7,null,null,null,null,null,null,null,null,null,null,null,7,null,null,null,null,null,null,7,null,null,null,null,null,6,null,8,null,null,null,null,null,null,7,null,null,null,null,null,7,null,null,null,null,null,null,null,null,null,null,null,null,6,null,null,null,null,null,null,null,null,null,null,null,null,null,null,null,null,null,9,null,null,7]
[null,"М171МБИИН007","Бадаева Мария Мингияновна",1937363851,"МБИ171","Бизнес-информатика","Бюдж",{"$f":"MATCH(D153,Данные!$D$1:$D$65536,0)","v":255},430,84,12,{"$f":"IF(K153 > 0,J153/K153,0)","v":7},{"$f":"MIN($O153:DB153)","v":4},142,null,null,null,null,null,null,7,5,null,null,null,null,null,null,5,null,null,null,null,6,null,null,null,8,null,null,null,null,null,null,10,null,null,null,null,null,null,null,null,7,null,null,null,null,null,null,null,null,7,null,null,null,null,null,null,null,null,8,null,null,null,null,null,null,null,null,null,null,null,null,null,null,null,4,null,null,null,null,null,null,null,null,null,null,null,8,9]
[143,"М171МЭЛБЗ011","Китьян Акмаль Алексеевич",1937372906,"МЭБ171","Электронный бизнес","Бюдж",{"$f":"MATCH(D154,Данные!$D$1:$D$65536,0)","v":187},429,88,13,{"$f":"IF(K154 > 0,J154/K154,0)","v":6.7692307692307692},{"$f":"MIN($O154:DB154)","v":5},143,null,null,null,null,null,null,9,6,null,null,8,null,null,null,7,null,6,null,null,null,null,null,8,null,6,null,null,null,null,5,null,null,null,null,null,null,null,null,null,null,null,null,null,5,null,null,null,null,6,null,null,null,null,null,null,null,null,null,8,null,null,null,null,8,null,null,null,null,null,null,null,null,null,null,null,null,null,null,null,null,null,6]
[144,"М171МБИИН079","Шпилевская Наталья Викторовна",1940815815,"МБИ173","Бизнес-информатика","Комм",{"$f":"MATCH(D155,Данные!$D$1:$D$65536,0)","v":206},428,86,12,{"$f":"IF(K155 > 0,J155/K155,0)","v":7.166666666666667},{"$f":"MIN($O155:DB155)","v":4},144,null,null,null,null,null,null,10,8,null,null,null,null,null,null,6,8,null,null,null,null,null,null,null,null,null,null,5,4,null,null,null,null,null,4,null,null,null,null,null,null,null,null,null,null,null,null,null,null,8,null,null,null,null,null,8,null,null,null,null,null,null,null,null,null,null,null,null,8,null,null,null,null,null,null,null,null,null,null,null,null,null,null,null,null,null,8,9]
[145,"М171МБИИН049","Паймакова Татьяна Сергеевна",1937363574,"МБИ173","Бизнес-информатика","Бюдж",{"$f":"MATCH(D156,Данные!$D$1:$D$65536,0)","v":231},423,85,12,{"$f":"IF(K156 > 0,J156/K156,0)","v":7.083333333333333},{"$f":"MIN($O156:DB156)","v":4},145,null,null,null,null,null,null,8,6,null,null,null,null,null,null,7,null,null,null,null,5,null,null,null,null,null,null,null,null,null,null,10,null,null,null,null,null,null,null,null,null,null,null,null,null,null,null,null,null,8,7,null,null,null,null,null,7,null,null,null,null,null,null,null,null,null,null,null,null,null,null,null,null,null,7,null,null,null,null,null,null,null,null,null,null,10,4,6]
["146 - 147","М171МУБЕЗ001","Белоус Илия Григорьевич",1937371143,"МИБ171","Управление информационной безопасностью","Бюдж",{"$f":"MATCH(D157,Данные!$D$1:$D$65536,0)","v":71},421,94,14,{"$f":"IF(K157 > 0,J157/K157,0)","v":6.7142857142857144},{"$f":"MIN($O157:DB157)","v":4},146,null,null,null,6,null,8,6,5,null,8,null,null,null,null,5,8,null,8,null,null,null,null,null,null,null,null,null,null,null,null,null,null,null,null,null,null,null,null,null,null,null,null,null,null,4,null,null,null,7,null,null,null,null,null,null,null,7,null,null,null,null,null,null,null,null,null,null,null,null,null,null,null,null,null,null,null,6,6,null,null,null,null,10]
[null,"М171МЭЛБЗ014","Лунин Никита Константинович",1937372959,"МЭБ171","Электронный бизнес","Бюдж",{"$f":"MATCH(D158,Данные!$D$1:$D$65536,0)","v":174},421,86,13,{"$f":"IF(K158 > 0,J158/K158,0)","v":6.615384615384615},{"$f":"MIN($O158:DB158)","v":4},147,null,null,null,null,null,null,8,6,null,null,8,null,null,null,7,null,7,null,null,null,null,null,8,null,6,null,null,null,null,5,null,null,null,null,null,null,null,null,null,null,null,null,null,4,null,null,null,null,6,null,null,null,null,null,null,null,null,null,8,null,null,null,null,7,null,null,null,null,null,null,null,null,null,null,null,null,null,null,null,null,null,6]
[148,"М171МБИИН020","Гайнутдинов Наиль Анварович",1937363482,"МБИ171","Бизнес-информатика","Бюдж",{"$f":"MATCH(D159,Данные!$D$1:$D$65536,0)","v":247},417,83,12,{"$f":"IF(K159 > 0,J159/K159,0)","v":6.916666666666667},{"$f":"MIN($O159:DB159)","v":5},148,null,null,null,null,null,null,7,6,null,null,null,null,null,null,7,5,null,null,null,6,null,null,null,null,null,null,null,null,null,null,10,null,null,null,null,null,null,null,null,6,null,null,null,null,null,null,null,null,7,null,null,null,null,null,null,null,null,6,null,null,null,null,null,null,null,null,null,null,null,null,null,null,null,null,null,null,null,null,null,null,null,null,null,null,8,8,7]
[149,"М171МБИИН059","Семенова Элина Михайловна",1937364192,"МБИ173","Бизнес-информатика","Бюдж",{"$f":"MATCH(D160,Данные!$D$1:$D$65536,0)","v":277},415,81,12,{"$f":"IF(K160 > 0,J160/K160,0)","v":6.75},{"$f":"MIN($O160:DB160)","v":4},149,null,null,null,null,null,null,7,8,null,null,null,null,null,null,4,null,null,null,null,null,null,null,null,null,null,null,8,null,null,null,null,null,null,4,null,null,null,null,null,6,null,null,null,null,null,null,null,null,8,null,null,null,null,null,8,null,null,null,null,null,null,null,null,null,null,null,null,null,null,null,null,null,null,8,null,null,null,null,null,null,null,null,null,null,null,6,9,null,null,5]
[150,"М171МБИИН035","Колесникова Анна Сергеевна",1937363509,"МБИ172","Бизнес-информатика","Бюдж",{"$f":"MATCH(D161,Данные!$D$1:$D$65536,0)","v":226},414,82,12,{"$f":"IF(K161 > 0,J161/K161,0)","v":6.833333333333333},{"$f":"MIN($O161:DB161)","v":5},150,null,null,null,null,null,null,8,5,null,null,null,null,null,null,7,null,null,null,null,6,null,null,null,null,null,null,null,null,null,null,8,null,null,7,null,null,null,null,null,6,null,null,null,null,null,null,null,null,7,null,null,null,null,null,null,7,null,null,null,null,6,null,null,null,null,null,null,null,null,null,null,null,null,null,null,null,null,null,null,null,null,null,null,null,8,7]
[151,"М171МБИИН010","Белов Григорий Игоревич",1937363719,"МБИ171","Бизнес-информатика","Бюдж",{"$f":"MATCH(D162,Данные!$D$1:$D$65536,0)","v":271},409,83,12,{"$f":"IF(K162 > 0,J162/K162,0)","v":6.916666666666667},{"$f":"MIN($O162:DB162)","v":4},151,null,null,null,null,null,null,8,7,null,null,null,null,null,null,7,null,null,null,null,5,null,null,null,null,null,null,null,null,null,null,10,null,null,null,null,null,null,null,null,null,null,null,null,null,null,null,null,null,6,7,null,null,null,null,null,7,null,null,null,null,null,null,null,null,null,null,null,null,null,null,null,null,null,6,null,null,null,null,null,null,null,null,null,null,10,4,6]
[152,"М171МБИИН033","Китайкина Мария Алексеевна",1937363986,"МБИ172","Бизнес-информатика","Бюдж",{"$f":"MATCH(D163,Данные!$D$1:$D$65536,0)","v":265},408,81,12,{"$f":"IF(K163 > 0,J163/K163,0)","v":6.75},{"$f":"MIN($O163:DB163)","v":4},152,null,null,null,null,null,null,9,7,null,null,null,null,null,null,6,null,null,null,null,null,null,null,null,null,null,null,9,6,null,null,null,null,null,null,null,null,null,null,null,null,null,9,null,null,null,null,null,null,8,4,null,null,null,null,7,null,null,null,null,null,null,null,null,null,null,null,null,4,null,null,null,null,null,6,null,null,null,null,null,null,null,null,null,null,null,6]
[153,"М171МБИИН005","Антонова Софья Глебовна",1937363943,"МБИ171","Бизнес-информатика","Бюдж",{"$f":"MATCH(D164,Данные!$D$1:$D$65536,0)","v":262},400,79,12,{"$f":"IF(K164 > 0,J164/K164,0)","v":6.583333333333333},{"$f":"MIN($O164:DB164)","v":4},153,null,null,null,null,null,null,8,5,null,null,null,null,null,null,8,null,null,null,null,null,null,null,null,null,null,null,7,4,null,null,null,null,null,null,null,null,null,null,null,null,null,9,null,null,null,null,null,null,8,5,null,null,null,null,7,null,null,null,null,null,null,null,null,null,null,null,null,7,null,null,null,null,null,5,null,null,null,null,null,null,null,null,null,null,null,6]
[154,"М171МБИИН014","Большаков Егор Максимович",1937363706,"МБИ171","Бизнес-информатика","Бюдж",{"$f":"MATCH(D165,Данные!$D$1:$D$65536,0)","v":270},394,82,12,{"$f":"IF(K165 > 0,J165/K165,0)","v":6.833333333333333},{"$f":"MIN($O165:DB165)","v":4},154,null,null,null,null,null,null,8,5,null,null,null,null,null,null,5,null,null,null,null,null,null,null,null,null,null,null,null,null,null,null,9,null,null,null,null,null,null,null,null,7,null,6,null,null,null,null,null,null,6,null,null,null,null,null,5,null,null,null,null,null,null,null,10,null,null,null,null,7,null,null,null,null,null,null,null,null,null,null,null,null,null,null,null,null,10,4]
[155,"М171МБИИН071","Дворяшин Дмитрий Александрович",1940815842,"МБИ171","Бизнес-информатика","Комм",{"$f":"MATCH(D166,Данные!$D$1:$D$65536,0)","v":208},389,79,12,{"$f":"IF(K166 > 0,J166/K166,0)","v":6.583333333333333},{"$f":"MIN($O166:DB166)","v":5},155,null,null,null,null,null,null,7,6,null,null,null,null,null,null,6,null,null,null,null,6,null,null,null,null,null,null,null,null,null,null,10,null,null,6,null,null,null,null,null,5,null,null,null,null,null,null,null,null,6,null,null,null,null,null,6,null,null,null,null,null,null,null,null,null,null,null,null,7,null,null,null,null,null,null,null,null,null,null,null,null,null,null,null,null,null,6,null,null,8]
[156,"М171МБИИН044","Мартынов Александр Дмитриевич",1937363917,"МБИ172","Бизнес-информатика","Бюдж",{"$f":"MATCH(D167,Данные!$D$1:$D$65536,0)","v":260},387,76,12,{"$f":"IF(K167 > 0,J167/K167,0)","v":6.333333333333333},{"$f":"MIN($O167:DB167)","v":4},156,null,null,null,null,null,null,7,4,null,null,null,null,null,null,7,null,null,null,null,5,null,null,null,null,null,null,null,null,null,null,9,null,null,null,null,null,null,null,null,6,null,null,null,null,null,null,4,null,9,null,null,null,null,null,null,null,null,6,null,null,null,null,null,null,null,null,null,null,null,null,null,null,null,null,null,null,null,null,null,null,null,null,null,null,9,5,5]
[157,"М161МЖУРД016","Леонов Антон Александрович",2097188263,"МБД171","Системы больших данных","Бюдж",{"$f":"MATCH(D168,Данные!$D$1:$D$65536,0)","v":3},385,92,12,{"$f":"IF(K168 > 0,J168/K168,0)","v":7.666666666666667},{"$f":"MIN($O168:DB168)","v":6},157,6,null,null,null,null,null,null,null,7,null,null,null,null,null,null,null,null,null,null,null,9,null,null,null,null,8,null,null,null,null,null,null,null,null,null,null,null,null,null,null,null,null,null,null,null,null,null,8,null,null,null,null,null,7,null,null,null,null,null,7,null,null,null,null,8,null,null,null,10,null,null,null,8,null,8,null,null,null,null,6]
[158,"М171МБИИН031","Карасев Михаил Николаевич",1937363372,"МБИ172","Бизнес-информатика","Бюдж",{"$f":"MATCH(D169,Данные!$D$1:$D$65536,0)","v":241},384,75,12,{"$f":"IF(K169 > 0,J169/K169,0)","v":6.25},{"$f":"MIN($O169:DB169)","v":4},158,null,null,null,null,null,null,8,4,null,null,null,null,null,null,6,null,null,null,null,4,null,null,null,null,null,null,null,null,null,null,9,null,null,null,null,null,null,null,null,7,null,null,null,null,null,null,4,null,8,null,null,null,null,null,null,7,null,null,null,null,null,null,null,null,null,null,null,null,null,null,null,null,null,null,null,null,null,null,null,null,null,null,null,null,9,4,5]
[159,"М171МБИИН015","Бондарь Сергей Борисович",1937364044,"МБИ171","Бизнес-информатика","Бюдж",{"$f":"MATCH(D170,Данные!$D$1:$D$65536,0)","v":65},379,81,14,{"$f":"IF(K170 > 0,J170/K170,0)","v":5.7857142857142856},{"$f":"MIN($O170:DB170)","v":4},159,null,null,null,7,6,null,6,4,null,null,null,null,null,null,4,null,null,null,null,6,null,null,null,null,null,null,null,4,null,null,null,null,null,null,null,null,null,5,null,5,null,null,null,null,null,null,null,null,10,null,null,null,null,null,4,null,null,null,null,null,null,null,null,null,null,null,null,null,null,null,null,null,null,null,null,null,null,null,null,null,null,null,null,null,10,4,6]
[160,"М171МБИИН087","Мингазов Аскар Альбертович",1941989147,"МБИ172","Бизнес-информатика","Комм",{"$f":"MATCH(D171,Данные!$D$1:$D$65536,0)","v":220},373,74,12,{"$f":"IF(K171 > 0,J171/K171,0)","v":6.166666666666667},{"$f":"MIN($O171:DB171)","v":4},160,null,null,null,null,null,null,7,5,null,null,null,null,null,null,5,4,null,null,null,6,null,null,null,null,null,null,null,null,null,null,9,null,null,null,null,null,null,null,null,8,null,null,null,null,null,null,null,null,5,null,null,null,null,null,null,null,null,6,null,null,null,null,null,null,null,null,null,null,null,null,null,null,null,null,null,null,null,null,null,null,null,null,null,null,9,5,5]
[161,"М171МБИИН092","Феофанов Лев Андреевич",1941989079,"МБИ173","Бизнес-информатика","Комм",{"$f":"MATCH(D172,Данные!$D$1:$D$65536,0)","v":200},365,71,12,{"$f":"IF(K172 > 0,J172/K172,0)","v":5.916666666666667},{"$f":"MIN($O172:DB172)","v":4},161,null,null,null,null,null,null,7,4,null,null,null,null,null,null,5,null,null,null,null,4,null,null,null,null,null,null,null,null,null,null,9,null,null,null,null,null,null,null,null,null,null,null,null,null,null,null,null,null,8,null,null,null,null,null,null,7,null,null,null,null,null,null,null,null,null,null,null,5,null,null,null,null,null,null,null,null,null,null,null,null,null,null,null,null,9,4,4,null,null,5]
[162,"М171МБИИН021","Галков Алексей Александрович",1937363548,"МБИ171","Бизнес-информатика","Бюдж",{"$f":"MATCH(D173,Данные!$D$1:$D$65536,0)","v":229},363,74,12,{"$f":"IF(K173 > 0,J173/K173,0)","v":6.166666666666667},{"$f":"MIN($O173:DB173)","v":4},162,null,null,null,null,null,null,8,6,null,null,null,null,null,null,6,null,null,null,null,4,null,null,null,null,null,null,null,null,null,null,9,null,null,null,null,null,null,null,null,null,null,9,null,null,null,null,null,null,6,null,null,null,null,null,5,null,null,null,null,null,null,null,null,null,null,null,null,6,null,null,null,null,null,null,null,null,null,null,null,null,null,null,null,null,null,6,4,null,5]
[163,"М171МБИИН019","Волков Даниил Андреевич",1937363639,"МБИ171","Бизнес-информатика","Бюдж",{"$f":"MATCH(D174,Данные!$D$1:$D$65536,0)","v":236},351,74,12,{"$f":"IF(K174 > 0,J174/K174,0)","v":6.166666666666667},{"$f":"MIN($O174:DB174)","v":4},163,null,null,null,null,null,null,8,4,null,null,null,null,null,null,6,null,null,null,null,null,null,null,null,null,null,null,null,null,null,null,8,null,null,null,null,null,null,null,null,5,null,6,null,null,null,null,null,null,5,null,null,null,null,null,4,null,null,null,null,null,null,null,9,null,null,null,null,5,null,null,null,null,null,null,null,null,null,null,null,null,null,null,null,null,10,4]
[164,"М171МБИИН097","Варданян Карен Оганесович",1947090330,"МБИ172","Бизнес-информатика","Бюдж",{"$f":"MATCH(D175,Данные!$D$1:$D$65536,0)","v":219},350,72,12,{"$f":"IF(K175 > 0,J175/K175,0)","v":6},{"$f":"MIN($O175:DB175)","v":4},164,null,null,null,null,null,null,7,7,null,null,null,null,null,null,7,null,null,null,null,4,null,null,null,null,null,null,null,null,null,null,null,null,null,null,null,null,null,null,null,5,null,null,null,null,null,null,null,null,6,null,null,null,null,null,null,null,null,5,null,null,null,null,null,null,null,null,null,6,null,null,null,null,null,null,null,null,null,null,null,null,null,null,null,null,10,4,6,null,5]
[165,"М171МБИИН095","Ким Анатолий",1944935723,"МБИ173","Бизнес-информатика","Комм",{"$f":"MATCH(D176,Данные!$D$1:$D$65536,0)","v":158},346,68,12,{"$f":"IF(K176 > 0,J176/K176,0)","v":5.666666666666667},{"$f":"MIN($O176:DB176)","v":4},165,null,null,null,null,null,null,7,4,null,null,null,null,null,null,6,null,null,null,null,7,null,null,null,null,null,null,null,null,null,null,7,null,null,4,null,null,null,null,5,5,null,7,null,null,null,null,null,null,5,null,null,null,null,null,null,7,null,null,null,null,null,null,null,null,null,null,null,null,null,null,null,null,null,null,null,null,null,null,null,null,null,null,null,null,null,4]
[166,"М171МУБЕЗ021","Кабыкен Даулет",1942008109,"МИБ171","Управление информационной безопасностью","Бюдж",{"$f":"MATCH(D177,Данные!$D$1:$D$65536,0)","v":101},343,78,14,{"$f":"IF(K177 > 0,J177/K177,0)","v":5.5714285714285712},{"$f":"MIN($O177:DB177)","v":4},166,null,null,null,5,null,7,6,7,null,6,null,null,null,null,4,null,null,4,null,null,null,null,null,null,null,null,null,null,null,null,null,null,null,null,null,null,null,null,null,null,null,null,null,null,6,null,null,null,6,null,null,null,null,null,null,null,6,null,null,null,null,null,9,null,null,null,null,null,null,null,null,null,null,null,null,null,4,4,null,null,null,null,4]
[167,"М171МУБЕЗ022","Нурматов Асхат",1942008132,"МИБ171","Управление информационной безопасностью","Бюдж",{"$f":"MATCH(D178,Данные!$D$1:$D$65536,0)","v":102},333,74,14,{"$f":"IF(K178 > 0,J178/K178,0)","v":5.2857142857142856},{"$f":"MIN($O178:DB178)","v":4},167,null,null,null,5,null,6,6,4,null,6,null,null,null,null,4,null,null,5,null,null,null,null,null,null,null,null,null,null,null,null,null,null,null,null,null,null,null,null,null,null,null,null,null,null,6,null,null,null,6,null,null,null,null,null,null,null,6,null,null,null,null,null,8,null,null,null,null,null,null,null,null,null,null,null,null,null,4,4,null,null,null,null,4]
[168,"М171МБИИН001","Агарков Ярослав Алексеевич",1937363653,null,"Бизнес-информатика","Бюдж",{"$f":"MATCH(D179,Данные!$D$1:$D$65536,0)","v":237},95,25,4,{"$f":"IF(K179 > 0,J179/K179,0)","v":6.25},{"$f":"MIN($O179:DB179)","v":5},168,null,null,null,null,null,null,7,5,null,null,null,null,null,null,6,null,null,null,null,"н/я",null,null,null,null,null,null,null,null,null,null,7,null,null,null,null,null,null,null,null,"н/я","н/я",null,null,null,null,null,null,null,"н/я",null,null,null,null,null,"н/я",null,null,null,null,null,null,null,null,null,null,null,null,"н/я",null,null,null,null,null,null,null,null,null,null,null,null,null,null,null,null,"н/я","н/я"]

{"sheet":"Данные","index":1,"n_rows":2302,"n_cols":20,"rows_kept":2302,"cut":false,"hidden":true,"merged":[]}
["ID","Оценка из 10 баллов","Группа","Студент","Фамилия","Имя","Отчество","Номер студенческого билета","Строка учебного плана","Кумулятивных кредитов за испытание","Вид испытания","Календарный период по плану","Неявка","В кумулятивный рейтинг","Оценка зачет/назачет","Является бюджетным","Учебный план","Вид записи РУП","Вид дисциплины по ИУП","Номер Row"]
[1,2,3,4,5,6,7,8,9,10,11,12,13,14,15,16,17,18,19,20]
[2101189725,6,"МБД171",2097188263,"Леонов Антон Александрович","М161МЖУРД016","Анализ социальных сетей",3,"Экзамен","2016/2017 учебный год 4 модуль",null,18,1,1,null,5028,"ikPassed","Системы больших данных",{"$f":"MATCH(D3,Отчет!$D$1:$D$65536,0)","v":168}]
[1937458307,9,"МБД171",1937366231,"Дякин Николай Валерьевич","М171МСБДН005","Анализ данных",3,"Экзамен","2017/2018 учебный год 1 модуль",null,27,1,1,1722525802,2098,null,"Системы больших данных",{"$f":"MATCH(D4,Отчет!$D$1:$D$65536,0)","v":21}]
[1940930713,10,"МБД171",1940816199,"Обаляева Екатерина Ильинична","М171МСБДН023","Анализ данных",3,"Экзамен","2017/2018 учебный год 1 модуль",null,30,1,0,1722525802,2098,null,"Системы больших данных",{"$f":"MATCH(D5,Отчет!$D$1:$D$65536,0)","v":36}]
[1937460622,7,"МБД171",1937366394,"Шубина Виктория Ильинична","М171МСБДН018","Анализ данных",3,"Экзамен","2017/2018 учебный год 1 модуль",null,21,1,1,1722525802,2098,null,"Системы больших данных",{"$f":"MATCH(D6,Отчет!$D$1:$D$65536,0)","v":32}]
[1942061160,8,"МБД171",1942007946,"Ержанова Тогжан","М171МСБДН029","Анализ данных",3,"Экзамен","2017/2018 учебный год 1 модуль",null,24,1,1,1722525802,2098,null,"Системы больших данных",{"$f":"MATCH(D7,Отчет!$D$1:$D$65536,0)","v":61}]
[1937455568,10,"МБД171",1937366216,"Архипенко Анастасия Дмитриевна","М171МСБДН001","Анализ данных",3,"Экзамен","2017/2018 учебный год 1 модуль",null,30,1,1,1722525802,2098,null,"Системы больших данных",{"$f":"MATCH(D8,Отчет!$D$1:$D$65536,0)","v":16}]
[1959820458,9,"МБД171",1959612809,"Штройхофэр Кристофер","М171МСБДН033","Анализ данных",3,"Экзамен","2017/2018 учебный год 1 модуль",null,27,1,1,1722525802,2098,null,"Системы больших данных",{"$f":"MATCH(D9,Отчет!$D$1:$D$65536,0)","v":40}]
[1937455931,7,"МБД171",1937366422,"Вилкова Елена Александровна","М171МСБДН002","Анализ данных",3,"Экзамен","2017/2018 учебный год 1 модуль",null,21,1,1,1722525802,2098,null,"Системы больших данных",{"$f":"MATCH(D10,Отчет!$D$1:$D$65536,0)","v":12}]
[1937459476,7,"МБД171",1937366175,"Трегубова Инесса Александровна","М171МСБДН014","Анализ данных",3,"Экзамен","2017/2018 учебный год 1 модуль",null,21,1,1,1722525802,2098,null,"Системы больших данных",{"$f":"MATCH(D11,Отчет!$D$1:$D$65536,0)","v":127}]
[1950549219,7,"МБД171",1950255571,"Сиахпутра Эдо","М171МСБДН031","Анализ данных",3,"Экзамен","2017/2018 учебный год 1 модуль",null,21,1,1,1722525802,2098,null,"Системы больших данных",{"$f":"MATCH(D12,Отчет!$D$1:$D$65536,0)","v":112}]
[1950552564,9,"МБД171",1950215429,"Фаур Назим Ахмад","М171МСБДН032","Анализ данных",3,"Экзамен","2017/2018 учебный год 1 модуль",null,27,1,0,1722525802,2098,null,"Системы больших данных",{"$f":"MATCH(D13,Отчет!$D$1:$D$65536,0)","v":89}]
[1937460373,8,"МБД171",1937366348,"Шеин Александр Владимирович","М171МСБДН017","Анализ данных",3,"Экзамен","2017/2018 учебный год 1 модуль",null,24,1,1,1722525802,2098,null,"Системы больших данных",{"$f":"MATCH(D14,Отчет!$D$1:$D$65536,0)","v":17}]
[1978923736,7,"МБД171",1972663851,"Ислам Эмди Шафикул","М171МСБДН036","Анализ данных",3,"Экзамен","2017/2018 учебный год 1 модуль",null,21,1,0,1722525802,2098,null,"Системы больших данных",{"$f":"MATCH(D15,Отчет!$D$1:$D$65536,0)","v":84}]
[1937458665,7,"МБД171",1937366334,"Кулаков Александр Сергеевич","М171МСБДН009","Анализ данных",3,"Экзамен","2017/2018 учебный год 1 модуль",null,21,1,1,1722525802,2098,null,"Системы больших данных",{"$f":"MATCH(D16,Отчет!$D$1:$D$65536,0)","v":19}]
[1978923045,7,"МБД171",1970446330,"- Маниканта Рукмангада","М171МСБДН035","Анализ данных",3,"Экзамен","2017/2018 учебный год 1 модуль",null,21,1,1,1722525802,2098,null,"Системы больших данных",{"$f":"MATCH(D17,Отчет!$D$1:$D$65536,0)","v":120}]
[1937460023,7,"МБД171",1937366407,"Чувилина Анна Андреевна","М171МСБДН016","Анализ данных",3,"Экзамен","2017/2018 учебный год 1 модуль",null,21,1,1,1722525802,2098,null,"Системы больших данных",{"$f":"MATCH(D18,Отчет!$D$1:$D$65536,0)","v":43}]
[1940933169,8,"МБД171",1940751998,"Семес Алексей Владимирович","М171МСБДН026","Анализ данных",3,"Экзамен","2017/2018 учебный год 1 модуль",null,24,1,0,1722525802,2098,null,"Системы больших данных",{"$f":"MATCH(D19,Отчет!$D$1:$D$65536,0)","v":66}]
[1937458940,7,"МБД171",1937366317,"Рахимов Севастьян Эдуардович","М171МСБДН012","Анализ данных",3,"Экзамен","2017/2018 учебный год 1 модуль",null,21,1,1,1722525802,2098,null,"Системы больших данных",{"$f":"MATCH(D20,Отчет!$D$1:$D$65536,0)","v":59}]
[1940930340,8,"МБД171",1940816134,"Арча Александр Михайлович","М171МСБДН021","Анализ данных",3,"Экзамен","2017/2018 учебный год 1 модуль",null,24,1,0,1722525802,2098,null,"Системы больших данных",{"$f":"MATCH(D21,Отчет!$D$1:$D$65536,0)","v":111}]
[1937457635,10,"МБД171",1937366366,"Гатина Эльмира Ринатовна","М171МСБДН003","Анализ данных",3,"Экзамен","2017/2018 учебный год 1 модуль",null,30,1,1,1722525802,2098,null,"Системы больших данных",{"$f":"MATCH(D22,Отчет!$D$1:$D$65536,0)","v":34}]
[1940931905,7,"МБД171",1940816117,"Садыкова Сабина Бахтияровна","М171МСБДН025","Анализ данных",3,"Экзамен","2017/2018 учебный год 1 модуль",null,21,1,0,1722525802,2098,null,"Системы больших данных",{"$f":"MATCH(D23,Отчет!$D$1:$D$65536,0)","v":58}]
[1937459097,8,"МБД171",1937366436,"Сысоев Марк Валерьевич","М171МСБДН013","Анализ данных",3,"Экзамен","2017/2018 учебный год 1 модуль",null,24,1,1,1722525802,2098,null,"Системы больших данных",{"$f":"MATCH(D24,Отчет!$D$1:$D$65536,0)","v":45}]
[1940933649,7,"МБД171",1940816098,"Телышева Татьяна Романовна","М171МСБДН027","Анализ данных",3,"Экзамен","2017/2018 учебный год 1 модуль",null,21,1,0,1722525802,2098,null,"Системы больших данных",{"$f":"MATCH(D25,Отчет!$D$1:$D$65536,0)","v":93}]
[1940931226,7,"МБД171",1940816185,"Прохоренков Дмитрий Викторович","М171МСБДН024","Анализ данных",3,"Экзамен","2017/2018 учебный год 1 модуль",null,21,1,0,1722525802,2098,null,"Системы больших данных",{"$f":"MATCH(D26,Отчет!$D$1:$D$65536,0)","v":13}]
[1940930546,9,"МБД171",1940816199,"Обаляева Екатерина Ильинична","М171МСБДН023","Архитектура предприятия",3,"Экзамен","2017/2018 учебный год 1 модуль",null,27,1,0,1722525802,2098,null,"Системы больших данных",{"$f":"MATCH(D27,Отчет!$D$1:$D$65536,0)","v":36}]
[1940930888,9,"МБД171",1940816185,"Прохоренков Дмитрий Викторович","М171МСБДН024","Архитектура предприятия",3,"Экзамен","2017/2018 учебный год 1 модуль",null,27,1,0,1722525802,2098,null,"Системы больших данных",{"$f":"MATCH(D28,Отчет!$D$1:$D$65536,0)","v":13}]
[1942060754,7,"МБД171",1942007946,"Ержанова Тогжан","М171МСБДН029","Архитектура предприятия",3,"Экзамен","2017/2018 учебный год 1 модуль",null,21,1,1,1722525802,2098,null,"Системы больших данных",{"$f":"MATCH(D29,Отчет!$D$1:$D$65536,0)","v":61}]
[1959820424,7,"МБД171",1959612809,"Штройхофэр Кристофер","М171МСБДН033","Архитектура предприятия",3,"Экзамен","2017/2018 учебный год 1 модуль",null,21,1,1,1722525802,2098,null,"Системы больших данных",{"$f":"MATCH(D30,Отчет!$D$1:$D$65536,0)","v":40}]
[1950549124,6,"МБД171",1950255571,"Сиахпутра Эдо","М171МСБДН031","Архитектура предприятия",3,"Экзамен","2017/2018 учебный год 1 модуль",null,18,1,1,1722525802,2098,null,"Системы больших данных",{"$f":"MATCH(D31,Отчет!$D$1:$D$65536,0)","v":112}]
[1950551341,6,"МБД171",1950215429,"Фаур Назим Ахмад","М171МСБДН032","Архитектура предприятия",3,"Экзамен","2017/2018 учебный год 1 модуль",null,18,1,0,1722525802,2098,null,"Системы больших данных",{"$f":"MATCH(D32,Отчет!$D$1:$D$65536,0)","v":89}]
[1978923502,7,"МБД171",1972663851,"Ислам Эмди Шафикул","М171МСБДН036","Архитектура предприятия",3,"Экзамен","2017/2018 учебный год 1 модуль",null,21,1,0,1722525802,2098,null,"Системы больших данных",{"$f":"MATCH(D33,Отчет!$D$1:$D$65536,0)","v":84}]
[1978922680,9,"МБД171",1970446330,"- Маниканта Рукмангада","М171МСБДН035","Архитектура предприятия",3,"Экзамен","2017/2018 учебный год 1 модуль",null,27,1,1,1722525802,2098,null,"Системы больших данных",{"$f":"MATCH(D34,Отчет!$D$1:$D$65536,0)","v":120}]
[1940932771,8,"МБД171",1940751998,"Семес Алексей Владимирович","М171МСБДН026","Архитектура предприятия",3,"Экзамен","2017/2018 учебный год 1 модуль",null,24,1,0,1722525802,2098,null,"Системы больших данных",{"$f":"MATCH(D35,Отчет!$D$1:$D$65536,0)","v":66}]
[1940930209,9,"МБД171",1940816134,"Арча Александр Михайлович","М171МСБДН021","Архитектура предприятия",3,"Экзамен","2017/2018 учебный год 1 модуль",null,27,1,0,1722525802,2098,null,"Системы больших данных",{"$f":"MATCH(D36,Отчет!$D$1:$D$65536,0)","v":111}]
[1940931389,8,"МБД171",1940816117,"Садыкова Сабина Бахтияровна","М171МСБДН025","Архитектура предприятия",3,"Экзамен","2017/2018 учебный год 1 модуль",null,24,1,0,1722525802,2098,null,"Системы больших данных",{"$f":"MATCH(D37,Отчет!$D$1:$D$65536,0)","v":58}]
[1937458165,8,"МБД171",1937366231,"Дякин Николай Валерьевич","М171МСБДН005","Архитектура предприятия",3,"Экзамен","2017/2018 учебный год 1 модуль",null,24,1,1,1722525802,2098,null,"Системы больших данных",{"$f":"MATCH(D38,Отчет!$D$1:$D$65536,0)","v":21}]
[1937455396,9,"МБД171",1937366216,"Архипенко Анастасия Дмитриевна","М171МСБДН001","Архитектура предприятия",3,"Экзамен","2017/2018 учебный год 1 модуль",null,27,1,1,1722525802,2098,null,"Системы больших данных",{"$f":"MATCH(D39,Отчет!$D$1:$D$65536,0)","v":16}]
[1937459238,6,"МБД171",1937366175,"Трегубова Инесса Александровна","М171МСБДН014","Архитектура предприятия",3,"Экзамен","2017/2018 учебный год 1 модуль",null,18,1,1,1722525802,2098,null,"Системы больших данных",{"$f":"MATCH(D40,Отчет!$D$1:$D$65536,0)","v":127}]
[1937458508,7,"МБД171",1937366334,"Кулаков Александр Сергеевич","М171МСБДН009","Архитектура предприятия",3,"Экзамен","2017/2018 учебный год 1 модуль",null,21,1,1,1722525802,2098,null,"Системы больших данных",{"$f":"MATCH(D41,Отчет!$D$1:$D$65536,0)","v":19}]
[1937458776,7,"МБД171",1937366317,"Рахимов Севастьян Эдуардович","М171МСБДН012","Архитектура предприятия",3,"Экзамен","2017/2018 учебный год 1 модуль",null,21,1,1,1722525802,2098,null,"Системы больших данных",{"$f":"MATCH(D42,Отчет!$D$1:$D$65536,0)","v":59}]
[1937458984,8,"МБД171",1937366436,"Сысоев Марк Валерьевич","М171МСБДН013","Архитектура предприятия",3,"Экзамен","2017/2018 учебный год 1 модуль",null,24,1,1,1722525802,2098,null,"Системы больших данных",{"$f":"MATCH(D43,Отчет!$D$1:$D$65536,0)","v":45}]
[1937455829,9,"МБД171",1937366422,"Вилкова Елена Александровна","М171МСБДН002","Архитектура предприятия",3,"Экзамен","2017/2018 учебный год 1 модуль",null,27,1,1,1722525802,2098,null,"Системы больших данных",{"$f":"MATCH(D44,Отчет!$D$1:$D$65536,0)","v":12}]
[1937459645,9,"МБД171",1937366407,"Чувилина Анна Андреевна","М171МСБДН016","Архитектура предприятия",3,"Экзамен","2017/2018 учебный год 1 модуль",null,27,1,1,1722525802,2098,null,"Системы больших данных",{"$f":"MATCH(D45,Отчет!$D$1:$D$65536,0)","v":43}]
[1937460501,7,"МБД171",1937366394,"Шубина Виктория Ильинична","М171МСБДН018","Архитектура предприятия",3,"Экзамен","2017/2018 учебный год 1 модуль",null,21,1,1,1722525802,2098,null,"Системы больших данных",{"$f":"MATCH(D46,Отчет!$D$1:$D$65536,0)","v":32}]
[1937457507,8,"МБД171",1937366366,"Гатина Эльмира Ринатовна","М171МСБДН003","Архитектура предприятия",3,"Экзамен","2017/2018 учебный год 1 модуль",null,24,1,1,1722525802,2098,null,"Системы больших данных",{"$f":"MATCH(D47,Отчет!$D$1:$D$65536,0)","v":34}]
[1937460165,7,"МБД171",1937366348,"Шеин Александр Владимирович","М171МСБДН017","Архитектура предприятия",3,"Экзамен","2017/2018 учебный год 1 модуль",null,21,1,1,1722525802,2098,null,"Системы больших данных",{"$f":"MATCH(D48,Отчет!$D$1:$D$65536,0)","v":17}]
[1940933292,7,"МБД171",1940816098,"Телышева Татьяна Романовна","М171МСБДН027","Архитектура предприятия",3,"Экзамен","2017/2018 учебный год 1 модуль",null,21,1,0,1722525802,2098,null,"Системы больших данных",{"$f":"MATCH(D49,Отчет!$D$1:$D$65536,0)","v":93}]
[1937473936,10,"МБИ173",1937363495,"Черепнина Дарья Олеговна","М171МБИИН068","Методология и инструментарий для моделирования бизнес-процессов",3,"Экзамен","2017/2018 учебный год 1 модуль",null,30,1,1,1722551595,2098,null,"Бизнес-информатика",{"$f":"MATCH(D50,Отчет!$D$1:$D$65536,0)","v":67}]
[1945325554,9,"МБИ171",1944931265,"Бытка Дарья","М171МБИИН093","Методология и инструментарий для моделирования бизнес-процессов",3,"Экзамен","2017/2018 учебный год 1 модуль",null,27,1,1,1722551595,2098,null,"Бизнес-информатика",{"$f":"MATCH(D51,Отчет!$D$1:$D$65536,0)","v":22}]
[1937466942,8,"МБИ171",1937363522,"Богданов Павел Владимирович","М171МБИИН013","Методология и инструментарий для моделирования бизнес-процессов",3,"Экзамен","2017/2018 учебный год 1 модуль",null,24,1,1,1722551595,2098,null,"Бизнес-информатика",{"$f":"MATCH(D52,Отчет!$D$1:$D$65536,0)","v":92}]
[1937471550,10,"МБИ172",1937363600,"Конова Марина Валерьевна","М171МБИИН036","Методология и инструментарий для моделирования бизнес-процессов",3,"Экзамен","2017/2018 учебный год 1 модуль",null,30,1,1,1722551595,2098,null,"Бизнес-информатика",{"$f":"MATCH(D53,Отчет!$D$1:$D$65536,0)","v":23}]
[1937468543,8,"МБИ171",1937363332,"Войнов Евгений Вадимович","М171МБИИН018","Методология и инструментарий для моделирования бизнес-процессов",3,"Экзамен","2017/2018 учебный год 1 модуль",null,24,1,1,1722551595,2098,null,"Бизнес-информатика",{"$f":"MATCH(D54,Отчет!$D$1:$D$65536,0)","v":35}]
[1937472950,10,"МБИ173",1937363386,"Сафохин Андрей Дмитриевич","М171МБИИН058","Методология и инструментарий для моделирования бизнес-процессов",3,"Экзамен","2017/2018 учебный год 1 модуль",null,30,1,1,1722551595,2098,null,"Бизнес-информатика",{"$f":"MATCH(D55,Отчет!$D$1:$D$65536,0)","v":26}]
[1937472485,10,"МБИ173",1937363413,"Салтыкова Екатерина Андреевна","М171МБИИН057","Методология и инструментарий для моделирования бизнес-процессов",3,"Экзамен","2017/2018 учебный год 1 модуль",null,30,1,1,1722551595,2098,null,"Бизнес-информатика",{"$f":"MATCH(D56,Отчет!$D$1:$D$65536,0)","v":74}]
[1937468991,7,"МБИ171",1937364058,"Герасимов Станислав Александрович","М171МБИИН023","Методология и инструментарий для моделирования бизнес-процессов",3,"Экзамен","2017/2018 учебный год 1 модуль",null,21,1,1,1722551595,2098,null,"Бизнес-информатика",{"$f":"MATCH(D57,Отчет!$D$1:$D$65536,0)","v":140}]
[1937470193,10,"МБИ172",1937364110,"Клименко Екатерина Андреевна","М171МБИИН034","Методология и инструментарий для моделирования бизнес-процессов",3,"Экзамен","2017/2018 учебный год 1 модуль",null,30,1,1,1722551595,2098,null,"Бизнес-информатика",{"$f":"MATCH(D58,Отчет!$D$1:$D$65536,0)","v":28}]
[1937468052,9,"МБИ171",1937364123,"Вишняков Азим Азимович","М171МБИИН017","Методология и инструментарий для моделирования бизнес-процессов",3,"Экзамен","2017/2018 учебный год 1 модуль",null,27,1,1,1722551595,2098,null,"Бизнес-информатика",{"$f":"MATCH(D59,Отчет!$D$1:$D$65536,0)","v":80}]
[1937471740,9,"МБИ172",1937364137,"Медведева Мария Вячеславовна","М171МБИИН045","Методология и инструментарий для моделирования бизнес-процессов",3,"Экзамен","2017/2018 учебный год 1 модуль",null,27,1,1,1722551595,2098,null,"Бизнес-информатика",{"$f":"MATCH(D60,Отчет!$D$1:$D$65536,0)","v":51}]
[1937462752,8,"МБИ171",1937363904,"Белова Евгения Александровна","М171МБИИН011","Методология и инструментарий для моделирования бизнес-процессов",3,"Экзамен","2017/2018 учебный год 1 модуль",null,24,1,1,1722551595,2098,null,"Бизнес-информатика",{"$f":"MATCH(D61,Отчет!$D$1:$D$65536,0)","v":83}]
[1937473404,10,"МБИ173",1937364177,"Сухова Ксения Игоревна","М171МБИИН063","Методология и инструментарий для моделирования бизнес-процессов",3,"Экзамен","2017/2018 учебный год 1 модуль",null,30,1,1,1722551595,2098,null,"Бизнес-информатика",{"$f":"MATCH(D62,Отчет!$D$1:$D$65536,0)","v":77}]
[1937467757,8,"МБИ171",1937364220,"Бутченко Антон Олегович","М171МБИИН016","Методология и инструментарий для моделирования бизнес-процессов",3,"Экзамен","2017/2018 учебный год 1 модуль",null,24,1,1,1722551595,2098,null,"Бизнес-информатика",{"$f":"MATCH(D63,Отчет!$D$1:$D$65536,0)","v":57}]
[1937472099,8,"МБИ173",1937364031,"Полторак Анастасия Игоревна","М171МБИИН051","Методология и инструментарий для моделирования бизнес-процессов",3,"Экзамен","2017/2018 учебный год 1 модуль",null,24,1,1,1722551595,2098,null,"Бизнес-информатика",{"$f":"MATCH(D64,Отчет!$D$1:$D$65536,0)","v":103}]
[1937467337,7,"МБИ171",1937364044,"Бондарь Сергей Борисович","М171МБИИН015","Методология и инструментарий для моделирования бизнес-процессов",3,"Экзамен","2017/2018 учебный год 1 модуль",null,21,1,1,1722551595,2098,null,"Бизнес-информатика",{"$f":"MATCH(D65,Отчет!$D$1:$D$65536,0)","v":170}]
[1937452124,10,"МИБ171",1937370517,"Осадчая Алина Дмитриевна","М171МУБЕЗ013","Методология и инструментарий для моделирования бизнес-процессов",3,"Экзамен","2017/2018 учебный год 1 модуль",null,30,1,1,1722514289,2098,null,"Управление информационной безопасностью",{"$f":"MATCH(D66,Отчет!$D$1:$D$65536,0)","v":25}]
[1942182783,9,"МИБ171",1937370536,"Оленева Валерия Александровна","М171МУБЕЗ012","Методология и инструментарий для моделирования бизнес-процессов",3,"Экзамен","2017/2018 учебный год 1 модуль",null,27,1,1,1722514289,2098,null,"Управление информационной безопасностью",{"$f":"MATCH(D67,Отчет!$D$1:$D$65536,0)","v":86}]
[1937451605,6,"МИБ171",1937370580,"Козлов Никита Вячеславович","М171МУБЕЗ008","Методология и инструментарий для моделирования бизнес-процессов",3,"Экзамен","2017/2018 учебный год 1 модуль",null,18,1,1,1722514289,2098,null,"Управление информационной безопасностью",{"$f":"MATCH(D68,Отчет!$D$1:$D$65536,0)","v":118}]
[1937452504,9,"МИБ171",1937370596,"Смирнов Данил Вадимович","М171МУБЕЗ020","Методология и инструментарий для моделирования бизнес-процессов",3,"Экзамен","2017/2018 учебный год 1 модуль",null,27,1,1,1722514289,2098,null,"Управление информационной безопасностью",{"$f":"MATCH(D69,Отчет!$D$1:$D$65536,0)","v":33}]
[1937452046,8,"МИБ171",1937371125,"Никитин Андрей Олегович","М171МУБЕЗ011","Методология и инструментарий для моделирования бизнес-процессов",3,"Экзамен","2017/2018 учебный год 1 модуль",null,24,1,1,1722514289,2098,null,"Управление информационной безопасностью",{"$f":"MATCH(D70,Отчет!$D$1:$D$65536,0)","v":141}]
[1937442029,6,"МИБ171",1937371143,"Белоус Илия Григорьевич","М171МУБЕЗ001","Методология и инструментарий для моделирования бизнес-процессов",3,"Экзамен","2017/2018 учебный год 1 модуль",null,18,1,1,1722514289,2098,null,"Управление информационной безопасностью",{"$f":"MATCH(D71,Отчет!$D$1:$D$65536,0)","v":157}]
[1937448649,8,"МИБ171",1937371161,"Варламова Виктория Викторовна","М171МУБЕЗ003","Методология и инструментарий для моделирования бизнес-процессов",3,"Экзамен","2017/2018 учебный год 1 модуль",null,24,1,1,1722514289,2098,null,"Управление информационной безопасностью",{"$f":"MATCH(D72,Отчет!$D$1:$D$65536,0)","v":106}]
[1937451275,9,"МИБ171",1937370369,"Иванов Владислав Сергеевич","М171МУБЕЗ007","Методология и инструментарий для моделирования бизнес-процессов",3,"Экзамен","2017/2018 учебный год 1 модуль",null,27,1,1,1722514289,2098,null,"Управление информационной безопасностью",{"$f":"MATCH(D73,Отчет!$D$1:$D$65536,0)","v":20}]
[1937447015,10,"МИБ171",1937370385,"Бочарова Ксения Михайловна","М171МУБЕЗ002","Методология и инструментарий для моделирования бизнес-процессов",3,"Экзамен","2017/2018 учебный год 1 модуль",null,30,1,1,1722514289,2098,null,"Управление информационной безопасностью",{"$f":"MATCH(D74,Отчет!$D$1:$D$65536,0)","v":53}]
[1937450877,6,"МИБ171",1937370401,"Жучков Константин Сергеевич","М171МУБЕЗ006","Методология и инструментарий для моделирования бизнес-процессов",3,"Экзамен","2017/2018 учебный год 1 модуль",null,18,1,1,1722514289,2098,null,"Управление информационной безопасностью",{"$f":"MATCH(D75,Отчет!$D$1:$D$65536,0)","v":116}]
[1937452329,9,"МИБ171",1937370421,"Ряховский Сергей Алексеевич","М171МУБЕЗ018","Методология и инструментарий для моделирования бизнес-процессов",3,"Экзамен","2017/2018 учебный год 1 модуль",null,27,1,1,1722514289,2098,null,"Управление информационной безопасностью",{"$f":"MATCH(D76,Отчет!$D$1:$D$65536,0)","v":115}]
[1937451851,9,"МИБ171",1937370436,"Михеева Вероника Вячеславовна","М171МУБЕЗ010","Методология и инструментарий для моделирования бизнес-процессов",3,"Экзамен","2017/2018 учебный год 1 модуль",null,27,1,1,1722514289,2098,null,"Управление информационной безопасностью",{"$f":"MATCH(D77,Отчет!$D$1:$D$65536,0)","v":60}]
[1937450719,9,"МИБ171",1937370480,"Дарбишева Патимат Гаджимурадовна","М171МУБЕЗ005","Методология и инструментарий для моделирования бизнес-процессов",3,"Экзамен","2017/2018 учебный год 1 модуль",null,27,1,1,1722514289,2098,null,"Управление информационной безопасностью",{"$f":"MATCH(D78,Отчет!$D$1:$D$65536,0)","v":30}]
[1937454774,10,"МЭБ171",1937372985,"Фахрова Дина Вадимовна","М171МЭЛБЗ023","Методология и инструментарий для моделирования бизнес-процессов",3,"Экзамен","2017/2018 учебный год 1 модуль",null,30,1,1,1722506105,2098,null,"Электронный бизнес",{"$f":"MATCH(D79,Отчет!$D$1:$D$65536,0)","v":37}]
[1937454719,10,"МЭБ171",1937373025,"Суряднов Дмитрий Юрьевич","М171МЭЛБЗ022","Методология и инструментарий для моделирования бизнес-процессов",3,"Экзамен","2017/2018 учебный год 1 модуль",null,30,1,1,1722506105,2098,null,"Электронный бизнес",{"$f":"MATCH(D80,Отчет!$D$1:$D$65536,0)","v":27}]
[1937453736,6,"МЭБ171",1937372826,"Минеева Анастасия Сергеевна","М171МЭЛБЗ016","Методология и инструментарий для моделирования бизнес-процессов",3,"Экзамен","2017/2018 учебный год 1 модуль",null,18,1,1,1722506105,2098,null,"Электронный бизнес",{"$f":"MATCH(D81,Отчет!$D$1:$D$65536,0)","v":146}]
[1937454887,10,"МЭБ171",1937372852,"Юлдашева Камилла Адилевна","М171МЭЛБЗ025","Методология и инструментарий для моделирования бизнес-процессов",3,"Экзамен","2017/2018 учебный год 1 модуль",null,30,1,1,1722506105,2098,null,"Электронный бизнес",{"$f":"MATCH(D82,Отчет!$D$1:$D$65536,0)","v":24}]
[1937454619,9,"МЭБ171",1937372893,"Смирнов Константин Борисович","М171МЭЛБЗ021","Методология и инструментарий для моделирования бизнес-процессов",3,"Экзамен","2017/2018 учебный год 1 модуль",null,27,1,1,1722506105,2098,null,"Электронный бизнес",{"$f":"MATCH(D83,Отчет!$D$1:$D$65536,0)","v":55}]
[1937449970,10,"МИБ171",1937371178,"Гультяева Полина Николаевна","М171МУБЕЗ004","Методология и инструментарий для моделирования бизнес-процессов",3,"Экзамен","2017/2018 учебный год 1 модуль",null,30,1,1,1722514289,2098,null,"Управление информационной безопасностью",{"$f":"MATCH(D84,Отчет!$D$1:$D$65536,0)","v":39}]
[1937453020,10,"МЭБ171",1937372743,"Джаббарова Лейла Мехман гызы","М171МЭЛБЗ007","Методология и инструментарий для моделирования бизнес-процессов",3,"Экзамен","2017/2018 учебный год 1 модуль",null,30,1,1,1722506105,2098,null,"Электронный бизнес",{"$f":"MATCH(D85,Отчет!$D$1:$D$65536,0)","v":85}]
[1937454349,10,"МЭБ171",1937372757,"Осипова Мария Андреевна","М171МЭЛБЗ018","Методология и инструментарий для моделирования бизнес-процессов",3,"Экзамен","2017/2018 учебный год 1 модуль",null,30,1,1,1722506105,2098,null,"Электронный бизнес",{"$f":"MATCH(D86,Отчет!$D$1:$D$65536,0)","v":44}]
[1937453313,10,"МЭБ171",1937372783,"Калинин Дмитрий Владимирович","М171МЭЛБЗ008","Методология и инструментарий для моделирования бизнес-процессов",3,"Экзамен","2017/2018 учебный год 1 модуль",null,30,1,1,1722506105,2098,null,"Электронный бизнес",{"$f":"MATCH(D87,Отчет!$D$1:$D$65536,0)","v":49}]
[1952079090,5,"МБИ173",1941989095,"Сарычев Роман Владимирович","М171МБИИН091","Методология и инструментарий для моделирования бизнес-процессов",3,"Экзамен","2017/2018 учебный год 1 модуль",null,15,1,0,1722551595,2098,null,"Бизнес-информатика",{"$f":"MATCH(D88,Отчет!$D$1:$D$65536,0)","v":134}]
[1952077521,10,"МБИ173",1941989108,"Рябов Дмитрий Валерьевич","М171МБИИН090","Методология и инструментарий для моделирования бизнес-процессов",3,"Экзамен","2017/2018 учебный год 1 модуль",null,30,1,1,1722551595,2098,null,"Бизнес-информатика",{"$f":"MATCH(D89,Отчет!$D$1:$D$65536,0)","v":14}]
[1959232935,10,"МБИ172",1941989121,"Павлова Татьяна Михайловна","М171МБИИН089","Методология и инструментарий для моделирования бизнес-процессов",3,"Экзамен","2017/2018 учебный год 1 модуль",null,30,1,0,1722551595,2098,null,"Бизнес-информатика",{"$f":"MATCH(D90,Отчет!$D$1:$D$65536,0)","v":15}]
[1940909402,7,"МБИ172",1940815828,"Масалимов Тимур Ринатович","М171МБИИН073","Методология и инструментарий для моделирования бизнес-процессов",3,"Экзамен","2017/2018 учебный год 1 модуль",null,21,1,0,1722551595,2098,null,"Бизнес-информатика",{"$f":"MATCH(D91,Отчет!$D$1:$D$65536,0)","v":123}]
[1940910403,9,"МБИ172",1940750974,"Мирской Александр Леонидович","М171МБИИН075","Методология и инструментарий для моделирования бизнес-процессов",3,"Экзамен","2017/2018 учебный год 1 модуль",null,27,1,0,1722551595,2098,null,"Бизнес-информатика",{"$f":"MATCH(D92,Отчет!$D$1:$D$65536,0)","v":29}]
[1940912161,9,"МБИ173",1940751185,"Овсянникова Ольга Андреевна","М171МБИИН078","Методология и инструментарий для моделирования бизнес-процессов",3,"Экзамен","2017/2018 учебный год 1 модуль",null,27,1,0,1722551595,2098,null,"Бизнес-информатика",{"$f":"MATCH(D93,Отчет!$D$1:$D$65536,0)","v":69}]
[1940911384,6,"МБИ172",1940815727,"Монгуш Алдын-Ай Владимировна","М171МБИИН076","Методология и инструментарий для моделирования бизнес-процессов",3,"Экзамен","2017/2018 учебный год 1 модуль",null,18,1,0,1722551595,2098,null,"Бизнес-информатика",{"$f":"MATCH(D94,Отчет!$D$1:$D$65536,0)","v":104}]
[1942184467,10,"МБИ173",1940815759,"Щеголев Андрей Александрович","М171МБИИН081","Методология и инструментарий для моделирования бизнес-процессов",3,"Экзамен","2017/2018 учебный год 1 модуль",null,30,1,1,1722551595,2098,null,"Бизнес-информатика",{"$f":"MATCH(D95,Отчет!$D$1:$D$65536,0)","v":87}]
[1940909614,7,"МБИ172",1940815773,"Матвиенко Андрей Кириллович","М171МБИИН074","Методология и инструментарий для моделирования бизнес-процессов",3,"Экзамен","2017/2018 учебный год 1 модуль",null,21,1,1,1722551595,2098,null,"Бизнес-информатика",{"$f":"MATCH(D96,Отчет!$D$1:$D$65536,0)","v":38}]
[1940911709,9,"МБИ172",1940815787,"Музыка Наталия Константиновна","М171МБИИН077","Методология и инструментарий для моделирования бизнес-процессов",3,"Экзамен","2017/2018 учебный год 1 модуль",null,27,1,1,1722551595,2098,null,"Бизнес-информатика",{"$f":"MATCH(D97,Отчет!$D$1:$D$65536,0)","v":31}]
[1946037039,9,"МБИ173",1945753603,"Пак Александр Сергеевич","М171МБИИН096","Методология и инструментарий для моделирования бизнес-процессов",3,"Экзамен","2017/2018 учебный год 1 модуль",null,27,1,0,1722551595,2098,null,"Бизнес-информатика",{"$f":"MATCH(D98,Отчет!$D$1:$D$65536,0)","v":114}]
[1985386577,8,"МБИ172",1941989160,"Мельникова Анастасия Игоревна","М171МБИИН086","Методология и инструментарий для моделирования бизнес-процессов",3,"Экзамен","2017/2018 учебный год 1 модуль",null,24,1,0,1722551595,2098,null,"Бизнес-информатика",{"$f":"MATCH(D99,Отчет!$D$1:$D$65536,0)","v":46}]
[1947315888,10,"МБИ171",1941989199,"Бородко Вера Николаевна","М171МБИИН082","Методология и инструментарий для моделирования бизнес-процессов",3,"Экзамен","2017/2018 учебный год 1 модуль",null,30,1,0,1722551595,2098,null,"Бизнес-информатика",{"$f":"MATCH(D100,Отчет!$D$1:$D$65536,0)","v":18}]
[1942064028,5,"МИБ171",1942008109,"Кабыкен Даулет","М171МУБЕЗ021","Методология и инструментарий для моделирования бизнес-процессов",3,"Экзамен","2017/2018 учебный год 1 модуль",null,15,1,1,1722514289,2098,null,"Управление информационной безопасностью",{"$f":"MATCH(D101,Отчет!$D$1:$D$65536,0)","v":177}]
[1942064484,5,"МИБ171",1942008132,"Нурматов Асхат","М171МУБЕЗ022","Методология и инструментарий для моделирования бизнес-процессов",3,"Экзамен","2017/2018 учебный год 1 модуль",null,15,1,1,1722514289,2098,null,"Управление информационной безопасностью",{"$f":"MATCH(D102,Отчет!$D$1:$D$65536,0)","v":178}]
[1937469248,8,"МБИ171",1937363811,"Григорьева Юлия Сергеевна","М171МБИИН024","Методология и инструментарий для моделирования бизнес-процессов",3,"Экзамен","2017/2018 учебный год 1 модуль",null,24,1,1,1722551595,2098,null,"Бизнес-информатика",{"$f":"MATCH(D103,Отчет!$D$1:$D$65536,0)","v":41}]
[1937467122,8,"МБИ171",1937363522,"Богданов Павел Владимирович","М171МБИИН013","Проектирование информационных систем",3,"Экзамен","2017/2018 учебный год 1 модуль",null,24,1,1,1722551595,2098,null,"Бизнес-информатика",{"$f":"MATCH(D104,Отчет!$D$1:$D$65536,0)","v":92}]
[1937473546,8,"МБИ173",1937364177,"Сухова Ксения Игоревна","М171МБИИН063","Проектирование информационных систем",3,"Экзамен","2017/2018 учебный год 1 модуль",null,24,1,1,1722551595,2098,null,"Бизнес-информатика",{"$f":"MATCH(D105,Отчет!$D$1:$D$65536,0)","v":77}]
[1947316051,10,"МБИ171",1941989199,"Бородко Вера Николаевна","М171МБИИН082","Проектирование информационных систем",3,"Экзамен","2017/2018 учебный год 1 модуль",null,30,1,0,1722551595,2098,null,"Бизнес-информатика",{"$f":"MATCH(D106,Отчет!$D$1:$D$65536,0)","v":18}]
[1985386844,8,"МБИ172",1941989160,"Мельникова Анастасия Игоревна","М171МБИИН086","Проектирование информационных систем",3,"Экзамен","2017/2018 учебный год 1 модуль",null,24,1,0,1722551595,2098,null,"Бизнес-информатика",{"$f":"MATCH(D107,Отчет!$D$1:$D$65536,0)","v":46}]
[1946037124,8,"МБИ173",1945753603,"Пак Александр Сергеевич","М171МБИИН096","Проектирование информационных систем",3,"Экзамен","2017/2018 учебный год 1 модуль",null,24,1,0,1722551595,2098,null,"Бизнес-информатика",{"$f":"MATCH(D108,Отчет!$D$1:$D$65536,0)","v":114}]
[1940909945,7,"МБИ172",1940815773,"Матвиенко Андрей Кириллович","М171МБИИН074","Проектирование информационных систем",3,"Экзамен","2017/2018 учебный год 1 модуль",null,21,1,1,1722551595,2098,null,"Бизнес-информатика",{"$f":"MATCH(D109,Отчет!$D$1:$D$65536,0)","v":38}]
[1942184502,8,"МБИ173",1940815759,"Щеголев Андрей Александрович","М171МБИИН081","Проектирование информационных систем",3,"Экзамен","2017/2018 учебный год 1 модуль",null,24,1,1,1722551595,2098,null,"Бизнес-информатика",{"$f":"MATCH(D110,Отчет!$D$1:$D$65536,0)","v":87}]
[1940911556,8,"МБИ172",1940815727,"Монгуш Алдын-Ай Владимировна","М171МБИИН076","Проектирование информационных систем",3,"Экзамен","2017/2018 учебный год 1 модуль",null,24,1,0,1722551595,2098,null,"Бизнес-информатика",{"$f":"MATCH(D111,Отчет!$D$1:$D$65536,0)","v":104}]
[1940912218,8,"МБИ173",1940751185,"Овсянникова Ольга Андреевна","М171МБИИН078","Проектирование информационных систем",3,"Экзамен","2017/2018 учебный год 1 модуль",null,24,1,0,1722551595,2098,null,"Бизнес-информатика",{"$f":"MATCH(D112,Отчет!$D$1:$D$65536,0)","v":69}]
[1940910980,8,"МБИ172",1940750974,"Мирской Александр Леонидович","М171МБИИН075","Проектирование информационных систем",3,"Экзамен","2017/2018 учебный год 1 модуль",null,24,1,0,1722551595,2098,null,"Бизнес-информатика",{"$f":"MATCH(D113,Отчет!$D$1:$D$65536,0)","v":29}]
[1940909526,8,"МБИ172",1940815828,"Масалимов Тимур Ринатович","М171МБИИН073","Проектирование информационных систем",3,"Экзамен","2017/2018 учебный год 1 модуль",null,24,1,0,1722551595,2098,null,"Бизнес-информатика",{"$f":"MATCH(D114,Отчет!$D$1:$D$65536,0)","v":123}]
[1959232978,9,"МБИ172",1941989121,"Павлова Татьяна Михайловна","М171МБИИН089","Проектирование информационных систем",3,"Экзамен","2017/2018 учебный год 1 модуль",null,27,1,0,1722551595,2098,null,"Бизнес-информатика",{"$f":"MATCH(D115,Отчет!$D$1:$D$65536,0)","v":15}]
[1952077864,8,"МБИ173",1941989108,"Рябов Дмитрий Валерьевич","М171МБИИН090","Проектирование информационных систем",3,"Экзамен","2017/2018 учебный год 1 модуль",null,24,1,1,1722551595,2098,null,"Бизнес-информатика",{"$f":"MATCH(D116,Отчет!$D$1:$D$65536,0)","v":14}]
[1952079599,8,"МБИ173",1941989095,"Сарычев Роман Владимирович","М171МБИИН091","Проектирование информационных систем",3,"Экзамен","2017/2018 учебный год 1 модуль",null,24,1,0,1722551595,2098,null,"Бизнес-информатика",{"$f":"MATCH(D117,Отчет!$D$1:$D$65536,0)","v":134}]
[1940911993,8,"МБИ172",1940815787,"Музыка Наталия Константиновна","М171МБИИН077","Проектирование информационных систем",3,"Экзамен","2017/2018 учебный год 1 модуль",null,24,1,1,1722551595,2098,null,"Бизнес-информатика",{"$f":"MATCH(D118,Отчет!$D$1:$D$65536,0)","v":31}]
[1937474175,8,"МБИ173",1937363495,"Черепнина Дарья Олеговна","М171МБИИН068","Проектирование информационных систем",3,"Экзамен","2017/2018 учебный год 1 модуль",null,24,1,1,1722551595,2098,null,"Бизнес-информатика",{"$f":"MATCH(D119,Отчет!$D$1:$D$65536,0)","v":67}]
[1937467378,6,"МБИ171",1937364044,"Бондарь Сергей Борисович","М171МБИИН015","Проектирование информационных систем",3,"Экзамен","2017/2018 учебный год 1 модуль",null,18,1,1,1722551595,2098,null,"Бизнес-информатика",{"$f":"MATCH(D120,Отчет!$D$1:$D$65536,0)","v":170}]
[1937472281,8,"МБИ173",1937364031,"Полторак Анастасия Игоревна","М171МБИИН051","Проектирование информационных систем",3,"Экзамен","2017/2018 учебный год 1 модуль",null,24,1,1,1722551595,2098,null,"Бизнес-информатика",{"$f":"MATCH(D121,Отчет!$D$1:$D$65536,0)","v":103}]
[1937467883,8,"МБИ171",1937364220,"Бутченко Антон Олегович","М171МБИИН016","Проектирование информационных систем",3,"Экзамен","2017/2018 учебный год 1 модуль",null,24,1,1,1722551595,2098,null,"Бизнес-информатика",{"$f":"MATCH(D122,Отчет!$D$1:$D$65536,0)","v":57}]
[1937471606,8,"МБИ172",1937363600,"Конова Марина Валерьевна","М171МБИИН036","Проектирование информационных систем",3,"Экзамен","2017/2018 учебный год 1 модуль",null,24,1,1,1722551595,2098,null,"Бизнес-информатика",{"$f":"MATCH(D123,Отчет!$D$1:$D$65536,0)","v":23}]
[1937468786,8,"МБИ171",1937363332,"Войнов Евгений Вадимович","М171МБИИН018","Проектирование информационных систем",3,"Экзамен","2017/2018 учебный год 1 модуль",null,24,1,1,1722551595,2098,null,"Бизнес-информатика",{"$f":"MATCH(D124,Отчет!$D$1:$D$65536,0)","v":35}]
[1937473069,8,"МБИ173",1937363386,"Сафохин Андрей Дмитриевич","М171МБИИН058","Проектирование информационных систем",3,"Экзамен","2017/2018 учебный год 1 модуль",null,24,1,1,1722551595,2098,null,"Бизнес-информатика",{"$f":"MATCH(D125,Отчет!$D$1:$D$65536,0)","v":26}]
[1937472672,8,"МБИ173",1937363413,"Салтыкова Екатерина Андреевна","М171МБИИН057","Проектирование информационных систем",3,"Экзамен","2017/2018 учебный год 1 модуль",null,24,1,1,1722551595,2098,null,"Бизнес-информатика",{"$f":"MATCH(D126,Отчет!$D$1:$D$65536,0)","v":74}]
[1937469150,8,"МБИ171",1937364058,"Герасимов Станислав Александрович","М171МБИИН023","Проектирование информационных систем",3,"Экзамен","2017/2018 учебный год 1 модуль",null,24,1,1,1722551595,2098,null,"Бизнес-информатика",{"$f":"MATCH(D127,Отчет!$D$1:$D$65536,0)","v":140}]
[1945325581,10,"МБИ171",1944931265,"Бытка Дарья","М171МБИИН093","Проектирование информационных систем",3,"Экзамен","2017/2018 учебный год 1 модуль",null,30,1,1,1722551595,2098,null,"Бизнес-информатика",{"$f":"MATCH(D128,Отчет!$D$1:$D$65536,0)","v":22}]
[1937470321,8,"МБИ172",1937364110,"Клименко Екатерина Андреевна","М171МБИИН034","Проектирование информационных систем",3,"Экзамен","2017/2018 учебный год 1 модуль",null,24,1,1,1722551595,2098,null,"Бизнес-информатика",{"$f":"MATCH(D129,Отчет!$D$1:$D$65536,0)","v":28}]
[1937468195,8,"МБИ171",1937364123,"Вишняков Азим Азимович","М171МБИИН017","Проектирование информационных систем",3,"Экзамен","2017/2018 учебный год 1 модуль",null,24,1,1,1722551595,2098,null,"Бизнес-информатика",{"$f":"MATCH(D130,Отчет!$D$1:$D$65536,0)","v":80}]
[1937471925,8,"МБИ172",1937364137,"Медведева Мария Вячеславовна","М171МБИИН045","Проектирование информационных систем",3,"Экзамен","2017/2018 учебный год 1 модуль",null,24,1,1,1722551595,2098,null,"Бизнес-информатика",{"$f":"MATCH(D131,Отчет!$D$1:$D$65536,0)","v":51}]
[1937462943,8,"МБИ171",1937363904,"Белова Евгения Александровна","М171МБИИН011","Проектирование информационных систем",3,"Экзамен","2017/2018 учебный год 1 модуль",null,24,1,1,1722551595,2098,null,"Бизнес-информатика",{"$f":"MATCH(D132,Отчет!$D$1:$D$65536,0)","v":83}]
[1937469329,8,"МБИ171",1937363811,"Григорьева Юлия Сергеевна","М171МБИИН024","Проектирование информационных систем",3,"Экзамен","2017/2018 учебный год 1 модуль",null,24,1,1,1722551595,2098,null,"Бизнес-информатика",{"$f":"MATCH(D133,Отчет!$D$1:$D$65536,0)","v":41}]
[1942063425,6,"МИБ171",1942008132,"Нурматов Асхат","М171МУБЕЗ022","Процессы и инструменты управления проектами",2,"Экзамен","2017/2018 учебный год 1 модуль",null,12,1,1,1722514289,2098,null,"Управление информационной безопасностью",{"$f":"MATCH(D134,Отчет!$D$1:$D$65536,0)","v":178}]
[1942063393,7,"МИБ171",1942008109,"Кабыкен Даулет","М171МУБЕЗ021","Процессы и инструменты управления проектами",2,"Экзамен","2017/2018 учебный год 1 модуль",null,14,1,1,1722514289,2098,null,"Управление информационной безопасностью",{"$f":"MATCH(D135,Отчет!$D$1:$D$65536,0)","v":177}]
[1937431949,10,"МИБ171",1937370517,"Осадчая Алина Дмитриевна","М171МУБЕЗ013","Процессы и инструменты управления проектами",2,"Экзамен","2017/2018 учебный год 1 модуль",null,20,1,1,1722514289,2098,null,"Управление информационной безопасностью",{"$f":"MATCH(D136,Отчет!$D$1:$D$65536,0)","v":25}]
[1937431988,7,"МИБ171",1937370498,"Петрина Матвей Олегович","М171МУБЕЗ014","Процессы и инструменты управления проектами",2,"Экзамен","2017/2018 учебный год 1 модуль",null,14,1,1,1722514289,2098,null,"Управление информационной безопасностью",{"$f":"MATCH(D137,Отчет!$D$1:$D$65536,0)","v":75}]
[1937431590,9,"МИБ171",1937370480,"Дарбишева Патимат Гаджимурадовна","М171МУБЕЗ005","Процессы и инструменты управления проектами",2,"Экзамен","2017/2018 учебный год 1 модуль",null,18,1,1,1722514289,2098,null,"Управление информационной безопасностью",{"$f":"MATCH(D138,Отчет!$D$1:$D$65536,0)","v":30}]
[1937431775,9,"МИБ171",1937370452,"Коровин Кирилл Сергеевич","М171МУБЕЗ009","Процессы и инструменты управления проектами",2,"Экзамен","2017/2018 учебный год 1 модуль",null,18,1,1,1722514289,2098,null,"Управление информационной безопасностью",{"$f":"MATCH(D139,Отчет!$D$1:$D$65536,0)","v":136}]
[1937431821,8,"МИБ171",1937370436,"Михеева Вероника Вячеславовна","М171МУБЕЗ010","Процессы и инструменты управления проектами",2,"Экзамен","2017/2018 учебный год 1 модуль",null,16,1,1,1722514289,2098,null,"Управление информационной безопасностью",{"$f":"MATCH(D140,Отчет!$D$1:$D$65536,0)","v":60}]
[1937432295,9,"МИБ171",1937370421,"Ряховский Сергей Алексеевич","М171МУБЕЗ018","Процессы и инструменты управления проектами",2,"Экзамен","2017/2018 учебный год 1 модуль",null,18,1,1,1722514289,2098,null,"Управление информационной безопасностью",{"$f":"MATCH(D141,Отчет!$D$1:$D$65536,0)","v":115}]
[1937431631,8,"МИБ171",1937370401,"Жучков Константин Сергеевич","М171МУБЕЗ006","Процессы и инструменты управления проектами",2,"Экзамен","2017/2018 учебный год 1 модуль",null,16,1,1,1722514289,2098,null,"Управление информационной безопасностью",{"$f":"MATCH(D142,Отчет!$D$1:$D$65536,0)","v":116}]
[1937431458,8,"МИБ171",1937370385,"Бочарова Ксения Михайловна","М171МУБЕЗ002","Процессы и инструменты управления проектами",2,"Экзамен","2017/2018 учебный год 1 модуль",null,16,1,1,1722514289,2098,null,"Управление информационной безопасностью",{"$f":"MATCH(D143,Отчет!$D$1:$D$65536,0)","v":53}]
[1937431687,8,"МИБ171",1937370369,"Иванов Владислав Сергеевич","М171МУБЕЗ007","Процессы и инструменты управления проектами",2,"Экзамен","2017/2018 учебный год 1 модуль",null,16,1,1,1722514289,2098,null,"Управление информационной безопасностью",{"$f":"MATCH(D144,Отчет!$D$1:$D$65536,0)","v":20}]
[1937431521,7,"МИБ171",1937371161,"Варламова Виктория Викторовна","М171МУБЕЗ003","Процессы и инструменты управления проектами",2,"Экзамен","2017/2018 учебный год 1 модуль",null,14,1,1,1722514289,2098,null,"Управление информационной безопасностью",{"$f":"MATCH(D145,Отчет!$D$1:$D$65536,0)","v":106}]
[1937431395,8,"МИБ171",1937371143,"Белоус Илия Григорьевич","М171МУБЕЗ001","Процессы и инструменты управления проектами",2,"Экзамен","2017/2018 учебный год 1 модуль",null,16,1,1,1722514289,2098,null,"Управление информационной безопасностью",{"$f":"MATCH(D146,Отчет!$D$1:$D$65536,0)","v":157}]
[1937431867,8,"МИБ171",1937371125,"Никитин Андрей Олегович","М171МУБЕЗ011","Процессы и инструменты управления проектами",2,"Экзамен","2017/2018 учебный год 1 модуль",null,16,1,1,1722514289,2098,null,"Управление информационной безопасностью",{"$f":"MATCH(D147,Отчет!$D$1:$D$65536,0)","v":141}]
[1937432406,8,"МИБ171",1937370596,"Смирнов Данил Вадимович","М171МУБЕЗ020","Процессы и инструменты управления проектами",2,"Экзамен","2017/2018 учебный год 1 модуль",null,16,1,1,1722514289,2098,null,"Управление информационной безопасностью",{"$f":"MATCH(D148,Отчет!$D$1:$D$65536,0)","v":33}]
[1937431729,10,"МИБ171",1937370580,"Козлов Никита Вячеславович","М171МУБЕЗ008","Процессы и инструменты управления проектами",2,"Экзамен","2017/2018 учебный год 1 модуль",null,20,1,1,1722514289,2098,null,"Управление информационной безопасностью",{"$f":"MATCH(D149,Отчет!$D$1:$D$65536,0)","v":118}]
[1937432066,7,"МИБ171",1937370565,"Пупышева Анна Андреевна","М171МУБЕЗ016","Процессы и инструменты управления проектами",2,"Экзамен","2017/2018 учебный год 1 модуль",null,14,1,1,1722514289,2098,null,"Управление информационной безопасностью",{"$f":"MATCH(D150,Отчет!$D$1:$D$65536,0)","v":101}]
[1937432109,6,"МИБ171",1937370552,"Рудаков Андрей Дмитриевич","М171МУБЕЗ017","Процессы и инструменты управления проектами",2,"Экзамен","2017/2018 учебный год 1 модуль",null,12,1,1,1722514289,2098,null,"Управление информационной безопасностью",{"$f":"MATCH(D151,Отчет!$D$1:$D$65536,0)","v":99}]
[1937431910,10,"МИБ171",1937370536,"Оленева Валерия Александровна","М171МУБЕЗ012","Процессы и инструменты управления проектами",2,"Экзамен","2017/2018 учебный год 1 модуль",null,20,1,1,1722514289,2098,null,"Управление информационной безопасностью",{"$f":"MATCH(D152,Отчет!$D$1:$D$65536,0)","v":86}]
[1937431555,7,"МИБ171",1937371178,"Гультяева Полина Николаевна","М171МУБЕЗ004","Процессы и инструменты управления проектами",2,"Экзамен","2017/2018 учебный год 1 модуль",null,14,1,1,1722514289,2098,null,"Управление информационной безопасностью",{"$f":"MATCH(D153,Отчет!$D$1:$D$65536,0)","v":39}]
[1942063409,6,"МИБ171",1942008109,"Кабыкен Даулет","М171МУБЕЗ021","Системный анализ и проектирование",3,"Экзамен","2017/2018 учебный год 1 модуль",null,18,1,1,1722514289,2098,null,"Управление информационной безопасностью",{"$f":"MATCH(D154,Отчет!$D$1:$D$65536,0)","v":177}]
[1942063441,6,"МИБ171",1942008132,"Нурматов Асхат","М171МУБЕЗ022","Системный анализ и проектирование",3,"Экзамен","2017/2018 учебный год 1 модуль",null,18,1,1,1722514289,2098,null,"Управление информационной безопасностью",{"$f":"MATCH(D155,Отчет!$D$1:$D$65536,0)","v":178}]
[1942059828,10,"МБИ171",1942008650,"Гареев Эмиль Хамидович","М171МБИИН085","Системный анализ и проектирование",3,"Экзамен","2017/2018 учебный год 1 модуль",null,30,1,1,1722551595,2098,null,"Бизнес-информатика",{"$f":"MATCH(D156,Отчет!$D$1:$D$65536,0)","v":144}]
[1945325274,10,"МБИ171",1944931265,"Бытка Дарья","М171МБИИН093","Системный анализ и проектирование",3,"Экзамен","2017/2018 учебный год 1 модуль",null,30,1,1,1722551595,2098,null,"Бизнес-информатика",{"$f":"MATCH(D157,Отчет!$D$1:$D$65536,0)","v":22}]
[1945325328,7,"МБИ173",1944935723,"Ким Анатолий","М171МБИИН095","Системный анализ и проектирование",3,"Экзамен","2017/2018 учебный год 1 модуль",null,21,1,0,1722551595,2098,null,"Бизнес-информатика",{"$f":"MATCH(D158,Отчет!$D$1:$D$65536,0)","v":176}]
[1937432430,10,"МИБ171",1937370596,"Смирнов Данил Вадимович","М171МУБЕЗ020","Системный анализ и проектирование",3,"Экзамен","2017/2018 учебный год 1 модуль",null,30,1,1,1722514289,2098,null,"Управление информационной безопасностью",{"$f":"MATCH(D159,Отчет!$D$1:$D$65536,0)","v":33}]
[1937431889,7,"МИБ171",1937371125,"Никитин Андрей Олегович","М171МУБЕЗ011","Системный анализ и проектирование",3,"Экзамен","2017/2018 учебный год 1 модуль",null,21,1,1,1722514289,2098,null,"Управление информационной безопасностью",{"$f":"MATCH(D160,Отчет!$D$1:$D$65536,0)","v":141}]
[1937431424,6,"МИБ171",1937371143,"Белоус Илия Григорьевич","М171МУБЕЗ001","Системный анализ и проектирование",3,"Экзамен","2017/2018 учебный год 1 модуль",null,18,1,1,1722514289,2098,null,"Управление информационной безопасностью",{"$f":"MATCH(D161,Отчет!$D$1:$D$65536,0)","v":157}]
[1937431538,8,"МИБ171",1937371161,"Варламова Виктория Викторовна","М171МУБЕЗ003","Системный анализ и проектирование",3,"Экзамен","2017/2018 учебный год 1 модуль",null,24,1,1,1722514289,2098,null,"Управление информационной безопасностью",{"$f":"MATCH(D162,Отчет!$D$1:$D$65536,0)","v":106}]
[1937431709,10,"МИБ171",1937370369,"Иванов Владислав Сергеевич","М171МУБЕЗ007","Системный анализ и проектирование",3,"Экзамен","2017/2018 учебный год 1 модуль",null,30,1,1,1722514289,2098,null,"Управление информационной безопасностью",{"$f":"MATCH(D163,Отчет!$D$1:$D$65536,0)","v":20}]
[1937431495,9,"МИБ171",1937370385,"Бочарова Ксения Михайловна","М171МУБЕЗ002","Системный анализ и проектирование",3,"Экзамен","2017/2018 учебный год 1 модуль",null,27,1,1,1722514289,2098,null,"Управление информационной безопасностью",{"$f":"MATCH(D164,Отчет!$D$1:$D$65536,0)","v":53}]
[1937431666,6,"МИБ171",1937370401,"Жучков Константин Сергеевич","М171МУБЕЗ006","Системный анализ и проектирование",3,"Экзамен","2017/2018 учебный год 1 модуль",null,18,1,1,1722514289,2098,null,"Управление информационной безопасностью",{"$f":"MATCH(D165,Отчет!$D$1:$D$65536,0)","v":116}]
[1937432322,8,"МИБ171",1937370421,"Ряховский Сергей Алексеевич","М171МУБЕЗ018","Системный анализ и проектирование",3,"Экзамен","2017/2018 учебный год 1 модуль",null,24,1,1,1722514289,2098,null,"Управление информационной безопасностью",{"$f":"MATCH(D166,Отчет!$D$1:$D$65536,0)","v":115}]
[1937431847,8,"МИБ171",1937370436,"Михеева Вероника Вячеславовна","М171МУБЕЗ010","Системный анализ и проектирование",3,"Экзамен","2017/2018 учебный год 1 модуль",null,24,1,1,1722514289,2098,null,"Управление информационной безопасностью",{"$f":"MATCH(D167,Отчет!$D$1:$D$65536,0)","v":60}]
[1937431799,8,"МИБ171",1937370452,"Коровин Кирилл Сергеевич","М171МУБЕЗ009","Системный анализ и проектирование",3,"Экзамен","2017/2018 учебный год 1 модуль",null,24,1,1,1722514289,2098,null,"Управление информационной безопасностью",{"$f":"MATCH(D168,Отчет!$D$1:$D$65536,0)","v":136}]
[1937431610,9,"МИБ171",1937370480,"Дарбишева Патимат Гаджимурадовна","М171МУБЕЗ005","Системный анализ и проектирование",3,"Экзамен","2017/2018 учебный год 1 модуль",null,27,1,1,1722514289,2098,null,"Управление информационной безопасностью",{"$f":"MATCH(D169,Отчет!$D$1:$D$65536,0)","v":30}]
[1937432004,8,"МИБ171",1937370498,"Петрина Матвей Олегович","М171МУБЕЗ014","Системный анализ и проектирование",3,"Экзамен","2017/2018 учебный год 1 модуль",null,24,1,1,1722514289,2098,null,"Управление информационной безопасностью",{"$f":"MATCH(D170,Отчет!$D$1:$D$65536,0)","v":75}]
[1937431970,9,"МИБ171",1937370517,"Осадчая Алина Дмитриевна","М171МУБЕЗ013","Системный анализ и проектирование",3,"Экзамен","2017/2018 учебный год 1 модуль",null,27,1,1,1722514289,2098,null,"Управление информационной безопасностью",{"$f":"MATCH(D171,Отчет!$D$1:$D$65536,0)","v":25}]
[1940908699,9,"МБИ172",1940815787,"Музыка Наталия Константиновна","М171МБИИН077","Системный анализ и проектирование",3,"Экзамен","2017/2018 учебный год 1 модуль",null,27,1,1,1722551595,2098,null,"Бизнес-информатика",{"$f":"MATCH(D172,Отчет!$D$1:$D$65536,0)","v":31}]
[1937433827,7,"МЭБ171",1937372945,"Цуканов Иван Викторович","М171МЭЛБЗ024","Системный анализ и проектирование",3,"Экзамен","2017/2018 учебный год 1 модуль",null,21,1,1,1722506105,2098,null,"Электронный бизнес",{"$f":"MATCH(D173,Отчет!$D$1:$D$65536,0)","v":100}]
[1937433378,8,"МЭБ171",1937372959,"Лунин Никита Константинович","М171МЭЛБЗ014","Системный анализ и проектирование",3,"Экзамен","2017/2018 учебный год 1 модуль",null,24,1,1,1722506105,2098,null,"Электронный бизнес",{"$f":"MATCH(D174,Отчет!$D$1:$D$65536,0)","v":158}]
[1937433569,8,"МЭБ171",1937372972,"Рубцова Екатерина Андреевна","М171МЭЛБЗ019","Системный анализ и проектирование",3,"Экзамен","2017/2018 учебный год 1 модуль",null,24,1,1,1722506105,2098,null,"Электронный бизнес",{"$f":"MATCH(D175,Отчет!$D$1:$D$65536,0)","v":139}]
[1937433789,10,"МЭБ171",1937372985,"Фахрова Дина Вадимовна","М171МЭЛБЗ023","Системный анализ и проектирование",3,"Экзамен","2017/2018 учебный год 1 модуль",null,30,1,1,1722506105,2098,null,"Электронный бизнес",{"$f":"MATCH(D176,Отчет!$D$1:$D$65536,0)","v":37}]
[1937433047,8,"МЭБ171",1937372998,"Горобец Валерия Валентиновна","М171МЭЛБЗ005","Системный анализ и проектирование",3,"Экзамен","2017/2018 учебный год 1 модуль",null,24,1,1,1722506105,2098,null,"Электронный бизнес",{"$f":"MATCH(D177,Отчет!$D$1:$D$65536,0)","v":42}]
[1937433079,9,"МЭБ171",1937373012,"Давыдова Ксения Валерьевна","М171МЭЛБЗ006","Системный анализ и проектирование",3,"Экзамен","2017/2018 учебный год 1 модуль",null,27,1,1,1722506105,2098,null,"Электронный бизнес",{"$f":"MATCH(D178,Отчет!$D$1:$D$65536,0)","v":97}]
[1937433712,10,"МЭБ171",1937373025,"Суряднов Дмитрий Юрьевич","М171МЭЛБЗ022","Системный анализ и проектирование",3,"Экзамен","2017/2018 учебный год 1 модуль",null,30,1,1,1722506105,2098,null,"Электронный бизнес",{"$f":"MATCH(D179,Отчет!$D$1:$D$65536,0)","v":27}]
[1937433333,8,"МЭБ171",1937373039,"Кяргин Антон Юрьевич","М171МЭЛБЗ013","Системный анализ и проектирование",3,"Экзамен","2017/2018 учебный год 1 модуль",null,24,1,1,1722506105,2098,null,"Электронный бизнес",{"$f":"MATCH(D180,Отчет!$D$1:$D$65536,0)","v":110}]
[1937433180,7,"МЭБ171",1937373052,"Ким Дин Хо","М171МЭЛБЗ009","Системный анализ и проектирование",3,"Экзамен","2017/2018 учебный год 1 модуль",null,21,1,1,1722506105,2098,null,"Электронный бизнес",{"$f":"MATCH(D181,Отчет!$D$1:$D$65536,0)","v":121}]
[1937432920,10,"МЭБ171",1937372839,"Бабаджанян Армен Кароевич","М171МЭЛБЗ002","Системный анализ и проектирование",3,"Экзамен","2017/2018 учебный год 1 модуль",null,30,1,1,1722506105,2098,null,"Электронный бизнес",{"$f":"MATCH(D182,Отчет!$D$1:$D$65536,0)","v":52}]
[1937433859,9,"МЭБ171",1937372852,"Юлдашева Камилла Адилевна","М171МЭЛБЗ025","Системный анализ и проектирование",3,"Экзамен","2017/2018 учебный год 1 модуль",null,27,1,1,1722506105,2098,null,"Электронный бизнес",{"$f":"MATCH(D183,Отчет!$D$1:$D$65536,0)","v":24}]
[1937433608,9,"МЭБ171",1937372866,"Семенкович Софья Алексеевна","М171МЭЛБЗ020","Системный анализ и проектирование",3,"Экзамен","2017/2018 учебный год 1 модуль",null,27,1,1,1722506105,2098,null,"Электронный бизнес",{"$f":"MATCH(D184,Отчет!$D$1:$D$65536,0)","v":90}]
[1937433410,10,"МЭБ171",1937372880,"Лучкин Андрей Владимирович","М171МЭЛБЗ015","Системный анализ и проектирование",3,"Экзамен","2017/2018 учебный год 1 модуль",null,30,1,1,1722506105,2098,null,"Электронный бизнес",{"$f":"MATCH(D185,Отчет!$D$1:$D$65536,0)","v":133}]
[1937433661,9,"МЭБ171",1937372893,"Смирнов Константин Борисович","М171МЭЛБЗ021","Системный анализ и проектирование",3,"Экзамен","2017/2018 учебный год 1 модуль",null,27,1,1,1722506105,2098,null,"Электронный бизнес",{"$f":"MATCH(D186,Отчет!$D$1:$D$65536,0)","v":55}]
[1937433269,9,"МЭБ171",1937372906,"Китьян Акмаль Алексеевич","М171МЭЛБЗ011","Системный анализ и проектирование",3,"Экзамен","2017/2018 учебный год 1 модуль",null,27,1,1,1722506105,2098,null,"Электронный бизнес",{"$f":"MATCH(D187,Отчет!$D$1:$D$65536,0)","v":154}]
[1937433483,8,"МЭБ171",1937372919,"Михайлов Егор Александрович","М171МЭЛБЗ017","Системный анализ и проектирование",3,"Экзамен","2017/2018 учебный год 1 модуль",null,24,1,1,1722506105,2098,null,"Электронный бизнес",{"$f":"MATCH(D188,Отчет!$D$1:$D$65536,0)","v":107}]
[1937432884,8,"МЭБ171",1937372932,"Абросимова Анастасия Михайловна","М171МЭЛБЗ001","Системный анализ и проектирование",3,"Экзамен","2017/2018 учебный год 1 модуль",null,24,1,1,1722506105,2098,null,"Электронный бизнес",{"$f":"MATCH(D189,Отчет!$D$1:$D$65536,0)","v":105}]
[1937431573,10,"МИБ171",1937371178,"Гультяева Полина Николаевна","М171МУБЕЗ004","Системный анализ и проектирование",3,"Экзамен","2017/2018 учебный год 1 модуль",null,30,1,1,1722514289,2098,null,"Управление информационной безопасностью",{"$f":"MATCH(D190,Отчет!$D$1:$D$65536,0)","v":39}]
[1937432961,8,"МЭБ171",1937372729,"Бадамова Екатерина Дмитриевна","М171МЭЛБЗ003","Системный анализ и проектирование",3,"Экзамен","2017/2018 учебный год 1 модуль",null,24,1,1,1722506105,2098,null,"Электронный бизнес",{"$f":"MATCH(D191,Отчет!$D$1:$D$65536,0)","v":47}]
[1937433108,9,"МЭБ171",1937372743,"Джаббарова Лейла Мехман гызы","М171МЭЛБЗ007","Системный анализ и проектирование",3,"Экзамен","2017/2018 учебный год 1 модуль",null,27,1,1,1722506105,2098,null,"Электронный бизнес",{"$f":"MATCH(D192,Отчет!$D$1:$D$65536,0)","v":85}]
[1937433527,8,"МЭБ171",1937372757,"Осипова Мария Андреевна","М171МЭЛБЗ018","Системный анализ и проектирование",3,"Экзамен","2017/2018 учебный год 1 модуль",null,24,1,1,1722506105,2098,null,"Электронный бизнес",{"$f":"MATCH(D193,Отчет!$D$1:$D$65536,0)","v":44}]
[1937433222,9,"МЭБ171",1937372770,"Кирилловых Андрей Максимович","М171МЭЛБЗ010","Системный анализ и проектирование",3,"Экзамен","2017/2018 учебный год 1 модуль",null,27,1,1,1722506105,2098,null,"Электронный бизнес",{"$f":"MATCH(D194,Отчет!$D$1:$D$65536,0)","v":102}]
[1937433142,10,"МЭБ171",1937372783,"Калинин Дмитрий Владимирович","М171МЭЛБЗ008","Системный анализ и проектирование",3,"Экзамен","2017/2018 учебный год 1 модуль",null,30,1,1,1722506105,2098,null,"Электронный бизнес",{"$f":"MATCH(D195,Отчет!$D$1:$D$65536,0)","v":49}]
[1937433006,9,"МЭБ171",1937372796,"Гимашев Линар Русланович","М171МЭЛБЗ004","Системный анализ и проектирование",3,"Экзамен","2017/2018 учебный год 1 модуль",null,27,1,1,1722506105,2098,null,"Электронный бизнес",{"$f":"MATCH(D196,Отчет!$D$1:$D$65536,0)","v":142}]
[1937433300,7,"МЭБ171",1937372811,"Куратова Александра Евгеньевна","М171МЭЛБЗ012","Системный анализ и проектирование",3,"Экзамен","2017/2018 учебный год 1 модуль",null,21,1,1,1722506105,2098,null,"Электронный бизнес",{"$f":"MATCH(D197,Отчет!$D$1:$D$65536,0)","v":137}]
[1937433443,8,"МЭБ171",1937372826,"Минеева Анастасия Сергеевна","М171МЭЛБЗ016","Системный анализ и проектирование",3,"Экзамен","2017/2018 учебный год 1 модуль",null,24,1,1,1722506105,2098,null,"Электронный бизнес",{"$f":"MATCH(D198,Отчет!$D$1:$D$65536,0)","v":146}]
[1940922450,9,"МЭБ171",1940816486,"Кондращенко Ярослав Константинович","М171МЭЛБЗ027","Системный анализ и проектирование",3,"Экзамен","2017/2018 учебный год 1 модуль",null,27,1,0,1722506105,2098,null,"Электронный бизнес",{"$f":"MATCH(D199,Отчет!$D$1:$D$65536,0)","v":78}]
[1952080354,7,"МБИ173",1941989079,"Феофанов Лев Андреевич","М171МБИИН092","Системный анализ и проектирование",3,"Экзамен","2017/2018 учебный год 1 модуль",null,21,1,0,1722551595,2098,null,"Бизнес-информатика",{"$f":"MATCH(D200,Отчет!$D$1:$D$65536,0)","v":172}]
[1952078174,7,"МБИ173",1941989095,"Сарычев Роман Владимирович","М171МБИИН091","Системный анализ и проектирование",3,"Экзамен","2017/2018 учебный год 1 модуль",null,21,1,0,1722551595,2098,null,"Бизнес-информатика",{"$f":"MATCH(D201,Отчет!$D$1:$D$65536,0)","v":134}]
[1952076815,9,"МБИ173",1941989108,"Рябов Дмитрий Валерьевич","М171МБИИН090","Системный анализ и проектирование",3,"Экзамен","2017/2018 учебный год 1 модуль",null,27,1,1,1722551595,2098,null,"Бизнес-информатика",{"$f":"MATCH(D202,Отчет!$D$1:$D$65536,0)","v":14}]
[1942059915,9,"МБИ172",1941989121,"Павлова Татьяна Михайловна","М171МБИИН089","Системный анализ и проектирование",3,"Экзамен","2017/2018 учебный год 1 модуль",null,27,1,0,1722551595,2098,null,"Бизнес-информатика",{"$f":"MATCH(D203,Отчет!$D$1:$D$65536,0)","v":15}]
[1942059894,8,"МБИ172",1941989134,"Морева Галина Сергеевна","М171МБИИН088","Системный анализ и проектирование",3,"Экзамен","2017/2018 учебный год 1 модуль",null,24,1,0,1722551595,2098,null,"Бизнес-информатика",{"$f":"MATCH(D204,Отчет!$D$1:$D$65536,0)","v":94}]
[1940908582,9,"МБИ172",1940815800,"Кривенцов Феликс Константинович","М171МБИИН072","Системный анализ и проектирование",3,"Экзамен","2017/2018 учебный год 1 модуль",null,27,1,1,1722551595,2098,null,"Бизнес-информатика",{"$f":"MATCH(D205,Отчет!$D$1:$D$65536,0)","v":119}]
[1940908741,10,"МБИ173",1940815815,"Шпилевская Наталья Викторовна","М171МБИИН079","Системный анализ и проектирование",3,"Экзамен","2017/2018 учебный год 1 модуль",null,30,1,0,1722551595,2098,null,"Бизнес-информатика",{"$f":"MATCH(D206,Отчет!$D$1:$D$65536,0)","v":155}]
[1940908602,8,"МБИ172",1940815828,"Масалимов Тимур Ринатович","М171МБИИН073","Системный анализ и проектирование",3,"Экзамен","2017/2018 учебный год 1 модуль",null,24,1,0,1722551595,2098,null,"Бизнес-информатика",{"$f":"MATCH(D207,Отчет!$D$1:$D$65536,0)","v":123}]
[1940908562,7,"МБИ171",1940815842,"Дворяшин Дмитрий Александрович","М171МБИИН071","Системный анализ и проектирование",3,"Экзамен","2017/2018 учебный год 1 модуль",null,21,1,0,1722551595,2098,null,"Бизнес-информатика",{"$f":"MATCH(D208,Отчет!$D$1:$D$65536,0)","v":166}]
[1940908652,9,"МБИ172",1940750974,"Мирской Александр Леонидович","М171МБИИН075","Системный анализ и проектирование",3,"Экзамен","2017/2018 учебный год 1 модуль",null,27,1,0,1722551595,2098,null,"Бизнес-информатика",{"$f":"MATCH(D209,Отчет!$D$1:$D$65536,0)","v":29}]
[1940908719,9,"МБИ173",1940751185,"Овсянникова Ольга Андреевна","М171МБИИН078","Системный анализ и проектирование",3,"Экзамен","2017/2018 учебный год 1 модуль",null,27,1,0,1722551595,2098,null,"Бизнес-информатика",{"$f":"MATCH(D210,Отчет!$D$1:$D$65536,0)","v":69}]
[1940908678,9,"МБИ172",1940815727,"Монгуш Алдын-Ай Владимировна","М171МБИИН076","Системный анализ и проектирование",3,"Экзамен","2017/2018 учебный год 1 модуль",null,27,1,0,1722551595,2098,null,"Бизнес-информатика",{"$f":"MATCH(D211,Отчет!$D$1:$D$65536,0)","v":104}]
[1940908769,9,"МБИ173",1940815743,"Шумилин Дмитрий Станиславович","М171МБИИН080","Системный анализ и проектирование",3,"Экзамен","2017/2018 учебный год 1 модуль",null,27,1,0,1722551595,2098,null,"Бизнес-информатика",{"$f":"MATCH(D212,Отчет!$D$1:$D$65536,0)","v":150}]
[1940908941,9,"МБИ173",1940815759,"Щеголев Андрей Александрович","М171МБИИН081","Системный анализ и проектирование",3,"Экзамен","2017/2018 учебный год 1 модуль",null,27,1,1,1722551595,2098,null,"Бизнес-информатика",{"$f":"MATCH(D213,Отчет!$D$1:$D$65536,0)","v":87}]
[1940908630,10,"МБИ172",1940815773,"Матвиенко Андрей Кириллович","М171МБИИН074","Системный анализ и проектирование",3,"Экзамен","2017/2018 учебный год 1 модуль",null,30,1,1,1722551595,2098,null,"Бизнес-информатика",{"$f":"MATCH(D214,Отчет!$D$1:$D$65536,0)","v":38}]
[2162837122,6,"МБИ173",2162833425,"Майборода Кирилл Алексеевич","М161МБИИН048","Системный анализ и проектирование",3,"Экзамен","2017/2018 учебный год 1 модуль",null,18,1,1,1722551595,2098,null,"Бизнес-информатика",{"$f":"MATCH(D215,Отчет!$D$1:$D$65536,0)","v":122}]
[1945325303,7,"МБИ172",1944939253,"Вовк Иларион Анатольевич","М171МБИИН094","Системный анализ и проектирование",3,"Экзамен","2017/2018 учебный год 1 модуль",null,21,1,0,1722551595,2098,null,"Бизнес-информатика",{"$f":"MATCH(D216,Отчет!$D$1:$D$65536,0)","v":98}]
[1946036810,9,"МБИ173",1945753603,"Пак Александр Сергеевич","М171МБИИН096","Системный анализ и проектирование",3,"Экзамен","2017/2018 учебный год 1 модуль",null,27,1,0,1722551595,2098,null,"Бизнес-информатика",{"$f":"MATCH(D217,Отчет!$D$1:$D$65536,0)","v":114}]
[1946042596,8,"МЭБ171",1945760044,"Цандере Юлия","М171МЭЛБЗ028","Системный анализ и проектирование",3,"Экзамен","2017/2018 учебный год 1 модуль",null,24,1,0,1722506105,2098,null,"Электронный бизнес",{"$f":"MATCH(D218,Отчет!$D$1:$D$65536,0)","v":130}]
[1947206517,7,"МБИ172",1947090330,"Варданян Карен Оганесович","М171МБИИН097","Системный анализ и проектирование",3,"Экзамен","2017/2018 учебный год 1 модуль",null,21,1,1,1722551595,2098,null,"Бизнес-информатика",{"$f":"MATCH(D219,Отчет!$D$1:$D$65536,0)","v":175}]
[1942059870,7,"МБИ172",1941989147,"Мингазов Аскар Альбертович","М171МБИИН087","Системный анализ и проектирование",3,"Экзамен","2017/2018 учебный год 1 модуль",null,21,1,0,1722551595,2098,null,"Бизнес-информатика",{"$f":"MATCH(D220,Отчет!$D$1:$D$65536,0)","v":171}]
[1942059850,8,"МБИ172",1941989160,"Мельникова Анастасия Игоревна","М171МБИИН086","Системный анализ и проектирование",3,"Экзамен","2017/2018 учебный год 1 модуль",null,24,1,0,1722551595,2098,null,"Бизнес-информатика",{"$f":"MATCH(D221,Отчет!$D$1:$D$65536,0)","v":46}]
[1942059763,10,"МБИ171",1941989199,"Бородко Вера Николаевна","М171МБИИН082","Системный анализ и проектирование",3,"Экзамен","2017/2018 учебный год 1 модуль",null,30,1,0,1722551595,2098,null,"Бизнес-информатика",{"$f":"MATCH(D222,Отчет!$D$1:$D$65536,0)","v":18}]
[1937427841,10,"МБИ173",1937363798,"Пронин Никита Вадимович","М171МБИИН052","Системный анализ и проектирование",3,"Экзамен","2017/2018 учебный год 1 модуль",null,30,1,1,1722551595,2098,null,"Бизнес-информатика",{"$f":"MATCH(D223,Отчет!$D$1:$D$65536,0)","v":108}]
[1937427109,9,"МБИ171",1937363811,"Григорьева Юлия Сергеевна","М171МБИИН024","Системный анализ и проектирование",3,"Экзамен","2017/2018 учебный год 1 модуль",null,27,1,1,1722551595,2098,null,"Бизнес-информатика",{"$f":"MATCH(D224,Отчет!$D$1:$D$65536,0)","v":41}]
[1937427566,9,"МБИ172",1937363838,"Лиховцев Вадим Александрович","М171МБИИН041","Системный анализ и проектирование",3,"Экзамен","2017/2018 учебный год 1 модуль",null,27,1,1,1722551595,2098,null,"Бизнес-информатика",{"$f":"MATCH(D225,Отчет!$D$1:$D$65536,0)","v":68}]
[1937427425,8,"МБИ172",1937363509,"Колесникова Анна Сергеевна","М171МБИИН035","Системный анализ и проектирование",3,"Экзамен","2017/2018 учебный год 1 модуль",null,24,1,1,1722551595,2098,null,"Бизнес-информатика",{"$f":"MATCH(D226,Отчет!$D$1:$D$65536,0)","v":161}]
[1937426803,9,"МБИ171",1937363522,"Богданов Павел Владимирович","М171МБИИН013","Системный анализ и проектирование",3,"Экзамен","2017/2018 учебный год 1 модуль",null,27,1,1,1722551595,2098,null,"Бизнес-информатика",{"$f":"MATCH(D227,Отчет!$D$1:$D$65536,0)","v":92}]
[1937426695,10,"МБИ171",1937363535,"Бегларян Амалия Мгеровна","М171МБИИН009","Системный анализ и проектирование",3,"Экзамен","2017/2018 учебный год 1 модуль",null,30,1,1,1722551595,2098,null,"Бизнес-информатика",{"$f":"MATCH(D228,Отчет!$D$1:$D$65536,0)","v":113}]
[1937427021,8,"МБИ171",1937363548,"Галков Алексей Александрович","М171МБИИН021","Системный анализ и проектирование",3,"Экзамен","2017/2018 учебный год 1 модуль",null,24,1,1,1722551595,2098,null,"Бизнес-информатика",{"$f":"MATCH(D229,Отчет!$D$1:$D$65536,0)","v":173}]
[1937428017,10,"МБИ173",1937363561,"Сиднев Игорь Дмитриевич","М171МБИИН060","Системный анализ и проектирование",3,"Экзамен","2017/2018 учебный год 1 модуль",null,30,1,1,1722551595,2098,null,"Бизнес-информатика",{"$f":"MATCH(D230,Отчет!$D$1:$D$65536,0)","v":117}]
[1937427759,8,"МБИ173",1937363574,"Паймакова Татьяна Сергеевна","М171МБИИН049","Системный анализ и проектирование",3,"Экзамен","2017/2018 учебный год 1 модуль",null,24,1,1,1722551595,2098,null,"Бизнес-информатика",{"$f":"MATCH(D231,Отчет!$D$1:$D$65536,0)","v":156}]
[1937427737,9,"МБИ173",1937363587,"Новицкая Валерия Андреевна","М171МБИИН048","Системный анализ и проектирование",3,"Экзамен","2017/2018 учебный год 1 модуль",null,27,1,1,1722551595,2098,null,"Бизнес-информатика",{"$f":"MATCH(D232,Отчет!$D$1:$D$65536,0)","v":54}]
[1937427452,10,"МБИ172",1937363600,"Конова Марина Валерьевна","М171МБИИН036","Системный анализ и проектирование",3,"Экзамен","2017/2018 учебный год 1 модуль",null,30,1,1,1722551595,2098,null,"Бизнес-информатика",{"$f":"MATCH(D233,Отчет!$D$1:$D$65536,0)","v":23}]
[1937428164,9,"МБИ173",1937363613,"Улямаев Альберт Ирекович","М171МБИИН066","Системный анализ и проектирование",3,"Экзамен","2017/2018 учебный год 1 модуль",null,27,1,1,1722551595,2098,null,"Бизнес-информатика",{"$f":"MATCH(D234,Отчет!$D$1:$D$65536,0)","v":82}]
[1937427142,9,"МБИ171",1937363626,"Давтян Артем Сергеевич","М171МБИИН025","Системный анализ и проектирование",3,"Экзамен","2017/2018 учебный год 1 модуль",null,27,1,1,1722551595,2098,null,"Бизнес-информатика",{"$f":"MATCH(D235,Отчет!$D$1:$D$65536,0)","v":147}]
[1937426964,8,"МБИ171",1937363639,"Волков Даниил Андреевич","М171МБИИН019","Системный анализ и проектирование",3,"Экзамен","2017/2018 учебный год 1 модуль",null,24,1,1,1722551595,2098,null,"Бизнес-информатика",{"$f":"MATCH(D236,Отчет!$D$1:$D$65536,0)","v":174}]
[1937426480,7,null,1937363653,"Агарков Ярослав Алексеевич","М171МБИИН001","Системный анализ и проектирование",3,"Экзамен","2017/2018 учебный год 1 модуль",null,21,1,1,1722551595,2098,null,"Бизнес-информатика",{"$f":"MATCH(D237,Отчет!$D$1:$D$65536,0)","v":179}]
[1937426938,9,"МБИ171",1937363332,"Войнов Евгений Вадимович","М171МБИИН018","Системный анализ и проектирование",3,"Экзамен","2017/2018 учебный год 1 модуль",null,27,1,1,1722551595,2098,null,"Бизнес-информатика",{"$f":"MATCH(D238,Отчет!$D$1:$D$65536,0)","v":35}]
[1937427885,9,"МБИ173",1937363345,"Пьянов Родион Альбертович","М171МБИИН054","Системный анализ и проектирование",3,"Экзамен","2017/2018 учебный год 1 модуль",null,27,1,1,1722551595,2098,null,"Бизнес-информатика",{"$f":"MATCH(D239,Отчет!$D$1:$D$65536,0)","v":149}]
[1937428258,7,"МБИ173",1937363359,"Юдин Андрей Анатольевич","М171МБИИН070","Системный анализ и проектирование",3,"Экзамен","2017/2018 учебный год 1 модуль",null,21,1,1,1722551595,2098,null,"Бизнес-информатика",{"$f":"MATCH(D240,Отчет!$D$1:$D$65536,0)","v":132}]
[1937427312,8,"МБИ172",1937363372,"Карасев Михаил Николаевич","М171МБИИН031","Системный анализ и проектирование",3,"Экзамен","2017/2018 учебный год 1 модуль",null,24,1,1,1722551595,2098,null,"Бизнес-информатика",{"$f":"MATCH(D241,Отчет!$D$1:$D$65536,0)","v":169}]
[1937427970,10,"МБИ173",1937363386,"Сафохин Андрей Дмитриевич","М171МБИИН058","Системный анализ и проектирование",3,"Экзамен","2017/2018 учебный год 1 модуль",null,30,1,1,1722551595,2098,null,"Бизнес-информатика",{"$f":"MATCH(D242,Отчет!$D$1:$D$65536,0)","v":26}]
[1937428140,9,"МБИ173",1937363399,"Токарев Иван Максимович","М171МБИИН065","Системный анализ и проектирование",3,"Экзамен","2017/2018 учебный год 1 модуль",null,27,1,1,1722551595,2098,null,"Бизнес-информатика",{"$f":"MATCH(D243,Отчет!$D$1:$D$65536,0)","v":73}]
[1937427948,10,"МБИ173",1937363413,"Салтыкова Екатерина Андреевна","М171МБИИН057","Системный анализ и проектирование",3,"Экзамен","2017/2018 учебный год 1 модуль",null,30,1,1,1722551595,2098,null,"Бизнес-информатика",{"$f":"MATCH(D244,Отчет!$D$1:$D$65536,0)","v":74}]
[1937426665,8,"МБИ171",1937363441,"Бардакова Мария Вячеславовна","М171МБИИН008","Системный анализ и проектирование",3,"Экзамен","2017/2018 учебный год 1 модуль",null,24,1,1,1722551595,2098,null,"Бизнес-информатика",{"$f":"MATCH(D245,Отчет!$D$1:$D$65536,0)","v":129}]
[1937427863,7,"МБИ173",1937363469,"Пронин Никита Павлович","М171МБИИН053","Системный анализ и проектирование",3,"Экзамен","2017/2018 учебный год 1 модуль",null,21,1,1,1722551595,2098,null,"Бизнес-информатика",{"$f":"MATCH(D246,Отчет!$D$1:$D$65536,0)","v":126}]
[1937426995,7,"МБИ171",1937363482,"Гайнутдинов Наиль Анварович","М171МБИИН020","Системный анализ и проектирование",3,"Экзамен","2017/2018 учебный год 1 модуль",null,21,1,1,1722551595,2098,null,"Бизнес-информатика",{"$f":"MATCH(D247,Отчет!$D$1:$D$65536,0)","v":159}]
[1937428212,10,"МБИ173",1937363495,"Черепнина Дарья Олеговна","М171МБИИН068","Системный анализ и проектирование",3,"Экзамен","2017/2018 учебный год 1 модуль",null,30,1,1,1722551595,2098,null,"Бизнес-информатика",{"$f":"MATCH(D248,Отчет!$D$1:$D$65536,0)","v":67}]
[1937427343,10,"МБИ172",1937364071,"Карнаух Егор Сергеевич","М171МБИИН032","Системный анализ и проектирование",3,"Экзамен","2017/2018 учебный год 1 модуль",null,30,1,1,1722551595,2098,null,"Бизнес-информатика",{"$f":"MATCH(D249,Отчет!$D$1:$D$65536,0)","v":65}]
[1937427047,8,"МБИ171",1937364084,"Гареев Артем Фаридович","М171МБИИН022","Системный анализ и проектирование",3,"Экзамен","2017/2018 учебный год 1 модуль",null,24,1,1,1722551595,2098,null,"Бизнес-информатика",{"$f":"MATCH(D250,Отчет!$D$1:$D$65536,0)","v":148}]
[1937427397,10,"МБИ172",1937364110,"Клименко Екатерина Андреевна","М171МБИИН034","Системный анализ и проектирование",3,"Экзамен","2017/2018 учебный год 1 модуль",null,30,1,1,1722551595,2098,null,"Бизнес-информатика",{"$f":"MATCH(D251,Отчет!$D$1:$D$65536,0)","v":28}]
[1937426911,8,"МБИ171",1937364123,"Вишняков Азим Азимович","М171МБИИН017","Системный анализ и проектирование",3,"Экзамен","2017/2018 учебный год 1 модуль",null,24,1,1,1722551595,2098,null,"Бизнес-информатика",{"$f":"MATCH(D252,Отчет!$D$1:$D$65536,0)","v":80}]
[1937427659,9,"МБИ172",1937364137,"Медведева Мария Вячеславовна","М171МБИИН045","Системный анализ и проектирование",3,"Экзамен","2017/2018 учебный год 1 модуль",null,27,1,1,1722551595,2098,null,"Бизнес-информатика",{"$f":"MATCH(D253,Отчет!$D$1:$D$65536,0)","v":51}]
[1937427690,9,"МБИ172",1937364163,"Миллер Кирилл Александрович","М171МБИИН046","Системный анализ и проектирование",3,"Экзамен","2017/2018 учебный год 1 модуль",null,27,1,1,1722551595,2098,null,"Бизнес-информатика",{"$f":"MATCH(D254,Отчет!$D$1:$D$65536,0)","v":79}]
[1937426630,7,"МБИ171",1937363851,"Бадаева Мария Мингияновна","М171МБИИН007","Системный анализ и проектирование",3,"Экзамен","2017/2018 учебный год 1 модуль",null,21,1,1,1722551595,2098,null,"Бизнес-информатика",{"$f":"MATCH(D255,Отчет!$D$1:$D$65536,0)","v":153}]
[1937427589,10,"МБИ172",1937363865,"Лобач Петр Сергеевич","М171МБИИН042","Системный анализ и проектирование",3,"Экзамен","2017/2018 учебный год 1 модуль",null,30,1,1,1722551595,2098,null,"Бизнес-информатика",{"$f":"MATCH(D256,Отчет!$D$1:$D$65536,0)","v":143}]
[1937426534,9,"МБИ171",1937363878,"Андрюхина Дарья Сергеевна","М171МБИИН003","Системный анализ и проектирование",3,"Экзамен","2017/2018 учебный год 1 модуль",null,27,1,1,1722551595,2098,null,"Бизнес-информатика",{"$f":"MATCH(D257,Отчет!$D$1:$D$65536,0)","v":95}]
[1937427477,10,"МБИ172",1937363891,"Коновалова Аделина Евгеньевна","М171МБИИН037","Системный анализ и проектирование",3,"Экзамен","2017/2018 учебный год 1 модуль",null,30,1,1,1722551595,2098,null,"Бизнес-информатика",{"$f":"MATCH(D258,Отчет!$D$1:$D$65536,0)","v":91}]
[1937426752,10,"МБИ171",1937363904,"Белова Евгения Александровна","М171МБИИН011","Системный анализ и проектирование",3,"Экзамен","2017/2018 учебный год 1 модуль",null,30,1,1,1722551595,2098,null,"Бизнес-информатика",{"$f":"MATCH(D259,Отчет!$D$1:$D$65536,0)","v":83}]
[1937427636,7,"МБИ172",1937363917,"Мартынов Александр Дмитриевич","М171МБИИН044","Системный анализ и проектирование",3,"Экзамен","2017/2018 учебный год 1 модуль",null,21,1,1,1722551595,2098,null,"Бизнес-информатика",{"$f":"MATCH(D260,Отчет!$D$1:$D$65536,0)","v":167}]
[1937426606,9,"МБИ171",1937363930,"Бабанов Павел Александрович","М171МБИИН006","Системный анализ и проектирование",3,"Экзамен","2017/2018 учебный год 1 модуль",null,27,1,1,1722551595,2098,null,"Бизнес-информатика",{"$f":"MATCH(D261,Отчет!$D$1:$D$65536,0)","v":152}]
[1937426583,8,"МБИ171",1937363943,"Антонова Софья Глебовна","М171МБИИН005","Системный анализ и проектирование",3,"Экзамен","2017/2018 учебный год 1 модуль",null,24,1,1,1722551595,2098,null,"Бизнес-информатика",{"$f":"MATCH(D262,Отчет!$D$1:$D$65536,0)","v":164}]
[1937427222,10,"МБИ172",1937363957,"Ершова Александра Романовна","М171МБИИН028","Системный анализ и проектирование",3,"Экзамен","2017/2018 учебный год 1 модуль",null,30,1,1,1722551595,2098,null,"Бизнес-информатика",{"$f":"MATCH(D263,Отчет!$D$1:$D$65536,0)","v":138}]
[1937427545,7,"МБИ172",1937363970,"Лебедева Надежда Юрьевна","М171МБИИН040","Системный анализ и проектирование",3,"Экзамен","2017/2018 учебный год 1 модуль",null,21,1,1,1722551595,2098,null,"Бизнес-информатика",{"$f":"MATCH(D264,Отчет!$D$1:$D$65536,0)","v":135}]
[1937427367,9,"МБИ172",1937363986,"Китайкина Мария Алексеевна","М171МБИИН033","Системный анализ и проектирование",3,"Экзамен","2017/2018 учебный год 1 модуль",null,27,1,1,1722551595,2098,null,"Бизнес-информатика",{"$f":"MATCH(D265,Отчет!$D$1:$D$65536,0)","v":163}]
[1937427285,10,"МБИ172",1937364001,"Калашников Сергей Владимирович","М171МБИИН030","Системный анализ и проектирование",3,"Экзамен","2017/2018 учебный год 1 модуль",null,30,1,1,1722551595,2098,null,"Бизнес-информатика",{"$f":"MATCH(D266,Отчет!$D$1:$D$65536,0)","v":50}]
[1937427257,9,"МБИ172",1937363666,"Захаров Алексей Александрович","М171МБИИН029","Системный анализ и проектирование",3,"Экзамен","2017/2018 учебный год 1 модуль",null,27,1,1,1722551595,2098,null,"Бизнес-информатика",{"$f":"MATCH(D267,Отчет!$D$1:$D$65536,0)","v":72}]
[1937427927,10,"МБИ173",1937363680,"Рудь Роман Сергеевич","М171МБИИН056","Системный анализ и проектирование",3,"Экзамен","2017/2018 учебный год 1 модуль",null,30,1,1,1722551595,2098,null,"Бизнес-информатика",{"$f":"MATCH(D268,Отчет!$D$1:$D$65536,0)","v":125}]
[1937428066,10,"МБИ173",1937363693,"Стогова Анастасия Германовна","М171МБИИН062","Системный анализ и проектирование",3,"Экзамен","2017/2018 учебный год 1 модуль",null,30,1,1,1722551595,2098,null,"Бизнес-информатика",{"$f":"MATCH(D269,Отчет!$D$1:$D$65536,0)","v":88}]
[1937426827,8,"МБИ171",1937363706,"Большаков Егор Максимович","М171МБИИН014","Системный анализ и проектирование",3,"Экзамен","2017/2018 учебный год 1 модуль",null,24,1,1,1722551595,2098,null,"Бизнес-информатика",{"$f":"MATCH(D270,Отчет!$D$1:$D$65536,0)","v":165}]
[1937426724,8,"МБИ171",1937363719,"Белов Григорий Игоревич","М171МБИИН010","Системный анализ и проектирование",3,"Экзамен","2017/2018 учебный год 1 модуль",null,24,1,1,1722551595,2098,null,"Бизнес-информатика",{"$f":"MATCH(D271,Отчет!$D$1:$D$65536,0)","v":162}]
[1937426777,10,"МБИ171",1937363732,"Богданов Кирилл Алексеевич","М171МБИИН012","Системный анализ и проектирование",3,"Экзамен","2017/2018 учебный год 1 модуль",null,30,1,1,1722551595,2098,null,"Бизнес-информатика",{"$f":"MATCH(D272,Отчет!$D$1:$D$65536,0)","v":128}]
[1937426560,9,"МБИ171",1937363745,"Антонова Анастасия Романовна","М171МБИИН004","Системный анализ и проектирование",3,"Экзамен","2017/2018 учебный год 1 модуль",null,27,1,1,1722551595,2098,null,"Бизнес-информатика",{"$f":"MATCH(D273,Отчет!$D$1:$D$65536,0)","v":124}]
[1937427905,10,"МБИ173",1937363758,"Ригин Алексей Алексеевич","М171МБИИН055","Системный анализ и проектирование",3,"Экзамен","2017/2018 учебный год 1 модуль",null,30,1,1,1722551595,2098,null,"Бизнес-информатика",{"$f":"MATCH(D274,Отчет!$D$1:$D$65536,0)","v":64}]
[1937427194,10,"МБИ172",1937363785,"Дунец Владислав Олегович","М171МБИИН027","Системный анализ и проектирование",3,"Экзамен","2017/2018 учебный год 1 модуль",null,30,1,1,1722551595,2098,null,"Бизнес-информатика",{"$f":"MATCH(D275,Отчет!$D$1:$D$65536,0)","v":145}]
[1937428089,10,"МБИ173",1937364177,"Сухова Ксения Игоревна","М171МБИИН063","Системный анализ и проектирование",3,"Экзамен","2017/2018 учебный год 1 модуль",null,30,1,1,1722551595,2098,null,"Бизнес-информатика",{"$f":"MATCH(D276,Отчет!$D$1:$D$65536,0)","v":77}]
[1937427991,7,"МБИ173",1937364192,"Семенова Элина Михайловна","М171МБИИН059","Системный анализ и проектирование",3,"Экзамен","2017/2018 учебный год 1 модуль",null,21,1,1,1722551595,2098,null,"Бизнес-информатика",{"$f":"MATCH(D277,Отчет!$D$1:$D$65536,0)","v":160}]
[1937426880,10,"МБИ171",1937364220,"Бутченко Антон Олегович","М171МБИИН016","Системный анализ и проектирование",3,"Экзамен","2017/2018 учебный год 1 модуль",null,30,1,1,1722551595,2098,null,"Бизнес-информатика",{"$f":"MATCH(D278,Отчет!$D$1:$D$65536,0)","v":57}]
[1937428237,9,"МБИ173",1937364016,"Чубаров Алексей Глебович","М171МБИИН069","Системный анализ и проектирование",3,"Экзамен","2017/2018 учебный год 1 модуль",null,27,1,1,1722551595,2098,null,"Бизнес-информатика",{"$f":"MATCH(D279,Отчет!$D$1:$D$65536,0)","v":131}]
[1937427807,9,"МБИ173",1937364031,"Полторак Анастасия Игоревна","М171МБИИН051","Системный анализ и проектирование",3,"Экзамен","2017/2018 учебный год 1 модуль",null,27,1,1,1722551595,2098,null,"Бизнес-информатика",{"$f":"MATCH(D280,Отчет!$D$1:$D$65536,0)","v":103}]
[1937426853,6,"МБИ171",1937364044,"Бондарь Сергей Борисович","М171МБИИН015","Системный анализ и проектирование",3,"Экзамен","2017/2018 учебный год 1 модуль",null,18,1,1,1722551595,2098,null,"Бизнес-информатика",{"$f":"MATCH(D281,Отчет!$D$1:$D$65536,0)","v":170}]
[1937427076,8,"МБИ171",1937364058,"Герасимов Станислав Александрович","М171МБИИН023","Системный анализ и проектирование",3,"Экзамен","2017/2018 учебный год 1 модуль",null,24,1,1,1722551595,2098,null,"Бизнес-информатика",{"$f":"MATCH(D282,Отчет!$D$1:$D$65536,0)","v":140}]
[1937431932,9,"МИБ171",1937370536,"Оленева Валерия Александровна","М171МУБЕЗ012","Системный анализ и проектирование",3,"Экзамен","2017/2018 учебный год 1 модуль",null,27,1,1,1722514289,2098,null,"Управление информационной безопасностью",{"$f":"MATCH(D283,Отчет!$D$1:$D$65536,0)","v":86}]
[1937432130,7,"МИБ171",1937370552,"Рудаков Андрей Дмитриевич","М171МУБЕЗ017","Системный анализ и проектирование",3,"Экзамен","2017/2018 учебный год 1 модуль",null,21,1,1,1722514289,2098,null,"Управление информационной безопасностью",{"$f":"MATCH(D284,Отчет!$D$1:$D$65536,0)","v":99}]
[1937432087,8,"МИБ171",1937370565,"Пупышева Анна Андреевна","М171МУБЕЗ016","Системный анализ и проектирование",3,"Экзамен","2017/2018 учебный год 1 модуль",null,24,1,1,1722514289,2098,null,"Управление информационной безопасностью",{"$f":"MATCH(D285,Отчет!$D$1:$D$65536,0)","v":101}]
[1937431748,7,"МИБ171",1937370580,"Козлов Никита Вячеславович","М171МУБЕЗ008","Системный анализ и проектирование",3,"Экзамен","2017/2018 учебный год 1 модуль",null,21,1,1,1722514289,2098,null,"Управление информационной безопасностью",{"$f":"MATCH(D286,Отчет!$D$1:$D$65536,0)","v":118}]
[1937427204,6,"МБИ172",1937363785,"Дунец Владислав Олегович","М171МБИИН027","Экономико-математическое моделирование",3,"Экзамен","2017/2018 учебный год 1 модуль",null,18,1,1,1722551595,2098,null,"Бизнес-информатика",{"$f":"MATCH(D287,Отчет!$D$1:$D$65536,0)","v":145}]
[1937427850,6,"МБИ173",1937363798,"Пронин Никита Вадимович","М171МБИИН052","Экономико-математическое моделирование",3,"Экзамен","2017/2018 учебный год 1 модуль",null,18,1,1,1722551595,2098,null,"Бизнес-информатика",{"$f":"MATCH(D288,Отчет!$D$1:$D$65536,0)","v":108}]
[1937427122,6,"МБИ171",1937363811,"Григорьева Юлия Сергеевна","М171МБИИН024","Экономико-математическое моделирование",3,"Экзамен","2017/2018 учебный год 1 модуль",null,18,1,1,1722551595,2098,null,"Бизнес-информатика",{"$f":"MATCH(D289,Отчет!$D$1:$D$65536,0)","v":41}]
[1937427576,5,"МБИ172",1937363838,"Лиховцев Вадим Александрович","М171МБИИН041","Экономико-математическое моделирование",3,"Экзамен","2017/2018 учебный год 1 модуль",null,15,1,1,1722551595,2098,null,"Бизнес-информатика",{"$f":"MATCH(D290,Отчет!$D$1:$D$65536,0)","v":68}]
[1937427434,5,"МБИ172",1937363509,"Колесникова Анна Сергеевна","М171МБИИН035","Экономико-математическое моделирование",3,"Экзамен","2017/2018 учебный год 1 модуль",null,15,1,1,1722551595,2098,null,"Бизнес-информатика",{"$f":"MATCH(D291,Отчет!$D$1:$D$65536,0)","v":161}]
[1937426813,6,"МБИ171",1937363522,"Богданов Павел Владимирович","М171МБИИН013","Экономико-математическое моделирование",3,"Экзамен","2017/2018 учебный год 1 модуль",null,18,1,1,1722551595,2098,null,"Бизнес-информатика",{"$f":"MATCH(D292,Отчет!$D$1:$D$65536,0)","v":92}]
[1937426707,8,"МБИ171",1937363535,"Бегларян Амалия Мгеровна","М171МБИИН009","Экономико-математическое моделирование",3,"Экзамен","2017/2018 учебный год 1 модуль",null,24,1,1,1722551595,2098,null,"Бизнес-информатика",{"$f":"MATCH(D293,Отчет!$D$1:$D$65536,0)","v":113}]
[1937427031,6,"МБИ171",1937363548,"Галков Алексей Александрович","М171МБИИН021","Экономико-математическое моделирование",3,"Экзамен","2017/2018 учебный год 1 модуль",null,18,1,1,1722551595,2098,null,"Бизнес-информатика",{"$f":"MATCH(D294,Отчет!$D$1:$D$65536,0)","v":173}]
[1937428025,5,"МБИ173",1937363561,"Сиднев Игорь Дмитриевич","М171МБИИН060","Экономико-математическое моделирование",3,"Экзамен","2017/2018 учебный год 1 модуль",null,15,1,1,1722551595,2098,null,"Бизнес-информатика",{"$f":"MATCH(D295,Отчет!$D$1:$D$65536,0)","v":117}]
[1937427769,6,"МБИ173",1937363574,"Паймакова Татьяна Сергеевна","М171МБИИН049","Экономико-математическое моделирование",3,"Экзамен","2017/2018 учебный год 1 модуль",null,18,1,1,1722551595,2098,null,"Бизнес-информатика",{"$f":"MATCH(D296,Отчет!$D$1:$D$65536,0)","v":156}]
[1937427746,6,"МБИ173",1937363587,"Новицкая Валерия Андреевна","М171МБИИН048","Экономико-математическое моделирование",3,"Экзамен","2017/2018 учебный год 1 модуль",null,18,1,1,1722551595,2098,null,"Бизнес-информатика",{"$f":"MATCH(D297,Отчет!$D$1:$D$65536,0)","v":54}]
[1937427463,10,"МБИ172",1937363600,"Конова Марина Валерьевна","М171МБИИН036","Экономико-математическое моделирование",3,"Экзамен","2017/2018 учебный год 1 модуль",null,30,1,1,1722551595,2098,null,"Бизнес-информатика",{"$f":"MATCH(D298,Отчет!$D$1:$D$65536,0)","v":23}]
[1937428174,7,"МБИ173",1937363613,"Улямаев Альберт Ирекович","М171МБИИН066","Экономико-математическое моделирование",3,"Экзамен","2017/2018 учебный год 1 модуль",null,21,1,1,1722551595,2098,null,"Бизнес-информатика",{"$f":"MATCH(D299,Отчет!$D$1:$D$65536,0)","v":82}]
[1937427152,7,"МБИ171",1937363626,"Давтян Артем Сергеевич","М171МБИИН025","Экономико-математическое моделирование",3,"Экзамен","2017/2018 учебный год 1 модуль",null,21,1,1,1722551595,2098,null,"Бизнес-информатика",{"$f":"MATCH(D300,Отчет!$D$1:$D$65536,0)","v":147}]
[1937426979,4,"МБИ171",1937363639,"Волков Даниил Андреевич","М171МБИИН019","Экономико-математическое моделирование",3,"Экзамен","2017/2018 учебный год 1 модуль",null,12,1,1,1722551595,2098,null,"Бизнес-информатика",{"$f":"MATCH(D301,Отчет!$D$1:$D$65536,0)","v":174}]
[1937426947,10,"МБИ171",1937363332,"Войнов Евгений Вадимович","М171МБИИН018","Экономико-математическое моделирование",3,"Экзамен","2017/2018 учебный год 1 модуль",null,30,1,1,1722551595,2098,null,"Бизнес-информатика",{"$f":"MATCH(D302,Отчет!$D$1:$D$65536,0)","v":35}]
[1937427893,7,"МБИ173",1937363345,"Пьянов Родион Альбертович","М171МБИИН054","Экономико-математическое моделирование",3,"Экзамен","2017/2018 учебный год 1 модуль",null,21,1,1,1722551595,2098,null,"Бизнес-информатика",{"$f":"MATCH(D303,Отчет!$D$1:$D$65536,0)","v":149}]
[1937428266,6,"МБИ173",1937363359,"Юдин Андрей Анатольевич","М171МБИИН070","Экономико-математическое моделирование",3,"Экзамен","2017/2018 учебный год 1 модуль",null,18,1,1,1722551595,2098,null,"Бизнес-информатика",{"$f":"MATCH(D304,Отчет!$D$1:$D$65536,0)","v":132}]
[1937427324,4,"МБИ172",1937363372,"Карасев Михаил Николаевич","М171МБИИН031","Экономико-математическое моделирование",3,"Экзамен","2017/2018 учебный год 1 модуль",null,12,1,1,1722551595,2098,null,"Бизнес-информатика",{"$f":"MATCH(D305,Отчет!$D$1:$D$65536,0)","v":169}]
[1937427978,10,"МБИ173",1937363386,"Сафохин Андрей Дмитриевич","М171МБИИН058","Экономико-математическое моделирование",3,"Экзамен","2017/2018 учебный год 1 модуль",null,30,1,1,1722551595,2098,null,"Бизнес-информатика",{"$f":"MATCH(D306,Отчет!$D$1:$D$65536,0)","v":26}]
[1937428150,6,"МБИ173",1937363399,"Токарев Иван Максимович","М171МБИИН065","Экономико-математическое моделирование",3,"Экзамен","2017/2018 учебный год 1 модуль",null,18,1,1,1722551595,2098,null,"Бизнес-информатика",{"$f":"MATCH(D307,Отчет!$D$1:$D$65536,0)","v":73}]
[1937427957,7,"МБИ173",1937363413,"Салтыкова Екатерина Андреевна","М171МБИИН057","Экономико-математическое моделирование",3,"Экзамен","2017/2018 учебный год 1 модуль",null,21,1,1,1722551595,2098,null,"Бизнес-информатика",{"$f":"MATCH(D308,Отчет!$D$1:$D$65536,0)","v":74}]
[1937426677,6,"МБИ171",1937363441,"Бардакова Мария Вячеславовна","М171МБИИН008","Экономико-математическое моделирование",3,"Экзамен","2017/2018 учебный год 1 модуль",null,18,1,1,1722551595,2098,null,"Бизнес-информатика",{"$f":"MATCH(D309,Отчет!$D$1:$D$65536,0)","v":129}]
[1937427872,7,"МБИ173",1937363469,"Пронин Никита Павлович","М171МБИИН053","Экономико-математическое моделирование",3,"Экзамен","2017/2018 учебный год 1 модуль",null,21,1,1,1722551595,2098,null,"Бизнес-информатика",{"$f":"MATCH(D310,Отчет!$D$1:$D$65536,0)","v":126}]
[1937427006,6,"МБИ171",1937363482,"Гайнутдинов Наиль Анварович","М171МБИИН020","Экономико-математическое моделирование",3,"Экзамен","2017/2018 учебный год 1 модуль",null,18,1,1,1722551595,2098,null,"Бизнес-информатика",{"$f":"MATCH(D311,Отчет!$D$1:$D$65536,0)","v":159}]
[1937428222,4,"МБИ173",1937363495,"Черепнина Дарья Олеговна","М171МБИИН068","Экономико-математическое моделирование",3,"Экзамен","2017/2018 учебный год 1 модуль",null,12,1,1,1722551595,2098,null,"Бизнес-информатика",{"$f":"MATCH(D312,Отчет!$D$1:$D$65536,0)","v":67}]
[1937427091,5,"МБИ171",1937364058,"Герасимов Станислав Александрович","М171МБИИН023","Экономико-математическое моделирование",3,"Экзамен","2017/2018 учебный год 1 модуль",null,15,1,1,1722551595,2098,null,"Бизнес-информатика",{"$f":"MATCH(D313,Отчет!$D$1:$D$65536,0)","v":140}]
[1937427353,8,"МБИ172",1937364071,"Карнаух Егор Сергеевич","М171МБИИН032","Экономико-математическое моделирование",3,"Экзамен","2017/2018 учебный год 1 модуль",null,24,1,1,1722551595,2098,null,"Бизнес-информатика",{"$f":"MATCH(D314,Отчет!$D$1:$D$65536,0)","v":65}]
[1937427057,6,"МБИ171",1937364084,"Гареев Артем Фаридович","М171МБИИН022","Экономико-математическое моделирование",3,"Экзамен","2017/2018 учебный год 1 модуль",null,18,1,1,1722551595,2098,null,"Бизнес-информатика",{"$f":"MATCH(D315,Отчет!$D$1:$D$65536,0)","v":148}]
[1937427411,8,"МБИ172",1937364110,"Клименко Екатерина Андреевна","М171МБИИН034","Экономико-математическое моделирование",3,"Экзамен","2017/2018 учебный год 1 модуль",null,24,1,1,1722551595,2098,null,"Бизнес-информатика",{"$f":"MATCH(D316,Отчет!$D$1:$D$65536,0)","v":28}]
[1937426922,10,"МБИ171",1937364123,"Вишняков Азим Азимович","М171МБИИН017","Экономико-математическое моделирование",3,"Экзамен","2017/2018 учебный год 1 модуль",null,30,1,1,1722551595,2098,null,"Бизнес-информатика",{"$f":"MATCH(D317,Отчет!$D$1:$D$65536,0)","v":80}]
[1937427673,7,"МБИ172",1937364137,"Медведева Мария Вячеславовна","М171МБИИН045","Экономико-математическое моделирование",3,"Экзамен","2017/2018 учебный год 1 модуль",null,21,1,1,1722551595,2098,null,"Бизнес-информатика",{"$f":"MATCH(D318,Отчет!$D$1:$D$65536,0)","v":51}]
[1937427698,6,"МБИ172",1937364163,"Миллер Кирилл Александрович","М171МБИИН046","Экономико-математическое моделирование",3,"Экзамен","2017/2018 учебный год 1 модуль",null,18,1,1,1722551595,2098,null,"Бизнес-информатика",{"$f":"MATCH(D319,Отчет!$D$1:$D$65536,0)","v":79}]
[1937426643,5,"МБИ171",1937363851,"Бадаева Мария Мингияновна","М171МБИИН007","Экономико-математическое моделирование",3,"Экзамен","2017/2018 учебный год 1 модуль",null,15,1,1,1722551595,2098,null,"Бизнес-информатика",{"$f":"MATCH(D320,Отчет!$D$1:$D$65536,0)","v":153}]
[1937427599,6,"МБИ172",1937363865,"Лобач Петр Сергеевич","М171МБИИН042","Экономико-математическое моделирование",3,"Экзамен","2017/2018 учебный год 1 модуль",null,18,1,1,1722551595,2098,null,"Бизнес-информатика",{"$f":"MATCH(D321,Отчет!$D$1:$D$65536,0)","v":143}]
[1937426545,6,"МБИ171",1937363878,"Андрюхина Дарья Сергеевна","М171МБИИН003","Экономико-математическое моделирование",3,"Экзамен","2017/2018 учебный год 1 модуль",null,18,1,1,1722551595,2098,null,"Бизнес-информатика",{"$f":"MATCH(D322,Отчет!$D$1:$D$65536,0)","v":95}]
[1937427486,6,"МБИ172",1937363891,"Коновалова Аделина Евгеньевна","М171МБИИН037","Экономико-математическое моделирование",3,"Экзамен","2017/2018 учебный год 1 модуль",null,18,1,1,1722551595,2098,null,"Бизнес-информатика",{"$f":"MATCH(D323,Отчет!$D$1:$D$65536,0)","v":91}]
[1937426762,7,"МБИ171",1937363904,"Белова Евгения Александровна","М171МБИИН011","Экономико-математическое моделирование",3,"Экзамен","2017/2018 учебный год 1 модуль",null,21,1,1,1722551595,2098,null,"Бизнес-информатика",{"$f":"MATCH(D324,Отчет!$D$1:$D$65536,0)","v":83}]
[1937427645,4,"МБИ172",1937363917,"Мартынов Александр Дмитриевич","М171МБИИН044","Экономико-математическое моделирование",3,"Экзамен","2017/2018 учебный год 1 модуль",null,12,1,1,1722551595,2098,null,"Бизнес-информатика",{"$f":"MATCH(D325,Отчет!$D$1:$D$65536,0)","v":167}]
[1937426615,6,"МБИ171",1937363930,"Бабанов Павел Александрович","М171МБИИН006","Экономико-математическое моделирование",3,"Экзамен","2017/2018 учебный год 1 модуль",null,18,1,1,1722551595,2098,null,"Бизнес-информатика",{"$f":"MATCH(D326,Отчет!$D$1:$D$65536,0)","v":152}]
[1937426592,5,"МБИ171",1937363943,"Антонова Софья Глебовна","М171МБИИН005","Экономико-математическое моделирование",3,"Экзамен","2017/2018 учебный год 1 модуль",null,15,1,1,1722551595,2098,null,"Бизнес-информатика",{"$f":"MATCH(D327,Отчет!$D$1:$D$65536,0)","v":164}]
[1937427235,7,"МБИ172",1937363957,"Ершова Александра Романовна","М171МБИИН028","Экономико-математическое моделирование",3,"Экзамен","2017/2018 учебный год 1 модуль",null,21,1,1,1722551595,2098,null,"Бизнес-информатика",{"$f":"MATCH(D328,Отчет!$D$1:$D$65536,0)","v":138}]
[1937427553,6,"МБИ172",1937363970,"Лебедева Надежда Юрьевна","М171МБИИН040","Экономико-математическое моделирование",3,"Экзамен","2017/2018 учебный год 1 модуль",null,18,1,1,1722551595,2098,null,"Бизнес-информатика",{"$f":"MATCH(D329,Отчет!$D$1:$D$65536,0)","v":135}]
[1937427377,7,"МБИ172",1937363986,"Китайкина Мария Алексеевна","М171МБИИН033","Экономико-математическое моделирование",3,"Экзамен","2017/2018 учебный год 1 модуль",null,21,1,1,1722551595,2098,null,"Бизнес-информатика",{"$f":"MATCH(D330,Отчет!$D$1:$D$65536,0)","v":163}]
[1937426495,5,null,1937363653,"Агарков Ярослав Алексеевич","М171МБИИН001","Экономико-математическое моделирование",3,"Экзамен","2017/2018 учебный год 1 модуль",null,15,1,1,1722551595,2098,null,"Бизнес-информатика",{"$f":"MATCH(D331,Отчет!$D$1:$D$65536,0)","v":179}]
[1937427270,7,"МБИ172",1937363666,"Захаров Алексей Александрович","М171МБИИН029","Экономико-математическое моделирование",3,"Экзамен","2017/2018 учебный год 1 модуль",null,21,1,1,1722551595,2098,null,"Бизнес-информатика",{"$f":"MATCH(D332,Отчет!$D$1:$D$65536,0)","v":72}]
[1937427935,7,"МБИ173",1937363680,"Рудь Роман Сергеевич","М171МБИИН056","Экономико-математическое моделирование",3,"Экзамен","2017/2018 учебный год 1 модуль",null,21,1,1,1722551595,2098,null,"Бизнес-информатика",{"$f":"MATCH(D333,Отчет!$D$1:$D$65536,0)","v":125}]
[1937428076,6,"МБИ173",1937363693,"Стогова Анастасия Германовна","М171МБИИН062","Экономико-математическое моделирование",3,"Экзамен","2017/2018 учебный год 1 модуль",null,18,1,1,1722551595,2098,null,"Бизнес-информатика",{"$f":"MATCH(D334,Отчет!$D$1:$D$65536,0)","v":88}]
[1937426836,5,"МБИ171",1937363706,"Большаков Егор Максимович","М171МБИИН014","Экономико-математическое моделирование",3,"Экзамен","2017/2018 учебный год 1 модуль",null,15,1,1,1722551595,2098,null,"Бизнес-информатика",{"$f":"MATCH(D335,Отчет!$D$1:$D$65536,0)","v":165}]
[1937426736,7,"МБИ171",1937363719,"Белов Григорий Игоревич","М171МБИИН010","Экономико-математическое моделирование",3,"Экзамен","2017/2018 учебный год 1 модуль",null,21,1,1,1722551595,2098,null,"Бизнес-информатика",{"$f":"MATCH(D336,Отчет!$D$1:$D$65536,0)","v":162}]
[1937426789,6,"МБИ171",1937363732,"Богданов Кирилл Алексеевич","М171МБИИН012","Экономико-математическое моделирование",3,"Экзамен","2017/2018 учебный год 1 модуль",null,18,1,1,1722551595,2098,null,"Бизнес-информатика",{"$f":"MATCH(D337,Отчет!$D$1:$D$65536,0)","v":128}]
[1937426569,7,"МБИ171",1937363745,"Антонова Анастасия Романовна","М171МБИИН004","Экономико-математическое моделирование",3,"Экзамен","2017/2018 учебный год 1 модуль",null,21,1,1,1722551595,2098,null,"Бизнес-информатика",{"$f":"MATCH(D338,Отчет!$D$1:$D$65536,0)","v":124}]
[1937427914,8,"МБИ173",1937363758,"Ригин Алексей Алексеевич","М171МБИИН055","Экономико-математическое моделирование",3,"Экзамен","2017/2018 учебный год 1 модуль",null,24,1,1,1722551595,2098,null,"Бизнес-информатика",{"$f":"MATCH(D339,Отчет!$D$1:$D$65536,0)","v":64}]
[1937431974,7,"МИБ171",1937370517,"Осадчая Алина Дмитриевна","М171МУБЕЗ013","Экономико-математическое моделирование",3,"Экзамен","2017/2018 учебный год 1 модуль",null,21,1,1,1722514289,2098,null,"Управление информационной безопасностью",{"$f":"MATCH(D340,Отчет!$D$1:$D$65536,0)","v":25}]
[1937430339,9,"МБД171",1937366366,"Гатина Эльмира Ринатовна","М171МСБДН003","Экономико-математическое моделирование",3,"Экзамен","2017/2018 учебный год 1 модуль",null,27,1,1,1722525802,2098,null,"Системы больших данных",{"$f":"MATCH(D341,Отчет!$D$1:$D$65536,0)","v":34}]
[1937430618,8,"МБД171",1937366380,"Полушин Глеб Валерьевич","М171МСБДН011","Экономико-математическое моделирование",3,"Экзамен","2017/2018 учебный год 1 модуль",null,24,1,1,1722525802,2098,null,"Системы больших данных",{"$f":"MATCH(D342,Отчет!$D$1:$D$65536,0)","v":62}]
[1937430943,7,"МБД171",1937366394,"Шубина Виктория Ильинична","М171МСБДН018","Экономико-математическое моделирование",3,"Экзамен","2017/2018 учебный год 1 модуль",null,21,1,1,1722525802,2098,null,"Системы больших данных",{"$f":"MATCH(D343,Отчет!$D$1:$D$65536,0)","v":32}]
[1937430874,9,"МБД171",1937366407,"Чувилина Анна Андреевна","М171МСБДН016","Экономико-математическое моделирование",3,"Экзамен","2017/2018 учебный год 1 модуль",null,27,1,1,1722525802,2098,null,"Системы больших данных",{"$f":"MATCH(D344,Отчет!$D$1:$D$65536,0)","v":43}]
[1937430306,8,"МБД171",1937366422,"Вилкова Елена Александровна","М171МСБДН002","Экономико-математическое моделирование",3,"Экзамен","2017/2018 учебный год 1 модуль",null,24,1,1,1722525802,2098,null,"Системы больших данных",{"$f":"MATCH(D345,Отчет!$D$1:$D$65536,0)","v":12}]
[1937430711,8,"МБД171",1937366436,"Сысоев Марк Валерьевич","М171МСБДН013","Экономико-математическое моделирование",3,"Экзамен","2017/2018 учебный год 1 модуль",null,24,1,1,1722525802,2098,null,"Системы больших данных",{"$f":"MATCH(D346,Отчет!$D$1:$D$65536,0)","v":45}]
[1937430373,10,"МБД171",1937366244,"Дмитриев Виктор Андреевич","М171МСБДН004","Экономико-математическое моделирование",3,"Экзамен","2017/2018 учебный год 1 модуль",null,30,1,1,1722525802,2098,null,"Системы больших данных",{"$f":"MATCH(D347,Отчет!$D$1:$D$65536,0)","v":63}]
[1937430577,10,"МБД171",1937366259,"Пахолкова Анна Юрьевна","М171МСБДН010","Экономико-математическое моделирование",3,"Экзамен","2017/2018 учебный год 1 модуль",null,30,1,1,1722525802,2098,null,"Системы больших данных",{"$f":"MATCH(D348,Отчет!$D$1:$D$65536,0)","v":56}]
[1937430437,8,"МБД171",1937366273,"Иванова Анастасия Михайловна","М171МСБДН006","Экономико-математическое моделирование",3,"Экзамен","2017/2018 учебный год 1 модуль",null,24,1,1,1722525802,2098,null,"Системы больших данных",{"$f":"MATCH(D349,Отчет!$D$1:$D$65536,0)","v":71}]
[1937430976,9,"МБД171",1937366289,"Яковлева Дарья Александровна","М171МСБДН019","Экономико-математическое моделирование",3,"Экзамен","2017/2018 учебный год 1 модуль",null,27,1,1,1722525802,2098,null,"Системы больших данных",{"$f":"MATCH(D350,Отчет!$D$1:$D$65536,0)","v":96}]
[1937430814,8,"МБД171",1937366302,"Ферягина Екатерина Андреевна","М171МСБДН015","Экономико-математическое моделирование",3,"Экзамен","2017/2018 учебный год 1 модуль",null,24,1,1,1722525802,2098,null,"Системы больших данных",{"$f":"MATCH(D351,Отчет!$D$1:$D$65536,0)","v":76}]
[1937430660,9,"МБД171",1937366317,"Рахимов Севастьян Эдуардович","М171МСБДН012","Экономико-математическое моделирование",3,"Экзамен","2017/2018 учебный год 1 модуль",null,27,1,1,1722525802,2098,null,"Системы больших данных",{"$f":"MATCH(D352,Отчет!$D$1:$D$65536,0)","v":59}]
[1937430543,8,"МБД171",1937366334,"Кулаков Александр Сергеевич","М171МСБДН009","Экономико-математическое моделирование",3,"Экзамен","2017/2018 учебный год 1 модуль",null,24,1,1,1722525802,2098,null,"Системы больших данных",{"$f":"MATCH(D353,Отчет!$D$1:$D$65536,0)","v":19}]
[1937430910,8,"МБД171",1937366348,"Шеин Александр Владимирович","М171МСБДН017","Экономико-математическое моделирование",3,"Экзамен","2017/2018 учебный год 1 модуль",null,24,1,1,1722525802,2098,null,"Системы больших данных",{"$f":"MATCH(D354,Отчет!$D$1:$D$65536,0)","v":17}]
[1937428105,6,"МБИ173",1937364177,"Сухова Ксения Игоревна","М171МБИИН063","Экономико-математическое моделирование",3,"Экзамен","2017/2018 учебный год 1 модуль",null,18,1,1,1722551595,2098,null,"Бизнес-информатика",{"$f":"MATCH(D355,Отчет!$D$1:$D$65536,0)","v":77}]
[1937428000,8,"МБИ173",1937364192,"Семенова Элина Михайловна","М171МБИИН059","Экономико-математическое моделирование",3,"Экзамен","2017/2018 учебный год 1 модуль",null,24,1,1,1722551595,2098,null,"Бизнес-информатика",{"$f":"MATCH(D356,Отчет!$D$1:$D$65536,0)","v":160}]
[1937426891,7,"МБИ171",1937364220,"Бутченко Антон Олегович","М171МБИИН016","Экономико-математическое моделирование",3,"Экзамен","2017/2018 учебный год 1 модуль",null,21,1,1,1722551595,2098,null,"Бизнес-информатика",{"$f":"MATCH(D357,Отчет!$D$1:$D$65536,0)","v":57}]
[1937430501,10,"МБД171",1937366160,"Канищев Кирилл Валерьевич","М171МСБДН008","Экономико-математическое моделирование",3,"Экзамен","2017/2018 учебный год 1 модуль",null,30,1,1,1722525802,2098,null,"Системы больших данных",{"$f":"MATCH(D358,Отчет!$D$1:$D$65536,0)","v":109}]
[1937430751,9,"МБД171",1937366175,"Трегубова Инесса Александровна","М171МСБДН014","Экономико-математическое моделирование",3,"Экзамен","2017/2018 учебный год 1 модуль",null,27,1,1,1722525802,2098,null,"Системы больших данных",{"$f":"MATCH(D359,Отчет!$D$1:$D$65536,0)","v":127}]
[1937430470,10,"МБД171",1937366203,"Ильяшенко Григорий Анатольевич","М171МСБДН007","Экономико-математическое моделирование",3,"Экзамен","2017/2018 учебный год 1 модуль",null,30,1,1,1722525802,2098,null,"Системы больших данных",{"$f":"MATCH(D360,Отчет!$D$1:$D$65536,0)","v":81}]
[1937430250,8,"МБД171",1937366216,"Архипенко Анастасия Дмитриевна","М171МСБДН001","Экономико-математическое моделирование",3,"Экзамен","2017/2018 учебный год 1 модуль",null,24,1,1,1722525802,2098,null,"Системы больших данных",{"$f":"MATCH(D361,Отчет!$D$1:$D$65536,0)","v":16}]
[1937430403,8,"МБД171",1937366231,"Дякин Николай Валерьевич","М171МСБДН005","Экономико-математическое моделирование",3,"Экзамен","2017/2018 учебный год 1 модуль",null,24,1,1,1722525802,2098,null,"Системы больших данных",{"$f":"MATCH(D362,Отчет!$D$1:$D$65536,0)","v":21}]
[1937427297,8,"МБИ172",1937364001,"Калашников Сергей Владимирович","М171МБИИН030","Экономико-математическое моделирование",3,"Экзамен","2017/2018 учебный год 1 модуль",null,24,1,1,1722551595,2098,null,"Бизнес-информатика",{"$f":"MATCH(D363,Отчет!$D$1:$D$65536,0)","v":50}]
[1937428246,6,"МБИ173",1937364016,"Чубаров Алексей Глебович","М171МБИИН069","Экономико-математическое моделирование",3,"Экзамен","2017/2018 учебный год 1 модуль",null,18,1,1,1722551595,2098,null,"Бизнес-информатика",{"$f":"MATCH(D364,Отчет!$D$1:$D$65536,0)","v":131}]
[1937427820,5,"МБИ173",1937364031,"Полторак Анастасия Игоревна","М171МБИИН051","Экономико-математическое моделирование",3,"Экзамен","2017/2018 учебный год 1 модуль",null,15,1,1,1722551595,2098,null,"Бизнес-информатика",{"$f":"MATCH(D365,Отчет!$D$1:$D$65536,0)","v":103}]
[1937426864,4,"МБИ171",1937364044,"Бондарь Сергей Борисович","М171МБИИН015","Экономико-математическое моделирование",3,"Экзамен","2017/2018 учебный год 1 модуль",null,12,1,1,1722551595,2098,null,"Бизнес-информатика",{"$f":"MATCH(D366,Отчет!$D$1:$D$65536,0)","v":170}]
[1937431936,5,"МИБ171",1937370536,"Оленева Валерия Александровна","М171МУБЕЗ012","Экономико-математическое моделирование",3,"Экзамен","2017/2018 учебный год 1 модуль",null,15,1,1,1722514289,2098,null,"Управление информационной безопасностью",{"$f":"MATCH(D367,Отчет!$D$1:$D$65536,0)","v":86}]
[1937432134,4,"МИБ171",1937370552,"Рудаков Андрей Дмитриевич","М171МУБЕЗ017","Экономико-математическое моделирование",3,"Экзамен","2017/2018 учебный год 1 модуль",null,12,1,1,1722514289,2098,null,"Управление информационной безопасностью",{"$f":"MATCH(D368,Отчет!$D$1:$D$65536,0)","v":99}]
[1937432093,6,"МИБ171",1937370565,"Пупышева Анна Андреевна","М171МУБЕЗ016","Экономико-математическое моделирование",3,"Экзамен","2017/2018 учебный год 1 модуль",null,18,1,1,1722514289,2098,null,"Управление информационной безопасностью",{"$f":"MATCH(D369,Отчет!$D$1:$D$65536,0)","v":101}]
[1937431755,7,"МИБ171",1937370580,"Козлов Никита Вячеславович","М171МУБЕЗ008","Экономико-математическое моделирование",3,"Экзамен","2017/2018 учебный год 1 модуль",null,21,1,1,1722514289,2098,null,"Управление информационной безопасностью",{"$f":"MATCH(D370,Отчет!$D$1:$D$65536,0)","v":118}]
[1937432436,8,"МИБ171",1937370596,"Смирнов Данил Вадимович","М171МУБЕЗ020","Экономико-математическое моделирование",3,"Экзамен","2017/2018 учебный год 1 модуль",null,24,1,1,1722514289,2098,null,"Управление информационной безопасностью",{"$f":"MATCH(D371,Отчет!$D$1:$D$65536,0)","v":33}]
[1937431894,4,"МИБ171",1937371125,"Никитин Андрей Олегович","М171МУБЕЗ011","Экономико-математическое моделирование",3,"Экзамен","2017/2018 учебный год 1 модуль",null,12,1,1,1722514289,2098,null,"Управление информационной безопасностью",{"$f":"MATCH(D372,Отчет!$D$1:$D$65536,0)","v":141}]
[1937431431,5,"МИБ171",1937371143,"Белоус Илия Григорьевич","М171МУБЕЗ001","Экономико-математическое моделирование",3,"Экзамен","2017/2018 учебный год 1 модуль",null,15,1,1,1722514289,2098,null,"Управление информационной безопасностью",{"$f":"MATCH(D373,Отчет!$D$1:$D$65536,0)","v":157}]
[1937431542,5,"МИБ171",1937371161,"Варламова Виктория Викторовна","М171МУБЕЗ003","Экономико-математическое моделирование",3,"Экзамен","2017/2018 учебный год 1 модуль",null,15,1,1,1722514289,2098,null,"Управление информационной безопасностью",{"$f":"MATCH(D374,Отчет!$D$1:$D$65536,0)","v":106}]
[1937431714,8,"МИБ171",1937370369,"Иванов Владислав Сергеевич","М171МУБЕЗ007","Экономико-математическое моделирование",3,"Экзамен","2017/2018 учебный год 1 модуль",null,24,1,1,1722514289,2098,null,"Управление информационной безопасностью",{"$f":"MATCH(D375,Отчет!$D$1:$D$65536,0)","v":20}]
[1937431501,5,"МИБ171",1937370385,"Бочарова Ксения Михайловна","М171МУБЕЗ002","Экономико-математическое моделирование",3,"Экзамен","2017/2018 учебный год 1 модуль",null,15,1,1,1722514289,2098,null,"Управление информационной безопасностью",{"$f":"MATCH(D376,Отчет!$D$1:$D$65536,0)","v":53}]
[1937431672,6,"МИБ171",1937370401,"Жучков Константин Сергеевич","М171МУБЕЗ006","Экономико-математическое моделирование",3,"Экзамен","2017/2018 учебный год 1 модуль",null,18,1,1,1722514289,2098,null,"Управление информационной безопасностью",{"$f":"MATCH(D377,Отчет!$D$1:$D$65536,0)","v":116}]
[1937432334,5,"МИБ171",1937370421,"Ряховский Сергей Алексеевич","М171МУБЕЗ018","Экономико-математическое моделирование",3,"Экзамен","2017/2018 учебный год 1 модуль",null,15,1,1,1722514289,2098,null,"Управление информационной безопасностью",{"$f":"MATCH(D378,Отчет!$D$1:$D$65536,0)","v":115}]
[1937431852,6,"МИБ171",1937370436,"Михеева Вероника Вячеславовна","М171МУБЕЗ010","Экономико-математическое моделирование",3,"Экзамен","2017/2018 учебный год 1 модуль",null,18,1,1,1722514289,2098,null,"Управление информационной безопасностью",{"$f":"MATCH(D379,Отчет!$D$1:$D$65536,0)","v":60}]
[1937431803,6,"МИБ171",1937370452,"Коровин Кирилл Сергеевич","М171МУБЕЗ009","Экономико-математическое моделирование",3,"Экзамен","2017/2018 учебный год 1 модуль",null,18,1,1,1722514289,2098,null,"Управление информационной безопасностью",{"$f":"MATCH(D380,Отчет!$D$1:$D$65536,0)","v":136}]
[1937431614,5,"МИБ171",1937370480,"Дарбишева Патимат Гаджимурадовна","М171МУБЕЗ005","Экономико-математическое моделирование",3,"Экзамен","2017/2018 учебный год 1 модуль",null,15,1,1,1722514289,2098,null,"Управление информационной безопасностью",{"$f":"MATCH(D381,Отчет!$D$1:$D$65536,0)","v":30}]
[1937432008,6,"МИБ171",1937370498,"Петрина Матвей Олегович","М171МУБЕЗ014","Экономико-математическое моделирование",3,"Экзамен","2017/2018 учебный год 1 модуль",null,18,1,1,1722514289,2098,null,"Управление информационной безопасностью",{"$f":"MATCH(D382,Отчет!$D$1:$D$65536,0)","v":75}]
[1940908707,6,"МБИ172",1940815787,"Музыка Наталия Константиновна","М171МБИИН077","Экономико-математическое моделирование",3,"Экзамен","2017/2018 учебный год 1 модуль",null,18,1,1,1722551595,2098,null,"Бизнес-информатика",{"$f":"MATCH(D383,Отчет!$D$1:$D$65536,0)","v":31}]
[1937433831,7,"МЭБ171",1937372945,"Цуканов Иван Викторович","М171МЭЛБЗ024","Экономико-математическое моделирование",3,"Экзамен","2017/2018 учебный год 1 модуль",null,21,1,1,1722506105,2098,null,"Электронный бизнес",{"$f":"MATCH(D384,Отчет!$D$1:$D$65536,0)","v":100}]
[1937433383,6,"МЭБ171",1937372959,"Лунин Никита Константинович","М171МЭЛБЗ014","Экономико-математическое моделирование",3,"Экзамен","2017/2018 учебный год 1 модуль",null,18,1,1,1722506105,2098,null,"Электронный бизнес",{"$f":"MATCH(D385,Отчет!$D$1:$D$65536,0)","v":158}]
[1937433575,6,"МЭБ171",1937372972,"Рубцова Екатерина Андреевна","М171МЭЛБЗ019","Экономико-математическое моделирование",3,"Экзамен","2017/2018 учебный год 1 модуль",null,18,1,1,1722506105,2098,null,"Электронный бизнес",{"$f":"MATCH(D386,Отчет!$D$1:$D$65536,0)","v":139}]
[1937433796,7,"МЭБ171",1937372985,"Фахрова Дина Вадимовна","М171МЭЛБЗ023","Экономико-математическое моделирование",3,"Экзамен","2017/2018 учебный год 1 модуль",null,21,1,1,1722506105,2098,null,"Электронный бизнес",{"$f":"MATCH(D387,Отчет!$D$1:$D$65536,0)","v":37}]
[1937433052,8,"МЭБ171",1937372998,"Горобец Валерия Валентиновна","М171МЭЛБЗ005","Экономико-математическое моделирование",3,"Экзамен","2017/2018 учебный год 1 модуль",null,24,1,1,1722506105,2098,null,"Электронный бизнес",{"$f":"MATCH(D388,Отчет!$D$1:$D$65536,0)","v":42}]
[1937433083,7,"МЭБ171",1937373012,"Давыдова Ксения Валерьевна","М171МЭЛБЗ006","Экономико-математическое моделирование",3,"Экзамен","2017/2018 учебный год 1 модуль",null,21,1,1,1722506105,2098,null,"Электронный бизнес",{"$f":"MATCH(D389,Отчет!$D$1:$D$65536,0)","v":97}]
[1937433729,7,"МЭБ171",1937373025,"Суряднов Дмитрий Юрьевич","М171МЭЛБЗ022","Экономико-математическое моделирование",3,"Экзамен","2017/2018 учебный год 1 модуль",null,21,1,1,1722506105,2098,null,"Электронный бизнес",{"$f":"MATCH(D390,Отчет!$D$1:$D$65536,0)","v":27}]
[1937433343,6,"МЭБ171",1937373039,"Кяргин Антон Юрьевич","М171МЭЛБЗ013","Экономико-математическое моделирование",3,"Экзамен","2017/2018 учебный год 1 модуль",null,18,1,1,1722506105,2098,null,"Электронный бизнес",{"$f":"MATCH(D391,Отчет!$D$1:$D$65536,0)","v":110}]
[1937433186,7,"МЭБ171",1937373052,"Ким Дин Хо","М171МЭЛБЗ009","Экономико-математическое моделирование",3,"Экзамен","2017/2018 учебный год 1 модуль",null,21,1,1,1722506105,2098,null,"Электронный бизнес",{"$f":"MATCH(D392,Отчет!$D$1:$D$65536,0)","v":121}]
[1937432924,8,"МЭБ171",1937372839,"Бабаджанян Армен Кароевич","М171МЭЛБЗ002","Экономико-математическое моделирование",3,"Экзамен","2017/2018 учебный год 1 модуль",null,24,1,1,1722506105,2098,null,"Электронный бизнес",{"$f":"MATCH(D393,Отчет!$D$1:$D$65536,0)","v":52}]
[1937433872,7,"МЭБ171",1937372852,"Юлдашева Камилла Адилевна","М171МЭЛБЗ025","Экономико-математическое моделирование",3,"Экзамен","2017/2018 учебный год 1 модуль",null,21,1,1,1722506105,2098,null,"Электронный бизнес",{"$f":"MATCH(D394,Отчет!$D$1:$D$65536,0)","v":24}]
[1937433625,6,"МЭБ171",1937372866,"Семенкович Софья Алексеевна","М171МЭЛБЗ020","Экономико-математическое моделирование",3,"Экзамен","2017/2018 учебный год 1 модуль",null,18,1,1,1722506105,2098,null,"Электронный бизнес",{"$f":"MATCH(D395,Отчет!$D$1:$D$65536,0)","v":90}]
[1937433414,6,"МЭБ171",1937372880,"Лучкин Андрей Владимирович","М171МЭЛБЗ015","Экономико-математическое моделирование",3,"Экзамен","2017/2018 учебный год 1 модуль",null,18,1,1,1722506105,2098,null,"Электронный бизнес",{"$f":"MATCH(D396,Отчет!$D$1:$D$65536,0)","v":133}]
[1937433669,7,"МЭБ171",1937372893,"Смирнов Константин Борисович","М171МЭЛБЗ021","Экономико-математическое моделирование",3,"Экзамен","2017/2018 учебный год 1 модуль",null,21,1,1,1722506105,2098,null,"Электронный бизнес",{"$f":"MATCH(D397,Отчет!$D$1:$D$65536,0)","v":55}]
[1937433274,6,"МЭБ171",1937372906,"Китьян Акмаль Алексеевич","М171МЭЛБЗ011","Экономико-математическое моделирование",3,"Экзамен","2017/2018 учебный год 1 модуль",null,18,1,1,1722506105,2098,null,"Электронный бизнес",{"$f":"MATCH(D398,Отчет!$D$1:$D$65536,0)","v":154}]
[1937433490,6,"МЭБ171",1937372919,"Михайлов Егор Александрович","М171МЭЛБЗ017","Экономико-математическое моделирование",3,"Экзамен","2017/2018 учебный год 1 модуль",null,18,1,1,1722506105,2098,null,"Электронный бизнес",{"$f":"MATCH(D399,Отчет!$D$1:$D$65536,0)","v":107}]
[1937432890,7,"МЭБ171",1937372932,"Абросимова Анастасия Михайловна","М171МЭЛБЗ001","Экономико-математическое моделирование",3,"Экзамен","2017/2018 учебный год 1 модуль",null,21,1,1,1722506105,2098,null,"Электронный бизнес",{"$f":"MATCH(D400,Отчет!$D$1:$D$65536,0)","v":105}]
[1937431577,6,"МИБ171",1937371178,"Гультяева Полина Николаевна","М171МУБЕЗ004","Экономико-математическое моделирование",3,"Экзамен","2017/2018 учебный год 1 модуль",null,18,1,1,1722514289,2098,null,"Управление информационной безопасностью",{"$f":"MATCH(D401,Отчет!$D$1:$D$65536,0)","v":39}]
[1937432966,8,"МЭБ171",1937372729,"Бадамова Екатерина Дмитриевна","М171МЭЛБЗ003","Экономико-математическое моделирование",3,"Экзамен","2017/2018 учебный год 1 модуль",null,24,1,1,1722506105,2098,null,"Электронный бизнес",{"$f":"MATCH(D402,Отчет!$D$1:$D$65536,0)","v":47}]
[1937433112,7,"МЭБ171",1937372743,"Джаббарова Лейла Мехман гызы","М171МЭЛБЗ007","Экономико-математическое моделирование",3,"Экзамен","2017/2018 учебный год 1 модуль",null,21,1,1,1722506105,2098,null,"Электронный бизнес",{"$f":"MATCH(D403,Отчет!$D$1:$D$65536,0)","v":85}]
[1937433533,6,"МЭБ171",1937372757,"Осипова Мария Андреевна","М171МЭЛБЗ018","Экономико-математическое моделирование",3,"Экзамен","2017/2018 учебный год 1 модуль",null,18,1,1,1722506105,2098,null,"Электронный бизнес",{"$f":"MATCH(D404,Отчет!$D$1:$D$65536,0)","v":44}]
[1937433228,7,"МЭБ171",1937372770,"Кирилловых Андрей Максимович","М171МЭЛБЗ010","Экономико-математическое моделирование",3,"Экзамен","2017/2018 учебный год 1 модуль",null,21,1,1,1722506105,2098,null,"Электронный бизнес",{"$f":"MATCH(D405,Отчет!$D$1:$D$65536,0)","v":102}]
[1937433149,7,"МЭБ171",1937372783,"Калинин Дмитрий Владимирович","М171МЭЛБЗ008","Экономико-математическое моделирование",3,"Экзамен","2017/2018 учебный год 1 модуль",null,21,1,1,1722506105,2098,null,"Электронный бизнес",{"$f":"MATCH(D406,Отчет!$D$1:$D$65536,0)","v":49}]
[1937433012,5,"МЭБ171",1937372796,"Гимашев Линар Русланович","М171МЭЛБЗ004","Экономико-математическое моделирование",3,"Экзамен","2017/2018 учебный год 1 модуль",null,15,1,1,1722506105,2098,null,"Электронный бизнес",{"$f":"MATCH(D407,Отчет!$D$1:$D$65536,0)","v":142}]
[1937433305,6,"МЭБ171",1937372811,"Куратова Александра Евгеньевна","М171МЭЛБЗ012","Экономико-математическое моделирование",3,"Экзамен","2017/2018 учебный год 1 модуль",null,18,1,1,1722506105,2098,null,"Электронный бизнес",{"$f":"MATCH(D408,Отчет!$D$1:$D$65536,0)","v":137}]
[1937433448,5,"МЭБ171",1937372826,"Минеева Анастасия Сергеевна","М171МЭЛБЗ016","Экономико-математическое моделирование",3,"Экзамен","2017/2018 учебный год 1 модуль",null,15,1,1,1722506105,2098,null,"Электронный бизнес",{"$f":"MATCH(D409,Отчет!$D$1:$D$65536,0)","v":146}]
[1940929778,10,"МБД171",1940816199,"Обаляева Екатерина Ильинична","М171МСБДН023","Экономико-математическое моделирование",3,"Экзамен","2017/2018 учебный год 1 модуль",null,30,1,0,1722525802,2098,null,"Системы больших данных",{"$f":"MATCH(D410,Отчет!$D$1:$D$65536,0)","v":36}]
[1940922458,8,"МЭБ171",1940816486,"Кондращенко Ярослав Константинович","М171МЭЛБЗ027","Экономико-математическое моделирование",3,"Экзамен","2017/2018 учебный год 1 модуль",null,24,1,0,1722506105,2098,null,"Электронный бизнес",{"$f":"MATCH(D411,Отчет!$D$1:$D$65536,0)","v":78}]
[1952080362,4,"МБИ173",1941989079,"Феофанов Лев Андреевич","М171МБИИН092","Экономико-математическое моделирование",3,"Экзамен","2017/2018 учебный год 1 модуль",null,12,1,0,1722551595,2098,null,"Бизнес-информатика",{"$f":"MATCH(D412,Отчет!$D$1:$D$65536,0)","v":172}]
[1952078182,10,"МБИ173",1941989095,"Сарычев Роман Владимирович","М171МБИИН091","Экономико-математическое моделирование",3,"Экзамен","2017/2018 учебный год 1 модуль",null,30,1,0,1722551595,2098,null,"Бизнес-информатика",{"$f":"MATCH(D413,Отчет!$D$1:$D$65536,0)","v":134}]
[1952076825,10,"МБИ173",1941989108,"Рябов Дмитрий Валерьевич","М171МБИИН090","Экономико-математическое моделирование",3,"Экзамен","2017/2018 учебный год 1 модуль",null,30,1,1,1722551595,2098,null,"Бизнес-информатика",{"$f":"MATCH(D414,Отчет!$D$1:$D$65536,0)","v":14}]
[1942059923,10,"МБИ172",1941989121,"Павлова Татьяна Михайловна","М171МБИИН089","Экономико-математическое моделирование",3,"Экзамен","2017/2018 учебный год 1 модуль",null,30,1,0,1722551595,2098,null,"Бизнес-информатика",{"$f":"MATCH(D415,Отчет!$D$1:$D$65536,0)","v":15}]
[1940908590,8,"МБИ172",1940815800,"Кривенцов Феликс Константинович","М171МБИИН072","Экономико-математическое моделирование",3,"Экзамен","2017/2018 учебный год 1 модуль",null,24,1,1,1722551595,2098,null,"Бизнес-информатика",{"$f":"MATCH(D416,Отчет!$D$1:$D$65536,0)","v":119}]
[1940908749,8,"МБИ173",1940815815,"Шпилевская Наталья Викторовна","М171МБИИН079","Экономико-математическое моделирование",3,"Экзамен","2017/2018 учебный год 1 модуль",null,24,1,0,1722551595,2098,null,"Бизнес-информатика",{"$f":"MATCH(D417,Отчет!$D$1:$D$65536,0)","v":155}]
[1940908616,7,"МБИ172",1940815828,"Масалимов Тимур Ринатович","М171МБИИН073","Экономико-математическое моделирование",3,"Экзамен","2017/2018 учебный год 1 модуль",null,21,1,0,1722551595,2098,null,"Бизнес-информатика",{"$f":"MATCH(D418,Отчет!$D$1:$D$65536,0)","v":123}]
[1940908570,6,"МБИ171",1940815842,"Дворяшин Дмитрий Александрович","М171МБИИН071","Экономико-математическое моделирование",3,"Экзамен","2017/2018 учебный год 1 модуль",null,18,1,0,1722551595,2098,null,"Бизнес-информатика",{"$f":"MATCH(D419,Отчет!$D$1:$D$65536,0)","v":166}]
[1940929904,9,"МБД171",1940816098,"Телышева Татьяна Романовна","М171МСБДН027","Экономико-математическое моделирование",3,"Экзамен","2017/2018 учебный год 1 модуль",null,27,1,0,1722525802,2098,null,"Системы больших данных",{"$f":"MATCH(D420,Отчет!$D$1:$D$65536,0)","v":93}]
[1940929841,7,"МБД171",1940816117,"Садыкова Сабина Бахтияровна","М171МСБДН025","Экономико-математическое моделирование",3,"Экзамен","2017/2018 учебный год 1 модуль",null,21,1,0,1722525802,2098,null,"Системы больших данных",{"$f":"MATCH(D421,Отчет!$D$1:$D$65536,0)","v":58}]
[1940929718,10,"МБД171",1940816134,"Арча Александр Михайлович","М171МСБДН021","Экономико-математическое моделирование",3,"Экзамен","2017/2018 учебный год 1 модуль",null,30,1,0,1722525802,2098,null,"Системы больших данных",{"$f":"MATCH(D422,Отчет!$D$1:$D$65536,0)","v":111}]
[1940929748,8,"МБД171",1940816150,"Иванов Никита Павлович","М171МСБДН022","Экономико-математическое моделирование",3,"Экзамен","2017/2018 учебный год 1 модуль",null,24,1,0,1722525802,2098,null,"Системы больших данных",{"$f":"MATCH(D423,Отчет!$D$1:$D$65536,0)","v":48}]
[1940908662,7,"МБИ172",1940750974,"Мирской Александр Леонидович","М171МБИИН075","Экономико-математическое моделирование",3,"Экзамен","2017/2018 учебный год 1 модуль",null,21,1,0,1722551595,2098,null,"Бизнес-информатика",{"$f":"MATCH(D424,Отчет!$D$1:$D$65536,0)","v":29}]
[1940908727,7,"МБИ173",1940751185,"Овсянникова Ольга Андреевна","М171МБИИН078","Экономико-математическое моделирование",3,"Экзамен","2017/2018 учебный год 1 модуль",null,21,1,0,1722551595,2098,null,"Бизнес-информатика",{"$f":"MATCH(D425,Отчет!$D$1:$D$65536,0)","v":69}]
[1940929871,9,"МБД171",1940751998,"Семес Алексей Владимирович","М171МСБДН026","Экономико-математическое моделирование",3,"Экзамен","2017/2018 учебный год 1 модуль",null,27,1,0,1722525802,2098,null,"Системы больших данных",{"$f":"MATCH(D426,Отчет!$D$1:$D$65536,0)","v":66}]
[1940908686,5,"МБИ172",1940815727,"Монгуш Алдын-Ай Владимировна","М171МБИИН076","Экономико-математическое моделирование",3,"Экзамен","2017/2018 учебный год 1 модуль",null,15,1,0,1722551595,2098,null,"Бизнес-информатика",{"$f":"MATCH(D427,Отчет!$D$1:$D$65536,0)","v":104}]
[1940908853,7,"МБИ173",1940815743,"Шумилин Дмитрий Станиславович","М171МБИИН080","Экономико-математическое моделирование",3,"Экзамен","2017/2018 учебный год 1 модуль",null,21,1,0,1722551595,2098,null,"Бизнес-информатика",{"$f":"MATCH(D428,Отчет!$D$1:$D$65536,0)","v":150}]
[1940908953,8,"МБИ173",1940815759,"Щеголев Андрей Александрович","М171МБИИН081","Экономико-математическое моделирование",3,"Экзамен","2017/2018 учебный год 1 модуль",null,24,1,1,1722551595,2098,null,"Бизнес-информатика",{"$f":"MATCH(D429,Отчет!$D$1:$D$65536,0)","v":87}]
[1940908638,6,"МБИ172",1940815773,"Матвиенко Андрей Кириллович","М171МБИИН074","Экономико-математическое моделирование",3,"Экзамен","2017/2018 учебный год 1 модуль",null,18,1,1,1722551595,2098,null,"Бизнес-информатика",{"$f":"MATCH(D430,Отчет!$D$1:$D$65536,0)","v":38}]
[1977576494,8,"МБД171",1972663851,"Ислам Эмди Шафикул","М171МСБДН036","Экономико-математическое моделирование",3,"Экзамен","2017/2018 учебный год 1 модуль",null,24,1,0,1722525802,2098,null,"Системы больших данных",{"$f":"MATCH(D431,Отчет!$D$1:$D$65536,0)","v":84}]
[2162837169,4,"МБИ173",2162833425,"Майборода Кирилл Алексеевич","М161МБИИН048","Экономико-математическое моделирование",3,"Экзамен","2017/2018 учебный год 1 модуль",null,12,1,1,1722551595,2098,null,"Бизнес-информатика",{"$f":"MATCH(D432,Отчет!$D$1:$D$65536,0)","v":122}]
[1945325313,5,"МБИ172",1944939253,"Вовк Иларион Анатольевич","М171МБИИН094","Экономико-математическое моделирование",3,"Экзамен","2017/2018 учебный год 1 модуль",null,15,1,0,1722551595,2098,null,"Бизнес-информатика",{"$f":"MATCH(D433,Отчет!$D$1:$D$65536,0)","v":98}]
[1946036818,4,"МБИ173",1945753603,"Пак Александр Сергеевич","М171МБИИН096","Экономико-математическое моделирование",3,"Экзамен","2017/2018 учебный год 1 модуль",null,12,1,0,1722551595,2098,null,"Бизнес-информатика",{"$f":"MATCH(D434,Отчет!$D$1:$D$65536,0)","v":114}]
[1946042630,5,"МЭБ171",1945760044,"Цандере Юлия","М171МЭЛБЗ028","Экономико-математическое моделирование",3,"Экзамен","2017/2018 учебный год 1 модуль",null,15,1,0,1722506105,2098,null,"Электронный бизнес",{"$f":"MATCH(D435,Отчет!$D$1:$D$65536,0)","v":130}]
[1947328324,9,"МБД171",1946791924,"Скачок Андрей","М171МСБДН030","Экономико-математическое моделирование",3,"Экзамен","2017/2018 учебный год 1 модуль",null,27,1,0,1722525802,2098,null,"Системы больших данных",{"$f":"MATCH(D436,Отчет!$D$1:$D$65536,0)","v":151}]
[1947206525,7,"МБИ172",1947090330,"Варданян Карен Оганесович","М171МБИИН097","Экономико-математическое моделирование",3,"Экзамен","2017/2018 учебный год 1 модуль",null,21,1,1,1722551595,2098,null,"Бизнес-информатика",{"$f":"MATCH(D437,Отчет!$D$1:$D$65536,0)","v":175}]
[1950547092,7,"МБД171",1950215429,"Фаур Назим Ахмад","М171МСБДН032","Экономико-математическое моделирование",3,"Экзамен","2017/2018 учебный год 1 модуль",null,21,1,0,1722525802,2098,null,"Системы больших данных",{"$f":"MATCH(D438,Отчет!$D$1:$D$65536,0)","v":89}]
[1950547034,8,"МБД171",1950255571,"Сиахпутра Эдо","М171МСБДН031","Экономико-математическое моделирование",3,"Экзамен","2017/2018 учебный год 1 модуль",null,24,1,1,1722525802,2098,null,"Системы больших данных",{"$f":"MATCH(D439,Отчет!$D$1:$D$65536,0)","v":112}]
[1959819986,7,"МБД171",1959612809,"Штройхофэр Кристофер","М171МСБДН033","Экономико-математическое моделирование",3,"Экзамен","2017/2018 учебный год 1 модуль",null,21,1,1,1722525802,2098,null,"Системы больших данных",{"$f":"MATCH(D440,Отчет!$D$1:$D$65536,0)","v":40}]
[1972266217,8,"МБД171",1970446330,"- Маниканта Рукмангада","М171МСБДН035","Экономико-математическое моделирование",3,"Экзамен","2017/2018 учебный год 1 модуль",null,24,1,1,1722525802,2098,null,"Системы больших данных",{"$f":"MATCH(D441,Отчет!$D$1:$D$65536,0)","v":120}]
[1942059902,8,"МБИ172",1941989134,"Морева Галина Сергеевна","М171МБИИН088","Экономико-математическое моделирование",3,"Экзамен","2017/2018 учебный год 1 модуль",null,24,1,0,1722551595,2098,null,"Бизнес-информатика",{"$f":"MATCH(D442,Отчет!$D$1:$D$65536,0)","v":94}]
[1942059879,5,"МБИ172",1941989147,"Мингазов Аскар Альбертович","М171МБИИН087","Экономико-математическое моделирование",3,"Экзамен","2017/2018 учебный год 1 модуль",null,15,1,0,1722551595,2098,null,"Бизнес-информатика",{"$f":"MATCH(D443,Отчет!$D$1:$D$65536,0)","v":171}]
[1942059858,8,"МБИ172",1941989160,"Мельникова Анастасия Игоревна","М171МБИИН086","Экономико-математическое моделирование",3,"Экзамен","2017/2018 учебный год 1 модуль",null,24,1,0,1722551595,2098,null,"Бизнес-информатика",{"$f":"MATCH(D444,Отчет!$D$1:$D$65536,0)","v":46}]
[1942059771,10,"МБИ171",1941989199,"Бородко Вера Николаевна","М171МБИИН082","Экономико-математическое моделирование",3,"Экзамен","2017/2018 учебный год 1 модуль",null,30,1,0,1722551595,2098,null,"Бизнес-информатика",{"$f":"MATCH(D445,Отчет!$D$1:$D$65536,0)","v":18}]
[1942060275,8,"МБД171",1942007946,"Ержанова Тогжан","М171МСБДН029","Экономико-математическое моделирование",3,"Экзамен","2017/2018 учебный год 1 модуль",null,24,1,1,1722525802,2098,null,"Системы больших данных",{"$f":"MATCH(D446,Отчет!$D$1:$D$65536,0)","v":61}]
[1942063413,7,"МИБ171",1942008109,"Кабыкен Даулет","М171МУБЕЗ021","Экономико-математическое моделирование",3,"Экзамен","2017/2018 учебный год 1 модуль",null,21,1,1,1722514289,2098,null,"Управление информационной безопасностью",{"$f":"MATCH(D447,Отчет!$D$1:$D$65536,0)","v":177}]
[1942063446,4,"МИБ171",1942008132,"Нурматов Асхат","М171МУБЕЗ022","Экономико-математическое моделирование",3,"Экзамен","2017/2018 учебный год 1 модуль",null,12,1,1,1722514289,2098,null,"Управление информационной безопасностью",{"$f":"MATCH(D448,Отчет!$D$1:$D$65536,0)","v":178}]
[1942059837,7,"МБИ171",1942008650,"Гареев Эмиль Хамидович","М171МБИИН085","Экономико-математическое моделирование",3,"Экзамен","2017/2018 учебный год 1 модуль",null,21,1,1,1722551595,2098,null,"Бизнес-информатика",{"$f":"MATCH(D449,Отчет!$D$1:$D$65536,0)","v":144}]
[1945325290,8,"МБИ171",1944931265,"Бытка Дарья","М171МБИИН093","Экономико-математическое моделирование",3,"Экзамен","2017/2018 учебный год 1 модуль",null,24,1,1,1722551595,2098,null,"Бизнес-информатика",{"$f":"MATCH(D450,Отчет!$D$1:$D$65536,0)","v":22}]
[1945325337,4,"МБИ173",1944935723,"Ким Анатолий","М171МБИИН095","Экономико-математическое моделирование",3,"Экзамен","2017/2018 учебный год 1 модуль",null,12,1,0,1722551595,2098,null,"Бизнес-информатика",{"$f":"MATCH(D451,Отчет!$D$1:$D$65536,0)","v":176}]
[1940929941,7,"МБД171",1940816171,"Ширяева Кристина Александровна","М171МСБДН028","Экономико-математическое моделирование",3,"Экзамен","2017/2018 учебный год 1 модуль",null,21,1,0,1722525802,2098,null,"Системы больших данных",{"$f":"MATCH(D452,Отчет!$D$1:$D$65536,0)","v":70}]
[1940929808,9,"МБД171",1940816185,"Прохоренков Дмитрий Викторович","М171МСБДН024","Экономико-математическое моделирование",3,"Экзамен","2017/2018 учебный год 1 модуль",null,27,1,0,1722525802,2098,null,"Системы больших данных",{"$f":"MATCH(D453,Отчет!$D$1:$D$65536,0)","v":13}]
[1937430331,8,"МБД171",1937366366,"Гатина Эльмира Ринатовна","М171МСБДН003","Научно-исследовательский семинар",5,"Экзамен","2017/2018 учебный год 2 модуль",null,40,1,1,1722525802,2098,null,"Системы больших данных",{"$f":"MATCH(D454,Отчет!$D$1:$D$65536,0)","v":34}]
[1940929863,9,"МБД171",1940751998,"Семес Алексей Владимирович","М171МСБДН026","Научно-исследовательский семинар",5,"Экзамен","2017/2018 учебный год 2 модуль",null,45,1,0,1722525802,2098,null,"Системы больших данных",{"$f":"MATCH(D455,Отчет!$D$1:$D$65536,0)","v":66}]
[1937430933,10,"МБД171",1937366394,"Шубина Виктория Ильинична","М171МСБДН018","Научно-исследовательский семинар",5,"Экзамен","2017/2018 учебный год 2 модуль",null,50,1,1,1722525802,2098,null,"Системы больших данных",{"$f":"MATCH(D456,Отчет!$D$1:$D$65536,0)","v":32}]
[1937430859,9,"МБД171",1937366407,"Чувилина Анна Андреевна","М171МСБДН016","Научно-исследовательский семинар",5,"Экзамен","2017/2018 учебный год 2 модуль",null,45,1,1,1722525802,2098,null,"Системы больших данных",{"$f":"MATCH(D457,Отчет!$D$1:$D$65536,0)","v":43}]
[1937430294,10,"МБД171",1937366422,"Вилкова Елена Александровна","М171МСБДН002","Научно-исследовательский семинар",5,"Экзамен","2017/2018 учебный год 2 модуль",null,50,1,1,1722525802,2098,null,"Системы больших данных",{"$f":"MATCH(D458,Отчет!$D$1:$D$65536,0)","v":12}]
[1937430699,8,"МБД171",1937366436,"Сысоев Марк Валерьевич","М171МСБДН013","Научно-исследовательский семинар",5,"Экзамен","2017/2018 учебный год 2 модуль",null,40,1,1,1722525802,2098,null,"Системы больших данных",{"$f":"MATCH(D459,Отчет!$D$1:$D$65536,0)","v":45}]
[1937430363,9,"МБД171",1937366244,"Дмитриев Виктор Андреевич","М171МСБДН004","Научно-исследовательский семинар",5,"Экзамен","2017/2018 учебный год 2 модуль",null,45,1,1,1722525802,2098,null,"Системы больших данных",{"$f":"MATCH(D460,Отчет!$D$1:$D$65536,0)","v":63}]
[1937430569,10,"МБД171",1937366259,"Пахолкова Анна Юрьевна","М171МСБДН010","Научно-исследовательский семинар",5,"Экзамен","2017/2018 учебный год 2 модуль",null,50,1,1,1722525802,2098,null,"Системы больших данных",{"$f":"MATCH(D461,Отчет!$D$1:$D$65536,0)","v":56}]
[1937430428,9,"МБД171",1937366273,"Иванова Анастасия Михайловна","М171МСБДН006","Научно-исследовательский семинар",5,"Экзамен","2017/2018 учебный год 2 модуль",null,45,1,1,1722525802,2098,null,"Системы больших данных",{"$f":"MATCH(D462,Отчет!$D$1:$D$65536,0)","v":71}]
[1937430967,7,"МБД171",1937366289,"Яковлева Дарья Александровна","М171МСБДН019","Научно-исследовательский семинар",5,"Экзамен","2017/2018 учебный год 2 модуль",null,35,1,1,1722525802,2098,null,"Системы больших данных",{"$f":"MATCH(D463,Отчет!$D$1:$D$65536,0)","v":96}]
[1937430797,9,"МБД171",1937366302,"Ферягина Екатерина Андреевна","М171МСБДН015","Научно-исследовательский семинар",5,"Экзамен","2017/2018 учебный год 2 модуль",null,45,1,1,1722525802,2098,null,"Системы больших данных",{"$f":"MATCH(D464,Отчет!$D$1:$D$65536,0)","v":76}]
[1937430648,10,"МБД171",1937366317,"Рахимов Севастьян Эдуардович","М171МСБДН012","Научно-исследовательский семинар",5,"Экзамен","2017/2018 учебный год 2 модуль",null,50,1,1,1722525802,2098,null,"Системы больших данных",{"$f":"MATCH(D465,Отчет!$D$1:$D$65536,0)","v":59}]
[1937430532,9,"МБД171",1937366334,"Кулаков Александр Сергеевич","М171МСБДН009","Научно-исследовательский семинар",5,"Экзамен","2017/2018 учебный год 2 модуль",null,45,1,1,1722525802,2098,null,"Системы больших данных",{"$f":"MATCH(D466,Отчет!$D$1:$D$65536,0)","v":19}]
[1937430902,10,"МБД171",1937366348,"Шеин Александр Владимирович","М171МСБДН017","Научно-исследовательский семинар",5,"Экзамен","2017/2018 учебный год 2 модуль",null,50,1,1,1722525802,2098,null,"Системы больших данных",{"$f":"MATCH(D467,Отчет!$D$1:$D$65536,0)","v":17}]
[1937430493,7,"МБД171",1937366160,"Канищев Кирилл Валерьевич","М171МСБДН008","Научно-исследовательский семинар",5,"Экзамен","2017/2018 учебный год 2 модуль",null,35,1,1,1722525802,2098,null,"Системы больших данных",{"$f":"MATCH(D468,Отчет!$D$1:$D$65536,0)","v":109}]
[1937430737,6,"МБД171",1937366175,"Трегубова Инесса Александровна","М171МСБДН014","Научно-исследовательский семинар",5,"Экзамен","2017/2018 учебный год 2 модуль",null,30,1,1,1722525802,2098,null,"Системы больших данных",{"$f":"MATCH(D469,Отчет!$D$1:$D$65536,0)","v":127}]
[1937430462,6,"МБД171",1937366203,"Ильяшенко Григорий Анатольевич","М171МСБДН007","Научно-исследовательский семинар",5,"Экзамен","2017/2018 учебный год 2 модуль",null,30,1,1,1722525802,2098,null,"Системы больших данных",{"$f":"MATCH(D470,Отчет!$D$1:$D$65536,0)","v":81}]
[1937430236,10,"МБД171",1937366216,"Архипенко Анастасия Дмитриевна","М171МСБДН001","Научно-исследовательский семинар",5,"Экзамен","2017/2018 учебный год 2 модуль",null,50,1,1,1722525802,2098,null,"Системы больших данных",{"$f":"MATCH(D471,Отчет!$D$1:$D$65536,0)","v":16}]
[1937430395,8,"МБД171",1937366231,"Дякин Николай Валерьевич","М171МСБДН005","Научно-исследовательский семинар",5,"Экзамен","2017/2018 учебный год 2 модуль",null,40,1,1,1722525802,2098,null,"Системы больших данных",{"$f":"MATCH(D472,Отчет!$D$1:$D$65536,0)","v":21}]
[1977576485,8,"МБД171",1972663851,"Ислам Эмди Шафикул","М171МСБДН036","Научно-исследовательский семинар",5,"Экзамен","2017/2018 учебный год 2 модуль",null,40,1,0,1722525802,2098,null,"Системы больших данных",{"$f":"MATCH(D473,Отчет!$D$1:$D$65536,0)","v":84}]
[2101189673,7,"МБД171",2097188263,"Леонов Антон Александрович","М161МЖУРД016","Научно-исследовательский семинар",5,"Экзамен","2017/2018 учебный год 2 модуль",null,35,1,1,1722525802,2098,"ikPassed","Системы больших данных",{"$f":"MATCH(D474,Отчет!$D$1:$D$65536,0)","v":168}]
[1947328316,6,"МБД171",1946791924,"Скачок Андрей","М171МСБДН030","Научно-исследовательский семинар",5,"Экзамен","2017/2018 учебный год 2 модуль",null,30,1,0,1722525802,2098,null,"Системы больших данных",{"$f":"MATCH(D475,Отчет!$D$1:$D$65536,0)","v":151}]
[1950547084,7,"МБД171",1950215429,"Фаур Назим Ахмад","М171МСБДН032","Научно-исследовательский семинар",5,"Экзамен","2017/2018 учебный год 2 модуль",null,35,1,0,1722525802,2098,null,"Системы больших данных",{"$f":"MATCH(D476,Отчет!$D$1:$D$65536,0)","v":89}]
[1950547026,7,"МБД171",1950255571,"Сиахпутра Эдо","М171МСБДН031","Научно-исследовательский семинар",5,"Экзамен","2017/2018 учебный год 2 модуль",null,35,1,1,1722525802,2098,null,"Системы больших данных",{"$f":"MATCH(D477,Отчет!$D$1:$D$65536,0)","v":112}]
[1959819978,8,"МБД171",1959612809,"Штройхофэр Кристофер","М171МСБДН033","Научно-исследовательский семинар",5,"Экзамен","2017/2018 учебный год 2 модуль",null,40,1,1,1722525802,2098,null,"Системы больших данных",{"$f":"MATCH(D478,Отчет!$D$1:$D$65536,0)","v":40}]
[1972266209,8,"МБД171",1970446330,"- Маниканта Рукмангада","М171МСБДН035","Научно-исследовательский семинар",5,"Экзамен","2017/2018 учебный год 2 модуль",null,40,1,1,1722525802,2098,null,"Системы больших данных",{"$f":"MATCH(D479,Отчет!$D$1:$D$65536,0)","v":120}]
[1942060267,9,"МБД171",1942007946,"Ержанова Тогжан","М171МСБДН029","Научно-исследовательский семинар",5,"Экзамен","2017/2018 учебный год 2 модуль",null,45,1,1,1722525802,2098,null,"Системы больших данных",{"$f":"MATCH(D480,Отчет!$D$1:$D$65536,0)","v":61}]
[1940929930,9,"МБД171",1940816171,"Ширяева Кристина Александровна","М171МСБДН028","Научно-исследовательский семинар",5,"Экзамен","2017/2018 учебный год 2 модуль",null,45,1,0,1722525802,2098,null,"Системы больших данных",{"$f":"MATCH(D481,Отчет!$D$1:$D$65536,0)","v":70}]
[1940929800,10,"МБД171",1940816185,"Прохоренков Дмитрий Викторович","М171МСБДН024","Научно-исследовательский семинар",5,"Экзамен","2017/2018 учебный год 2 модуль",null,50,1,0,1722525802,2098,null,"Системы больших данных",{"$f":"MATCH(D482,Отчет!$D$1:$D$65536,0)","v":13}]
[1940929770,8,"МБД171",1940816199,"Обаляева Екатерина Ильинична","М171МСБДН023","Научно-исследовательский семинар",5,"Экзамен","2017/2018 учебный год 2 модуль",null,40,1,0,1722525802,2098,null,"Системы больших данных",{"$f":"MATCH(D483,Отчет!$D$1:$D$65536,0)","v":36}]
[1940929895,8,"МБД171",1940816098,"Телышева Татьяна Романовна","М171МСБДН027","Научно-исследовательский семинар",5,"Экзамен","2017/2018 учебный год 2 модуль",null,40,1,0,1722525802,2098,null,"Системы больших данных",{"$f":"MATCH(D484,Отчет!$D$1:$D$65536,0)","v":93}]
[1940929833,9,"МБД171",1940816117,"Садыкова Сабина Бахтияровна","М171МСБДН025","Научно-исследовательский семинар",5,"Экзамен","2017/2018 учебный год 2 модуль",null,45,1,0,1722525802,2098,null,"Системы больших данных",{"$f":"MATCH(D485,Отчет!$D$1:$D$65536,0)","v":58}]
[1940929710,8,"МБД171",1940816134,"Арча Александр Михайлович","М171МСБДН021","Научно-исследовательский семинар",5,"Экзамен","2017/2018 учебный год 2 модуль",null,40,1,0,1722525802,2098,null,"Системы больших данных",{"$f":"MATCH(D486,Отчет!$D$1:$D$65536,0)","v":111}]
[1940929740,9,"МБД171",1940816150,"Иванов Никита Павлович","М171МСБДН022","Научно-исследовательский семинар",5,"Экзамен","2017/2018 учебный год 2 модуль",null,45,1,0,1722525802,2098,null,"Системы больших данных",{"$f":"MATCH(D487,Отчет!$D$1:$D$65536,0)","v":48}]
[1937430607,8,"МБД171",1937366380,"Полушин Глеб Валерьевич","М171МСБДН011","Научно-исследовательский семинар",5,"Экзамен","2017/2018 учебный год 2 модуль",null,40,1,1,1722525802,2098,null,"Системы больших данных",{"$f":"MATCH(D488,Отчет!$D$1:$D$65536,0)","v":62}]
[1937431738,7,"МИБ171",1937370580,"Козлов Никита Вячеславович","М171МУБЕЗ008","Организационно-правовые аспекты информационной безопасности",4,"Экзамен","2017/2018 учебный год 2 модуль",null,28,1,1,1722514289,2098,null,"Управление информационной безопасностью",{"$f":"MATCH(D489,Отчет!$D$1:$D$65536,0)","v":118}]
[1937432418,8,"МИБ171",1937370596,"Смирнов Данил Вадимович","М171МУБЕЗ020","Организационно-правовые аспекты информационной безопасности",4,"Экзамен","2017/2018 учебный год 2 модуль",null,32,1,1,1722514289,2098,null,"Управление информационной безопасностью",{"$f":"MATCH(D490,Отчет!$D$1:$D$65536,0)","v":33}]
[1937431876,8,"МИБ171",1937371125,"Никитин Андрей Олегович","М171МУБЕЗ011","Организационно-правовые аспекты информационной безопасности",4,"Экзамен","2017/2018 учебный год 2 модуль",null,32,1,1,1722514289,2098,null,"Управление информационной безопасностью",{"$f":"MATCH(D491,Отчет!$D$1:$D$65536,0)","v":141}]
[1937431405,8,"МИБ171",1937371143,"Белоус Илия Григорьевич","М171МУБЕЗ001","Организационно-правовые аспекты информационной безопасности",4,"Экзамен","2017/2018 учебный год 2 модуль",null,32,1,1,1722514289,2098,null,"Управление информационной безопасностью",{"$f":"MATCH(D492,Отчет!$D$1:$D$65536,0)","v":157}]
[1937431530,8,"МИБ171",1937371161,"Варламова Виктория Викторовна","М171МУБЕЗ003","Организационно-правовые аспекты информационной безопасности",4,"Экзамен","2017/2018 учебный год 2 модуль",null,32,1,1,1722514289,2098,null,"Управление информационной безопасностью",{"$f":"MATCH(D493,Отчет!$D$1:$D$65536,0)","v":106}]
[1937431564,8,"МИБ171",1937371178,"Гультяева Полина Николаевна","М171МУБЕЗ004","Организационно-правовые аспекты информационной безопасности",4,"Экзамен","2017/2018 учебный год 2 модуль",null,32,1,1,1722514289,2098,null,"Управление информационной безопасностью",{"$f":"MATCH(D494,Отчет!$D$1:$D$65536,0)","v":39}]
[1937431697,10,"МИБ171",1937370369,"Иванов Владислав Сергеевич","М171МУБЕЗ007","Организационно-правовые аспекты информационной безопасности",4,"Экзамен","2017/2018 учебный год 2 модуль",null,40,1,1,1722514289,2098,null,"Управление информационной безопасностью",{"$f":"MATCH(D495,Отчет!$D$1:$D$65536,0)","v":20}]
[1937431476,8,"МИБ171",1937370385,"Бочарова Ксения Михайловна","М171МУБЕЗ002","Организационно-правовые аспекты информационной безопасности",4,"Экзамен","2017/2018 учебный год 2 модуль",null,32,1,1,1722514289,2098,null,"Управление информационной безопасностью",{"$f":"MATCH(D496,Отчет!$D$1:$D$65536,0)","v":53}]
[1937431652,8,"МИБ171",1937370401,"Жучков Константин Сергеевич","М171МУБЕЗ006","Организационно-правовые аспекты информационной безопасности",4,"Экзамен","2017/2018 учебный год 2 модуль",null,32,1,1,1722514289,2098,null,"Управление информационной безопасностью",{"$f":"MATCH(D497,Отчет!$D$1:$D$65536,0)","v":116}]
[1937432306,8,"МИБ171",1937370421,"Ряховский Сергей Алексеевич","М171МУБЕЗ018","Организационно-правовые аспекты информационной безопасности",4,"Экзамен","2017/2018 учебный год 2 модуль",null,32,1,1,1722514289,2098,null,"Управление информационной безопасностью",{"$f":"MATCH(D498,Отчет!$D$1:$D$65536,0)","v":115}]
[1937431834,10,"МИБ171",1937370436,"Михеева Вероника Вячеславовна","М171МУБЕЗ010","Организационно-правовые аспекты информационной безопасности",4,"Экзамен","2017/2018 учебный год 2 модуль",null,40,1,1,1722514289,2098,null,"Управление информационной безопасностью",{"$f":"MATCH(D499,Отчет!$D$1:$D$65536,0)","v":60}]
[1937431790,9,"МИБ171",1937370452,"Коровин Кирилл Сергеевич","М171МУБЕЗ009","Организационно-правовые аспекты информационной безопасности",4,"Экзамен","2017/2018 учебный год 2 модуль",null,36,1,1,1722514289,2098,null,"Управление информационной безопасностью",{"$f":"MATCH(D500,Отчет!$D$1:$D$65536,0)","v":136}]
[1937431599,10,"МИБ171",1937370480,"Дарбишева Патимат Гаджимурадовна","М171МУБЕЗ005","Организационно-правовые аспекты информационной безопасности",4,"Экзамен","2017/2018 учебный год 2 модуль",null,40,1,1,1722514289,2098,null,"Управление информационной безопасностью",{"$f":"MATCH(D501,Отчет!$D$1:$D$65536,0)","v":30}]
[1937431996,9,"МИБ171",1937370498,"Петрина Матвей Олегович","М171МУБЕЗ014","Организационно-правовые аспекты информационной безопасности",4,"Экзамен","2017/2018 учебный год 2 модуль",null,36,1,1,1722514289,2098,null,"Управление информационной безопасностью",{"$f":"MATCH(D502,Отчет!$D$1:$D$65536,0)","v":75}]
[1937431959,10,"МИБ171",1937370517,"Осадчая Алина Дмитриевна","М171МУБЕЗ013","Организационно-правовые аспекты информационной безопасности",4,"Экзамен","2017/2018 учебный год 2 модуль",null,40,1,1,1722514289,2098,null,"Управление информационной безопасностью",{"$f":"MATCH(D503,Отчет!$D$1:$D$65536,0)","v":25}]
[1942063401,6,"МИБ171",1942008109,"Кабыкен Даулет","М171МУБЕЗ021","Организационно-правовые аспекты информационной безопасности",4,"Экзамен","2017/2018 учебный год 2 модуль",null,24,1,1,1722514289,2098,null,"Управление информационной безопасностью",{"$f":"MATCH(D504,Отчет!$D$1:$D$65536,0)","v":177}]
[1942063433,6,"МИБ171",1942008132,"Нурматов Асхат","М171МУБЕЗ022","Организационно-правовые аспекты информационной безопасности",4,"Экзамен","2017/2018 учебный год 2 модуль",null,24,1,1,1722514289,2098,null,"Управление информационной безопасностью",{"$f":"MATCH(D505,Отчет!$D$1:$D$65536,0)","v":178}]
[1937431924,10,"МИБ171",1937370536,"Оленева Валерия Александровна","М171МУБЕЗ012","Организационно-правовые аспекты информационной безопасности",4,"Экзамен","2017/2018 учебный год 2 модуль",null,40,1,1,1722514289,2098,null,"Управление информационной безопасностью",{"$f":"MATCH(D506,Отчет!$D$1:$D$65536,0)","v":86}]
[1937432117,7,"МИБ171",1937370552,"Рудаков Андрей Дмитриевич","М171МУБЕЗ017","Организационно-правовые аспекты информационной безопасности",4,"Экзамен","2017/2018 учебный год 2 модуль",null,28,1,1,1722514289,2098,null,"Управление информационной безопасностью",{"$f":"MATCH(D507,Отчет!$D$1:$D$65536,0)","v":99}]
[1937432078,9,"МИБ171",1937370565,"Пупышева Анна Андреевна","М171МУБЕЗ016","Организационно-правовые аспекты информационной безопасности",4,"Экзамен","2017/2018 учебный год 2 модуль",null,36,1,1,1722514289,2098,null,"Управление информационной безопасностью",{"$f":"MATCH(D508,Отчет!$D$1:$D$65536,0)","v":101}]
[1937433316,7,"МЭБ171",1937372811,"Куратова Александра Евгеньевна","М171МЭЛБЗ012","Предпринимательство и модели бизнеса в Интернет",3,"Экзамен","2017/2018 учебный год 2 модуль",null,21,1,1,1722506105,2098,null,"Электронный бизнес",{"$f":"MATCH(D509,Отчет!$D$1:$D$65536,0)","v":137}]
[1937433459,7,"МЭБ171",1937372826,"Минеева Анастасия Сергеевна","М171МЭЛБЗ016","Предпринимательство и модели бизнеса в Интернет",3,"Экзамен","2017/2018 учебный год 2 модуль",null,21,1,1,1722506105,2098,null,"Электронный бизнес",{"$f":"MATCH(D510,Отчет!$D$1:$D$65536,0)","v":146}]
[1937433160,8,"МЭБ171",1937372783,"Калинин Дмитрий Владимирович","М171МЭЛБЗ008","Предпринимательство и модели бизнеса в Интернет",3,"Экзамен","2017/2018 учебный год 2 модуль",null,24,1,1,1722506105,2098,null,"Электронный бизнес",{"$f":"MATCH(D511,Отчет!$D$1:$D$65536,0)","v":49}]
[1937433245,8,"МЭБ171",1937372770,"Кирилловых Андрей Максимович","М171МЭЛБЗ010","Предпринимательство и модели бизнеса в Интернет",3,"Экзамен","2017/2018 учебный год 2 модуль",null,24,1,1,1722506105,2098,null,"Электронный бизнес",{"$f":"MATCH(D512,Отчет!$D$1:$D$65536,0)","v":102}]
[1937433548,7,"МЭБ171",1937372757,"Осипова Мария Андреевна","М171МЭЛБЗ018","Предпринимательство и модели бизнеса в Интернет",3,"Экзамен","2017/2018 учебный год 2 модуль",null,21,1,1,1722506105,2098,null,"Электронный бизнес",{"$f":"MATCH(D513,Отчет!$D$1:$D$65536,0)","v":44}]
[1937433124,10,"МЭБ171",1937372743,"Джаббарова Лейла Мехман гызы","М171МЭЛБЗ007","Предпринимательство и модели бизнеса в Интернет",3,"Экзамен","2017/2018 учебный год 2 модуль",null,30,1,1,1722506105,2098,null,"Электронный бизнес",{"$f":"MATCH(D514,Отчет!$D$1:$D$65536,0)","v":85}]
[1937432980,8,"МЭБ171",1937372729,"Бадамова Екатерина Дмитриевна","М171МЭЛБЗ003","Предпринимательство и модели бизнеса в Интернет",3,"Экзамен","2017/2018 учебный год 2 модуль",null,24,1,1,1722506105,2098,null,"Электронный бизнес",{"$f":"MATCH(D515,Отчет!$D$1:$D$65536,0)","v":47}]
[1937432902,8,"МЭБ171",1937372932,"Абросимова Анастасия Михайловна","М171МЭЛБЗ001","Предпринимательство и модели бизнеса в Интернет",3,"Экзамен","2017/2018 учебный год 2 модуль",null,24,1,1,1722506105,2098,null,"Электронный бизнес",{"$f":"MATCH(D516,Отчет!$D$1:$D$65536,0)","v":105}]
[1937433504,8,"МЭБ171",1937372919,"Михайлов Егор Александрович","М171МЭЛБЗ017","Предпринимательство и модели бизнеса в Интернет",3,"Экзамен","2017/2018 учебный год 2 модуль",null,24,1,1,1722506105,2098,null,"Электронный бизнес",{"$f":"MATCH(D517,Отчет!$D$1:$D$65536,0)","v":107}]
[1937433284,8,"МЭБ171",1937372906,"Китьян Акмаль Алексеевич","М171МЭЛБЗ011","Предпринимательство и модели бизнеса в Интернет",3,"Экзамен","2017/2018 учебный год 2 модуль",null,24,1,1,1722506105,2098,null,"Электронный бизнес",{"$f":"MATCH(D518,Отчет!$D$1:$D$65536,0)","v":154}]
[1937433694,10,"МЭБ171",1937372893,"Смирнов Константин Борисович","М171МЭЛБЗ021","Предпринимательство и модели бизнеса в Интернет",3,"Экзамен","2017/2018 учебный год 2 модуль",null,30,1,1,1722506105,2098,null,"Электронный бизнес",{"$f":"MATCH(D519,Отчет!$D$1:$D$65536,0)","v":55}]
[1937433425,10,"МЭБ171",1937372880,"Лучкин Андрей Владимирович","М171МЭЛБЗ015","Предпринимательство и модели бизнеса в Интернет",3,"Экзамен","2017/2018 учебный год 2 модуль",null,30,1,1,1722506105,2098,null,"Электронный бизнес",{"$f":"MATCH(D520,Отчет!$D$1:$D$65536,0)","v":133}]
[1937433642,7,"МЭБ171",1937372866,"Семенкович Софья Алексеевна","М171МЭЛБЗ020","Предпринимательство и модели бизнеса в Интернет",3,"Экзамен","2017/2018 учебный год 2 модуль",null,21,1,1,1722506105,2098,null,"Электронный бизнес",{"$f":"MATCH(D521,Отчет!$D$1:$D$65536,0)","v":90}]
[1937433881,10,"МЭБ171",1937372852,"Юлдашева Камилла Адилевна","М171МЭЛБЗ025","Предпринимательство и модели бизнеса в Интернет",3,"Экзамен","2017/2018 учебный год 2 модуль",null,30,1,1,1722506105,2098,null,"Электронный бизнес",{"$f":"MATCH(D522,Отчет!$D$1:$D$65536,0)","v":24}]
[1937432939,8,"МЭБ171",1937372839,"Бабаджанян Армен Кароевич","М171МЭЛБЗ002","Предпринимательство и модели бизнеса в Интернет",3,"Экзамен","2017/2018 учебный год 2 модуль",null,24,1,1,1722506105,2098,null,"Электронный бизнес",{"$f":"MATCH(D523,Отчет!$D$1:$D$65536,0)","v":52}]
[1937433198,7,"МЭБ171",1937373052,"Ким Дин Хо","М171МЭЛБЗ009","Предпринимательство и модели бизнеса в Интернет",3,"Экзамен","2017/2018 учебный год 2 модуль",null,21,1,1,1722506105,2098,null,"Электронный бизнес",{"$f":"MATCH(D524,Отчет!$D$1:$D$65536,0)","v":121}]
[1937433357,8,"МЭБ171",1937373039,"Кяргин Антон Юрьевич","М171МЭЛБЗ013","Предпринимательство и модели бизнеса в Интернет",3,"Экзамен","2017/2018 учебный год 2 модуль",null,24,1,1,1722506105,2098,null,"Электронный бизнес",{"$f":"MATCH(D525,Отчет!$D$1:$D$65536,0)","v":110}]
[1937433750,8,"МЭБ171",1937373025,"Суряднов Дмитрий Юрьевич","М171МЭЛБЗ022","Предпринимательство и модели бизнеса в Интернет",3,"Экзамен","2017/2018 учебный год 2 модуль",null,24,1,1,1722506105,2098,null,"Электронный бизнес",{"$f":"MATCH(D526,Отчет!$D$1:$D$65536,0)","v":27}]
[1937433093,9,"МЭБ171",1937373012,"Давыдова Ксения Валерьевна","М171МЭЛБЗ006","Предпринимательство и модели бизнеса в Интернет",3,"Экзамен","2017/2018 учебный год 2 модуль",null,27,1,1,1722506105,2098,null,"Электронный бизнес",{"$f":"MATCH(D527,Отчет!$D$1:$D$65536,0)","v":97}]
[1937433063,9,"МЭБ171",1937372998,"Горобец Валерия Валентиновна","М171МЭЛБЗ005","Предпринимательство и модели бизнеса в Интернет",3,"Экзамен","2017/2018 учебный год 2 модуль",null,27,1,1,1722506105,2098,null,"Электронный бизнес",{"$f":"MATCH(D528,Отчет!$D$1:$D$65536,0)","v":42}]
[1937433810,9,"МЭБ171",1937372985,"Фахрова Дина Вадимовна","М171МЭЛБЗ023","Предпринимательство и модели бизнеса в Интернет",3,"Экзамен","2017/2018 учебный год 2 модуль",null,27,1,1,1722506105,2098,null,"Электронный бизнес",{"$f":"MATCH(D529,Отчет!$D$1:$D$65536,0)","v":37}]
[1937433588,7,"МЭБ171",1937372972,"Рубцова Екатерина Андреевна","М171МЭЛБЗ019","Предпринимательство и модели бизнеса в Интернет",3,"Экзамен","2017/2018 учебный год 2 модуль",null,21,1,1,1722506105,2098,null,"Электронный бизнес",{"$f":"MATCH(D530,Отчет!$D$1:$D$65536,0)","v":139}]
[1937433395,8,"МЭБ171",1937372959,"Лунин Никита Константинович","М171МЭЛБЗ014","Предпринимательство и модели бизнеса в Интернет",3,"Экзамен","2017/2018 учебный год 2 модуль",null,24,1,1,1722506105,2098,null,"Электронный бизнес",{"$f":"MATCH(D531,Отчет!$D$1:$D$65536,0)","v":158}]
[1937433839,8,"МЭБ171",1937372945,"Цуканов Иван Викторович","М171МЭЛБЗ024","Предпринимательство и модели бизнеса в Интернет",3,"Экзамен","2017/2018 учебный год 2 модуль",null,24,1,1,1722506105,2098,null,"Электронный бизнес",{"$f":"MATCH(D532,Отчет!$D$1:$D$65536,0)","v":100}]
[1937433023,8,"МЭБ171",1937372796,"Гимашев Линар Русланович","М171МЭЛБЗ004","Предпринимательство и модели бизнеса в Интернет",3,"Экзамен","2017/2018 учебный год 2 модуль",null,24,1,1,1722506105,2098,null,"Электронный бизнес",{"$f":"MATCH(D533,Отчет!$D$1:$D$65536,0)","v":142}]
[1940922471,7,"МЭБ171",1940816486,"Кондращенко Ярослав Константинович","М171МЭЛБЗ027","Предпринимательство и модели бизнеса в Интернет",3,"Экзамен","2017/2018 учебный год 2 модуль",null,21,1,0,1722506105,2098,null,"Электронный бизнес",{"$f":"MATCH(D534,Отчет!$D$1:$D$65536,0)","v":78}]
[1946042688,8,"МЭБ171",1945760044,"Цандере Юлия","М171МЭЛБЗ028","Предпринимательство и модели бизнеса в Интернет",3,"Экзамен","2017/2018 учебный год 2 модуль",null,24,1,0,1722506105,2098,null,"Электронный бизнес",{"$f":"MATCH(D535,Отчет!$D$1:$D$65536,0)","v":130}]
[2109093723,6,"МБД171",1959612809,"Штройхофэр Кристофер","М171МСБДН033","Русский язык как иностранный. Уровень 1. Elementary",6,"Экзамен","2017/2018 учебный год 2 модуль",null,36,1,1,null,5028,null,"Системы больших данных",{"$f":"MATCH(D536,Отчет!$D$1:$D$65536,0)","v":40}]
[1940929899,8,"МБД171",1940816098,"Телышева Татьяна Романовна","М171МСБДН027","Системный анализ и проектирование",4,"Экзамен","2017/2018 учебный год 2 модуль",null,32,1,0,1722525802,2098,null,"Системы больших данных",{"$f":"MATCH(D537,Отчет!$D$1:$D$65536,0)","v":93}]
[1940929837,8,"МБД171",1940816117,"Садыкова Сабина Бахтияровна","М171МСБДН025","Системный анализ и проектирование",4,"Экзамен","2017/2018 учебный год 2 модуль",null,32,1,0,1722525802,2098,null,"Системы больших данных",{"$f":"MATCH(D538,Отчет!$D$1:$D$65536,0)","v":58}]
[1940929714,9,"МБД171",1940816134,"Арча Александр Михайлович","М171МСБДН021","Системный анализ и проектирование",4,"Экзамен","2017/2018 учебный год 2 модуль",null,36,1,0,1722525802,2098,null,"Системы больших данных",{"$f":"MATCH(D539,Отчет!$D$1:$D$65536,0)","v":111}]
[1940929744,9,"МБД171",1940816150,"Иванов Никита Павлович","М171МСБДН022","Системный анализ и проектирование",4,"Экзамен","2017/2018 учебный год 2 модуль",null,36,1,0,1722525802,2098,null,"Системы больших данных",{"$f":"MATCH(D540,Отчет!$D$1:$D$65536,0)","v":48}]
[1940929867,9,"МБД171",1940751998,"Семес Алексей Владимирович","М171МСБДН026","Системный анализ и проектирование",4,"Экзамен","2017/2018 учебный год 2 модуль",null,36,1,0,1722525802,2098,null,"Системы больших данных",{"$f":"MATCH(D541,Отчет!$D$1:$D$65536,0)","v":66}]
[1940929774,8,"МБД171",1940816199,"Обаляева Екатерина Ильинична","М171МСБДН023","Системный анализ и проектирование",4,"Экзамен","2017/2018 учебный год 2 модуль",null,32,1,0,1722525802,2098,null,"Системы больших данных",{"$f":"MATCH(D542,Отчет!$D$1:$D$65536,0)","v":36}]
[1940929804,10,"МБД171",1940816185,"Прохоренков Дмитрий Викторович","М171МСБДН024","Системный анализ и проектирование",4,"Экзамен","2017/2018 учебный год 2 модуль",null,40,1,0,1722525802,2098,null,"Системы больших данных",{"$f":"MATCH(D543,Отчет!$D$1:$D$65536,0)","v":13}]
[1940929936,9,"МБД171",1940816171,"Ширяева Кристина Александровна","М171МСБДН028","Системный анализ и проектирование",4,"Экзамен","2017/2018 учебный год 2 модуль",null,36,1,0,1722525802,2098,null,"Системы больших данных",{"$f":"MATCH(D544,Отчет!$D$1:$D$65536,0)","v":70}]
[1942060271,9,"МБД171",1942007946,"Ержанова Тогжан","М171МСБДН029","Системный анализ и проектирование",4,"Экзамен","2017/2018 учебный год 2 модуль",null,36,1,1,1722525802,2098,null,"Системы больших данных",{"$f":"MATCH(D545,Отчет!$D$1:$D$65536,0)","v":61}]
[1972266213,9,"МБД171",1970446330,"- Маниканта Рукмангада","М171МСБДН035","Системный анализ и проектирование",4,"Экзамен","2017/2018 учебный год 2 модуль",null,36,1,1,1722525802,2098,null,"Системы больших данных",{"$f":"MATCH(D546,Отчет!$D$1:$D$65536,0)","v":120}]
[1959819982,9,"МБД171",1959612809,"Штройхофэр Кристофер","М171МСБДН033","Системный анализ и проектирование",4,"Экзамен","2017/2018 учебный год 2 модуль",null,36,1,1,1722525802,2098,null,"Системы больших данных",{"$f":"MATCH(D547,Отчет!$D$1:$D$65536,0)","v":40}]
[1950547030,9,"МБД171",1950255571,"Сиахпутра Эдо","М171МСБДН031","Системный анализ и проектирование",4,"Экзамен","2017/2018 учебный год 2 модуль",null,36,1,1,1722525802,2098,null,"Системы больших данных",{"$f":"MATCH(D548,Отчет!$D$1:$D$65536,0)","v":112}]
[1950547088,9,"МБД171",1950215429,"Фаур Назим Ахмад","М171МСБДН032","Системный анализ и проектирование",4,"Экзамен","2017/2018 учебный год 2 модуль",null,36,1,0,1722525802,2098,null,"Системы больших данных",{"$f":"MATCH(D549,Отчет!$D$1:$D$65536,0)","v":89}]
[1947328320,8,"МБД171",1946791924,"Скачок Андрей","М171МСБДН030","Системный анализ и проектирование",4,"Экзамен","2017/2018 учебный год 2 модуль",null,32,1,0,1722525802,2098,null,"Системы больших данных",{"$f":"MATCH(D550,Отчет!$D$1:$D$65536,0)","v":151}]
[1977576490,10,"МБД171",1972663851,"Ислам Эмди Шафикул","М171МСБДН036","Системный анализ и проектирование",4,"Экзамен","2017/2018 учебный год 2 модуль",null,40,1,0,1722525802,2098,null,"Системы больших данных",{"$f":"MATCH(D551,Отчет!$D$1:$D$65536,0)","v":84}]
[1937430399,9,"МБД171",1937366231,"Дякин Николай Валерьевич","М171МСБДН005","Системный анализ и проектирование",4,"Экзамен","2017/2018 учебный год 2 модуль",null,36,1,1,1722525802,2098,null,"Системы больших данных",{"$f":"MATCH(D552,Отчет!$D$1:$D$65536,0)","v":21}]
[1937430243,9,"МБД171",1937366216,"Архипенко Анастасия Дмитриевна","М171МСБДН001","Системный анализ и проектирование",4,"Экзамен","2017/2018 учебный год 2 модуль",null,36,1,1,1722525802,2098,null,"Системы больших данных",{"$f":"MATCH(D553,Отчет!$D$1:$D$65536,0)","v":16}]
[1937430466,7,"МБД171",1937366203,"Ильяшенко Григорий Анатольевич","М171МСБДН007","Системный анализ и проектирование",4,"Экзамен","2017/2018 учебный год 2 модуль",null,28,1,1,1722525802,2098,null,"Системы больших данных",{"$f":"MATCH(D554,Отчет!$D$1:$D$65536,0)","v":81}]
[1937430741,7,"МБД171",1937366175,"Трегубова Инесса Александровна","М171МСБДН014","Системный анализ и проектирование",4,"Экзамен","2017/2018 учебный год 2 модуль",null,28,1,1,1722525802,2098,null,"Системы больших данных",{"$f":"MATCH(D555,Отчет!$D$1:$D$65536,0)","v":127}]
[1937430497,7,"МБД171",1937366160,"Канищев Кирилл Валерьевич","М171МСБДН008","Системный анализ и проектирование",4,"Экзамен","2017/2018 учебный год 2 модуль",null,28,1,1,1722525802,2098,null,"Системы больших данных",{"$f":"MATCH(D556,Отчет!$D$1:$D$65536,0)","v":109}]
[1937430906,10,"МБД171",1937366348,"Шеин Александр Владимирович","М171МСБДН017","Системный анализ и проектирование",4,"Экзамен","2017/2018 учебный год 2 модуль",null,40,1,1,1722525802,2098,null,"Системы больших данных",{"$f":"MATCH(D557,Отчет!$D$1:$D$65536,0)","v":17}]
[1937430539,9,"МБД171",1937366334,"Кулаков Александр Сергеевич","М171МСБДН009","Системный анализ и проектирование",4,"Экзамен","2017/2018 учебный год 2 модуль",null,36,1,1,1722525802,2098,null,"Системы больших данных",{"$f":"MATCH(D558,Отчет!$D$1:$D$65536,0)","v":19}]
[1937430654,9,"МБД171",1937366317,"Рахимов Севастьян Эдуардович","М171МСБДН012","Системный анализ и проектирование",4,"Экзамен","2017/2018 учебный год 2 модуль",null,36,1,1,1722525802,2098,null,"Системы больших данных",{"$f":"MATCH(D559,Отчет!$D$1:$D$65536,0)","v":59}]
[1937430804,9,"МБД171",1937366302,"Ферягина Екатерина Андреевна","М171МСБДН015","Системный анализ и проектирование",4,"Экзамен","2017/2018 учебный год 2 модуль",null,36,1,1,1722525802,2098,null,"Системы больших данных",{"$f":"MATCH(D560,Отчет!$D$1:$D$65536,0)","v":76}]
[1937430971,7,"МБД171",1937366289,"Яковлева Дарья Александровна","М171МСБДН019","Системный анализ и проектирование",4,"Экзамен","2017/2018 учебный год 2 модуль",null,28,1,1,1722525802,2098,null,"Системы больших данных",{"$f":"MATCH(D561,Отчет!$D$1:$D$65536,0)","v":96}]
[1937430432,9,"МБД171",1937366273,"Иванова Анастасия Михайловна","М171МСБДН006","Системный анализ и проектирование",4,"Экзамен","2017/2018 учебный год 2 модуль",null,36,1,1,1722525802,2098,null,"Системы больших данных",{"$f":"MATCH(D562,Отчет!$D$1:$D$65536,0)","v":71}]
[1937430573,8,"МБД171",1937366259,"Пахолкова Анна Юрьевна","М171МСБДН010","Системный анализ и проектирование",4,"Экзамен","2017/2018 учебный год 2 модуль",null,32,1,1,1722525802,2098,null,"Системы больших данных",{"$f":"MATCH(D563,Отчет!$D$1:$D$65536,0)","v":56}]
[1937430367,8,"МБД171",1937366244,"Дмитриев Виктор Андреевич","М171МСБДН004","Системный анализ и проектирование",4,"Экзамен","2017/2018 учебный год 2 модуль",null,32,1,1,1722525802,2098,null,"Системы больших данных",{"$f":"MATCH(D564,Отчет!$D$1:$D$65536,0)","v":63}]
[1937430706,7,"МБД171",1937366436,"Сысоев Марк Валерьевич","М171МСБДН013","Системный анализ и проектирование",4,"Экзамен","2017/2018 учебный год 2 модуль",null,28,1,1,1722525802,2098,null,"Системы больших данных",{"$f":"MATCH(D565,Отчет!$D$1:$D$65536,0)","v":45}]
[1937430298,10,"МБД171",1937366422,"Вилкова Елена Александровна","М171МСБДН002","Системный анализ и проектирование",4,"Экзамен","2017/2018 учебный год 2 модуль",null,40,1,1,1722525802,2098,null,"Системы больших данных",{"$f":"MATCH(D566,Отчет!$D$1:$D$65536,0)","v":12}]
[1937430867,9,"МБД171",1937366407,"Чувилина Анна Андреевна","М171МСБДН016","Системный анализ и проектирование",4,"Экзамен","2017/2018 учебный год 2 модуль",null,36,1,1,1722525802,2098,null,"Системы больших данных",{"$f":"MATCH(D567,Отчет!$D$1:$D$65536,0)","v":43}]
[1937430938,10,"МБД171",1937366394,"Шубина Виктория Ильинична","М171МСБДН018","Системный анализ и проектирование",4,"Экзамен","2017/2018 учебный год 2 модуль",null,40,1,1,1722525802,2098,null,"Системы больших данных",{"$f":"MATCH(D568,Отчет!$D$1:$D$65536,0)","v":32}]
[1937430335,9,"МБД171",1937366366,"Гатина Эльмира Ринатовна","М171МСБДН003","Системный анализ и проектирование",4,"Экзамен","2017/2018 учебный год 2 модуль",null,36,1,1,1722525802,2098,null,"Системы больших данных",{"$f":"MATCH(D569,Отчет!$D$1:$D$65536,0)","v":34}]
[1937430612,8,"МБД171",1937366380,"Полушин Глеб Валерьевич","М171МСБДН011","Системный анализ и проектирование",4,"Экзамен","2017/2018 учебный год 2 модуль",null,32,1,1,1722525802,2098,null,"Системы больших данных",{"$f":"MATCH(D570,Отчет!$D$1:$D$65536,0)","v":62}]
[1972266221,4,"МБД171",1970446330,"- Маниканта Рукмангада","М171МСБДН035","Совершенствование архитектуры предприятия",3,"Экзамен","2017/2018 учебный год 2 модуль",null,12,1,1,1722525802,2098,null,"Системы больших данных",{"$f":"MATCH(D571,Отчет!$D$1:$D$65536,0)","v":120}]
[1977576498,8,"МБД171",1972663851,"Ислам Эмди Шафикул","М171МСБДН036","Совершенствование архитектуры предприятия",3,"Экзамен","2017/2018 учебный год 2 модуль",null,24,1,0,1722525802,2098,null,"Системы больших данных",{"$f":"MATCH(D572,Отчет!$D$1:$D$65536,0)","v":84}]
[1947328332,6,"МБД171",1946791924,"Скачок Андрей","М171МСБДН030","Совершенствование архитектуры предприятия",3,"Экзамен","2017/2018 учебный год 2 модуль",null,18,1,0,1722525802,2098,null,"Системы больших данных",{"$f":"MATCH(D573,Отчет!$D$1:$D$65536,0)","v":151}]
[1950547096,5,"МБД171",1950215429,"Фаур Назим Ахмад","М171МСБДН032","Совершенствование архитектуры предприятия",3,"Экзамен","2017/2018 учебный год 2 модуль",null,15,1,0,1722525802,2098,null,"Системы больших данных",{"$f":"MATCH(D574,Отчет!$D$1:$D$65536,0)","v":89}]
[1950547038,6,"МБД171",1950255571,"Сиахпутра Эдо","М171МСБДН031","Совершенствование архитектуры предприятия",3,"Экзамен","2017/2018 учебный год 2 модуль",null,18,1,1,1722525802,2098,null,"Системы больших данных",{"$f":"MATCH(D575,Отчет!$D$1:$D$65536,0)","v":112}]
[1959819990,9,"МБД171",1959612809,"Штройхофэр Кристофер","М171МСБДН033","Совершенствование архитектуры предприятия",3,"Экзамен","2017/2018 учебный год 2 модуль",null,27,1,1,1722525802,2098,null,"Системы больших данных",{"$f":"MATCH(D576,Отчет!$D$1:$D$65536,0)","v":40}]
[1942060279,9,"МБД171",1942007946,"Ержанова Тогжан","М171МСБДН029","Совершенствование архитектуры предприятия",3,"Экзамен","2017/2018 учебный год 2 модуль",null,27,1,1,1722525802,2098,null,"Системы больших данных",{"$f":"MATCH(D577,Отчет!$D$1:$D$65536,0)","v":61}]
[1940929945,8,"МБД171",1940816171,"Ширяева Кристина Александровна","М171МСБДН028","Совершенствование архитектуры предприятия",3,"Экзамен","2017/2018 учебный год 2 модуль",null,24,1,0,1722525802,2098,null,"Системы больших данных",{"$f":"MATCH(D578,Отчет!$D$1:$D$65536,0)","v":70}]
[1940929814,8,"МБД171",1940816185,"Прохоренков Дмитрий Викторович","М171МСБДН024","Совершенствование архитектуры предприятия",3,"Экзамен","2017/2018 учебный год 2 модуль",null,24,1,0,1722525802,2098,null,"Системы больших данных",{"$f":"MATCH(D579,Отчет!$D$1:$D$65536,0)","v":13}]
[1940929782,8,"МБД171",1940816199,"Обаляева Екатерина Ильинична","М171МСБДН023","Совершенствование архитектуры предприятия",3,"Экзамен","2017/2018 учебный год 2 модуль",null,24,1,0,1722525802,2098,null,"Системы больших данных",{"$f":"MATCH(D580,Отчет!$D$1:$D$65536,0)","v":36}]
[1940929909,6,"МБД171",1940816098,"Телышева Татьяна Романовна","М171МСБДН027","Совершенствование архитектуры предприятия",3,"Экзамен","2017/2018 учебный год 2 модуль",null,18,1,0,1722525802,2098,null,"Системы больших данных",{"$f":"MATCH(D581,Отчет!$D$1:$D$65536,0)","v":93}]
[1940929845,8,"МБД171",1940816117,"Садыкова Сабина Бахтияровна","М171МСБДН025","Совершенствование архитектуры предприятия",3,"Экзамен","2017/2018 учебный год 2 модуль",null,24,1,0,1722525802,2098,null,"Системы больших данных",{"$f":"MATCH(D582,Отчет!$D$1:$D$65536,0)","v":58}]
[1940929722,7,"МБД171",1940816134,"Арча Александр Михайлович","М171МСБДН021","Совершенствование архитектуры предприятия",3,"Экзамен","2017/2018 учебный год 2 модуль",null,21,1,0,1722525802,2098,null,"Системы больших данных",{"$f":"MATCH(D583,Отчет!$D$1:$D$65536,0)","v":111}]
[1940929752,9,"МБД171",1940816150,"Иванов Никита Павлович","М171МСБДН022","Совершенствование архитектуры предприятия",3,"Экзамен","2017/2018 учебный год 2 модуль",null,27,1,0,1722525802,2098,null,"Системы больших данных",{"$f":"MATCH(D584,Отчет!$D$1:$D$65536,0)","v":48}]
[1940929875,7,"МБД171",1940751998,"Семес Алексей Владимирович","М171МСБДН026","Совершенствование архитектуры предприятия",3,"Экзамен","2017/2018 учебный год 2 модуль",null,21,1,0,1722525802,2098,null,"Системы больших данных",{"$f":"MATCH(D585,Отчет!$D$1:$D$65536,0)","v":66}]
[1937430343,8,"МБД171",1937366366,"Гатина Эльмира Ринатовна","М171МСБДН003","Совершенствование архитектуры предприятия",3,"Экзамен","2017/2018 учебный год 2 модуль",null,24,1,1,1722525802,2098,null,"Системы больших данных",{"$f":"MATCH(D586,Отчет!$D$1:$D$65536,0)","v":34}]
[1937430623,8,"МБД171",1937366380,"Полушин Глеб Валерьевич","М171МСБДН011","Совершенствование архитектуры предприятия",3,"Экзамен","2017/2018 учебный год 2 модуль",null,24,1,1,1722525802,2098,null,"Системы больших данных",{"$f":"MATCH(D587,Отчет!$D$1:$D$65536,0)","v":62}]
[1937430947,8,"МБД171",1937366394,"Шубина Виктория Ильинична","М171МСБДН018","Совершенствование архитектуры предприятия",3,"Экзамен","2017/2018 учебный год 2 модуль",null,24,1,1,1722525802,2098,null,"Системы больших данных",{"$f":"MATCH(D588,Отчет!$D$1:$D$65536,0)","v":32}]
[1937430879,9,"МБД171",1937366407,"Чувилина Анна Андреевна","М171МСБДН016","Совершенствование архитектуры предприятия",3,"Экзамен","2017/2018 учебный год 2 модуль",null,27,1,1,1722525802,2098,null,"Системы больших данных",{"$f":"MATCH(D589,Отчет!$D$1:$D$65536,0)","v":43}]
[1937430313,9,"МБД171",1937366422,"Вилкова Елена Александровна","М171МСБДН002","Совершенствование архитектуры предприятия",3,"Экзамен","2017/2018 учебный год 2 модуль",null,27,1,1,1722525802,2098,null,"Системы больших данных",{"$f":"MATCH(D590,Отчет!$D$1:$D$65536,0)","v":12}]
[1937430715,9,"МБД171",1937366436,"Сысоев Марк Валерьевич","М171МСБДН013","Совершенствование архитектуры предприятия",3,"Экзамен","2017/2018 учебный год 2 модуль",null,27,1,1,1722525802,2098,null,"Системы больших данных",{"$f":"MATCH(D591,Отчет!$D$1:$D$65536,0)","v":45}]
[1937430377,6,"МБД171",1937366244,"Дмитриев Виктор Андреевич","М171МСБДН004","Совершенствование архитектуры предприятия",3,"Экзамен","2017/2018 учебный год 2 модуль",null,18,1,1,1722525802,2098,null,"Системы больших данных",{"$f":"MATCH(D592,Отчет!$D$1:$D$65536,0)","v":63}]
[1937430582,9,"МБД171",1937366259,"Пахолкова Анна Юрьевна","М171МСБДН010","Совершенствование архитектуры предприятия",3,"Экзамен","2017/2018 учебный год 2 модуль",null,27,1,1,1722525802,2098,null,"Системы больших данных",{"$f":"MATCH(D593,Отчет!$D$1:$D$65536,0)","v":56}]
[1937430441,9,"МБД171",1937366273,"Иванова Анастасия Михайловна","М171МСБДН006","Совершенствование архитектуры предприятия",3,"Экзамен","2017/2018 учебный год 2 модуль",null,27,1,1,1722525802,2098,null,"Системы больших данных",{"$f":"MATCH(D594,Отчет!$D$1:$D$65536,0)","v":71}]
[1937430980,6,"МБД171",1937366289,"Яковлева Дарья Александровна","М171МСБДН019","Совершенствование архитектуры предприятия",3,"Экзамен","2017/2018 учебный год 2 модуль",null,18,1,1,1722525802,2098,null,"Системы больших данных",{"$f":"MATCH(D595,Отчет!$D$1:$D$65536,0)","v":96}]
[1937430818,8,"МБД171",1937366302,"Ферягина Екатерина Андреевна","М171МСБДН015","Совершенствование архитектуры предприятия",3,"Экзамен","2017/2018 учебный год 2 модуль",null,24,1,1,1722525802,2098,null,"Системы больших данных",{"$f":"MATCH(D596,Отчет!$D$1:$D$65536,0)","v":76}]
[1937430664,8,"МБД171",1937366317,"Рахимов Севастьян Эдуардович","М171МСБДН012","Совершенствование архитектуры предприятия",3,"Экзамен","2017/2018 учебный год 2 модуль",null,24,1,1,1722525802,2098,null,"Системы больших данных",{"$f":"MATCH(D597,Отчет!$D$1:$D$65536,0)","v":59}]
[1937430547,9,"МБД171",1937366334,"Кулаков Александр Сергеевич","М171МСБДН009","Совершенствование архитектуры предприятия",3,"Экзамен","2017/2018 учебный год 2 модуль",null,27,1,1,1722525802,2098,null,"Системы больших данных",{"$f":"MATCH(D598,Отчет!$D$1:$D$65536,0)","v":19}]
[1937430914,7,"МБД171",1937366348,"Шеин Александр Владимирович","М171МСБДН017","Совершенствование архитектуры предприятия",3,"Экзамен","2017/2018 учебный год 2 модуль",null,21,1,1,1722525802,2098,null,"Системы больших данных",{"$f":"MATCH(D599,Отчет!$D$1:$D$65536,0)","v":17}]
[1937430505,9,"МБД171",1937366160,"Канищев Кирилл Валерьевич","М171МСБДН008","Совершенствование архитектуры предприятия",3,"Экзамен","2017/2018 учебный год 2 модуль",null,27,1,1,1722525802,2098,null,"Системы больших данных",{"$f":"MATCH(D600,Отчет!$D$1:$D$65536,0)","v":109}]
[1937430766,5,"МБД171",1937366175,"Трегубова Инесса Александровна","М171МСБДН014","Совершенствование архитектуры предприятия",3,"Экзамен","2017/2018 учебный год 2 модуль",null,15,1,1,1722525802,2098,null,"Системы больших данных",{"$f":"MATCH(D601,Отчет!$D$1:$D$65536,0)","v":127}]
[1937430474,6,"МБД171",1937366203,"Ильяшенко Григорий Анатольевич","М171МСБДН007","Совершенствование архитектуры предприятия",3,"Экзамен","2017/2018 учебный год 2 модуль",null,18,1,1,1722525802,2098,null,"Системы больших данных",{"$f":"MATCH(D602,Отчет!$D$1:$D$65536,0)","v":81}]
[1937430258,9,"МБД171",1937366216,"Архипенко Анастасия Дмитриевна","М171МСБДН001","Совершенствование архитектуры предприятия",3,"Экзамен","2017/2018 учебный год 2 модуль",null,27,1,1,1722525802,2098,null,"Системы больших данных",{"$f":"MATCH(D603,Отчет!$D$1:$D$65536,0)","v":16}]
[1937430407,7,"МБД171",1937366231,"Дякин Николай Валерьевич","М171МСБДН005","Совершенствование архитектуры предприятия",3,"Экзамен","2017/2018 учебный год 2 модуль",null,21,1,1,1722525802,2098,null,"Системы больших данных",{"$f":"MATCH(D604,Отчет!$D$1:$D$65536,0)","v":21}]
[1937427953,8,"МБИ173",1937363413,"Салтыкова Екатерина Андреевна","М171МБИИН057","Совершенствование архитектуры предприятия",4,"Экзамен","2017/2018 учебный год 2 модуль",null,32,1,1,1722551595,2098,null,"Бизнес-информатика",{"$f":"MATCH(D605,Отчет!$D$1:$D$65536,0)","v":74}]
[1937426670,6,"МБИ171",1937363441,"Бардакова Мария Вячеславовна","М171МБИИН008","Совершенствование архитектуры предприятия",4,"Экзамен","2017/2018 учебный год 2 модуль",null,24,1,1,1722551595,2098,null,"Бизнес-информатика",{"$f":"MATCH(D606,Отчет!$D$1:$D$65536,0)","v":129}]
[1937427867,7,"МБИ173",1937363469,"Пронин Никита Павлович","М171МБИИН053","Совершенствование архитектуры предприятия",4,"Экзамен","2017/2018 учебный год 2 модуль",null,28,1,1,1722551595,2098,null,"Бизнес-информатика",{"$f":"MATCH(D607,Отчет!$D$1:$D$65536,0)","v":126}]
[1937427001,7,"МБИ171",1937363482,"Гайнутдинов Наиль Анварович","М171МБИИН020","Совершенствование архитектуры предприятия",4,"Экзамен","2017/2018 учебный год 2 модуль",null,28,1,1,1722551595,2098,null,"Бизнес-информатика",{"$f":"MATCH(D608,Отчет!$D$1:$D$65536,0)","v":159}]
[1937428218,8,"МБИ173",1937363495,"Черепнина Дарья Олеговна","М171МБИИН068","Совершенствование архитектуры предприятия",4,"Экзамен","2017/2018 учебный год 2 модуль",null,32,1,1,1722551595,2098,null,"Бизнес-информатика",{"$f":"MATCH(D609,Отчет!$D$1:$D$65536,0)","v":67}]
[1937431719,9,"МИБ171",1937370369,"Иванов Владислав Сергеевич","М171МУБЕЗ007","Совершенствование архитектуры предприятия",4,"Экзамен","2017/2018 учебный год 2 модуль",null,36,1,1,1722514289,2098,null,"Управление информационной безопасностью",{"$f":"MATCH(D610,Отчет!$D$1:$D$65536,0)","v":20}]
[1937431508,7,"МИБ171",1937370385,"Бочарова Ксения Михайловна","М171МУБЕЗ002","Совершенствование архитектуры предприятия",4,"Экзамен","2017/2018 учебный год 2 модуль",null,28,1,1,1722514289,2098,null,"Управление информационной безопасностью",{"$f":"MATCH(D611,Отчет!$D$1:$D$65536,0)","v":53}]
[1937431676,7,"МИБ171",1937370401,"Жучков Константин Сергеевич","М171МУБЕЗ006","Совершенствование архитектуры предприятия",4,"Экзамен","2017/2018 учебный год 2 модуль",null,28,1,1,1722514289,2098,null,"Управление информационной безопасностью",{"$f":"MATCH(D612,Отчет!$D$1:$D$65536,0)","v":116}]
[1937432343,8,"МИБ171",1937370421,"Ряховский Сергей Алексеевич","М171МУБЕЗ018","Совершенствование архитектуры предприятия",4,"Экзамен","2017/2018 учебный год 2 модуль",null,32,1,1,1722514289,2098,null,"Управление информационной безопасностью",{"$f":"MATCH(D613,Отчет!$D$1:$D$65536,0)","v":115}]
[1937431857,6,"МИБ171",1937370436,"Михеева Вероника Вячеславовна","М171МУБЕЗ010","Совершенствование архитектуры предприятия",4,"Экзамен","2017/2018 учебный год 2 модуль",null,24,1,1,1722514289,2098,null,"Управление информационной безопасностью",{"$f":"MATCH(D614,Отчет!$D$1:$D$65536,0)","v":60}]
[1937431809,7,"МИБ171",1937370452,"Коровин Кирилл Сергеевич","М171МУБЕЗ009","Совершенствование архитектуры предприятия",4,"Экзамен","2017/2018 учебный год 2 модуль",null,28,1,1,1722514289,2098,null,"Управление информационной безопасностью",{"$f":"MATCH(D615,Отчет!$D$1:$D$65536,0)","v":136}]
[1937431618,7,"МИБ171",1937370480,"Дарбишева Патимат Гаджимурадовна","М171МУБЕЗ005","Совершенствование архитектуры предприятия",4,"Экзамен","2017/2018 учебный год 2 модуль",null,28,1,1,1722514289,2098,null,"Управление информационной безопасностью",{"$f":"MATCH(D616,Отчет!$D$1:$D$65536,0)","v":30}]
[1937432012,9,"МИБ171",1937370498,"Петрина Матвей Олегович","М171МУБЕЗ014","Совершенствование архитектуры предприятия",4,"Экзамен","2017/2018 учебный год 2 модуль",null,36,1,1,1722514289,2098,null,"Управление информационной безопасностью",{"$f":"MATCH(D617,Отчет!$D$1:$D$65536,0)","v":75}]
[1937431978,7,"МИБ171",1937370517,"Осадчая Алина Дмитриевна","М171МУБЕЗ013","Совершенствование архитектуры предприятия",4,"Экзамен","2017/2018 учебный год 2 модуль",null,28,1,1,1722514289,2098,null,"Управление информационной безопасностью",{"$f":"MATCH(D618,Отчет!$D$1:$D$65536,0)","v":25}]
[1937428097,7,"МБИ173",1937364177,"Сухова Ксения Игоревна","М171МБИИН063","Совершенствование архитектуры предприятия",4,"Экзамен","2017/2018 учебный год 2 модуль",null,28,1,1,1722551595,2098,null,"Бизнес-информатика",{"$f":"MATCH(D619,Отчет!$D$1:$D$65536,0)","v":77}]
[1937427995,4,"МБИ173",1937364192,"Семенова Элина Михайловна","М171МБИИН059","Совершенствование архитектуры предприятия",4,"Экзамен","2017/2018 учебный год 2 модуль",null,16,1,1,1722551595,2098,null,"Бизнес-информатика",{"$f":"MATCH(D620,Отчет!$D$1:$D$65536,0)","v":160}]
[1937426886,6,"МБИ171",1937364220,"Бутченко Антон Олегович","М171МБИИН016","Совершенствование архитектуры предприятия",4,"Экзамен","2017/2018 учебный год 2 модуль",null,24,1,1,1722551595,2098,null,"Бизнес-информатика",{"$f":"MATCH(D621,Отчет!$D$1:$D$65536,0)","v":57}]
[1937428241,5,"МБИ173",1937364016,"Чубаров Алексей Глебович","М171МБИИН069","Совершенствование архитектуры предприятия",4,"Экзамен","2017/2018 учебный год 2 модуль",null,20,1,1,1722551595,2098,null,"Бизнес-информатика",{"$f":"MATCH(D622,Отчет!$D$1:$D$65536,0)","v":131}]
[1937427815,5,"МБИ173",1937364031,"Полторак Анастасия Игоревна","М171МБИИН051","Совершенствование архитектуры предприятия",4,"Экзамен","2017/2018 учебный год 2 модуль",null,20,1,1,1722551595,2098,null,"Бизнес-информатика",{"$f":"MATCH(D623,Отчет!$D$1:$D$65536,0)","v":103}]
[1937426858,4,"МБИ171",1937364044,"Бондарь Сергей Борисович","М171МБИИН015","Совершенствование архитектуры предприятия",4,"Экзамен","2017/2018 учебный год 2 модуль",null,16,1,1,1722551595,2098,null,"Бизнес-информатика",{"$f":"MATCH(D624,Отчет!$D$1:$D$65536,0)","v":170}]
[1937427082,6,"МБИ171",1937364058,"Герасимов Станислав Александрович","М171МБИИН023","Совершенствование архитектуры предприятия",4,"Экзамен","2017/2018 учебный год 2 модуль",null,24,1,1,1722551595,2098,null,"Бизнес-информатика",{"$f":"MATCH(D625,Отчет!$D$1:$D$65536,0)","v":140}]
[1937427349,8,"МБИ172",1937364071,"Карнаух Егор Сергеевич","М171МБИИН032","Совершенствование архитектуры предприятия",4,"Экзамен","2017/2018 учебный год 2 модуль",null,32,1,1,1722551595,2098,null,"Бизнес-информатика",{"$f":"MATCH(D626,Отчет!$D$1:$D$65536,0)","v":65}]
[1937427051,7,"МБИ171",1937364084,"Гареев Артем Фаридович","М171МБИИН022","Совершенствование архитектуры предприятия",4,"Экзамен","2017/2018 учебный год 2 модуль",null,28,1,1,1722551595,2098,null,"Бизнес-информатика",{"$f":"MATCH(D627,Отчет!$D$1:$D$65536,0)","v":148}]
[1937427402,6,"МБИ172",1937364110,"Клименко Екатерина Андреевна","М171МБИИН034","Совершенствование архитектуры предприятия",4,"Экзамен","2017/2018 учебный год 2 модуль",null,24,1,1,1722551595,2098,null,"Бизнес-информатика",{"$f":"MATCH(D628,Отчет!$D$1:$D$65536,0)","v":28}]
[1937426916,8,"МБИ171",1937364123,"Вишняков Азим Азимович","М171МБИИН017","Совершенствование архитектуры предприятия",4,"Экзамен","2017/2018 учебный год 2 модуль",null,32,1,1,1722551595,2098,null,"Бизнес-информатика",{"$f":"MATCH(D629,Отчет!$D$1:$D$65536,0)","v":80}]
[1937427666,5,"МБИ172",1937364137,"Медведева Мария Вячеславовна","М171МБИИН045","Совершенствование архитектуры предприятия",4,"Экзамен","2017/2018 учебный год 2 модуль",null,20,1,1,1722551595,2098,null,"Бизнес-информатика",{"$f":"MATCH(D630,Отчет!$D$1:$D$65536,0)","v":51}]
[1937427694,7,"МБИ172",1937364163,"Миллер Кирилл Александрович","М171МБИИН046","Совершенствование архитектуры предприятия",4,"Экзамен","2017/2018 учебный год 2 модуль",null,28,1,1,1722551595,2098,null,"Бизнес-информатика",{"$f":"MATCH(D631,Отчет!$D$1:$D$65536,0)","v":79}]
[1937426636,5,"МБИ171",1937363851,"Бадаева Мария Мингияновна","М171МБИИН007","Совершенствование архитектуры предприятия",4,"Экзамен","2017/2018 учебный год 2 модуль",null,20,1,1,1722551595,2098,null,"Бизнес-информатика",{"$f":"MATCH(D632,Отчет!$D$1:$D$65536,0)","v":153}]
[1937427595,6,"МБИ172",1937363865,"Лобач Петр Сергеевич","М171МБИИН042","Совершенствование архитектуры предприятия",4,"Экзамен","2017/2018 учебный год 2 модуль",null,24,1,1,1722551595,2098,null,"Бизнес-информатика",{"$f":"MATCH(D633,Отчет!$D$1:$D$65536,0)","v":143}]
[1937426539,8,"МБИ171",1937363878,"Андрюхина Дарья Сергеевна","М171МБИИН003","Совершенствование архитектуры предприятия",4,"Экзамен","2017/2018 учебный год 2 модуль",null,32,1,1,1722551595,2098,null,"Бизнес-информатика",{"$f":"MATCH(D634,Отчет!$D$1:$D$65536,0)","v":95}]
[1937427482,7,"МБИ172",1937363891,"Коновалова Аделина Евгеньевна","М171МБИИН037","Совершенствование архитектуры предприятия",4,"Экзамен","2017/2018 учебный год 2 модуль",null,28,1,1,1722551595,2098,null,"Бизнес-информатика",{"$f":"MATCH(D635,Отчет!$D$1:$D$65536,0)","v":91}]
[1937426757,6,"МБИ171",1937363904,"Белова Евгения Александровна","М171МБИИН011","Совершенствование архитектуры предприятия",4,"Экзамен","2017/2018 учебный год 2 модуль",null,24,1,1,1722551595,2098,null,"Бизнес-информатика",{"$f":"MATCH(D636,Отчет!$D$1:$D$65536,0)","v":83}]
[1937427641,7,"МБИ172",1937363917,"Мартынов Александр Дмитриевич","М171МБИИН044","Совершенствование архитектуры предприятия",4,"Экзамен","2017/2018 учебный год 2 модуль",null,28,1,1,1722551595,2098,null,"Бизнес-информатика",{"$f":"MATCH(D637,Отчет!$D$1:$D$65536,0)","v":167}]
[1937426610,7,"МБИ171",1937363930,"Бабанов Павел Александрович","М171МБИИН006","Совершенствование архитектуры предприятия",4,"Экзамен","2017/2018 учебный год 2 модуль",null,28,1,1,1722551595,2098,null,"Бизнес-информатика",{"$f":"MATCH(D638,Отчет!$D$1:$D$65536,0)","v":152}]
[1937426588,8,"МБИ171",1937363943,"Антонова Софья Глебовна","М171МБИИН005","Совершенствование архитектуры предприятия",4,"Экзамен","2017/2018 учебный год 2 модуль",null,32,1,1,1722551595,2098,null,"Бизнес-информатика",{"$f":"MATCH(D639,Отчет!$D$1:$D$65536,0)","v":164}]
[1937427228,8,"МБИ172",1937363957,"Ершова Александра Романовна","М171МБИИН028","Совершенствование архитектуры предприятия",4,"Экзамен","2017/2018 учебный год 2 модуль",null,32,1,1,1722551595,2098,null,"Бизнес-информатика",{"$f":"MATCH(D640,Отчет!$D$1:$D$65536,0)","v":138}]
[1937427549,7,"МБИ172",1937363970,"Лебедева Надежда Юрьевна","М171МБИИН040","Совершенствование архитектуры предприятия",4,"Экзамен","2017/2018 учебный год 2 модуль",null,28,1,1,1722551595,2098,null,"Бизнес-информатика",{"$f":"MATCH(D641,Отчет!$D$1:$D$65536,0)","v":135}]
[1937427372,6,"МБИ172",1937363986,"Китайкина Мария Алексеевна","М171МБИИН033","Совершенствование архитектуры предприятия",4,"Экзамен","2017/2018 учебный год 2 модуль",null,24,1,1,1722551595,2098,null,"Бизнес-информатика",{"$f":"MATCH(D642,Отчет!$D$1:$D$65536,0)","v":163}]
[1937427291,9,"МБИ172",1937364001,"Калашников Сергей Владимирович","М171МБИИН030","Совершенствование архитектуры предприятия",4,"Экзамен","2017/2018 учебный год 2 модуль",null,36,1,1,1722551595,2098,null,"Бизнес-информатика",{"$f":"MATCH(D643,Отчет!$D$1:$D$65536,0)","v":50}]
[1937427264,10,"МБИ172",1937363666,"Захаров Алексей Александрович","М171МБИИН029","Совершенствование архитектуры предприятия",4,"Экзамен","2017/2018 учебный год 2 модуль",null,40,1,1,1722551595,2098,null,"Бизнес-информатика",{"$f":"MATCH(D644,Отчет!$D$1:$D$65536,0)","v":72}]
[1937427931,7,"МБИ173",1937363680,"Рудь Роман Сергеевич","М171МБИИН056","Совершенствование архитектуры предприятия",4,"Экзамен","2017/2018 учебный год 2 модуль",null,28,1,1,1722551595,2098,null,"Бизнес-информатика",{"$f":"MATCH(D645,Отчет!$D$1:$D$65536,0)","v":125}]
[1937428070,8,"МБИ173",1937363693,"Стогова Анастасия Германовна","М171МБИИН062","Совершенствование архитектуры предприятия",4,"Экзамен","2017/2018 учебный год 2 модуль",null,32,1,1,1722551595,2098,null,"Бизнес-информатика",{"$f":"MATCH(D646,Отчет!$D$1:$D$65536,0)","v":88}]
[1937426832,5,"МБИ171",1937363706,"Большаков Егор Максимович","М171МБИИН014","Совершенствование архитектуры предприятия",4,"Экзамен","2017/2018 учебный год 2 модуль",null,20,1,1,1722551595,2098,null,"Бизнес-информатика",{"$f":"MATCH(D647,Отчет!$D$1:$D$65536,0)","v":165}]
[1937426729,7,"МБИ171",1937363719,"Белов Григорий Игоревич","М171МБИИН010","Совершенствование архитектуры предприятия",4,"Экзамен","2017/2018 учебный год 2 модуль",null,28,1,1,1722551595,2098,null,"Бизнес-информатика",{"$f":"MATCH(D648,Отчет!$D$1:$D$65536,0)","v":162}]
[1937426783,9,"МБИ171",1937363732,"Богданов Кирилл Алексеевич","М171МБИИН012","Совершенствование архитектуры предприятия",4,"Экзамен","2017/2018 учебный год 2 модуль",null,36,1,1,1722551595,2098,null,"Бизнес-информатика",{"$f":"MATCH(D649,Отчет!$D$1:$D$65536,0)","v":128}]
[1937426565,8,"МБИ171",1937363745,"Антонова Анастасия Романовна","М171МБИИН004","Совершенствование архитектуры предприятия",4,"Экзамен","2017/2018 учебный год 2 модуль",null,32,1,1,1722551595,2098,null,"Бизнес-информатика",{"$f":"MATCH(D650,Отчет!$D$1:$D$65536,0)","v":124}]
[1937427910,9,"МБИ173",1937363758,"Ригин Алексей Алексеевич","М171МБИИН055","Совершенствование архитектуры предприятия",4,"Экзамен","2017/2018 учебный год 2 модуль",null,36,1,1,1722551595,2098,null,"Бизнес-информатика",{"$f":"MATCH(D651,Отчет!$D$1:$D$65536,0)","v":64}]
[1937427198,6,"МБИ172",1937363785,"Дунец Владислав Олегович","М171МБИИН027","Совершенствование архитектуры предприятия",4,"Экзамен","2017/2018 учебный год 2 модуль",null,24,1,1,1722551595,2098,null,"Бизнес-информатика",{"$f":"MATCH(D652,Отчет!$D$1:$D$65536,0)","v":145}]
[1937427846,8,"МБИ173",1937363798,"Пронин Никита Вадимович","М171МБИИН052","Совершенствование архитектуры предприятия",4,"Экзамен","2017/2018 учебный год 2 модуль",null,32,1,1,1722551595,2098,null,"Бизнес-информатика",{"$f":"MATCH(D653,Отчет!$D$1:$D$65536,0)","v":108}]
[1937427115,6,"МБИ171",1937363811,"Григорьева Юлия Сергеевна","М171МБИИН024","Совершенствование архитектуры предприятия",4,"Экзамен","2017/2018 учебный год 2 модуль",null,24,1,1,1722551595,2098,null,"Бизнес-информатика",{"$f":"MATCH(D654,Отчет!$D$1:$D$65536,0)","v":41}]
[1937427571,7,"МБИ172",1937363838,"Лиховцев Вадим Александрович","М171МБИИН041","Совершенствование архитектуры предприятия",4,"Экзамен","2017/2018 учебный год 2 модуль",null,28,1,1,1722551595,2098,null,"Бизнес-информатика",{"$f":"MATCH(D655,Отчет!$D$1:$D$65536,0)","v":68}]
[1937427429,7,"МБИ172",1937363509,"Колесникова Анна Сергеевна","М171МБИИН035","Совершенствование архитектуры предприятия",4,"Экзамен","2017/2018 учебный год 2 модуль",null,28,1,1,1722551595,2098,null,"Бизнес-информатика",{"$f":"MATCH(D656,Отчет!$D$1:$D$65536,0)","v":161}]
[1937426809,9,"МБИ171",1937363522,"Богданов Павел Владимирович","М171МБИИН013","Совершенствование архитектуры предприятия",4,"Экзамен","2017/2018 учебный год 2 модуль",null,36,1,1,1722551595,2098,null,"Бизнес-информатика",{"$f":"MATCH(D657,Отчет!$D$1:$D$65536,0)","v":92}]
[1937426702,7,"МБИ171",1937363535,"Бегларян Амалия Мгеровна","М171МБИИН009","Совершенствование архитектуры предприятия",4,"Экзамен","2017/2018 учебный год 2 модуль",null,28,1,1,1722551595,2098,null,"Бизнес-информатика",{"$f":"MATCH(D658,Отчет!$D$1:$D$65536,0)","v":113}]
[1937427025,6,"МБИ171",1937363548,"Галков Алексей Александрович","М171МБИИН021","Совершенствование архитектуры предприятия",4,"Экзамен","2017/2018 учебный год 2 модуль",null,24,1,1,1722551595,2098,null,"Бизнес-информатика",{"$f":"MATCH(D659,Отчет!$D$1:$D$65536,0)","v":173}]
[1937428021,7,"МБИ173",1937363561,"Сиднев Игорь Дмитриевич","М171МБИИН060","Совершенствование архитектуры предприятия",4,"Экзамен","2017/2018 учебный год 2 модуль",null,28,1,1,1722551595,2098,null,"Бизнес-информатика",{"$f":"MATCH(D660,Отчет!$D$1:$D$65536,0)","v":117}]
[1937427764,7,"МБИ173",1937363574,"Паймакова Татьяна Сергеевна","М171МБИИН049","Совершенствование архитектуры предприятия",4,"Экзамен","2017/2018 учебный год 2 модуль",null,28,1,1,1722551595,2098,null,"Бизнес-информатика",{"$f":"MATCH(D661,Отчет!$D$1:$D$65536,0)","v":156}]
[1937427741,9,"МБИ173",1937363587,"Новицкая Валерия Андреевна","М171МБИИН048","Совершенствование архитектуры предприятия",4,"Экзамен","2017/2018 учебный год 2 модуль",null,36,1,1,1722551595,2098,null,"Бизнес-информатика",{"$f":"MATCH(D662,Отчет!$D$1:$D$65536,0)","v":54}]
[1937427458,9,"МБИ172",1937363600,"Конова Марина Валерьевна","М171МБИИН036","Совершенствование архитектуры предприятия",4,"Экзамен","2017/2018 учебный год 2 модуль",null,36,1,1,1722551595,2098,null,"Бизнес-информатика",{"$f":"MATCH(D663,Отчет!$D$1:$D$65536,0)","v":23}]
[1937428169,8,"МБИ173",1937363613,"Улямаев Альберт Ирекович","М171МБИИН066","Совершенствование архитектуры предприятия",4,"Экзамен","2017/2018 учебный год 2 модуль",null,32,1,1,1722551595,2098,null,"Бизнес-информатика",{"$f":"MATCH(D664,Отчет!$D$1:$D$65536,0)","v":82}]
[1937427147,6,"МБИ171",1937363626,"Давтян Артем Сергеевич","М171МБИИН025","Совершенствование архитектуры предприятия",4,"Экзамен","2017/2018 учебный год 2 модуль",null,24,1,1,1722551595,2098,null,"Бизнес-информатика",{"$f":"MATCH(D665,Отчет!$D$1:$D$65536,0)","v":147}]
[1937426973,6,"МБИ171",1937363639,"Волков Даниил Андреевич","М171МБИИН019","Совершенствование архитектуры предприятия",4,"Экзамен","2017/2018 учебный год 2 модуль",null,24,1,1,1722551595,2098,null,"Бизнес-информатика",{"$f":"MATCH(D666,Отчет!$D$1:$D$65536,0)","v":174}]
[1937426488,6,null,1937363653,"Агарков Ярослав Алексеевич","М171МБИИН001","Совершенствование архитектуры предприятия",4,"Экзамен","2017/2018 учебный год 2 модуль",null,24,1,1,1722551595,2098,null,"Бизнес-информатика",{"$f":"MATCH(D667,Отчет!$D$1:$D$65536,0)","v":179}]
[1937426942,8,"МБИ171",1937363332,"Войнов Евгений Вадимович","М171МБИИН018","Совершенствование архитектуры предприятия",4,"Экзамен","2017/2018 учебный год 2 модуль",null,32,1,1,1722551595,2098,null,"Бизнес-информатика",{"$f":"MATCH(D668,Отчет!$D$1:$D$65536,0)","v":35}]
[1937427889,8,"МБИ173",1937363345,"Пьянов Родион Альбертович","М171МБИИН054","Совершенствование архитектуры предприятия",4,"Экзамен","2017/2018 учебный год 2 модуль",null,32,1,1,1722551595,2098,null,"Бизнес-информатика",{"$f":"MATCH(D669,Отчет!$D$1:$D$65536,0)","v":149}]
[1937428262,8,"МБИ173",1937363359,"Юдин Андрей Анатольевич","М171МБИИН070","Совершенствование архитектуры предприятия",4,"Экзамен","2017/2018 учебный год 2 модуль",null,32,1,1,1722551595,2098,null,"Бизнес-информатика",{"$f":"MATCH(D670,Отчет!$D$1:$D$65536,0)","v":132}]
[1937427319,6,"МБИ172",1937363372,"Карасев Михаил Николаевич","М171МБИИН031","Совершенствование архитектуры предприятия",4,"Экзамен","2017/2018 учебный год 2 модуль",null,24,1,1,1722551595,2098,null,"Бизнес-информатика",{"$f":"MATCH(D671,Отчет!$D$1:$D$65536,0)","v":169}]
[1937427974,6,"МБИ173",1937363386,"Сафохин Андрей Дмитриевич","М171МБИИН058","Совершенствование архитектуры предприятия",4,"Экзамен","2017/2018 учебный год 2 модуль",null,24,1,1,1722551595,2098,null,"Бизнес-информатика",{"$f":"MATCH(D672,Отчет!$D$1:$D$65536,0)","v":26}]
[1937428145,8,"МБИ173",1937363399,"Токарев Иван Максимович","М171МБИИН065","Совершенствование архитектуры предприятия",4,"Экзамен","2017/2018 учебный год 2 модуль",null,32,1,1,1722551595,2098,null,"Бизнес-информатика",{"$f":"MATCH(D673,Отчет!$D$1:$D$65536,0)","v":73}]
[2162837132,6,"МБИ173",2162833425,"Майборода Кирилл Алексеевич","М161МБИИН048","Совершенствование архитектуры предприятия",4,"Экзамен","2017/2018 учебный год 2 модуль",null,24,1,1,1722551595,2098,null,"Бизнес-информатика",{"$f":"MATCH(D674,Отчет!$D$1:$D$65536,0)","v":122}]
[1945325308,6,"МБИ172",1944939253,"Вовк Иларион Анатольевич","М171МБИИН094","Совершенствование архитектуры предприятия",4,"Экзамен","2017/2018 учебный год 2 модуль",null,24,1,0,1722551595,2098,null,"Бизнес-информатика",{"$f":"MATCH(D675,Отчет!$D$1:$D$65536,0)","v":98}]
[1946036814,6,"МБИ173",1945753603,"Пак Александр Сергеевич","М171МБИИН096","Совершенствование архитектуры предприятия",4,"Экзамен","2017/2018 учебный год 2 модуль",null,24,1,0,1722551595,2098,null,"Бизнес-информатика",{"$f":"MATCH(D676,Отчет!$D$1:$D$65536,0)","v":114}]
[1946042666,7,"МЭБ171",1945760044,"Цандере Юлия","М171МЭЛБЗ028","Совершенствование архитектуры предприятия",4,"Экзамен","2017/2018 учебный год 2 модуль",null,28,1,0,1722506105,2098,null,"Электронный бизнес",{"$f":"MATCH(D677,Отчет!$D$1:$D$65536,0)","v":130}]
[1947206521,7,"МБИ172",1947090330,"Варданян Карен Оганесович","М171МБИИН097","Совершенствование архитектуры предприятия",4,"Экзамен","2017/2018 учебный год 2 модуль",null,28,1,1,1722551595,2098,null,"Бизнес-информатика",{"$f":"MATCH(D678,Отчет!$D$1:$D$65536,0)","v":175}]
[1942059898,10,"МБИ172",1941989134,"Морева Галина Сергеевна","М171МБИИН088","Совершенствование архитектуры предприятия",4,"Экзамен","2017/2018 учебный год 2 модуль",null,40,1,0,1722551595,2098,null,"Бизнес-информатика",{"$f":"MATCH(D679,Отчет!$D$1:$D$65536,0)","v":94}]
[1942059874,5,"МБИ172",1941989147,"Мингазов Аскар Альбертович","М171МБИИН087","Совершенствование архитектуры предприятия",4,"Экзамен","2017/2018 учебный год 2 модуль",null,20,1,0,1722551595,2098,null,"Бизнес-информатика",{"$f":"MATCH(D680,Отчет!$D$1:$D$65536,0)","v":171}]
[1942059854,10,"МБИ172",1941989160,"Мельникова Анастасия Игоревна","М171МБИИН086","Совершенствование архитектуры предприятия",4,"Экзамен","2017/2018 учебный год 2 модуль",null,40,1,0,1722551595,2098,null,"Бизнес-информатика",{"$f":"MATCH(D681,Отчет!$D$1:$D$65536,0)","v":46}]
[1942059767,9,"МБИ171",1941989199,"Бородко Вера Николаевна","М171МБИИН082","Совершенствование архитектуры предприятия",4,"Экзамен","2017/2018 учебный год 2 модуль",null,36,1,0,1722551595,2098,null,"Бизнес-информатика",{"$f":"MATCH(D682,Отчет!$D$1:$D$65536,0)","v":18}]
[1942063417,4,"МИБ171",1942008109,"Кабыкен Даулет","М171МУБЕЗ021","Совершенствование архитектуры предприятия",4,"Экзамен","2017/2018 учебный год 2 модуль",null,16,1,1,1722514289,2098,null,"Управление информационной безопасностью",{"$f":"MATCH(D683,Отчет!$D$1:$D$65536,0)","v":177}]
[1942063450,4,"МИБ171",1942008132,"Нурматов Асхат","М171МУБЕЗ022","Совершенствование архитектуры предприятия",4,"Экзамен","2017/2018 учебный год 2 модуль",null,16,1,1,1722514289,2098,null,"Управление информационной безопасностью",{"$f":"MATCH(D684,Отчет!$D$1:$D$65536,0)","v":178}]
[1942059833,5,"МБИ171",1942008650,"Гареев Эмиль Хамидович","М171МБИИН085","Совершенствование архитектуры предприятия",4,"Экзамен","2017/2018 учебный год 2 модуль",null,20,1,1,1722551595,2098,null,"Бизнес-информатика",{"$f":"MATCH(D685,Отчет!$D$1:$D$65536,0)","v":144}]
[1945325283,8,"МБИ171",1944931265,"Бытка Дарья","М171МБИИН093","Совершенствование архитектуры предприятия",4,"Экзамен","2017/2018 учебный год 2 модуль",null,32,1,1,1722551595,2098,null,"Бизнес-информатика",{"$f":"MATCH(D686,Отчет!$D$1:$D$65536,0)","v":22}]
[1945325332,6,"МБИ173",1944935723,"Ким Анатолий","М171МБИИН095","Совершенствование архитектуры предприятия",4,"Экзамен","2017/2018 учебный год 2 модуль",null,24,1,0,1722551595,2098,null,"Бизнес-информатика",{"$f":"MATCH(D687,Отчет!$D$1:$D$65536,0)","v":176}]
[1940922465,7,"МЭБ171",1940816486,"Кондращенко Ярослав Константинович","М171МЭЛБЗ027","Совершенствование архитектуры предприятия",4,"Экзамен","2017/2018 учебный год 2 модуль",null,28,1,0,1722506105,2098,null,"Электронный бизнес",{"$f":"MATCH(D688,Отчет!$D$1:$D$65536,0)","v":78}]
[1952080358,5,"МБИ173",1941989079,"Феофанов Лев Андреевич","М171МБИИН092","Совершенствование архитектуры предприятия",4,"Экзамен","2017/2018 учебный год 2 модуль",null,20,1,0,1722551595,2098,null,"Бизнес-информатика",{"$f":"MATCH(D689,Отчет!$D$1:$D$65536,0)","v":172}]
[1952078178,9,"МБИ173",1941989095,"Сарычев Роман Владимирович","М171МБИИН091","Совершенствование архитектуры предприятия",4,"Экзамен","2017/2018 учебный год 2 модуль",null,36,1,0,1722551595,2098,null,"Бизнес-информатика",{"$f":"MATCH(D690,Отчет!$D$1:$D$65536,0)","v":134}]
[1952076820,10,"МБИ173",1941989108,"Рябов Дмитрий Валерьевич","М171МБИИН090","Совершенствование архитектуры предприятия",4,"Экзамен","2017/2018 учебный год 2 модуль",null,40,1,1,1722551595,2098,null,"Бизнес-информатика",{"$f":"MATCH(D691,Отчет!$D$1:$D$65536,0)","v":14}]
[1942059919,10,"МБИ172",1941989121,"Павлова Татьяна Михайловна","М171МБИИН089","Совершенствование архитектуры предприятия",4,"Экзамен","2017/2018 учебный год 2 модуль",null,40,1,0,1722551595,2098,null,"Бизнес-информатика",{"$f":"MATCH(D692,Отчет!$D$1:$D$65536,0)","v":15}]
[1940908586,6,"МБИ172",1940815800,"Кривенцов Феликс Константинович","М171МБИИН072","Совершенствование архитектуры предприятия",4,"Экзамен","2017/2018 учебный год 2 модуль",null,24,1,1,1722551595,2098,null,"Бизнес-информатика",{"$f":"MATCH(D693,Отчет!$D$1:$D$65536,0)","v":119}]
[1940908745,6,"МБИ173",1940815815,"Шпилевская Наталья Викторовна","М171МБИИН079","Совершенствование архитектуры предприятия",4,"Экзамен","2017/2018 учебный год 2 модуль",null,24,1,0,1722551595,2098,null,"Бизнес-информатика",{"$f":"MATCH(D694,Отчет!$D$1:$D$65536,0)","v":155}]
[1940908610,6,"МБИ172",1940815828,"Масалимов Тимур Ринатович","М171МБИИН073","Совершенствование архитектуры предприятия",4,"Экзамен","2017/2018 учебный год 2 модуль",null,24,1,0,1722551595,2098,null,"Бизнес-информатика",{"$f":"MATCH(D695,Отчет!$D$1:$D$65536,0)","v":123}]
[1940908566,6,"МБИ171",1940815842,"Дворяшин Дмитрий Александрович","М171МБИИН071","Совершенствование архитектуры предприятия",4,"Экзамен","2017/2018 учебный год 2 модуль",null,24,1,0,1722551595,2098,null,"Бизнес-информатика",{"$f":"MATCH(D696,Отчет!$D$1:$D$65536,0)","v":166}]
[1940908658,8,"МБИ172",1940750974,"Мирской Александр Леонидович","М171МБИИН075","Совершенствование архитектуры предприятия",4,"Экзамен","2017/2018 учебный год 2 модуль",null,32,1,0,1722551595,2098,null,"Бизнес-информатика",{"$f":"MATCH(D697,Отчет!$D$1:$D$65536,0)","v":29}]
[1940908723,8,"МБИ173",1940751185,"Овсянникова Ольга Андреевна","М171МБИИН078","Совершенствование архитектуры предприятия",4,"Экзамен","2017/2018 учебный год 2 модуль",null,32,1,0,1722551595,2098,null,"Бизнес-информатика",{"$f":"MATCH(D698,Отчет!$D$1:$D$65536,0)","v":69}]
[1940908682,6,"МБИ172",1940815727,"Монгуш Алдын-Ай Владимировна","М171МБИИН076","Совершенствование архитектуры предприятия",4,"Экзамен","2017/2018 учебный год 2 модуль",null,24,1,0,1722551595,2098,null,"Бизнес-информатика",{"$f":"MATCH(D699,Отчет!$D$1:$D$65536,0)","v":104}]
[1940908785,6,"МБИ173",1940815743,"Шумилин Дмитрий Станиславович","М171МБИИН080","Совершенствование архитектуры предприятия",4,"Экзамен","2017/2018 учебный год 2 модуль",null,24,1,0,1722551595,2098,null,"Бизнес-информатика",{"$f":"MATCH(D700,Отчет!$D$1:$D$65536,0)","v":150}]
[1940908947,6,"МБИ173",1940815759,"Щеголев Андрей Александрович","М171МБИИН081","Совершенствование архитектуры предприятия",4,"Экзамен","2017/2018 учебный год 2 модуль",null,24,1,1,1722551595,2098,null,"Бизнес-информатика",{"$f":"MATCH(D701,Отчет!$D$1:$D$65536,0)","v":87}]
[1940908634,7,"МБИ172",1940815773,"Матвиенко Андрей Кириллович","М171МБИИН074","Совершенствование архитектуры предприятия",4,"Экзамен","2017/2018 учебный год 2 модуль",null,28,1,1,1722551595,2098,null,"Бизнес-информатика",{"$f":"MATCH(D702,Отчет!$D$1:$D$65536,0)","v":38}]
[1940908703,8,"МБИ172",1940815787,"Музыка Наталия Константиновна","М171МБИИН077","Совершенствование архитектуры предприятия",4,"Экзамен","2017/2018 учебный год 2 модуль",null,32,1,1,1722551595,2098,null,"Бизнес-информатика",{"$f":"MATCH(D703,Отчет!$D$1:$D$65536,0)","v":31}]
[1937433835,6,"МЭБ171",1937372945,"Цуканов Иван Викторович","М171МЭЛБЗ024","Совершенствование архитектуры предприятия",4,"Экзамен","2017/2018 учебный год 2 модуль",null,24,1,1,1722506105,2098,null,"Электронный бизнес",{"$f":"MATCH(D704,Отчет!$D$1:$D$65536,0)","v":100}]
[1937433389,7,"МЭБ171",1937372959,"Лунин Никита Константинович","М171МЭЛБЗ014","Совершенствование архитектуры предприятия",4,"Экзамен","2017/2018 учебный год 2 модуль",null,28,1,1,1722506105,2098,null,"Электронный бизнес",{"$f":"MATCH(D705,Отчет!$D$1:$D$65536,0)","v":158}]
[1937433583,7,"МЭБ171",1937372972,"Рубцова Екатерина Андреевна","М171МЭЛБЗ019","Совершенствование архитектуры предприятия",4,"Экзамен","2017/2018 учебный год 2 модуль",null,28,1,1,1722506105,2098,null,"Электронный бизнес",{"$f":"MATCH(D706,Отчет!$D$1:$D$65536,0)","v":139}]
[1937433801,9,"МЭБ171",1937372985,"Фахрова Дина Вадимовна","М171МЭЛБЗ023","Совершенствование архитектуры предприятия",4,"Экзамен","2017/2018 учебный год 2 модуль",null,36,1,1,1722506105,2098,null,"Электронный бизнес",{"$f":"MATCH(D707,Отчет!$D$1:$D$65536,0)","v":37}]
[1937433057,6,"МЭБ171",1937372998,"Горобец Валерия Валентиновна","М171МЭЛБЗ005","Совершенствование архитектуры предприятия",4,"Экзамен","2017/2018 учебный год 2 модуль",null,24,1,1,1722506105,2098,null,"Электронный бизнес",{"$f":"MATCH(D708,Отчет!$D$1:$D$65536,0)","v":42}]
[1937433088,8,"МЭБ171",1937373012,"Давыдова Ксения Валерьевна","М171МЭЛБЗ006","Совершенствование архитектуры предприятия",4,"Экзамен","2017/2018 учебный год 2 модуль",null,32,1,1,1722506105,2098,null,"Электронный бизнес",{"$f":"MATCH(D709,Отчет!$D$1:$D$65536,0)","v":97}]
[1937433742,8,"МЭБ171",1937373025,"Суряднов Дмитрий Юрьевич","М171МЭЛБЗ022","Совершенствование архитектуры предприятия",4,"Экзамен","2017/2018 учебный год 2 модуль",null,32,1,1,1722506105,2098,null,"Электронный бизнес",{"$f":"MATCH(D710,Отчет!$D$1:$D$65536,0)","v":27}]
[1937433350,7,"МЭБ171",1937373039,"Кяргин Антон Юрьевич","М171МЭЛБЗ013","Совершенствование архитектуры предприятия",4,"Экзамен","2017/2018 учебный год 2 модуль",null,28,1,1,1722506105,2098,null,"Электронный бизнес",{"$f":"MATCH(D711,Отчет!$D$1:$D$65536,0)","v":110}]
[1937433193,7,"МЭБ171",1937373052,"Ким Дин Хо","М171МЭЛБЗ009","Совершенствование архитектуры предприятия",4,"Экзамен","2017/2018 учебный год 2 модуль",null,28,1,1,1722506105,2098,null,"Электронный бизнес",{"$f":"MATCH(D712,Отчет!$D$1:$D$65536,0)","v":121}]
[1937432932,8,"МЭБ171",1937372839,"Бабаджанян Армен Кароевич","М171МЭЛБЗ002","Совершенствование архитектуры предприятия",4,"Экзамен","2017/2018 учебный год 2 модуль",null,32,1,1,1722506105,2098,null,"Электронный бизнес",{"$f":"MATCH(D713,Отчет!$D$1:$D$65536,0)","v":52}]
[1937433876,8,"МЭБ171",1937372852,"Юлдашева Камилла Адилевна","М171МЭЛБЗ025","Совершенствование архитектуры предприятия",4,"Экзамен","2017/2018 учебный год 2 модуль",null,32,1,1,1722506105,2098,null,"Электронный бизнес",{"$f":"MATCH(D714,Отчет!$D$1:$D$65536,0)","v":24}]
[1937433633,6,"МЭБ171",1937372866,"Семенкович Софья Алексеевна","М171МЭЛБЗ020","Совершенствование архитектуры предприятия",4,"Экзамен","2017/2018 учебный год 2 модуль",null,24,1,1,1722506105,2098,null,"Электронный бизнес",{"$f":"MATCH(D715,Отчет!$D$1:$D$65536,0)","v":90}]
[1937433418,7,"МЭБ171",1937372880,"Лучкин Андрей Владимирович","М171МЭЛБЗ015","Совершенствование архитектуры предприятия",4,"Экзамен","2017/2018 учебный год 2 модуль",null,28,1,1,1722506105,2098,null,"Электронный бизнес",{"$f":"MATCH(D716,Отчет!$D$1:$D$65536,0)","v":133}]
[1937433687,9,"МЭБ171",1937372893,"Смирнов Константин Борисович","М171МЭЛБЗ021","Совершенствование архитектуры предприятия",4,"Экзамен","2017/2018 учебный год 2 модуль",null,36,1,1,1722506105,2098,null,"Электронный бизнес",{"$f":"MATCH(D717,Отчет!$D$1:$D$65536,0)","v":55}]
[1937433280,7,"МЭБ171",1937372906,"Китьян Акмаль Алексеевич","М171МЭЛБЗ011","Совершенствование архитектуры предприятия",4,"Экзамен","2017/2018 учебный год 2 модуль",null,28,1,1,1722506105,2098,null,"Электронный бизнес",{"$f":"MATCH(D718,Отчет!$D$1:$D$65536,0)","v":154}]
[1937433498,7,"МЭБ171",1937372919,"Михайлов Егор Александрович","М171МЭЛБЗ017","Совершенствование архитектуры предприятия",4,"Экзамен","2017/2018 учебный год 2 модуль",null,28,1,1,1722506105,2098,null,"Электронный бизнес",{"$f":"MATCH(D719,Отчет!$D$1:$D$65536,0)","v":107}]
[1937432894,8,"МЭБ171",1937372932,"Абросимова Анастасия Михайловна","М171МЭЛБЗ001","Совершенствование архитектуры предприятия",4,"Экзамен","2017/2018 учебный год 2 модуль",null,32,1,1,1722506105,2098,null,"Электронный бизнес",{"$f":"MATCH(D720,Отчет!$D$1:$D$65536,0)","v":105}]
[1937431582,8,"МИБ171",1937371178,"Гультяева Полина Николаевна","М171МУБЕЗ004","Совершенствование архитектуры предприятия",4,"Экзамен","2017/2018 учебный год 2 модуль",null,32,1,1,1722514289,2098,null,"Управление информационной безопасностью",{"$f":"MATCH(D721,Отчет!$D$1:$D$65536,0)","v":39}]
[1937432973,9,"МЭБ171",1937372729,"Бадамова Екатерина Дмитриевна","М171МЭЛБЗ003","Совершенствование архитектуры предприятия",4,"Экзамен","2017/2018 учебный год 2 модуль",null,36,1,1,1722506105,2098,null,"Электронный бизнес",{"$f":"MATCH(D722,Отчет!$D$1:$D$65536,0)","v":47}]
[1937433116,7,"МЭБ171",1937372743,"Джаббарова Лейла Мехман гызы","М171МЭЛБЗ007","Совершенствование архитектуры предприятия",4,"Экзамен","2017/2018 учебный год 2 модуль",null,28,1,1,1722506105,2098,null,"Электронный бизнес",{"$f":"MATCH(D723,Отчет!$D$1:$D$65536,0)","v":85}]
[1937433540,9,"МЭБ171",1937372757,"Осипова Мария Андреевна","М171МЭЛБЗ018","Совершенствование архитектуры предприятия",4,"Экзамен","2017/2018 учебный год 2 модуль",null,36,1,1,1722506105,2098,null,"Электронный бизнес",{"$f":"MATCH(D724,Отчет!$D$1:$D$65536,0)","v":44}]
[1937433239,7,"МЭБ171",1937372770,"Кирилловых Андрей Максимович","М171МЭЛБЗ010","Совершенствование архитектуры предприятия",4,"Экзамен","2017/2018 учебный год 2 модуль",null,28,1,1,1722506105,2098,null,"Электронный бизнес",{"$f":"MATCH(D725,Отчет!$D$1:$D$65536,0)","v":102}]
[1937433155,8,"МЭБ171",1937372783,"Калинин Дмитрий Владимирович","М171МЭЛБЗ008","Совершенствование архитектуры предприятия",4,"Экзамен","2017/2018 учебный год 2 модуль",null,32,1,1,1722506105,2098,null,"Электронный бизнес",{"$f":"MATCH(D726,Отчет!$D$1:$D$65536,0)","v":49}]
[1937433019,6,"МЭБ171",1937372796,"Гимашев Линар Русланович","М171МЭЛБЗ004","Совершенствование архитектуры предприятия",4,"Экзамен","2017/2018 учебный год 2 модуль",null,24,1,1,1722506105,2098,null,"Электронный бизнес",{"$f":"MATCH(D727,Отчет!$D$1:$D$65536,0)","v":142}]
[1937433311,8,"МЭБ171",1937372811,"Куратова Александра Евгеньевна","М171МЭЛБЗ012","Совершенствование архитектуры предприятия",4,"Экзамен","2017/2018 учебный год 2 модуль",null,32,1,1,1722506105,2098,null,"Электронный бизнес",{"$f":"MATCH(D728,Отчет!$D$1:$D$65536,0)","v":137}]
[1937433453,6,"МЭБ171",1937372826,"Минеева Анастасия Сергеевна","М171МЭЛБЗ016","Совершенствование архитектуры предприятия",4,"Экзамен","2017/2018 учебный год 2 модуль",null,24,1,1,1722506105,2098,null,"Электронный бизнес",{"$f":"MATCH(D729,Отчет!$D$1:$D$65536,0)","v":146}]
[1937431941,8,"МИБ171",1937370536,"Оленева Валерия Александровна","М171МУБЕЗ012","Совершенствование архитектуры предприятия",4,"Экзамен","2017/2018 учебный год 2 модуль",null,32,1,1,1722514289,2098,null,"Управление информационной безопасностью",{"$f":"MATCH(D730,Отчет!$D$1:$D$65536,0)","v":86}]
[1937432185,8,"МИБ171",1937370552,"Рудаков Андрей Дмитриевич","М171МУБЕЗ017","Совершенствование архитектуры предприятия",4,"Экзамен","2017/2018 учебный год 2 модуль",null,32,1,1,1722514289,2098,null,"Управление информационной безопасностью",{"$f":"MATCH(D731,Отчет!$D$1:$D$65536,0)","v":99}]
[1937432097,8,"МИБ171",1937370565,"Пупышева Анна Андреевна","М171МУБЕЗ016","Совершенствование архитектуры предприятия",4,"Экзамен","2017/2018 учебный год 2 модуль",null,32,1,1,1722514289,2098,null,"Управление информационной безопасностью",{"$f":"MATCH(D732,Отчет!$D$1:$D$65536,0)","v":101}]
[1937431760,6,"МИБ171",1937370580,"Козлов Никита Вячеславович","М171МУБЕЗ008","Совершенствование архитектуры предприятия",4,"Экзамен","2017/2018 учебный год 2 модуль",null,24,1,1,1722514289,2098,null,"Управление информационной безопасностью",{"$f":"MATCH(D733,Отчет!$D$1:$D$65536,0)","v":118}]
[1937432441,9,"МИБ171",1937370596,"Смирнов Данил Вадимович","М171МУБЕЗ020","Совершенствование архитектуры предприятия",4,"Экзамен","2017/2018 учебный год 2 модуль",null,36,1,1,1722514289,2098,null,"Управление информационной безопасностью",{"$f":"MATCH(D734,Отчет!$D$1:$D$65536,0)","v":33}]
[1937431899,8,"МИБ171",1937371125,"Никитин Андрей Олегович","М171МУБЕЗ011","Совершенствование архитектуры предприятия",4,"Экзамен","2017/2018 учебный год 2 модуль",null,32,1,1,1722514289,2098,null,"Управление информационной безопасностью",{"$f":"MATCH(D735,Отчет!$D$1:$D$65536,0)","v":141}]
[1937431439,5,"МИБ171",1937371143,"Белоус Илия Григорьевич","М171МУБЕЗ001","Совершенствование архитектуры предприятия",4,"Экзамен","2017/2018 учебный год 2 модуль",null,20,1,1,1722514289,2098,null,"Управление информационной безопасностью",{"$f":"MATCH(D736,Отчет!$D$1:$D$65536,0)","v":157}]
[1937431547,5,"МИБ171",1937371161,"Варламова Виктория Викторовна","М171МУБЕЗ003","Совершенствование архитектуры предприятия",4,"Экзамен","2017/2018 учебный год 2 модуль",null,20,1,1,1722514289,2098,null,"Управление информационной безопасностью",{"$f":"MATCH(D737,Отчет!$D$1:$D$65536,0)","v":106}]
[2052765758,5,"МБИ171",1937363482,"Гайнутдинов Наиль Анварович","М171МБИИН020","Актуальные проблемы конкурентной (деловой) разведки",3,"Экзамен","2017/2018 учебный год 3 модуль",null,15,1,1,null,5028,null,"Бизнес-информатика",{"$f":"MATCH(D738,Отчет!$D$1:$D$65536,0)","v":159}]
[2052761111,8,"МИБ171",1937371143,"Белоус Илия Григорьевич","М171МУБЕЗ001","Актуальные проблемы конкурентной (деловой) разведки",3,"Экзамен","2017/2018 учебный год 3 модуль",null,24,1,1,null,5028,null,"Управление информационной безопасностью",{"$f":"MATCH(D739,Отчет!$D$1:$D$65536,0)","v":157}]
[2052765263,4,"МБИ172",1941989147,"Мингазов Аскар Альбертович","М171МБИИН087","Актуальные проблемы конкурентной (деловой) разведки",3,"Экзамен","2017/2018 учебный год 3 модуль",null,12,1,0,null,5028,null,"Бизнес-информатика",{"$f":"MATCH(D740,Отчет!$D$1:$D$65536,0)","v":171}]
[2052765396,9,"МБИ172",1940815773,"Матвиенко Андрей Кириллович","М171МБИИН074","Актуальные проблемы конкурентной (деловой) разведки",3,"Экзамен","2017/2018 учебный год 3 модуль",null,27,1,1,null,5028,null,"Бизнес-информатика",{"$f":"MATCH(D741,Отчет!$D$1:$D$65536,0)","v":38}]
[2052765278,8,"МБИ173",1940815759,"Щеголев Андрей Александрович","М171МБИИН081","Актуальные проблемы конкурентной (деловой) разведки",3,"Экзамен","2017/2018 учебный год 3 модуль",null,24,1,1,null,5028,null,"Бизнес-информатика",{"$f":"MATCH(D742,Отчет!$D$1:$D$65536,0)","v":87}]
[2052765791,8,"МБИ173",1940815815,"Шпилевская Наталья Викторовна","М171МБИИН079","Актуальные проблемы конкурентной (деловой) разведки",3,"Экзамен","2017/2018 учебный год 3 модуль",null,24,1,0,null,5028,null,"Бизнес-информатика",{"$f":"MATCH(D743,Отчет!$D$1:$D$65536,0)","v":155}]
[2052765619,7,"МБИ172",1940815800,"Кривенцов Феликс Константинович","М171МБИИН072","Актуальные проблемы конкурентной (деловой) разведки",3,"Экзамен","2017/2018 учебный год 3 модуль",null,21,1,1,null,5028,null,"Бизнес-информатика",{"$f":"MATCH(D744,Отчет!$D$1:$D$65536,0)","v":119}]
[2052761101,8,"МИБ171",1937370596,"Смирнов Данил Вадимович","М171МУБЕЗ020","Актуальные проблемы конкурентной (деловой) разведки",3,"Экзамен","2017/2018 учебный год 3 модуль",null,24,1,1,null,5028,null,"Управление информационной безопасностью",{"$f":"MATCH(D745,Отчет!$D$1:$D$65536,0)","v":33}]
[2052761043,8,"МИБ171",1937370565,"Пупышева Анна Андреевна","М171МУБЕЗ016","Актуальные проблемы конкурентной (деловой) разведки",3,"Экзамен","2017/2018 учебный год 3 модуль",null,24,1,1,null,5028,null,"Управление информационной безопасностью",{"$f":"MATCH(D746,Отчет!$D$1:$D$65536,0)","v":101}]
[2052761050,10,"МИБ171",1937370517,"Осадчая Алина Дмитриевна","М171МУБЕЗ013","Актуальные проблемы конкурентной (деловой) разведки",3,"Экзамен","2017/2018 учебный год 3 модуль",null,30,1,1,null,5028,null,"Управление информационной безопасностью",{"$f":"MATCH(D747,Отчет!$D$1:$D$65536,0)","v":25}]
[2052761149,7,"МИБ171",1937371178,"Гультяева Полина Николаевна","М171МУБЕЗ004","Актуальные проблемы конкурентной (деловой) разведки",3,"Экзамен","2017/2018 учебный год 3 модуль",null,21,1,1,null,5028,null,"Управление информационной безопасностью",{"$f":"MATCH(D748,Отчет!$D$1:$D$65536,0)","v":39}]
[2052765689,8,"МБИ173",1937364177,"Сухова Ксения Игоревна","М171МБИИН063","Актуальные проблемы конкурентной (деловой) разведки",3,"Экзамен","2017/2018 учебный год 3 модуль",null,24,1,1,null,5028,null,"Бизнес-информатика",{"$f":"MATCH(D749,Отчет!$D$1:$D$65536,0)","v":77}]
[2052765680,10,"МБИ172",1937364163,"Миллер Кирилл Александрович","М171МБИИН046","Актуальные проблемы конкурентной (деловой) разведки",3,"Экзамен","2017/2018 учебный год 3 модуль",null,30,1,1,null,5028,null,"Бизнес-информатика",{"$f":"MATCH(D750,Отчет!$D$1:$D$65536,0)","v":79}]
[2052761145,10,"МИБ171",1937370480,"Дарбишева Патимат Гаджимурадовна","М171МУБЕЗ005","Актуальные проблемы конкурентной (деловой) разведки",3,"Экзамен","2017/2018 учебный год 3 модуль",null,30,1,1,null,5028,null,"Управление информационной безопасностью",{"$f":"MATCH(D751,Отчет!$D$1:$D$65536,0)","v":30}]
[2052761174,10,"МИБ171",1937370436,"Михеева Вероника Вячеславовна","М171МУБЕЗ010","Актуальные проблемы конкурентной (деловой) разведки",3,"Экзамен","2017/2018 учебный год 3 модуль",null,30,1,1,null,5028,null,"Управление информационной безопасностью",{"$f":"MATCH(D752,Отчет!$D$1:$D$65536,0)","v":60}]
[2052761170,9,"МИБ171",1937370369,"Иванов Владислав Сергеевич","М171МУБЕЗ007","Актуальные проблемы конкурентной (деловой) разведки",3,"Экзамен","2017/2018 учебный год 3 модуль",null,27,1,1,null,5028,null,"Управление информационной безопасностью",{"$f":"MATCH(D753,Отчет!$D$1:$D$65536,0)","v":20}]
[1952009377,8,"МЭБ171",1937372932,"Абросимова Анастасия Михайловна","М171МЭЛБЗ001","Анализ поведения потребителя в коммерческих информационных сетях",5,"Экзамен","2017/2018 учебный год 3 модуль",null,40,1,1,1722506105,2098,null,"Электронный бизнес",{"$f":"MATCH(D754,Отчет!$D$1:$D$65536,0)","v":105}]
[1952009433,7,"МЭБ171",1940816486,"Кондращенко Ярослав Константинович","М171МЭЛБЗ027","Анализ поведения потребителя в коммерческих информационных сетях",5,"Экзамен","2017/2018 учебный год 3 модуль",null,35,1,0,1722506105,2098,null,"Электронный бизнес",{"$f":"MATCH(D755,Отчет!$D$1:$D$65536,0)","v":78}]
[1952009387,9,"МЭБ171",1937372729,"Бадамова Екатерина Дмитриевна","М171МЭЛБЗ003","Анализ поведения потребителя в коммерческих информационных сетях",5,"Экзамен","2017/2018 учебный год 3 модуль",null,45,1,1,1722506105,2098,null,"Электронный бизнес",{"$f":"MATCH(D756,Отчет!$D$1:$D$65536,0)","v":47}]
[1952009406,8,"МЭБ171",1937372743,"Джаббарова Лейла Мехман гызы","М171МЭЛБЗ007","Анализ поведения потребителя в коммерческих информационных сетях",5,"Экзамен","2017/2018 учебный год 3 модуль",null,40,1,1,1722506105,2098,null,"Электронный бизнес",{"$f":"MATCH(D757,Отчет!$D$1:$D$65536,0)","v":85}]
[1952009470,9,"МЭБ171",1937372757,"Осипова Мария Андреевна","М171МЭЛБЗ018","Анализ поведения потребителя в коммерческих информационных сетях",5,"Экзамен","2017/2018 учебный год 3 модуль",null,45,1,1,1722506105,2098,null,"Электронный бизнес",{"$f":"MATCH(D758,Отчет!$D$1:$D$65536,0)","v":44}]
[1952009424,8,"МЭБ171",1937372770,"Кирилловых Андрей Максимович","М171МЭЛБЗ010","Анализ поведения потребителя в коммерческих информационных сетях",5,"Экзамен","2017/2018 учебный год 3 модуль",null,40,1,1,1722506105,2098,null,"Электронный бизнес",{"$f":"MATCH(D759,Отчет!$D$1:$D$65536,0)","v":102}]
[1952009411,8,"МЭБ171",1937372783,"Калинин Дмитрий Владимирович","М171МЭЛБЗ008","Анализ поведения потребителя в коммерческих информационных сетях",5,"Экзамен","2017/2018 учебный год 3 модуль",null,40,1,1,1722506105,2098,null,"Электронный бизнес",{"$f":"MATCH(D760,Отчет!$D$1:$D$65536,0)","v":49}]
[1952009392,7,"МЭБ171",1937372796,"Гимашев Линар Русланович","М171МЭЛБЗ004","Анализ поведения потребителя в коммерческих информационных сетях",5,"Экзамен","2017/2018 учебный год 3 модуль",null,35,1,1,1722506105,2098,null,"Электронный бизнес",{"$f":"MATCH(D761,Отчет!$D$1:$D$65536,0)","v":142}]
[1952009437,7,"МЭБ171",1937372811,"Куратова Александра Евгеньевна","М171МЭЛБЗ012","Анализ поведения потребителя в коммерческих информационных сетях",5,"Экзамен","2017/2018 учебный год 3 модуль",null,35,1,1,1722506105,2098,null,"Электронный бизнес",{"$f":"MATCH(D762,Отчет!$D$1:$D$65536,0)","v":137}]
[1952009449,7,"МЭБ171",1937372959,"Лунин Никита Константинович","М171МЭЛБЗ014","Анализ поведения потребителя в коммерческих информационных сетях",5,"Экзамен","2017/2018 учебный год 3 модуль",null,35,1,1,1722506105,2098,null,"Электронный бизнес",{"$f":"MATCH(D763,Отчет!$D$1:$D$65536,0)","v":158}]
[1952009476,8,"МЭБ171",1937372972,"Рубцова Екатерина Андреевна","М171МЭЛБЗ019","Анализ поведения потребителя в коммерческих информационных сетях",5,"Экзамен","2017/2018 учебный год 3 модуль",null,40,1,1,1722506105,2098,null,"Электронный бизнес",{"$f":"MATCH(D764,Отчет!$D$1:$D$65536,0)","v":139}]
[1952009497,9,"МЭБ171",1937372985,"Фахрова Дина Вадимовна","М171МЭЛБЗ023","Анализ поведения потребителя в коммерческих информационных сетях",5,"Экзамен","2017/2018 учебный год 3 модуль",null,45,1,1,1722506105,2098,null,"Электронный бизнес",{"$f":"MATCH(D765,Отчет!$D$1:$D$65536,0)","v":37}]
[1952009465,8,"МЭБ171",1937372919,"Михайлов Егор Александрович","М171МЭЛБЗ017","Анализ поведения потребителя в коммерческих информационных сетях",5,"Экзамен","2017/2018 учебный год 3 модуль",null,40,1,1,1722506105,2098,null,"Электронный бизнес",{"$f":"MATCH(D766,Отчет!$D$1:$D$65536,0)","v":107}]
[1952009428,6,"МЭБ171",1937372906,"Китьян Акмаль Алексеевич","М171МЭЛБЗ011","Анализ поведения потребителя в коммерческих информационных сетях",5,"Экзамен","2017/2018 учебный год 3 модуль",null,30,1,1,1722506105,2098,null,"Электронный бизнес",{"$f":"MATCH(D767,Отчет!$D$1:$D$65536,0)","v":154}]
[1952009486,8,"МЭБ171",1937372893,"Смирнов Константин Борисович","М171МЭЛБЗ021","Анализ поведения потребителя в коммерческих информационных сетях",5,"Экзамен","2017/2018 учебный год 3 модуль",null,40,1,1,1722506105,2098,null,"Электронный бизнес",{"$f":"MATCH(D768,Отчет!$D$1:$D$65536,0)","v":55}]
[1952009455,10,"МЭБ171",1937372880,"Лучкин Андрей Владимирович","М171МЭЛБЗ015","Анализ поведения потребителя в коммерческих информационных сетях",5,"Экзамен","2017/2018 учебный год 3 модуль",null,50,1,1,1722506105,2098,null,"Электронный бизнес",{"$f":"MATCH(D769,Отчет!$D$1:$D$65536,0)","v":133}]
[1952009481,7,"МЭБ171",1937372866,"Семенкович Софья Алексеевна","М171МЭЛБЗ020","Анализ поведения потребителя в коммерческих информационных сетях",5,"Экзамен","2017/2018 учебный год 3 модуль",null,35,1,1,1722506105,2098,null,"Электронный бизнес",{"$f":"MATCH(D770,Отчет!$D$1:$D$65536,0)","v":90}]
[1952009510,10,"МЭБ171",1937372852,"Юлдашева Камилла Адилевна","М171МЭЛБЗ025","Анализ поведения потребителя в коммерческих информационных сетях",5,"Экзамен","2017/2018 учебный год 3 модуль",null,50,1,1,1722506105,2098,null,"Электронный бизнес",{"$f":"MATCH(D771,Отчет!$D$1:$D$65536,0)","v":24}]
[1952009382,9,"МЭБ171",1937372839,"Бабаджанян Армен Кароевич","М171МЭЛБЗ002","Анализ поведения потребителя в коммерческих информационных сетях",5,"Экзамен","2017/2018 учебный год 3 модуль",null,45,1,1,1722506105,2098,null,"Электронный бизнес",{"$f":"MATCH(D772,Отчет!$D$1:$D$65536,0)","v":52}]
[1952009460,7,"МЭБ171",1937372826,"Минеева Анастасия Сергеевна","М171МЭЛБЗ016","Анализ поведения потребителя в коммерческих информационных сетях",5,"Экзамен","2017/2018 учебный год 3 модуль",null,35,1,1,1722506105,2098,null,"Электронный бизнес",{"$f":"MATCH(D773,Отчет!$D$1:$D$65536,0)","v":146}]
[1952009443,10,"МЭБ171",1937373039,"Кяргин Антон Юрьевич","М171МЭЛБЗ013","Анализ поведения потребителя в коммерческих информационных сетях",5,"Экзамен","2017/2018 учебный год 3 модуль",null,50,1,1,1722506105,2098,null,"Электронный бизнес",{"$f":"MATCH(D774,Отчет!$D$1:$D$65536,0)","v":110}]
[1952009502,8,"МЭБ171",1945760044,"Цандере Юлия","М171МЭЛБЗ028","Анализ поведения потребителя в коммерческих информационных сетях",5,"Экзамен","2017/2018 учебный год 3 модуль",null,40,1,0,1722506105,2098,null,"Электронный бизнес",{"$f":"MATCH(D775,Отчет!$D$1:$D$65536,0)","v":130}]
[1952009492,8,"МЭБ171",1937373025,"Суряднов Дмитрий Юрьевич","М171МЭЛБЗ022","Анализ поведения потребителя в коммерческих информационных сетях",5,"Экзамен","2017/2018 учебный год 3 модуль",null,40,1,1,1722506105,2098,null,"Электронный бизнес",{"$f":"MATCH(D776,Отчет!$D$1:$D$65536,0)","v":27}]
[1952009420,6,"МЭБ171",1937373052,"Ким Дин Хо","М171МЭЛБЗ009","Анализ поведения потребителя в коммерческих информационных сетях",5,"Экзамен","2017/2018 учебный год 3 модуль",null,30,1,1,1722506105,2098,null,"Электронный бизнес",{"$f":"MATCH(D777,Отчет!$D$1:$D$65536,0)","v":121}]
[1952009402,7,"МЭБ171",1937373012,"Давыдова Ксения Валерьевна","М171МЭЛБЗ006","Анализ поведения потребителя в коммерческих информационных сетях",5,"Экзамен","2017/2018 учебный год 3 модуль",null,35,1,1,1722506105,2098,null,"Электронный бизнес",{"$f":"MATCH(D778,Отчет!$D$1:$D$65536,0)","v":97}]
[1952009397,8,"МЭБ171",1937372998,"Горобец Валерия Валентиновна","М171МЭЛБЗ005","Анализ поведения потребителя в коммерческих информационных сетях",5,"Экзамен","2017/2018 учебный год 3 модуль",null,40,1,1,1722506105,2098,null,"Электронный бизнес",{"$f":"MATCH(D779,Отчет!$D$1:$D$65536,0)","v":42}]
[1952009506,8,"МЭБ171",1937372945,"Цуканов Иван Викторович","М171МЭЛБЗ024","Анализ поведения потребителя в коммерческих информационных сетях",5,"Экзамен","2017/2018 учебный год 3 модуль",null,40,1,1,1722506105,2098,null,"Электронный бизнес",{"$f":"MATCH(D780,Отчет!$D$1:$D$65536,0)","v":100}]
[1937431526,10,"МИБ171",1937371161,"Варламова Виктория Викторовна","М171МУБЕЗ003","Безопасность информации в государственном и частном секторах",4,"Экзамен","2017/2018 учебный год 3 модуль",null,40,1,1,1722514289,2098,null,"Управление информационной безопасностью",{"$f":"MATCH(D781,Отчет!$D$1:$D$65536,0)","v":106}]
[1942063429,5,"МИБ171",1942008132,"Нурматов Асхат","М171МУБЕЗ022","Безопасность информации в государственном и частном секторах",4,"Экзамен","2017/2018 учебный год 3 модуль",null,20,1,1,1722514289,2098,null,"Управление информационной безопасностью",{"$f":"MATCH(D782,Отчет!$D$1:$D$65536,0)","v":178}]
[1937431692,10,"МИБ171",1937370369,"Иванов Владислав Сергеевич","М171МУБЕЗ007","Безопасность информации в государственном и частном секторах",4,"Экзамен","2017/2018 учебный год 3 модуль",null,40,1,1,1722514289,2098,null,"Управление информационной безопасностью",{"$f":"MATCH(D783,Отчет!$D$1:$D$65536,0)","v":20}]
[1937431468,6,"МИБ171",1937370385,"Бочарова Ксения Михайловна","М171МУБЕЗ002","Безопасность информации в государственном и частном секторах",4,"Экзамен","2017/2018 учебный год 3 модуль",null,24,1,1,1722514289,2098,null,"Управление информационной безопасностью",{"$f":"MATCH(D784,Отчет!$D$1:$D$65536,0)","v":53}]
[1937431643,7,"МИБ171",1937370401,"Жучков Константин Сергеевич","М171МУБЕЗ006","Безопасность информации в государственном и частном секторах",4,"Экзамен","2017/2018 учебный год 3 модуль",null,28,1,1,1722514289,2098,null,"Управление информационной безопасностью",{"$f":"MATCH(D785,Отчет!$D$1:$D$65536,0)","v":116}]
[1937432302,7,"МИБ171",1937370421,"Ряховский Сергей Алексеевич","М171МУБЕЗ018","Безопасность информации в государственном и частном секторах",4,"Экзамен","2017/2018 учебный год 3 модуль",null,28,1,1,1722514289,2098,null,"Управление информационной безопасностью",{"$f":"MATCH(D786,Отчет!$D$1:$D$65536,0)","v":115}]
[1937431827,10,"МИБ171",1937370436,"Михеева Вероника Вячеславовна","М171МУБЕЗ010","Безопасность информации в государственном и частном секторах",4,"Экзамен","2017/2018 учебный год 3 модуль",null,40,1,1,1722514289,2098,null,"Управление информационной безопасностью",{"$f":"MATCH(D787,Отчет!$D$1:$D$65536,0)","v":60}]
[1937431784,6,"МИБ171",1937370452,"Коровин Кирилл Сергеевич","М171МУБЕЗ009","Безопасность информации в государственном и частном секторах",4,"Экзамен","2017/2018 учебный год 3 модуль",null,24,1,1,1722514289,2098,null,"Управление информационной безопасностью",{"$f":"MATCH(D788,Отчет!$D$1:$D$65536,0)","v":136}]
[1937431594,8,"МИБ171",1937370480,"Дарбишева Патимат Гаджимурадовна","М171МУБЕЗ005","Безопасность информации в государственном и частном секторах",4,"Экзамен","2017/2018 учебный год 3 модуль",null,32,1,1,1722514289,2098,null,"Управление информационной безопасностью",{"$f":"MATCH(D789,Отчет!$D$1:$D$65536,0)","v":30}]
[1937431992,8,"МИБ171",1937370498,"Петрина Матвей Олегович","М171МУБЕЗ014","Безопасность информации в государственном и частном секторах",4,"Экзамен","2017/2018 учебный год 3 модуль",null,32,1,1,1722514289,2098,null,"Управление информационной безопасностью",{"$f":"MATCH(D790,Отчет!$D$1:$D$65536,0)","v":75}]
[1937431955,10,"МИБ171",1937370517,"Осадчая Алина Дмитриевна","М171МУБЕЗ013","Безопасность информации в государственном и частном секторах",4,"Экзамен","2017/2018 учебный год 3 модуль",null,40,1,1,1722514289,2098,null,"Управление информационной безопасностью",{"$f":"MATCH(D791,Отчет!$D$1:$D$65536,0)","v":25}]
[1937431918,7,"МИБ171",1937370536,"Оленева Валерия Александровна","М171МУБЕЗ012","Безопасность информации в государственном и частном секторах",4,"Экзамен","2017/2018 учебный год 3 модуль",null,28,1,1,1722514289,2098,null,"Управление информационной безопасностью",{"$f":"MATCH(D792,Отчет!$D$1:$D$65536,0)","v":86}]
[1937432113,10,"МИБ171",1937370552,"Рудаков Андрей Дмитриевич","М171МУБЕЗ017","Безопасность информации в государственном и частном секторах",4,"Экзамен","2017/2018 учебный год 3 модуль",null,40,1,1,1722514289,2098,null,"Управление информационной безопасностью",{"$f":"MATCH(D793,Отчет!$D$1:$D$65536,0)","v":99}]
[1937432071,10,"МИБ171",1937370565,"Пупышева Анна Андреевна","М171МУБЕЗ016","Безопасность информации в государственном и частном секторах",4,"Экзамен","2017/2018 учебный год 3 модуль",null,40,1,1,1722514289,2098,null,"Управление информационной безопасностью",{"$f":"MATCH(D794,Отчет!$D$1:$D$65536,0)","v":101}]
[1937431734,6,"МИБ171",1937370580,"Козлов Никита Вячеславович","М171МУБЕЗ008","Безопасность информации в государственном и частном секторах",4,"Экзамен","2017/2018 учебный год 3 модуль",null,24,1,1,1722514289,2098,null,"Управление информационной безопасностью",{"$f":"MATCH(D795,Отчет!$D$1:$D$65536,0)","v":118}]
[1937432411,8,"МИБ171",1937370596,"Смирнов Данил Вадимович","М171МУБЕЗ020","Безопасность информации в государственном и частном секторах",4,"Экзамен","2017/2018 учебный год 3 модуль",null,32,1,1,1722514289,2098,null,"Управление информационной безопасностью",{"$f":"MATCH(D796,Отчет!$D$1:$D$65536,0)","v":33}]
[1937431871,10,"МИБ171",1937371125,"Никитин Андрей Олегович","М171МУБЕЗ011","Безопасность информации в государственном и частном секторах",4,"Экзамен","2017/2018 учебный год 3 модуль",null,40,1,1,1722514289,2098,null,"Управление информационной безопасностью",{"$f":"MATCH(D797,Отчет!$D$1:$D$65536,0)","v":141}]
[1937431400,8,"МИБ171",1937371143,"Белоус Илия Григорьевич","М171МУБЕЗ001","Безопасность информации в государственном и частном секторах",4,"Экзамен","2017/2018 учебный год 3 модуль",null,32,1,1,1722514289,2098,null,"Управление информационной безопасностью",{"$f":"MATCH(D798,Отчет!$D$1:$D$65536,0)","v":157}]
[1942063397,4,"МИБ171",1942008109,"Кабыкен Даулет","М171МУБЕЗ021","Безопасность информации в государственном и частном секторах",4,"Экзамен","2017/2018 учебный год 3 модуль",null,16,1,1,1722514289,2098,null,"Управление информационной безопасностью",{"$f":"MATCH(D799,Отчет!$D$1:$D$65536,0)","v":177}]
[1937431560,10,"МИБ171",1937371178,"Гультяева Полина Николаевна","М171МУБЕЗ004","Безопасность информации в государственном и частном секторах",4,"Экзамен","2017/2018 учебный год 3 модуль",null,40,1,1,1722514289,2098,null,"Управление информационной безопасностью",{"$f":"MATCH(D800,Отчет!$D$1:$D$65536,0)","v":39}]
[2052760872,8,"МБД171",1940816134,"Арча Александр Михайлович","М171МСБДН021","История технологического развития общества",3,"Экзамен","2017/2018 учебный год 3 модуль",null,24,1,0,null,5028,null,"Системы больших данных",{"$f":"MATCH(D801,Отчет!$D$1:$D$65536,0)","v":111}]
[2052760884,8,"МБД171",1940751998,"Семес Алексей Владимирович","М171МСБДН026","История технологического развития общества",3,"Экзамен","2017/2018 учебный год 3 модуль",null,24,1,0,null,5028,null,"Системы больших данных",{"$f":"MATCH(D802,Отчет!$D$1:$D$65536,0)","v":66}]
[2052761015,9,"МБД171",1942007946,"Ержанова Тогжан","М171МСБДН029","История технологического развития общества",3,"Экзамен","2017/2018 учебный год 3 модуль",null,27,1,1,null,5028,null,"Системы больших данных",{"$f":"MATCH(D803,Отчет!$D$1:$D$65536,0)","v":61}]
[2073499336,9,"МБД171",1946791924,"Скачок Андрей","М171МСБДН030","История технологического развития общества",3,"Экзамен","2017/2018 учебный год 3 модуль",null,27,1,0,null,5028,null,"Системы больших данных",{"$f":"MATCH(D804,Отчет!$D$1:$D$65536,0)","v":151}]
[2066140404,7,"МБД171",1950215429,"Фаур Назим Ахмад","М171МСБДН032","История технологического развития общества",3,"Экзамен","2017/2018 учебный год 3 модуль",null,21,1,0,null,5028,null,"Системы больших данных",{"$f":"MATCH(D805,Отчет!$D$1:$D$65536,0)","v":89}]
[2052760949,6,"МБД171",1972663851,"Ислам Эмди Шафикул","М171МСБДН036","История технологического развития общества",3,"Экзамен","2017/2018 учебный год 3 модуль",null,18,1,0,null,5028,null,"Системы больших данных",{"$f":"MATCH(D806,Отчет!$D$1:$D$65536,0)","v":84}]
[1956302560,6,"МБИ172",1937363509,"Колесникова Анна Сергеевна","М171МБИИН035","Методология и практика ИТ-консалтинга",5,"Экзамен","2017/2018 учебный год 3 модуль",null,30,1,1,1722551595,2098,null,"Бизнес-информатика",{"$f":"MATCH(D807,Отчет!$D$1:$D$65536,0)","v":161}]
[1956304327,10,"МБИ172",1941989121,"Павлова Татьяна Михайловна","М171МБИИН089","Методология и практика ИТ-консалтинга",5,"Экзамен","2017/2018 учебный год 3 модуль",null,50,1,0,1722551595,2098,null,"Бизнес-информатика",{"$f":"MATCH(D808,Отчет!$D$1:$D$65536,0)","v":15}]
[1956303386,7,"МБИ173",1937363561,"Сиднев Игорь Дмитриевич","М171МБИИН060","Методология и практика ИТ-консалтинга",5,"Экзамен","2017/2018 учебный год 3 модуль",null,35,1,1,1722551595,2098,null,"Бизнес-информатика",{"$f":"MATCH(D809,Отчет!$D$1:$D$65536,0)","v":117}]
[1956304383,5,"МБИ173",1937363574,"Паймакова Татьяна Сергеевна","М171МБИИН049","Методология и практика ИТ-консалтинга",5,"Экзамен","2017/2018 учебный год 3 модуль",null,25,1,1,1722551595,2098,null,"Бизнес-информатика",{"$f":"MATCH(D810,Отчет!$D$1:$D$65536,0)","v":156}]
[1956304436,9,"МБИ173",1937363587,"Новицкая Валерия Андреевна","М171МБИИН048","Методология и практика ИТ-консалтинга",5,"Экзамен","2017/2018 учебный год 3 модуль",null,45,1,1,1722551595,2098,null,"Бизнес-информатика",{"$f":"MATCH(D811,Отчет!$D$1:$D$65536,0)","v":54}]
[1956303715,8,"МБИ172",1937363600,"Конова Марина Валерьевна","М171МБИИН036","Методология и практика ИТ-консалтинга",5,"Экзамен","2017/2018 учебный год 3 модуль",null,40,1,1,1722551595,2098,null,"Бизнес-информатика",{"$f":"MATCH(D812,Отчет!$D$1:$D$65536,0)","v":23}]
[1956302311,8,"МБИ173",1937363613,"Улямаев Альберт Ирекович","М171МБИИН066","Методология и практика ИТ-консалтинга",5,"Экзамен","2017/2018 учебный год 3 модуль",null,40,1,1,1722551595,2098,null,"Бизнес-информатика",{"$f":"MATCH(D813,Отчет!$D$1:$D$65536,0)","v":82}]
[1956303239,8,"МБИ171",1937363332,"Войнов Евгений Вадимович","М171МБИИН018","Методология и практика ИТ-консалтинга",5,"Экзамен","2017/2018 учебный год 3 модуль",null,40,1,1,1722551595,2098,null,"Бизнес-информатика",{"$f":"MATCH(D814,Отчет!$D$1:$D$65536,0)","v":35}]
[1956304131,4,"МБИ173",1937363345,"Пьянов Родион Альбертович","М171МБИИН054","Методология и практика ИТ-консалтинга",5,"Экзамен","2017/2018 учебный год 3 модуль",null,20,1,1,1722551595,2098,null,"Бизнес-информатика",{"$f":"MATCH(D815,Отчет!$D$1:$D$65536,0)","v":149}]
[1956301998,8,"МБИ173",1937363359,"Юдин Андрей Анатольевич","М171МБИИН070","Методология и практика ИТ-консалтинга",5,"Экзамен","2017/2018 учебный год 3 модуль",null,40,1,1,1722551595,2098,null,"Бизнес-информатика",{"$f":"MATCH(D816,Отчет!$D$1:$D$65536,0)","v":132}]
[1956303634,4,"МБИ172",1937363372,"Карасев Михаил Николаевич","М171МБИИН031","Методология и практика ИТ-консалтинга",5,"Экзамен","2017/2018 учебный год 3 модуль",null,20,1,1,1722551595,2098,null,"Бизнес-информатика",{"$f":"MATCH(D817,Отчет!$D$1:$D$65536,0)","v":169}]
[1956302119,8,"МБИ173",1937363386,"Сафохин Андрей Дмитриевич","М171МБИИН058","Методология и практика ИТ-консалтинга",5,"Экзамен","2017/2018 учебный год 3 модуль",null,40,1,1,1722551595,2098,null,"Бизнес-информатика",{"$f":"MATCH(D818,Отчет!$D$1:$D$65536,0)","v":26}]
[1956303411,8,"МБИ173",1937363399,"Токарев Иван Максимович","М171МБИИН065","Методология и практика ИТ-консалтинга",5,"Экзамен","2017/2018 учебный год 3 модуль",null,40,1,1,1722551595,2098,null,"Бизнес-информатика",{"$f":"MATCH(D819,Отчет!$D$1:$D$65536,0)","v":73}]
[1956303691,8,"МБИ171",1937363441,"Бардакова Мария Вячеславовна","М171МБИИН008","Методология и практика ИТ-консалтинга",5,"Экзамен","2017/2018 учебный год 3 модуль",null,40,1,1,1722551595,2098,null,"Бизнес-информатика",{"$f":"MATCH(D820,Отчет!$D$1:$D$65536,0)","v":129}]
[1956303763,6,"МБИ171",1937363482,"Гайнутдинов Наиль Анварович","М171МБИИН020","Методология и практика ИТ-консалтинга",5,"Экзамен","2017/2018 учебный год 3 модуль",null,30,1,1,1722551595,2098,null,"Бизнес-информатика",{"$f":"MATCH(D821,Отчет!$D$1:$D$65536,0)","v":159}]
[1956302926,8,"МБИ173",1937363495,"Черепнина Дарья Олеговна","М171МБИИН068","Методология и практика ИТ-консалтинга",5,"Экзамен","2017/2018 учебный год 3 модуль",null,40,1,1,1722551595,2098,null,"Бизнес-информатика",{"$f":"MATCH(D822,Отчет!$D$1:$D$65536,0)","v":67}]
[1956302193,8,"МБИ173",1937364016,"Чубаров Алексей Глебович","М171МБИИН069","Методология и практика ИТ-консалтинга",5,"Экзамен","2017/2018 учебный год 3 модуль",null,40,1,1,1722551595,2098,null,"Бизнес-информатика",{"$f":"MATCH(D823,Отчет!$D$1:$D$65536,0)","v":131}]
[1956302283,5,"МБИ173",1937364031,"Полторак Анастасия Игоревна","М171МБИИН051","Методология и практика ИТ-консалтинга",5,"Экзамен","2017/2018 учебный год 3 модуль",null,25,1,1,1722551595,2098,null,"Бизнес-информатика",{"$f":"MATCH(D824,Отчет!$D$1:$D$65536,0)","v":103}]
[1956334426,6,"МБИ171",1937364044,"Бондарь Сергей Борисович","М171МБИИН015","Методология и практика ИТ-консалтинга",5,"Экзамен","2017/2018 учебный год 3 модуль",null,30,1,1,1722551595,2098,null,"Бизнес-информатика",{"$f":"MATCH(D825,Отчет!$D$1:$D$65536,0)","v":170}]
[1956304216,5,"МБИ171",1937364058,"Герасимов Станислав Александрович","М171МБИИН023","Методология и практика ИТ-консалтинга",5,"Экзамен","2017/2018 учебный год 3 модуль",null,25,1,1,1722551595,2098,null,"Бизнес-информатика",{"$f":"MATCH(D826,Отчет!$D$1:$D$65536,0)","v":140}]
[1956303045,9,"МБИ172",1937364110,"Клименко Екатерина Андреевна","М171МБИИН034","Методология и практика ИТ-консалтинга",5,"Экзамен","2017/2018 учебный год 3 модуль",null,45,1,1,1722551595,2098,null,"Бизнес-информатика",{"$f":"MATCH(D827,Отчет!$D$1:$D$65536,0)","v":28}]
[1956301965,4,"МБИ171",1937364123,"Вишняков Азим Азимович","М171МБИИН017","Методология и практика ИТ-консалтинга",5,"Экзамен","2017/2018 учебный год 3 модуль",null,20,1,1,1722551595,2098,null,"Бизнес-информатика",{"$f":"MATCH(D828,Отчет!$D$1:$D$65536,0)","v":80}]
[1956303488,8,"МБИ172",1937364163,"Миллер Кирилл Александрович","М171МБИИН046","Методология и практика ИТ-консалтинга",5,"Экзамен","2017/2018 учебный год 3 модуль",null,40,1,1,1722551595,2098,null,"Бизнес-информатика",{"$f":"MATCH(D829,Отчет!$D$1:$D$65536,0)","v":79}]
[1956303606,6,"МБИ171",1937363851,"Бадаева Мария Мингияновна","М171МБИИН007","Методология и практика ИТ-консалтинга",5,"Экзамен","2017/2018 учебный год 3 модуль",null,30,1,1,1722551595,2098,null,"Бизнес-информатика",{"$f":"MATCH(D830,Отчет!$D$1:$D$65536,0)","v":153}]
[1956302071,5,"МБИ172",1937363917,"Мартынов Александр Дмитриевич","М171МБИИН044","Методология и практика ИТ-консалтинга",5,"Экзамен","2017/2018 учебный год 3 модуль",null,25,1,1,1722551595,2098,null,"Бизнес-информатика",{"$f":"MATCH(D831,Отчет!$D$1:$D$65536,0)","v":167}]
[1956302502,6,"МБИ172",1937363957,"Ершова Александра Романовна","М171МБИИН028","Методология и практика ИТ-консалтинга",5,"Экзамен","2017/2018 учебный год 3 модуль",null,30,1,1,1722551595,2098,null,"Бизнес-информатика",{"$f":"MATCH(D832,Отчет!$D$1:$D$65536,0)","v":138}]
[1956303943,7,"МБИ172",1937363970,"Лебедева Надежда Юрьевна","М171МБИИН040","Методология и практика ИТ-консалтинга",5,"Экзамен","2017/2018 учебный год 3 модуль",null,35,1,1,1722551595,2098,null,"Бизнес-информатика",{"$f":"MATCH(D833,Отчет!$D$1:$D$65536,0)","v":135}]
[1959039851,null,null,1937363653,"Агарков Ярослав Алексеевич","М171МБИИН001","Методология и практика ИТ-консалтинга",5,"Экзамен","2017/2018 учебный год 3 модуль",0,0,null,1,1722551595,2098,null,"Бизнес-информатика",{"$f":"MATCH(D834,Отчет!$D$1:$D$65536,0)","v":179}]
[1956302047,8,"МБИ172",1937363666,"Захаров Алексей Александрович","М171МБИИН029","Методология и практика ИТ-консалтинга",5,"Экзамен","2017/2018 учебный год 3 модуль",null,40,1,1,1722551595,2098,null,"Бизнес-информатика",{"$f":"MATCH(D835,Отчет!$D$1:$D$65536,0)","v":72}]
[1956303283,5,"МБИ171",1937363719,"Белов Григорий Игоревич","М171МБИИН010","Методология и практика ИТ-консалтинга",5,"Экзамен","2017/2018 учебный год 3 модуль",null,25,1,1,1722551595,2098,null,"Бизнес-информатика",{"$f":"MATCH(D836,Отчет!$D$1:$D$65536,0)","v":162}]
[1956301909,9,"МБИ173",1937363758,"Ригин Алексей Алексеевич","М171МБИИН055","Методология и практика ИТ-консалтинга",5,"Экзамен","2017/2018 учебный год 3 модуль",null,45,1,1,1722551595,2098,null,"Бизнес-информатика",{"$f":"MATCH(D837,Отчет!$D$1:$D$65536,0)","v":64}]
[1956304412,8,"МБИ172",1937363838,"Лиховцев Вадим Александрович","М171МБИИН041","Методология и практика ИТ-консалтинга",5,"Экзамен","2017/2018 учебный год 3 модуль",null,40,1,1,1722551595,2098,null,"Бизнес-информатика",{"$f":"MATCH(D838,Отчет!$D$1:$D$65536,0)","v":68}]
[1956303514,8,"МБИ173",1937364177,"Сухова Ксения Игоревна","М171МБИИН063","Методология и практика ИТ-консалтинга",5,"Экзамен","2017/2018 учебный год 3 модуль",null,40,1,1,1722551595,2098,null,"Бизнес-информатика",{"$f":"MATCH(D839,Отчет!$D$1:$D$65536,0)","v":77}]
[1956302424,6,"МБИ171",1937364220,"Бутченко Антон Олегович","М171МБИИН016","Методология и практика ИТ-консалтинга",5,"Экзамен","2017/2018 учебный год 3 модуль",null,30,1,1,1722551595,2098,null,"Бизнес-информатика",{"$f":"MATCH(D840,Отчет!$D$1:$D$65536,0)","v":57}]
[1956304300,8,"МБИ172",1937364001,"Калашников Сергей Владимирович","М171МБИИН030","Методология и практика ИТ-консалтинга",5,"Экзамен","2017/2018 учебный год 3 модуль",null,40,1,1,1722551595,2098,null,"Бизнес-информатика",{"$f":"MATCH(D841,Отчет!$D$1:$D$65536,0)","v":50}]
[1956303811,8,"МБИ172",1940815787,"Музыка Наталия Константиновна","М171МБИИН077","Методология и практика ИТ-консалтинга",5,"Экзамен","2017/2018 учебный год 3 модуль",null,40,1,1,1722551595,2098,null,"Бизнес-информатика",{"$f":"MATCH(D842,Отчет!$D$1:$D$65536,0)","v":31}]
[1956303267,8,"МБИ172",1940815800,"Кривенцов Феликс Константинович","М171МБИИН072","Методология и практика ИТ-консалтинга",5,"Экзамен","2017/2018 учебный год 3 модуль",null,40,1,1,1722551595,2098,null,"Бизнес-информатика",{"$f":"MATCH(D843,Отчет!$D$1:$D$65536,0)","v":119}]
[1956302783,6,"МБИ171",1940815842,"Дворяшин Дмитрий Александрович","М171МБИИН071","Методология и практика ИТ-консалтинга",5,"Экзамен","2017/2018 учебный год 3 модуль",null,30,1,0,1722551595,2098,null,"Бизнес-информатика",{"$f":"MATCH(D844,Отчет!$D$1:$D$65536,0)","v":166}]
[1956303971,7,"МБИ173",1940751185,"Овсянникова Ольга Андреевна","М171МБИИН078","Методология и практика ИТ-консалтинга",5,"Экзамен","2017/2018 учебный год 3 модуль",null,35,1,0,1722551595,2098,null,"Бизнес-информатика",{"$f":"MATCH(D845,Отчет!$D$1:$D$65536,0)","v":69}]
[1956302755,7,"МБИ172",1940815727,"Монгуш Алдын-Ай Владимировна","М171МБИИН076","Методология и практика ИТ-консалтинга",5,"Экзамен","2017/2018 учебный год 3 модуль",null,35,1,0,1722551595,2098,null,"Бизнес-информатика",{"$f":"MATCH(D846,Отчет!$D$1:$D$65536,0)","v":104}]
[1956302995,7,"МБИ173",1940815743,"Шумилин Дмитрий Станиславович","М171МБИИН080","Методология и практика ИТ-консалтинга",5,"Экзамен","2017/2018 учебный год 3 модуль",null,35,1,0,1722551595,2098,null,"Бизнес-информатика",{"$f":"MATCH(D847,Отчет!$D$1:$D$65536,0)","v":150}]
[2166481770,6,"МБИ173",2162833425,"Майборода Кирилл Алексеевич","М161МБИИН048","Методология и практика ИТ-консалтинга",5,"Экзамен","2017/2018 учебный год 3 модуль",null,30,1,1,1722551595,2098,null,"Бизнес-информатика",{"$f":"MATCH(D848,Отчет!$D$1:$D$65536,0)","v":122}]
[1956302628,6,"МБИ173",1945753603,"Пак Александр Сергеевич","М171МБИИН096","Методология и практика ИТ-консалтинга",5,"Экзамен","2017/2018 учебный год 3 модуль",null,30,1,0,1722551595,2098,null,"Бизнес-информатика",{"$f":"MATCH(D849,Отчет!$D$1:$D$65536,0)","v":114}]
[1956303538,4,"МБИ172",1947090330,"Варданян Карен Оганесович","М171МБИИН097","Методология и практика ИТ-консалтинга",5,"Экзамен","2017/2018 учебный год 3 модуль",null,20,1,1,1722551595,2098,null,"Бизнес-информатика",{"$f":"MATCH(D850,Отчет!$D$1:$D$65536,0)","v":175}]
[1956303337,8,"МБИ172",1941989134,"Морева Галина Сергеевна","М171МБИИН088","Методология и практика ИТ-консалтинга",5,"Экзамен","2017/2018 учебный год 3 модуль",null,40,1,0,1722551595,2098,null,"Бизнес-информатика",{"$f":"MATCH(D851,Отчет!$D$1:$D$65536,0)","v":94}]
[1956301880,6,"МБИ172",1941989147,"Мингазов Аскар Альбертович","М171МБИИН087","Методология и практика ИТ-консалтинга",5,"Экзамен","2017/2018 учебный год 3 модуль",null,30,1,0,1722551595,2098,null,"Бизнес-информатика",{"$f":"MATCH(D852,Отчет!$D$1:$D$65536,0)","v":171}]
[1956302253,8,"МБИ172",1941989160,"Мельникова Анастасия Игоревна","М171МБИИН086","Методология и практика ИТ-консалтинга",5,"Экзамен","2017/2018 учебный год 3 модуль",null,40,1,0,1722551595,2098,null,"Бизнес-информатика",{"$f":"MATCH(D853,Отчет!$D$1:$D$65536,0)","v":46}]
[1956304461,10,"МБИ171",1941989199,"Бородко Вера Николаевна","М171МБИИН082","Методология и практика ИТ-консалтинга",5,"Экзамен","2017/2018 учебный год 3 модуль",null,50,1,0,1722551595,2098,null,"Бизнес-информатика",{"$f":"MATCH(D854,Отчет!$D$1:$D$65536,0)","v":18}]
[1956303093,8,"МБИ171",1942008650,"Гареев Эмиль Хамидович","М171МБИИН085","Методология и практика ИТ-консалтинга",5,"Экзамен","2017/2018 учебный год 3 модуль",null,40,1,1,1722551595,2098,null,"Бизнес-информатика",{"$f":"MATCH(D855,Отчет!$D$1:$D$65536,0)","v":144}]
[1956302891,9,"МБИ171",1944931265,"Бытка Дарья","М171МБИИН093","Методология и практика ИТ-консалтинга",5,"Экзамен","2017/2018 учебный год 3 модуль",null,45,1,1,1722551595,2098,null,"Бизнес-информатика",{"$f":"MATCH(D856,Отчет!$D$1:$D$65536,0)","v":22}]
[1956301837,7,"МБИ173",1944935723,"Ким Анатолий","М171МБИИН095","Методология и практика ИТ-консалтинга",5,"Экзамен","2017/2018 учебный год 3 модуль",null,35,1,0,1722551595,2098,null,"Бизнес-информатика",{"$f":"MATCH(D857,Отчет!$D$1:$D$65536,0)","v":176}]
[1956303558,4,"МБИ173",1941989079,"Феофанов Лев Андреевич","М171МБИИН092","Методология и практика ИТ-консалтинга",5,"Экзамен","2017/2018 учебный год 3 модуль",null,20,1,0,1722551595,2098,null,"Бизнес-информатика",{"$f":"MATCH(D858,Отчет!$D$1:$D$65536,0)","v":172}]
[1956304188,5,"МБИ173",1941989095,"Сарычев Роман Владимирович","М171МБИИН091","Методология и практика ИТ-консалтинга",5,"Экзамен","2017/2018 учебный год 3 модуль",null,25,1,0,1722551595,2098,null,"Бизнес-информатика",{"$f":"MATCH(D859,Отчет!$D$1:$D$65536,0)","v":134}]
[1956168596,10,"МБИ173",1941989108,"Рябов Дмитрий Валерьевич","М171МБИИН090","Методология и практика ИТ-консалтинга",5,"Экзамен","2017/2018 учебный год 3 модуль",null,50,1,1,1722551595,2098,null,"Бизнес-информатика",{"$f":"MATCH(D860,Отчет!$D$1:$D$65536,0)","v":14}]
[1956301853,4,"МБИ171",1937363548,"Галков Алексей Александрович","М171МБИИН021","Методология и практика ИТ-консалтинга",5,"Экзамен","2017/2018 учебный год 3 модуль",null,20,1,1,1722551595,2098,null,"Бизнес-информатика",{"$f":"MATCH(D861,Отчет!$D$1:$D$65536,0)","v":173}]
[1950547104,9,"МБД171",1950215429,"Фаур Назим Ахмад","М171МСБДН032","Перспективные методы анализа данных и Большие данные в бизнес-интеллекте",5,"Экзамен","2017/2018 учебный год 3 модуль",null,45,1,0,1722525802,2098,null,"Системы больших данных",{"$f":"MATCH(D862,Отчет!$D$1:$D$65536,0)","v":89}]
[1950547046,10,"МБД171",1950255571,"Сиахпутра Эдо","М171МСБДН031","Перспективные методы анализа данных и Большие данные в бизнес-интеллекте",5,"Экзамен","2017/2018 учебный год 3 модуль",null,50,1,1,1722525802,2098,null,"Системы больших данных",{"$f":"MATCH(D863,Отчет!$D$1:$D$65536,0)","v":112}]
[1959820003,7,"МБД171",1959612809,"Штройхофэр Кристофер","М171МСБДН033","Перспективные методы анализа данных и Большие данные в бизнес-интеллекте",5,"Экзамен","2017/2018 учебный год 3 модуль",null,35,1,1,1722525802,2098,null,"Системы больших данных",{"$f":"MATCH(D864,Отчет!$D$1:$D$65536,0)","v":40}]
[1942060287,9,"МБД171",1942007946,"Ержанова Тогжан","М171МСБДН029","Перспективные методы анализа данных и Большие данные в бизнес-интеллекте",5,"Экзамен","2017/2018 учебный год 3 модуль",null,45,1,1,1722525802,2098,null,"Системы больших данных",{"$f":"MATCH(D865,Отчет!$D$1:$D$65536,0)","v":61}]
[1940929954,9,"МБД171",1940816171,"Ширяева Кристина Александровна","М171МСБДН028","Перспективные методы анализа данных и Большие данные в бизнес-интеллекте",5,"Экзамен","2017/2018 учебный год 3 модуль",null,45,1,0,1722525802,2098,null,"Системы больших данных",{"$f":"MATCH(D866,Отчет!$D$1:$D$65536,0)","v":70}]
[1940929823,10,"МБД171",1940816185,"Прохоренков Дмитрий Викторович","М171МСБДН024","Перспективные методы анализа данных и Большие данные в бизнес-интеллекте",5,"Экзамен","2017/2018 учебный год 3 модуль",null,50,1,0,1722525802,2098,null,"Системы больших данных",{"$f":"MATCH(D867,Отчет!$D$1:$D$65536,0)","v":13}]
[1940929790,9,"МБД171",1940816199,"Обаляева Екатерина Ильинична","М171МСБДН023","Перспективные методы анализа данных и Большие данные в бизнес-интеллекте",5,"Экзамен","2017/2018 учебный год 3 модуль",null,45,1,0,1722525802,2098,null,"Системы больших данных",{"$f":"MATCH(D868,Отчет!$D$1:$D$65536,0)","v":36}]
[1937430923,9,"МБД171",1937366348,"Шеин Александр Владимирович","М171МСБДН017","Перспективные методы анализа данных и Большие данные в бизнес-интеллекте",5,"Экзамен","2017/2018 учебный год 3 модуль",null,45,1,1,1722525802,2098,null,"Системы больших данных",{"$f":"MATCH(D869,Отчет!$D$1:$D$65536,0)","v":17}]
[1937430351,9,"МБД171",1937366366,"Гатина Эльмира Ринатовна","М171МСБДН003","Перспективные методы анализа данных и Большие данные в бизнес-интеллекте",5,"Экзамен","2017/2018 учебный год 3 модуль",null,45,1,1,1722525802,2098,null,"Системы больших данных",{"$f":"MATCH(D870,Отчет!$D$1:$D$65536,0)","v":34}]
[1937430637,10,"МБД171",1937366380,"Полушин Глеб Валерьевич","М171МСБДН011","Перспективные методы анализа данных и Большие данные в бизнес-интеллекте",5,"Экзамен","2017/2018 учебный год 3 модуль",null,50,1,1,1722525802,2098,null,"Системы больших данных",{"$f":"MATCH(D871,Отчет!$D$1:$D$65536,0)","v":62}]
[1937430957,9,"МБД171",1937366394,"Шубина Виктория Ильинична","М171МСБДН018","Перспективные методы анализа данных и Большие данные в бизнес-интеллекте",5,"Экзамен","2017/2018 учебный год 3 модуль",null,45,1,1,1722525802,2098,null,"Системы больших данных",{"$f":"MATCH(D872,Отчет!$D$1:$D$65536,0)","v":32}]
[1937430891,9,"МБД171",1937366407,"Чувилина Анна Андреевна","М171МСБДН016","Перспективные методы анализа данных и Большие данные в бизнес-интеллекте",5,"Экзамен","2017/2018 учебный год 3 модуль",null,45,1,1,1722525802,2098,null,"Системы больших данных",{"$f":"MATCH(D873,Отчет!$D$1:$D$65536,0)","v":43}]
[1937430321,10,"МБД171",1937366422,"Вилкова Елена Александровна","М171МСБДН002","Перспективные методы анализа данных и Большие данные в бизнес-интеллекте",5,"Экзамен","2017/2018 учебный год 3 модуль",null,50,1,1,1722525802,2098,null,"Системы больших данных",{"$f":"MATCH(D874,Отчет!$D$1:$D$65536,0)","v":12}]
[1937430724,9,"МБД171",1937366436,"Сысоев Марк Валерьевич","М171МСБДН013","Перспективные методы анализа данных и Большие данные в бизнес-интеллекте",5,"Экзамен","2017/2018 учебный год 3 модуль",null,45,1,1,1722525802,2098,null,"Системы больших данных",{"$f":"MATCH(D875,Отчет!$D$1:$D$65536,0)","v":45}]
[1937430385,8,"МБД171",1937366244,"Дмитриев Виктор Андреевич","М171МСБДН004","Перспективные методы анализа данных и Большие данные в бизнес-интеллекте",5,"Экзамен","2017/2018 учебный год 3 модуль",null,40,1,1,1722525802,2098,null,"Системы больших данных",{"$f":"MATCH(D876,Отчет!$D$1:$D$65536,0)","v":63}]
[1937430593,8,"МБД171",1937366259,"Пахолкова Анна Юрьевна","М171МСБДН010","Перспективные методы анализа данных и Большие данные в бизнес-интеллекте",5,"Экзамен","2017/2018 учебный год 3 модуль",null,40,1,1,1722525802,2098,null,"Системы больших данных",{"$f":"MATCH(D877,Отчет!$D$1:$D$65536,0)","v":56}]
[1937430449,8,"МБД171",1937366273,"Иванова Анастасия Михайловна","М171МСБДН006","Перспективные методы анализа данных и Большие данные в бизнес-интеллекте",5,"Экзамен","2017/2018 учебный год 3 модуль",null,40,1,1,1722525802,2098,null,"Системы больших данных",{"$f":"MATCH(D878,Отчет!$D$1:$D$65536,0)","v":71}]
[1937430989,9,"МБД171",1937366289,"Яковлева Дарья Александровна","М171МСБДН019","Перспективные методы анализа данных и Большие данные в бизнес-интеллекте",5,"Экзамен","2017/2018 учебный год 3 модуль",null,45,1,1,1722525802,2098,null,"Системы больших данных",{"$f":"MATCH(D879,Отчет!$D$1:$D$65536,0)","v":96}]
[1937430838,9,"МБД171",1937366302,"Ферягина Екатерина Андреевна","М171МСБДН015","Перспективные методы анализа данных и Большие данные в бизнес-интеллекте",5,"Экзамен","2017/2018 учебный год 3 модуль",null,45,1,1,1722525802,2098,null,"Системы больших данных",{"$f":"MATCH(D880,Отчет!$D$1:$D$65536,0)","v":76}]
[1937430680,10,"МБД171",1937366317,"Рахимов Севастьян Эдуардович","М171МСБДН012","Перспективные методы анализа данных и Большие данные в бизнес-интеллекте",5,"Экзамен","2017/2018 учебный год 3 модуль",null,50,1,1,1722525802,2098,null,"Системы больших данных",{"$f":"MATCH(D881,Отчет!$D$1:$D$65536,0)","v":59}]
[1937430556,10,"МБД171",1937366334,"Кулаков Александр Сергеевич","М171МСБДН009","Перспективные методы анализа данных и Большие данные в бизнес-интеллекте",5,"Экзамен","2017/2018 учебный год 3 модуль",null,50,1,1,1722525802,2098,null,"Системы больших данных",{"$f":"MATCH(D882,Отчет!$D$1:$D$65536,0)","v":19}]
[1937430514,8,"МБД171",1937366160,"Канищев Кирилл Валерьевич","М171МСБДН008","Перспективные методы анализа данных и Большие данные в бизнес-интеллекте",5,"Экзамен","2017/2018 учебный год 3 модуль",null,40,1,1,1722525802,2098,null,"Системы больших данных",{"$f":"MATCH(D883,Отчет!$D$1:$D$65536,0)","v":109}]
[1937430777,7,"МБД171",1937366175,"Трегубова Инесса Александровна","М171МСБДН014","Перспективные методы анализа данных и Большие данные в бизнес-интеллекте",5,"Экзамен","2017/2018 учебный год 3 модуль",null,35,1,1,1722525802,2098,null,"Системы больших данных",{"$f":"MATCH(D884,Отчет!$D$1:$D$65536,0)","v":127}]
[1937430483,10,"МБД171",1937366203,"Ильяшенко Григорий Анатольевич","М171МСБДН007","Перспективные методы анализа данных и Большие данные в бизнес-интеллекте",5,"Экзамен","2017/2018 учебный год 3 модуль",null,50,1,1,1722525802,2098,null,"Системы больших данных",{"$f":"MATCH(D885,Отчет!$D$1:$D$65536,0)","v":81}]
[1937430275,9,"МБД171",1937366216,"Архипенко Анастасия Дмитриевна","М171МСБДН001","Перспективные методы анализа данных и Большие данные в бизнес-интеллекте",5,"Экзамен","2017/2018 учебный год 3 модуль",null,45,1,1,1722525802,2098,null,"Системы больших данных",{"$f":"MATCH(D886,Отчет!$D$1:$D$65536,0)","v":16}]
[1937430418,10,"МБД171",1937366231,"Дякин Николай Валерьевич","М171МСБДН005","Перспективные методы анализа данных и Большие данные в бизнес-интеллекте",5,"Экзамен","2017/2018 учебный год 3 модуль",null,50,1,1,1722525802,2098,null,"Системы больших данных",{"$f":"MATCH(D887,Отчет!$D$1:$D$65536,0)","v":21}]
[1940929918,8,"МБД171",1940816098,"Телышева Татьяна Романовна","М171МСБДН027","Перспективные методы анализа данных и Большие данные в бизнес-интеллекте",5,"Экзамен","2017/2018 учебный год 3 модуль",null,40,1,0,1722525802,2098,null,"Системы больших данных",{"$f":"MATCH(D888,Отчет!$D$1:$D$65536,0)","v":93}]
[1940929853,8,"МБД171",1940816117,"Садыкова Сабина Бахтияровна","М171МСБДН025","Перспективные методы анализа данных и Большие данные в бизнес-интеллекте",5,"Экзамен","2017/2018 учебный год 3 модуль",null,40,1,0,1722525802,2098,null,"Системы больших данных",{"$f":"MATCH(D889,Отчет!$D$1:$D$65536,0)","v":58}]
[1940929730,9,"МБД171",1940816134,"Арча Александр Михайлович","М171МСБДН021","Перспективные методы анализа данных и Большие данные в бизнес-интеллекте",5,"Экзамен","2017/2018 учебный год 3 модуль",null,45,1,0,1722525802,2098,null,"Системы больших данных",{"$f":"MATCH(D890,Отчет!$D$1:$D$65536,0)","v":111}]
[1940929760,8,"МБД171",1940816150,"Иванов Никита Павлович","М171МСБДН022","Перспективные методы анализа данных и Большие данные в бизнес-интеллекте",5,"Экзамен","2017/2018 учебный год 3 модуль",null,40,1,0,1722525802,2098,null,"Системы больших данных",{"$f":"MATCH(D891,Отчет!$D$1:$D$65536,0)","v":48}]
[1940929883,8,"МБД171",1940751998,"Семес Алексей Владимирович","М171МСБДН026","Перспективные методы анализа данных и Большие данные в бизнес-интеллекте",5,"Экзамен","2017/2018 учебный год 3 модуль",null,40,1,0,1722525802,2098,null,"Системы больших данных",{"$f":"MATCH(D892,Отчет!$D$1:$D$65536,0)","v":66}]
[1972266229,7,"МБД171",1970446330,"- Маниканта Рукмангада","М171МСБДН035","Перспективные методы анализа данных и Большие данные в бизнес-интеллекте",5,"Экзамен","2017/2018 учебный год 3 модуль",null,35,1,1,1722525802,2098,null,"Системы больших данных",{"$f":"MATCH(D893,Отчет!$D$1:$D$65536,0)","v":120}]
[1977576507,9,"МБД171",1972663851,"Ислам Эмди Шафикул","М171МСБДН036","Перспективные методы анализа данных и Большие данные в бизнес-интеллекте",5,"Экзамен","2017/2018 учебный год 3 модуль",null,45,1,0,1722525802,2098,null,"Системы больших данных",{"$f":"MATCH(D894,Отчет!$D$1:$D$65536,0)","v":84}]
[2101189689,9,"МБД171",2097188263,"Леонов Антон Александрович","М161МЖУРД016","Перспективные методы анализа данных и Большие данные в бизнес-интеллекте",5,"Экзамен","2017/2018 учебный год 3 модуль",null,45,1,1,1722525802,2098,"ikPlanned","Системы больших данных",{"$f":"MATCH(D895,Отчет!$D$1:$D$65536,0)","v":168}]
[1947328344,8,"МБД171",1946791924,"Скачок Андрей","М171МСБДН030","Перспективные методы анализа данных и Большие данные в бизнес-интеллекте",5,"Экзамен","2017/2018 учебный год 3 модуль",null,40,1,0,1722525802,2098,null,"Системы больших данных",{"$f":"MATCH(D896,Отчет!$D$1:$D$65536,0)","v":151}]
[2052765401,9,"МБИ172",1940750974,"Мирской Александр Леонидович","М171МБИИН075","Практика управленческих решений в системе международного бизнеса",3,"Экзамен","2017/2018 учебный год 3 модуль",null,27,1,0,null,5028,null,"Бизнес-информатика",{"$f":"MATCH(D897,Отчет!$D$1:$D$65536,0)","v":29}]
[2052765641,9,"МБИ172",1944939253,"Вовк Иларион Анатольевич","М171МБИИН094","Практика управленческих решений в системе международного бизнеса",3,"Экзамен","2017/2018 учебный год 3 модуль",null,27,1,0,null,5028,null,"Бизнес-информатика",{"$f":"MATCH(D898,Отчет!$D$1:$D$65536,0)","v":98}]
[2052765898,9,"МБИ171",1937363811,"Григорьева Юлия Сергеевна","М171МБИИН024","Практика управленческих решений в системе международного бизнеса",3,"Экзамен","2017/2018 учебный год 3 модуль",null,27,1,1,null,5028,null,"Бизнес-информатика",{"$f":"MATCH(D899,Отчет!$D$1:$D$65536,0)","v":41}]
[1940922473,8,"МЭБ171",1940816486,"Кондращенко Ярослав Константинович","М171МЭЛБЗ027","Предпринимательство и модели бизнеса в Интернет",6,"Экзамен","2017/2018 учебный год 3 модуль",null,48,1,0,1722506105,2098,null,"Электронный бизнес",{"$f":"MATCH(D900,Отчет!$D$1:$D$65536,0)","v":78}]
[1937433551,8,"МЭБ171",1937372757,"Осипова Мария Андреевна","М171МЭЛБЗ018","Предпринимательство и модели бизнеса в Интернет",6,"Экзамен","2017/2018 учебный год 3 модуль",null,48,1,1,1722506105,2098,null,"Электронный бизнес",{"$f":"MATCH(D901,Отчет!$D$1:$D$65536,0)","v":44}]
[1937433359,8,"МЭБ171",1937373039,"Кяргин Антон Юрьевич","М171МЭЛБЗ013","Предпринимательство и модели бизнеса в Интернет",6,"Экзамен","2017/2018 учебный год 3 модуль",null,48,1,1,1722506105,2098,null,"Электронный бизнес",{"$f":"MATCH(D902,Отчет!$D$1:$D$65536,0)","v":110}]
[1937433752,9,"МЭБ171",1937373025,"Суряднов Дмитрий Юрьевич","М171МЭЛБЗ022","Предпринимательство и модели бизнеса в Интернет",6,"Экзамен","2017/2018 учебный год 3 модуль",null,54,1,1,1722506105,2098,null,"Электронный бизнес",{"$f":"MATCH(D903,Отчет!$D$1:$D$65536,0)","v":27}]
[1937433095,7,"МЭБ171",1937373012,"Давыдова Ксения Валерьевна","М171МЭЛБЗ006","Предпринимательство и модели бизнеса в Интернет",6,"Экзамен","2017/2018 учебный год 3 модуль",null,42,1,1,1722506105,2098,null,"Электронный бизнес",{"$f":"MATCH(D904,Отчет!$D$1:$D$65536,0)","v":97}]
[1937433065,9,"МЭБ171",1937372998,"Горобец Валерия Валентиновна","М171МЭЛБЗ005","Предпринимательство и модели бизнеса в Интернет",6,"Экзамен","2017/2018 учебный год 3 модуль",null,54,1,1,1722506105,2098,null,"Электронный бизнес",{"$f":"MATCH(D905,Отчет!$D$1:$D$65536,0)","v":42}]
[1937433812,9,"МЭБ171",1937372985,"Фахрова Дина Вадимовна","М171МЭЛБЗ023","Предпринимательство и модели бизнеса в Интернет",6,"Экзамен","2017/2018 учебный год 3 модуль",null,54,1,1,1722506105,2098,null,"Электронный бизнес",{"$f":"MATCH(D906,Отчет!$D$1:$D$65536,0)","v":37}]
[1937433592,8,"МЭБ171",1937372972,"Рубцова Екатерина Андреевна","М171МЭЛБЗ019","Предпринимательство и модели бизнеса в Интернет",6,"Экзамен","2017/2018 учебный год 3 модуль",null,48,1,1,1722506105,2098,null,"Электронный бизнес",{"$f":"MATCH(D907,Отчет!$D$1:$D$65536,0)","v":139}]
[1937433462,8,"МЭБ171",1937372826,"Минеева Анастасия Сергеевна","М171МЭЛБЗ016","Предпринимательство и модели бизнеса в Интернет",6,"Экзамен","2017/2018 учебный год 3 модуль",null,48,1,1,1722506105,2098,null,"Электронный бизнес",{"$f":"MATCH(D908,Отчет!$D$1:$D$65536,0)","v":146}]
[1937432942,8,"МЭБ171",1937372839,"Бабаджанян Армен Кароевич","М171МЭЛБЗ002","Предпринимательство и модели бизнеса в Интернет",6,"Экзамен","2017/2018 учебный год 3 модуль",null,48,1,1,1722506105,2098,null,"Электронный бизнес",{"$f":"MATCH(D909,Отчет!$D$1:$D$65536,0)","v":52}]
[1937433885,9,"МЭБ171",1937372852,"Юлдашева Камилла Адилевна","М171МЭЛБЗ025","Предпринимательство и модели бизнеса в Интернет",6,"Экзамен","2017/2018 учебный год 3 модуль",null,54,1,1,1722506105,2098,null,"Электронный бизнес",{"$f":"MATCH(D910,Отчет!$D$1:$D$65536,0)","v":24}]
[1937433645,7,"МЭБ171",1937372866,"Семенкович Софья Алексеевна","М171МЭЛБЗ020","Предпринимательство и модели бизнеса в Интернет",6,"Экзамен","2017/2018 учебный год 3 модуль",null,42,1,1,1722506105,2098,null,"Электронный бизнес",{"$f":"MATCH(D911,Отчет!$D$1:$D$65536,0)","v":90}]
[1937433429,8,"МЭБ171",1937372880,"Лучкин Андрей Владимирович","М171МЭЛБЗ015","Предпринимательство и модели бизнеса в Интернет",6,"Экзамен","2017/2018 учебный год 3 модуль",null,48,1,1,1722506105,2098,null,"Электронный бизнес",{"$f":"MATCH(D912,Отчет!$D$1:$D$65536,0)","v":133}]
[1937433697,9,"МЭБ171",1937372893,"Смирнов Константин Борисович","М171МЭЛБЗ021","Предпринимательство и модели бизнеса в Интернет",6,"Экзамен","2017/2018 учебный год 3 модуль",null,54,1,1,1722506105,2098,null,"Электронный бизнес",{"$f":"MATCH(D913,Отчет!$D$1:$D$65536,0)","v":55}]
[1937433287,8,"МЭБ171",1937372906,"Китьян Акмаль Алексеевич","М171МЭЛБЗ011","Предпринимательство и модели бизнеса в Интернет",6,"Экзамен","2017/2018 учебный год 3 модуль",null,48,1,1,1722506105,2098,null,"Электронный бизнес",{"$f":"MATCH(D914,Отчет!$D$1:$D$65536,0)","v":154}]
[1937433508,7,"МЭБ171",1937372919,"Михайлов Егор Александрович","М171МЭЛБЗ017","Предпринимательство и модели бизнеса в Интернет",6,"Экзамен","2017/2018 учебный год 3 модуль",null,42,1,1,1722506105,2098,null,"Электронный бизнес",{"$f":"MATCH(D915,Отчет!$D$1:$D$65536,0)","v":107}]
[1937432904,8,"МЭБ171",1937372932,"Абросимова Анастасия Михайловна","М171МЭЛБЗ001","Предпринимательство и модели бизнеса в Интернет",6,"Экзамен","2017/2018 учебный год 3 модуль",null,48,1,1,1722506105,2098,null,"Электронный бизнес",{"$f":"MATCH(D916,Отчет!$D$1:$D$65536,0)","v":105}]
[1937432985,8,"МЭБ171",1937372729,"Бадамова Екатерина Дмитриевна","М171МЭЛБЗ003","Предпринимательство и модели бизнеса в Интернет",6,"Экзамен","2017/2018 учебный год 3 модуль",null,48,1,1,1722506105,2098,null,"Электронный бизнес",{"$f":"MATCH(D917,Отчет!$D$1:$D$65536,0)","v":47}]
[1937433127,8,"МЭБ171",1937372743,"Джаббарова Лейла Мехман гызы","М171МЭЛБЗ007","Предпринимательство и модели бизнеса в Интернет",6,"Экзамен","2017/2018 учебный год 3 модуль",null,48,1,1,1722506105,2098,null,"Электронный бизнес",{"$f":"MATCH(D918,Отчет!$D$1:$D$65536,0)","v":85}]
[1946042705,8,"МЭБ171",1945760044,"Цандере Юлия","М171МЭЛБЗ028","Предпринимательство и модели бизнеса в Интернет",6,"Экзамен","2017/2018 учебный год 3 модуль",null,48,1,0,1722506105,2098,null,"Электронный бизнес",{"$f":"MATCH(D919,Отчет!$D$1:$D$65536,0)","v":130}]
[1937433249,8,"МЭБ171",1937372770,"Кирилловых Андрей Максимович","М171МЭЛБЗ010","Предпринимательство и модели бизнеса в Интернет",6,"Экзамен","2017/2018 учебный год 3 модуль",null,48,1,1,1722506105,2098,null,"Электронный бизнес",{"$f":"MATCH(D920,Отчет!$D$1:$D$65536,0)","v":102}]
[1937433165,7,"МЭБ171",1937372783,"Калинин Дмитрий Владимирович","М171МЭЛБЗ008","Предпринимательство и модели бизнеса в Интернет",6,"Экзамен","2017/2018 учебный год 3 модуль",null,42,1,1,1722506105,2098,null,"Электронный бизнес",{"$f":"MATCH(D921,Отчет!$D$1:$D$65536,0)","v":49}]
[1937433026,8,"МЭБ171",1937372796,"Гимашев Линар Русланович","М171МЭЛБЗ004","Предпринимательство и модели бизнеса в Интернет",6,"Экзамен","2017/2018 учебный год 3 модуль",null,48,1,1,1722506105,2098,null,"Электронный бизнес",{"$f":"MATCH(D922,Отчет!$D$1:$D$65536,0)","v":142}]
[1937433318,8,"МЭБ171",1937372811,"Куратова Александра Евгеньевна","М171МЭЛБЗ012","Предпринимательство и модели бизнеса в Интернет",6,"Экзамен","2017/2018 учебный год 3 модуль",null,48,1,1,1722506105,2098,null,"Электронный бизнес",{"$f":"MATCH(D923,Отчет!$D$1:$D$65536,0)","v":137}]
[1937433202,7,"МЭБ171",1937373052,"Ким Дин Хо","М171МЭЛБЗ009","Предпринимательство и модели бизнеса в Интернет",6,"Экзамен","2017/2018 учебный год 3 модуль",null,42,1,1,1722506105,2098,null,"Электронный бизнес",{"$f":"MATCH(D924,Отчет!$D$1:$D$65536,0)","v":121}]
[1937433842,8,"МЭБ171",1937372945,"Цуканов Иван Викторович","М171МЭЛБЗ024","Предпринимательство и модели бизнеса в Интернет",6,"Экзамен","2017/2018 учебный год 3 модуль",null,48,1,1,1722506105,2098,null,"Электронный бизнес",{"$f":"MATCH(D925,Отчет!$D$1:$D$65536,0)","v":100}]
[1937433397,8,"МЭБ171",1937372959,"Лунин Никита Константинович","М171МЭЛБЗ014","Предпринимательство и модели бизнеса в Интернет",6,"Экзамен","2017/2018 учебный год 3 модуль",null,48,1,1,1722506105,2098,null,"Электронный бизнес",{"$f":"MATCH(D926,Отчет!$D$1:$D$65536,0)","v":158}]
[2064385081,7,"МЭБ171",1937372839,"Бабаджанян Армен Кароевич","М171МЭЛБЗ002","Психология креативности",3,"Экзамен","2017/2018 учебный год 3 модуль",null,21,1,1,null,5028,null,"Электронный бизнес",{"$f":"MATCH(D927,Отчет!$D$1:$D$65536,0)","v":52}]
[2052765718,8,"МБИ171",1937363851,"Бадаева Мария Мингияновна","М171МБИИН007","Психология креативности",3,"Экзамен","2017/2018 учебный год 3 модуль",null,24,1,1,null,5028,null,"Бизнес-информатика",{"$f":"MATCH(D928,Отчет!$D$1:$D$65536,0)","v":153}]
[2052760888,9,"МБД171",1937366348,"Шеин Александр Владимирович","М171МСБДН017","Психология креативности",3,"Экзамен","2017/2018 учебный год 3 модуль",null,27,1,1,null,5028,null,"Системы больших данных",{"$f":"MATCH(D929,Отчет!$D$1:$D$65536,0)","v":17}]
[2052765023,6,"МЭБ171",1937372959,"Лунин Никита Константинович","М171МЭЛБЗ014","Психология семейных отношений (как психологи вывели Формулу качества брака)",3,"Экзамен","2017/2018 учебный год 3 модуль",null,18,1,1,null,5028,null,"Электронный бизнес",{"$f":"MATCH(D930,Отчет!$D$1:$D$65536,0)","v":158}]
[2052764956,5,"МЭБ171",1937372972,"Рубцова Екатерина Андреевна","М171МЭЛБЗ019","Психология семейных отношений (как психологи вывели Формулу качества брака)",3,"Экзамен","2017/2018 учебный год 3 модуль",null,15,1,1,null,5028,null,"Электронный бизнес",{"$f":"MATCH(D931,Отчет!$D$1:$D$65536,0)","v":139}]
[2052764866,6,"МЭБ171",1937372906,"Китьян Акмаль Алексеевич","М171МЭЛБЗ011","Психология семейных отношений (как психологи вывели Формулу качества брака)",3,"Экзамен","2017/2018 учебный год 3 модуль",null,18,1,1,null,5028,null,"Электронный бизнес",{"$f":"MATCH(D932,Отчет!$D$1:$D$65536,0)","v":154}]
[2052761158,7,"МИБ171",1937370421,"Ряховский Сергей Алексеевич","М171МУБЕЗ018","Психология семейных отношений (как психологи вывели Формулу качества брака)",3,"Экзамен","2017/2018 учебный год 3 модуль",null,21,1,1,null,5028,null,"Управление информационной безопасностью",{"$f":"MATCH(D933,Отчет!$D$1:$D$65536,0)","v":115}]
[1956290015,9,"МБД171",1937366348,"Шеин Александр Владимирович","М171МСБДН017","Сбор, хранение и обработка данных в гетерогенных распределенных компьютерных сетях",5,"Экзамен","2017/2018 учебный год 3 модуль",null,45,1,1,1722525802,2098,null,"Системы больших данных",{"$f":"MATCH(D934,Отчет!$D$1:$D$65536,0)","v":17}]
[1956290283,7,"МБД171",1937366366,"Гатина Эльмира Ринатовна","М171МСБДН003","Сбор, хранение и обработка данных в гетерогенных распределенных компьютерных сетях",5,"Экзамен","2017/2018 учебный год 3 модуль",null,35,1,1,1722525802,2098,null,"Системы больших данных",{"$f":"MATCH(D935,Отчет!$D$1:$D$65536,0)","v":34}]
[1956290347,8,"МБД171",1937366380,"Полушин Глеб Валерьевич","М171МСБДН011","Сбор, хранение и обработка данных в гетерогенных распределенных компьютерных сетях",5,"Экзамен","2017/2018 учебный год 3 модуль",null,40,1,1,1722525802,2098,null,"Системы больших данных",{"$f":"MATCH(D936,Отчет!$D$1:$D$65536,0)","v":62}]
[1956290619,8,"МБД171",1937366394,"Шубина Виктория Ильинична","М171МСБДН018","Сбор, хранение и обработка данных в гетерогенных распределенных компьютерных сетях",5,"Экзамен","2017/2018 учебный год 3 модуль",null,40,1,1,1722525802,2098,null,"Системы больших данных",{"$f":"MATCH(D937,Отчет!$D$1:$D$65536,0)","v":32}]
[1956289446,9,"МБД171",1937366407,"Чувилина Анна Андреевна","М171МСБДН016","Сбор, хранение и обработка данных в гетерогенных распределенных компьютерных сетях",5,"Экзамен","2017/2018 учебный год 3 модуль",null,45,1,1,1722525802,2098,null,"Системы больших данных",{"$f":"MATCH(D938,Отчет!$D$1:$D$65536,0)","v":43}]
[1956290212,10,"МБД171",1937366422,"Вилкова Елена Александровна","М171МСБДН002","Сбор, хранение и обработка данных в гетерогенных распределенных компьютерных сетях",5,"Экзамен","2017/2018 учебный год 3 модуль",null,50,1,1,1722525802,2098,null,"Системы больших данных",{"$f":"MATCH(D939,Отчет!$D$1:$D$65536,0)","v":12}]
[1956290432,10,"МБД171",1937366436,"Сысоев Марк Валерьевич","М171МСБДН013","Сбор, хранение и обработка данных в гетерогенных распределенных компьютерных сетях",5,"Экзамен","2017/2018 учебный год 3 модуль",null,50,1,1,1722525802,2098,null,"Системы больших данных",{"$f":"MATCH(D940,Отчет!$D$1:$D$65536,0)","v":45}]
[1956290476,8,"МБД171",1937366231,"Дякин Николай Валерьевич","М171МСБДН005","Сбор, хранение и обработка данных в гетерогенных распределенных компьютерных сетях",5,"Экзамен","2017/2018 учебный год 3 модуль",null,40,1,1,1722525802,2098,null,"Системы больших данных",{"$f":"MATCH(D941,Отчет!$D$1:$D$65536,0)","v":21}]
[1956290591,10,"МБД171",1937366244,"Дмитриев Виктор Андреевич","М171МСБДН004","Сбор, хранение и обработка данных в гетерогенных распределенных компьютерных сетях",5,"Экзамен","2017/2018 учебный год 3 модуль",null,50,1,1,1722525802,2098,null,"Системы больших данных",{"$f":"MATCH(D942,Отчет!$D$1:$D$65536,0)","v":63}]
[1956290057,10,"МБД171",1937366259,"Пахолкова Анна Юрьевна","М171МСБДН010","Сбор, хранение и обработка данных в гетерогенных распределенных компьютерных сетях",5,"Экзамен","2017/2018 учебный год 3 модуль",null,50,1,1,1722525802,2098,null,"Системы больших данных",{"$f":"MATCH(D943,Отчет!$D$1:$D$65536,0)","v":56}]
[1956289660,10,"МБД171",1937366273,"Иванова Анастасия Михайловна","М171МСБДН006","Сбор, хранение и обработка данных в гетерогенных распределенных компьютерных сетях",5,"Экзамен","2017/2018 учебный год 3 модуль",null,50,1,1,1722525802,2098,null,"Системы больших данных",{"$f":"MATCH(D944,Отчет!$D$1:$D$65536,0)","v":71}]
[1956290093,8,"МБД171",1937366289,"Яковлева Дарья Александровна","М171МСБДН019","Сбор, хранение и обработка данных в гетерогенных распределенных компьютерных сетях",5,"Экзамен","2017/2018 учебный год 3 модуль",null,40,1,1,1722525802,2098,null,"Системы больших данных",{"$f":"MATCH(D945,Отчет!$D$1:$D$65536,0)","v":96}]
[1956290176,8,"МБД171",1937366302,"Ферягина Екатерина Андреевна","М171МСБДН015","Сбор, хранение и обработка данных в гетерогенных распределенных компьютерных сетях",5,"Экзамен","2017/2018 учебный год 3 модуль",null,40,1,1,1722525802,2098,null,"Системы больших данных",{"$f":"MATCH(D946,Отчет!$D$1:$D$65536,0)","v":76}]
[1956290527,8,"МБД171",1937366317,"Рахимов Севастьян Эдуардович","М171МСБДН012","Сбор, хранение и обработка данных в гетерогенных распределенных компьютерных сетях",5,"Экзамен","2017/2018 учебный год 3 модуль",null,40,1,1,1722525802,2098,null,"Системы больших данных",{"$f":"MATCH(D947,Отчет!$D$1:$D$65536,0)","v":59}]
[1956289751,10,"МБД171",1937366334,"Кулаков Александр Сергеевич","М171МСБДН009","Сбор, хранение и обработка данных в гетерогенных распределенных компьютерных сетях",5,"Экзамен","2017/2018 учебный год 3 модуль",null,50,1,1,1722525802,2098,null,"Системы больших данных",{"$f":"MATCH(D948,Отчет!$D$1:$D$65536,0)","v":19}]
[1956290406,8,"МБД171",1937366160,"Канищев Кирилл Валерьевич","М171МСБДН008","Сбор, хранение и обработка данных в гетерогенных распределенных компьютерных сетях",5,"Экзамен","2017/2018 учебный год 3 модуль",null,40,1,1,1722525802,2098,null,"Системы больших данных",{"$f":"MATCH(D949,Отчет!$D$1:$D$65536,0)","v":109}]
[1956290363,6,"МБД171",1937366175,"Трегубова Инесса Александровна","М171МСБДН014","Сбор, хранение и обработка данных в гетерогенных распределенных компьютерных сетях",5,"Экзамен","2017/2018 учебный год 3 модуль",null,30,1,1,1722525802,2098,null,"Системы больших данных",{"$f":"MATCH(D950,Отчет!$D$1:$D$65536,0)","v":127}]
[1956290323,7,"МБД171",1937366203,"Ильяшенко Григорий Анатольевич","М171МСБДН007","Сбор, хранение и обработка данных в гетерогенных распределенных компьютерных сетях",5,"Экзамен","2017/2018 учебный год 3 модуль",null,35,1,1,1722525802,2098,null,"Системы больших данных",{"$f":"MATCH(D951,Отчет!$D$1:$D$65536,0)","v":81}]
[1956289484,10,"МБД171",1937366216,"Архипенко Анастасия Дмитриевна","М171МСБДН001","Сбор, хранение и обработка данных в гетерогенных распределенных компьютерных сетях",5,"Экзамен","2017/2018 учебный год 3 модуль",null,50,1,1,1722525802,2098,null,"Системы больших данных",{"$f":"MATCH(D952,Отчет!$D$1:$D$65536,0)","v":16}]
[1956290569,7,"МБД171",1940816098,"Телышева Татьяна Романовна","М171МСБДН027","Сбор, хранение и обработка данных в гетерогенных распределенных компьютерных сетях",5,"Экзамен","2017/2018 учебный год 3 модуль",null,35,1,0,1722525802,2098,null,"Системы больших данных",{"$f":"MATCH(D953,Отчет!$D$1:$D$65536,0)","v":93}]
[1956290499,8,"МБД171",1940816117,"Садыкова Сабина Бахтияровна","М171МСБДН025","Сбор, хранение и обработка данных в гетерогенных распределенных компьютерных сетях",5,"Экзамен","2017/2018 учебный год 3 модуль",null,40,1,0,1722525802,2098,null,"Системы больших данных",{"$f":"MATCH(D954,Отчет!$D$1:$D$65536,0)","v":58}]
[1956289537,7,"МБД171",1940816134,"Арча Александр Михайлович","М171МСБДН021","Сбор, хранение и обработка данных в гетерогенных распределенных компьютерных сетях",5,"Экзамен","2017/2018 учебный год 3 модуль",null,35,1,0,1722525802,2098,null,"Системы больших данных",{"$f":"MATCH(D955,Отчет!$D$1:$D$65536,0)","v":111}]
[1956289868,8,"МБД171",1940751998,"Семес Алексей Владимирович","М171МСБДН026","Сбор, хранение и обработка данных в гетерогенных распределенных компьютерных сетях",5,"Экзамен","2017/2018 учебный год 3 модуль",null,40,1,0,1722525802,2098,null,"Системы больших данных",{"$f":"MATCH(D956,Отчет!$D$1:$D$65536,0)","v":66}]
[1977580213,8,"МБД171",1970446330,"- Маниканта Рукмангада","М171МСБДН035","Сбор, хранение и обработка данных в гетерогенных распределенных компьютерных сетях",5,"Экзамен","2017/2018 учебный год 3 модуль",null,40,1,1,1722525802,2098,null,"Системы больших данных",{"$f":"MATCH(D957,Отчет!$D$1:$D$65536,0)","v":120}]
[2029043191,7,"МБД171",1972663851,"Ислам Эмди Шафикул","М171МСБДН036","Сбор, хранение и обработка данных в гетерогенных распределенных компьютерных сетях",5,"Экзамен","2017/2018 учебный год 3 модуль",null,35,1,0,1722525802,2098,null,"Системы больших данных",{"$f":"MATCH(D958,Отчет!$D$1:$D$65536,0)","v":84}]
[2101189694,8,"МБД171",2097188263,"Леонов Антон Александрович","М161МЖУРД016","Сбор, хранение и обработка данных в гетерогенных распределенных компьютерных сетях",5,"Экзамен","2017/2018 учебный год 3 модуль",null,40,1,1,1722525802,2098,"ikPlanned","Системы больших данных",{"$f":"MATCH(D959,Отчет!$D$1:$D$65536,0)","v":168}]
[1971550134,7,"МБД171",1946791924,"Скачок Андрей","М171МСБДН030","Сбор, хранение и обработка данных в гетерогенных распределенных компьютерных сетях",5,"Экзамен","2017/2018 учебный год 3 модуль",null,35,1,0,1722525802,2098,null,"Системы больших данных",{"$f":"MATCH(D960,Отчет!$D$1:$D$65536,0)","v":151}]
[1972268762,8,"МБД171",1950215429,"Фаур Назим Ахмад","М171МСБДН032","Сбор, хранение и обработка данных в гетерогенных распределенных компьютерных сетях",5,"Экзамен","2017/2018 учебный год 3 модуль",null,40,1,0,1722525802,2098,null,"Системы больших данных",{"$f":"MATCH(D961,Отчет!$D$1:$D$65536,0)","v":89}]
[1956290303,8,"МБД171",1950255571,"Сиахпутра Эдо","М171МСБДН031","Сбор, хранение и обработка данных в гетерогенных распределенных компьютерных сетях",5,"Экзамен","2017/2018 учебный год 3 модуль",null,40,1,1,1722525802,2098,null,"Системы больших данных",{"$f":"MATCH(D962,Отчет!$D$1:$D$65536,0)","v":112}]
[2108572580,9,"МБД171",1959612809,"Штройхофэр Кристофер","М171МСБДН033","Сбор, хранение и обработка данных в гетерогенных распределенных компьютерных сетях",5,"Экзамен","2017/2018 учебный год 3 модуль",null,45,1,1,1722525802,2098,null,"Системы больших данных",{"$f":"MATCH(D963,Отчет!$D$1:$D$65536,0)","v":40}]
[1956290549,8,"МБД171",1942007946,"Ержанова Тогжан","М171МСБДН029","Сбор, хранение и обработка данных в гетерогенных распределенных компьютерных сетях",5,"Экзамен","2017/2018 учебный год 3 модуль",null,40,1,1,1722525802,2098,null,"Системы больших данных",{"$f":"MATCH(D964,Отчет!$D$1:$D$65536,0)","v":61}]
[1956290452,8,"МБД171",1940816150,"Иванов Никита Павлович","М171МСБДН022","Сбор, хранение и обработка данных в гетерогенных распределенных компьютерных сетях",5,"Экзамен","2017/2018 учебный год 3 модуль",null,40,1,0,1722525802,2098,null,"Системы больших данных",{"$f":"MATCH(D965,Отчет!$D$1:$D$65536,0)","v":48}]
[1956290390,8,"МБД171",1940816171,"Ширяева Кристина Александровна","М171МСБДН028","Сбор, хранение и обработка данных в гетерогенных распределенных компьютерных сетях",5,"Экзамен","2017/2018 учебный год 3 модуль",null,40,1,0,1722525802,2098,null,"Системы больших данных",{"$f":"MATCH(D966,Отчет!$D$1:$D$65536,0)","v":70}]
[1956290141,10,"МБД171",1940816185,"Прохоренков Дмитрий Викторович","М171МСБДН024","Сбор, хранение и обработка данных в гетерогенных распределенных компьютерных сетях",5,"Экзамен","2017/2018 учебный год 3 модуль",null,50,1,0,1722525802,2098,null,"Системы больших данных",{"$f":"MATCH(D967,Отчет!$D$1:$D$65536,0)","v":13}]
[1956290253,8,"МБД171",1940816199,"Обаляева Екатерина Ильинична","М171МСБДН023","Сбор, хранение и обработка данных в гетерогенных распределенных компьютерных сетях",5,"Экзамен","2017/2018 учебный год 3 модуль",null,40,1,0,1722525802,2098,null,"Системы больших данных",{"$f":"MATCH(D968,Отчет!$D$1:$D$65536,0)","v":36}]
[1985229350,7,"МБИ171",1937363522,"Богданов Павел Владимирович","М171МБИИН013","Системы бизнес-интеллекта",5,"Экзамен","2017/2018 учебный год 3 модуль",null,35,1,1,1722551595,2098,null,"Бизнес-информатика",{"$f":"MATCH(D969,Отчет!$D$1:$D$65536,0)","v":92}]
[1991966877,7,"МБИ173",1940815759,"Щеголев Андрей Александрович","М171МБИИН081","Системы бизнес-интеллекта",5,"Экзамен","2017/2018 учебный год 3 модуль",null,35,1,1,1722551595,2098,null,"Бизнес-информатика",{"$f":"MATCH(D970,Отчет!$D$1:$D$65536,0)","v":87}]
[2009785584,9,"МБИ172",1940750974,"Мирской Александр Леонидович","М171МБИИН075","Системы бизнес-интеллекта",5,"Экзамен","2017/2018 учебный год 3 модуль",null,45,1,0,1722551595,2098,null,"Бизнес-информатика",{"$f":"MATCH(D971,Отчет!$D$1:$D$65536,0)","v":29}]
[2024658585,5,"МБИ172",1940815828,"Масалимов Тимур Ринатович","М171МБИИН073","Системы бизнес-интеллекта",5,"Экзамен","2017/2018 учебный год 3 модуль",null,25,1,0,1722551595,2098,null,"Бизнес-информатика",{"$f":"MATCH(D972,Отчет!$D$1:$D$65536,0)","v":123}]
[1956303898,5,"МБИ173",1940815815,"Шпилевская Наталья Викторовна","М171МБИИН079","Системы бизнес-интеллекта",5,"Экзамен","2017/2018 учебный год 3 модуль",null,25,1,0,1722551595,2098,null,"Бизнес-информатика",{"$f":"MATCH(D973,Отчет!$D$1:$D$65536,0)","v":155}]
[1956303164,8,"МБИ173",1937364192,"Семенова Элина Михайловна","М171МБИИН059","Системы бизнес-интеллекта",5,"Экзамен","2017/2018 учебный год 3 модуль",null,40,1,1,1722551595,2098,null,"Бизнес-информатика",{"$f":"MATCH(D974,Отчет!$D$1:$D$65536,0)","v":160}]
[1956304550,8,"МБИ171",1937363811,"Григорьева Юлия Сергеевна","М171МБИИН024","Системы бизнес-интеллекта",5,"Экзамен","2017/2018 учебный год 3 модуль",null,40,1,1,1722551595,2098,null,"Бизнес-информатика",{"$f":"MATCH(D975,Отчет!$D$1:$D$65536,0)","v":41}]
[1956303867,8,"МБИ173",1937363798,"Пронин Никита Вадимович","М171МБИИН052","Системы бизнес-интеллекта",5,"Экзамен","2017/2018 учебный год 3 модуль",null,40,1,1,1722551595,2098,null,"Бизнес-информатика",{"$f":"MATCH(D976,Отчет!$D$1:$D$65536,0)","v":108}]
[1956302485,7,"МБИ171",1937363745,"Антонова Анастасия Романовна","М171МБИИН004","Системы бизнес-интеллекта",5,"Экзамен","2017/2018 учебный год 3 модуль",null,35,1,1,1722551595,2098,null,"Бизнес-информатика",{"$f":"MATCH(D977,Отчет!$D$1:$D$65536,0)","v":124}]
[1956302229,9,"МБИ173",1937363693,"Стогова Анастасия Германовна","М171МБИИН062","Системы бизнес-интеллекта",5,"Экзамен","2017/2018 учебный год 3 модуль",null,45,1,1,1722551595,2098,null,"Бизнес-информатика",{"$f":"MATCH(D978,Отчет!$D$1:$D$65536,0)","v":88}]
[1956304166,9,"МБИ173",1937363680,"Рудь Роман Сергеевич","М171МБИИН056","Системы бизнес-интеллекта",5,"Экзамен","2017/2018 учебный год 3 модуль",null,45,1,1,1722551595,2098,null,"Бизнес-информатика",{"$f":"MATCH(D979,Отчет!$D$1:$D$65536,0)","v":125}]
[1956303590,9,"МБИ172",1937363986,"Китайкина Мария Алексеевна","М171МБИИН033","Системы бизнес-интеллекта",5,"Экзамен","2017/2018 учебный год 3 модуль",null,45,1,1,1722551595,2098,null,"Бизнес-информатика",{"$f":"MATCH(D980,Отчет!$D$1:$D$65536,0)","v":163}]
[1956304274,7,"МБИ171",1937363943,"Антонова Софья Глебовна","М171МБИИН005","Системы бизнес-интеллекта",5,"Экзамен","2017/2018 учебный год 3 модуль",null,35,1,1,1722551595,2098,null,"Бизнес-информатика",{"$f":"MATCH(D981,Отчет!$D$1:$D$65536,0)","v":164}]
[1956304060,7,"МБИ171",1937363930,"Бабанов Павел Александрович","М171МБИИН006","Системы бизнес-интеллекта",5,"Экзамен","2017/2018 учебный год 3 модуль",null,35,1,1,1722551595,2098,null,"Бизнес-информатика",{"$f":"MATCH(D982,Отчет!$D$1:$D$65536,0)","v":152}]
[1956303028,7,"МБИ171",1937363904,"Белова Евгения Александровна","М171МБИИН011","Системы бизнес-интеллекта",5,"Экзамен","2017/2018 учебный год 3 модуль",null,35,1,1,1722551595,2098,null,"Бизнес-информатика",{"$f":"MATCH(D983,Отчет!$D$1:$D$65536,0)","v":83}]
[1956302148,7,"МБИ172",1937363891,"Коновалова Аделина Евгеньевна","М171МБИИН037","Системы бизнес-интеллекта",5,"Экзамен","2017/2018 учебный год 3 модуль",null,35,1,1,1722551595,2098,null,"Бизнес-информатика",{"$f":"MATCH(D984,Отчет!$D$1:$D$65536,0)","v":91}]
[1956302966,8,"МБИ171",1937363878,"Андрюхина Дарья Сергеевна","М171МБИИН003","Системы бизнес-интеллекта",5,"Экзамен","2017/2018 учебный год 3 модуль",null,40,1,1,1722551595,2098,null,"Бизнес-информатика",{"$f":"MATCH(D985,Отчет!$D$1:$D$65536,0)","v":95}]
[1956302341,7,"МБИ172",1940815773,"Матвиенко Андрей Кириллович","М171МБИИН074","Системы бизнес-интеллекта",5,"Экзамен","2017/2018 учебный год 3 модуль",null,35,1,1,1722551595,2098,null,"Бизнес-информатика",{"$f":"MATCH(D986,Отчет!$D$1:$D$65536,0)","v":38}]
[2008392583,8,"МБИ173",1937363413,"Салтыкова Екатерина Андреевна","М171МБИИН057","Системы бизнес-интеллекта",5,"Экзамен","2017/2018 учебный год 3 модуль",null,40,1,1,1722551595,2098,null,"Бизнес-информатика",{"$f":"MATCH(D987,Отчет!$D$1:$D$65536,0)","v":74}]
[1956302208,8,"МБИ173",1937364016,"Чубаров Алексей Глебович","М171МБИИН069","Системы бизнес-интеллекта",5,"Экзамен","2017/2018 учебный год 3 модуль",null,40,1,1,1722551595,2098,null,"Бизнес-информатика",{"$f":"MATCH(D988,Отчет!$D$1:$D$65536,0)","v":131}]
[1956302176,6,"МБИ171",1937364084,"Гареев Артем Фаридович","М171МБИИН022","Системы бизнес-интеллекта",5,"Экзамен","2017/2018 учебный год 3 модуль",null,30,1,1,1722551595,2098,null,"Бизнес-информатика",{"$f":"MATCH(D989,Отчет!$D$1:$D$65536,0)","v":148}]
[1956304420,9,"МБИ172",1937363838,"Лиховцев Вадим Александрович","М171МБИИН041","Системы бизнес-интеллекта",5,"Экзамен","2017/2018 учебный год 3 модуль",null,45,1,1,1722551595,2098,null,"Бизнес-информатика",{"$f":"MATCH(D990,Отчет!$D$1:$D$65536,0)","v":68}]
[1956303007,6,"МБИ173",1940815743,"Шумилин Дмитрий Станиславович","М171МБИИН080","Системы поддержки принятия решений",5,"Экзамен","2017/2018 учебный год 3 модуль",null,30,1,0,1722551595,2098,null,"Бизнес-информатика",{"$f":"MATCH(D991,Отчет!$D$1:$D$65536,0)","v":150}]
[1956302937,6,"МБИ173",1937363495,"Черепнина Дарья Олеговна","М171МБИИН068","Системы поддержки принятия решений",5,"Экзамен","2017/2018 учебный год 3 модуль",null,30,1,1,1722551595,2098,null,"Бизнес-информатика",{"$f":"MATCH(D992,Отчет!$D$1:$D$65536,0)","v":67}]
[1956304496,6,"МБИ172",1937363785,"Дунец Владислав Олегович","М171МБИИН027","Системы поддержки принятия решений",5,"Экзамен","2017/2018 учебный год 3 модуль",null,30,1,1,1722551595,2098,null,"Бизнес-информатика",{"$f":"MATCH(D993,Отчет!$D$1:$D$65536,0)","v":145}]
[1956303902,4,"МБИ173",1940815815,"Шпилевская Наталья Викторовна","М171МБИИН079","Системы поддержки принятия решений",5,"Экзамен","2017/2018 учебный год 3 модуль",null,20,1,0,1722551595,2098,null,"Бизнес-информатика",{"$f":"MATCH(D994,Отчет!$D$1:$D$65536,0)","v":155}]
[1956303449,6,"МБИ171",1937363732,"Богданов Кирилл Алексеевич","М171МБИИН012","Системы поддержки принятия решений",5,"Экзамен","2017/2018 учебный год 3 модуль",null,30,1,1,1722551595,2098,null,"Бизнес-информатика",{"$f":"MATCH(D995,Отчет!$D$1:$D$65536,0)","v":128}]
[1956304078,5,"МБИ172",1937363865,"Лобач Петр Сергеевич","М171МБИИН042","Системы поддержки принятия решений",5,"Экзамен","2017/2018 учебный год 3 модуль",null,25,1,1,1722551595,2098,null,"Бизнес-информатика",{"$f":"MATCH(D996,Отчет!$D$1:$D$65536,0)","v":143}]
[1956301955,7,"МБИ173",1940815759,"Щеголев Андрей Александрович","М171МБИИН081","Системы поддержки принятия решений",5,"Экзамен","2017/2018 учебный год 3 модуль",null,35,1,1,1722551595,2098,null,"Бизнес-информатика",{"$f":"MATCH(D997,Отчет!$D$1:$D$65536,0)","v":87}]
[1956303743,8,"МБИ172",1937364137,"Медведева Мария Вячеславовна","М171МБИИН045","Системы поддержки принятия решений",5,"Экзамен","2017/2018 учебный год 3 модуль",null,40,1,1,1722551595,2098,null,"Бизнес-информатика",{"$f":"MATCH(D998,Отчет!$D$1:$D$65536,0)","v":51}]
[1956302380,8,"МБИ172",1940750974,"Мирской Александр Леонидович","М171МБИИН075","Системы поддержки принятия решений",5,"Экзамен","2017/2018 учебный год 3 модуль",null,40,1,0,1722551595,2098,null,"Бизнес-информатика",{"$f":"MATCH(D999,Отчет!$D$1:$D$65536,0)","v":29}]
[1956303197,7,"МБИ172",1937364071,"Карнаух Егор Сергеевич","М171МБИИН032","Системы поддержки принятия решений",5,"Экзамен","2017/2018 учебный год 3 модуль",null,35,1,1,1722551595,2098,null,"Бизнес-информатика",{"$f":"MATCH(D1000,Отчет!$D$1:$D$65536,0)","v":65}]
[1956334046,4,"МБИ171",1937364044,"Бондарь Сергей Борисович","М171МБИИН015","Системы поддержки принятия решений",5,"Экзамен","2017/2018 учебный год 3 модуль",null,20,1,1,1722551595,2098,null,"Бизнес-информатика",{"$f":"MATCH(D1001,Отчет!$D$1:$D$65536,0)","v":170}]
[1956303594,6,"МБИ172",1937363986,"Китайкина Мария Алексеевна","М171МБИИН033","Системы поддержки принятия решений",5,"Экзамен","2017/2018 учебный год 3 модуль",null,30,1,1,1722551595,2098,null,"Бизнес-информатика",{"$f":"MATCH(D1002,Отчет!$D$1:$D$65536,0)","v":163}]
[1956303522,7,"МБИ173",1937364177,"Сухова Ксения Игоревна","М171МБИИН063","Системы поддержки принятия решений",5,"Экзамен","2017/2018 учебный год 3 модуль",null,35,1,1,1722551595,2098,null,"Бизнес-информатика",{"$f":"MATCH(D1003,Отчет!$D$1:$D$65536,0)","v":77}]
[1956302541,6,"МБИ171",1937363626,"Давтян Артем Сергеевич","М171МБИИН025","Системы поддержки принятия решений",5,"Экзамен","2017/2018 учебный год 3 модуль",null,30,1,1,1722551595,2098,null,"Бизнес-информатика",{"$f":"MATCH(D1004,Отчет!$D$1:$D$65536,0)","v":147}]
[1956302406,6,"МБИ171",1937363535,"Бегларян Амалия Мгеровна","М171МБИИН009","Системы поддержки принятия решений",5,"Экзамен","2017/2018 учебный год 3 модуль",null,30,1,1,1722551595,2098,null,"Бизнес-информатика",{"$f":"MATCH(D1005,Отчет!$D$1:$D$65536,0)","v":113}]
[1956304278,4,"МБИ171",1937363943,"Антонова Софья Глебовна","М171МБИИН005","Системы поддержки принятия решений",5,"Экзамен","2017/2018 учебный год 3 модуль",null,20,1,1,1722551595,2098,null,"Бизнес-информатика",{"$f":"MATCH(D1006,Отчет!$D$1:$D$65536,0)","v":164}]
[1956304362,5,"МБИ172",1940815828,"Масалимов Тимур Ринатович","М171МБИИН073","Системы поддержки принятия решений",5,"Экзамен","2017/2018 учебный год 3 модуль",null,25,1,0,1722551595,2098,null,"Бизнес-информатика",{"$f":"MATCH(D1007,Отчет!$D$1:$D$65536,0)","v":123}]
[2052765350,8,"МБИ173",1937364016,"Чубаров Алексей Глебович","М171МБИИН069","Теория поколений для бизнеса, политики, общества",3,"Экзамен","2017/2018 учебный год 3 модуль",null,24,1,1,null,5028,null,"Бизнес-информатика",{"$f":"MATCH(D1008,Отчет!$D$1:$D$65536,0)","v":131}]
[2052765047,7,"МЭБ171",1945760044,"Цандере Юлия","М171МЭЛБЗ028","Теория поколений для бизнеса, политики, общества",3,"Экзамен","2017/2018 учебный год 3 модуль",null,21,1,0,null,5028,null,"Электронный бизнес",{"$f":"MATCH(D1009,Отчет!$D$1:$D$65536,0)","v":130}]
[2052764963,10,"МЭБ171",1937372729,"Бадамова Екатерина Дмитриевна","М171МЭЛБЗ003","Теория поколений для бизнеса, политики, общества",3,"Экзамен","2017/2018 учебный год 3 модуль",null,30,1,1,null,5028,null,"Электронный бизнес",{"$f":"MATCH(D1010,Отчет!$D$1:$D$65536,0)","v":47}]
[1952008467,9,"МЭБ171",1937373052,"Ким Дин Хо","М171МЭЛБЗ009","Управление Интернет-проектами",5,"Экзамен","2017/2018 учебный год 3 модуль",null,45,1,1,1722506105,2098,null,"Электронный бизнес",{"$f":"MATCH(D1011,Отчет!$D$1:$D$65536,0)","v":121}]
[1952008485,8,"МЭБ171",1937372811,"Куратова Александра Евгеньевна","М171МЭЛБЗ012","Управление Интернет-проектами",5,"Экзамен","2017/2018 учебный год 3 модуль",null,40,1,1,1722506105,2098,null,"Электронный бизнес",{"$f":"MATCH(D1012,Отчет!$D$1:$D$65536,0)","v":137}]
[1952008494,5,"МЭБ171",1937372959,"Лунин Никита Константинович","М171МЭЛБЗ014","Управление Интернет-проектами",5,"Экзамен","2017/2018 учебный год 3 модуль",null,25,1,1,1722506105,2098,null,"Электронный бизнес",{"$f":"MATCH(D1013,Отчет!$D$1:$D$65536,0)","v":158}]
[1952008519,9,"МЭБ171",1937372972,"Рубцова Екатерина Андреевна","М171МЭЛБЗ019","Управление Интернет-проектами",5,"Экзамен","2017/2018 учебный год 3 модуль",null,45,1,1,1722506105,2098,null,"Электронный бизнес",{"$f":"MATCH(D1014,Отчет!$D$1:$D$65536,0)","v":139}]
[1952008537,10,"МЭБ171",1937372985,"Фахрова Дина Вадимовна","М171МЭЛБЗ023","Управление Интернет-проектами",5,"Экзамен","2017/2018 учебный год 3 модуль",null,50,1,1,1722506105,2098,null,"Электронный бизнес",{"$f":"MATCH(D1015,Отчет!$D$1:$D$65536,0)","v":37}]
[1952008446,8,"МЭБ171",1937372998,"Горобец Валерия Валентиновна","М171МЭЛБЗ005","Управление Интернет-проектами",5,"Экзамен","2017/2018 учебный год 3 модуль",null,40,1,1,1722506105,2098,null,"Электронный бизнес",{"$f":"MATCH(D1016,Отчет!$D$1:$D$65536,0)","v":42}]
[1952008450,9,"МЭБ171",1937373012,"Давыдова Ксения Валерьевна","М171МЭЛБЗ006","Управление Интернет-проектами",5,"Экзамен","2017/2018 учебный год 3 модуль",null,45,1,1,1722506105,2098,null,"Электронный бизнес",{"$f":"MATCH(D1017,Отчет!$D$1:$D$65536,0)","v":97}]
[1952008532,9,"МЭБ171",1937373025,"Суряднов Дмитрий Юрьевич","М171МЭЛБЗ022","Управление Интернет-проектами",5,"Экзамен","2017/2018 учебный год 3 модуль",null,45,1,1,1722506105,2098,null,"Электронный бизнес",{"$f":"MATCH(D1018,Отчет!$D$1:$D$65536,0)","v":27}]
[1952008541,8,"МЭБ171",1945760044,"Цандере Юлия","М171МЭЛБЗ028","Управление Интернет-проектами",5,"Экзамен","2017/2018 учебный год 3 модуль",null,40,1,0,1722506105,2098,null,"Электронный бизнес",{"$f":"MATCH(D1019,Отчет!$D$1:$D$65536,0)","v":130}]
[1952008480,8,"МЭБ171",1940816486,"Кондращенко Ярослав Константинович","М171МЭЛБЗ027","Управление Интернет-проектами",5,"Экзамен","2017/2018 учебный год 3 модуль",null,40,1,0,1722506105,2098,null,"Электронный бизнес",{"$f":"MATCH(D1020,Отчет!$D$1:$D$65536,0)","v":78}]
[1952008490,9,"МЭБ171",1937373039,"Кяргин Антон Юрьевич","М171МЭЛБЗ013","Управление Интернет-проектами",5,"Экзамен","2017/2018 учебный год 3 модуль",null,45,1,1,1722506105,2098,null,"Электронный бизнес",{"$f":"MATCH(D1021,Отчет!$D$1:$D$65536,0)","v":110}]
[1952008504,7,"МЭБ171",1937372826,"Минеева Анастасия Сергеевна","М171МЭЛБЗ016","Управление Интернет-проектами",5,"Экзамен","2017/2018 учебный год 3 модуль",null,35,1,1,1722506105,2098,null,"Электронный бизнес",{"$f":"MATCH(D1022,Отчет!$D$1:$D$65536,0)","v":146}]
[1952008434,9,"МЭБ171",1937372839,"Бабаджанян Армен Кароевич","М171МЭЛБЗ002","Управление Интернет-проектами",5,"Экзамен","2017/2018 учебный год 3 модуль",null,45,1,1,1722506105,2098,null,"Электронный бизнес",{"$f":"MATCH(D1023,Отчет!$D$1:$D$65536,0)","v":52}]
[1952008549,10,"МЭБ171",1937372852,"Юлдашева Камилла Адилевна","М171МЭЛБЗ025","Управление Интернет-проектами",5,"Экзамен","2017/2018 учебный год 3 модуль",null,50,1,1,1722506105,2098,null,"Электронный бизнес",{"$f":"MATCH(D1024,Отчет!$D$1:$D$65536,0)","v":24}]
[1952008523,9,"МЭБ171",1937372866,"Семенкович Софья Алексеевна","М171МЭЛБЗ020","Управление Интернет-проектами",5,"Экзамен","2017/2018 учебный год 3 модуль",null,45,1,1,1722506105,2098,null,"Электронный бизнес",{"$f":"MATCH(D1025,Отчет!$D$1:$D$65536,0)","v":90}]
[1952008500,8,"МЭБ171",1937372880,"Лучкин Андрей Владимирович","М171МЭЛБЗ015","Управление Интернет-проектами",5,"Экзамен","2017/2018 учебный год 3 модуль",null,40,1,1,1722506105,2098,null,"Электронный бизнес",{"$f":"MATCH(D1026,Отчет!$D$1:$D$65536,0)","v":133}]
[1952008528,8,"МЭБ171",1937372893,"Смирнов Константин Борисович","М171МЭЛБЗ021","Управление Интернет-проектами",5,"Экзамен","2017/2018 учебный год 3 модуль",null,40,1,1,1722506105,2098,null,"Электронный бизнес",{"$f":"MATCH(D1027,Отчет!$D$1:$D$65536,0)","v":55}]
[1952008475,5,"МЭБ171",1937372906,"Китьян Акмаль Алексеевич","М171МЭЛБЗ011","Управление Интернет-проектами",5,"Экзамен","2017/2018 учебный год 3 модуль",null,25,1,1,1722506105,2098,null,"Электронный бизнес",{"$f":"MATCH(D1028,Отчет!$D$1:$D$65536,0)","v":154}]
[1952008510,9,"МЭБ171",1937372919,"Михайлов Егор Александрович","М171МЭЛБЗ017","Управление Интернет-проектами",5,"Экзамен","2017/2018 учебный год 3 модуль",null,45,1,1,1722506105,2098,null,"Электронный бизнес",{"$f":"MATCH(D1029,Отчет!$D$1:$D$65536,0)","v":107}]
[1952008430,8,"МЭБ171",1937372932,"Абросимова Анастасия Михайловна","М171МЭЛБЗ001","Управление Интернет-проектами",5,"Экзамен","2017/2018 учебный год 3 модуль",null,40,1,1,1722506105,2098,null,"Электронный бизнес",{"$f":"MATCH(D1030,Отчет!$D$1:$D$65536,0)","v":105}]
[1952008438,10,"МЭБ171",1937372729,"Бадамова Екатерина Дмитриевна","М171МЭЛБЗ003","Управление Интернет-проектами",5,"Экзамен","2017/2018 учебный год 3 модуль",null,50,1,1,1722506105,2098,null,"Электронный бизнес",{"$f":"MATCH(D1031,Отчет!$D$1:$D$65536,0)","v":47}]
[1952008454,8,"МЭБ171",1937372743,"Джаббарова Лейла Мехман гызы","М171МЭЛБЗ007","Управление Интернет-проектами",5,"Экзамен","2017/2018 учебный год 3 модуль",null,40,1,1,1722506105,2098,null,"Электронный бизнес",{"$f":"MATCH(D1032,Отчет!$D$1:$D$65536,0)","v":85}]
[1952008514,9,"МЭБ171",1937372757,"Осипова Мария Андреевна","М171МЭЛБЗ018","Управление Интернет-проектами",5,"Экзамен","2017/2018 учебный год 3 модуль",null,45,1,1,1722506105,2098,null,"Электронный бизнес",{"$f":"MATCH(D1033,Отчет!$D$1:$D$65536,0)","v":44}]
[1952008471,8,"МЭБ171",1937372770,"Кирилловых Андрей Максимович","М171МЭЛБЗ010","Управление Интернет-проектами",5,"Экзамен","2017/2018 учебный год 3 модуль",null,40,1,1,1722506105,2098,null,"Электронный бизнес",{"$f":"MATCH(D1034,Отчет!$D$1:$D$65536,0)","v":102}]
[1952008458,8,"МЭБ171",1937372783,"Калинин Дмитрий Владимирович","М171МЭЛБЗ008","Управление Интернет-проектами",5,"Экзамен","2017/2018 учебный год 3 модуль",null,40,1,1,1722506105,2098,null,"Электронный бизнес",{"$f":"MATCH(D1035,Отчет!$D$1:$D$65536,0)","v":49}]
[1952008442,8,"МЭБ171",1937372796,"Гимашев Линар Русланович","М171МЭЛБЗ004","Управление Интернет-проектами",5,"Экзамен","2017/2018 учебный год 3 модуль",null,40,1,1,1722506105,2098,null,"Электронный бизнес",{"$f":"MATCH(D1036,Отчет!$D$1:$D$65536,0)","v":142}]
[1952008545,9,"МЭБ171",1937372945,"Цуканов Иван Викторович","М171МЭЛБЗ024","Управление Интернет-проектами",5,"Экзамен","2017/2018 учебный год 3 модуль",null,45,1,1,1722506105,2098,null,"Электронный бизнес",{"$f":"MATCH(D1037,Отчет!$D$1:$D$65536,0)","v":100}]
[1956302796,10,"МБИ171",1940815842,"Дворяшин Дмитрий Александрович","М171МБИИН071","Управление рисками IT-проектов",5,"Экзамен","2017/2018 учебный год 3 модуль",null,50,1,0,1722551595,2098,null,"Бизнес-информатика",{"$f":"MATCH(D1038,Отчет!$D$1:$D$65536,0)","v":166}]
[1956303991,10,"МБИ173",1940751185,"Овсянникова Ольга Андреевна","М171МБИИН078","Управление рисками IT-проектов",5,"Экзамен","2017/2018 учебный год 3 модуль",null,50,1,0,1722551595,2098,null,"Бизнес-информатика",{"$f":"MATCH(D1039,Отчет!$D$1:$D$65536,0)","v":69}]
[1956302772,9,"МБИ172",1940815727,"Монгуш Алдын-Ай Владимировна","М171МБИИН076","Управление рисками IT-проектов",5,"Экзамен","2017/2018 учебный год 3 модуль",null,45,1,0,1722551595,2098,null,"Бизнес-информатика",{"$f":"MATCH(D1040,Отчет!$D$1:$D$65536,0)","v":104}]
[1956302362,10,"МБИ172",1940815773,"Матвиенко Андрей Кириллович","М171МБИИН074","Управление рисками IT-проектов",5,"Экзамен","2017/2018 учебный год 3 модуль",null,50,1,1,1722551595,2098,null,"Бизнес-информатика",{"$f":"MATCH(D1041,Отчет!$D$1:$D$65536,0)","v":38}]
[2166488539,10,"МБИ173",2162833425,"Майборода Кирилл Алексеевич","М161МБИИН048","Управление рисками IT-проектов",5,"Экзамен","2017/2018 учебный год 3 модуль",null,50,1,1,1722551595,2098,null,"Бизнес-информатика",{"$f":"MATCH(D1042,Отчет!$D$1:$D$65536,0)","v":122}]
[1956303378,9,"МБИ172",1944939253,"Вовк Иларион Анатольевич","М171МБИИН094","Управление рисками IT-проектов",5,"Экзамен","2017/2018 учебный год 3 модуль",null,45,1,0,1722551595,2098,null,"Бизнес-информатика",{"$f":"MATCH(D1043,Отчет!$D$1:$D$65536,0)","v":98}]
[1956302746,9,"МБИ173",1945753603,"Пак Александр Сергеевич","М171МБИИН096","Управление рисками IT-проектов",5,"Экзамен","2017/2018 учебный год 3 модуль",null,45,1,0,1722551595,2098,null,"Бизнес-информатика",{"$f":"MATCH(D1044,Отчет!$D$1:$D$65536,0)","v":114}]
[1956303354,8,"МБИ172",1941989134,"Морева Галина Сергеевна","М171МБИИН088","Управление рисками IT-проектов",5,"Экзамен","2017/2018 учебный год 3 модуль",null,40,1,0,1722551595,2098,null,"Бизнес-информатика",{"$f":"MATCH(D1045,Отчет!$D$1:$D$65536,0)","v":94}]
[1956301897,9,"МБИ172",1941989147,"Мингазов Аскар Альбертович","М171МБИИН087","Управление рисками IT-проектов",5,"Экзамен","2017/2018 учебный год 3 модуль",null,45,1,0,1722551595,2098,null,"Бизнес-информатика",{"$f":"MATCH(D1046,Отчет!$D$1:$D$65536,0)","v":171}]
[1956302273,8,"МБИ172",1941989160,"Мельникова Анастасия Игоревна","М171МБИИН086","Управление рисками IT-проектов",5,"Экзамен","2017/2018 учебный год 3 модуль",null,40,1,0,1722551595,2098,null,"Бизнес-информатика",{"$f":"MATCH(D1047,Отчет!$D$1:$D$65536,0)","v":46}]
[1956304478,10,"МБИ171",1941989199,"Бородко Вера Николаевна","М171МБИИН082","Управление рисками IT-проектов",5,"Экзамен","2017/2018 учебный год 3 модуль",null,50,1,0,1722551595,2098,null,"Бизнес-информатика",{"$f":"MATCH(D1048,Отчет!$D$1:$D$65536,0)","v":18}]
[1956301845,7,"МБИ173",1944935723,"Ким Анатолий","М171МБИИН095","Управление рисками IT-проектов",5,"Экзамен","2017/2018 учебный год 3 модуль",null,35,1,0,1722551595,2098,null,"Бизнес-информатика",{"$f":"MATCH(D1049,Отчет!$D$1:$D$65536,0)","v":176}]
[1956303574,9,"МБИ173",1941989079,"Феофанов Лев Андреевич","М171МБИИН092","Управление рисками IT-проектов",5,"Экзамен","2017/2018 учебный год 3 модуль",null,45,1,0,1722551595,2098,null,"Бизнес-информатика",{"$f":"MATCH(D1050,Отчет!$D$1:$D$65536,0)","v":172}]
[1956304206,8,"МБИ173",1941989095,"Сарычев Роман Владимирович","М171МБИИН091","Управление рисками IT-проектов",5,"Экзамен","2017/2018 учебный год 3 модуль",null,40,1,0,1722551595,2098,null,"Бизнес-информатика",{"$f":"MATCH(D1051,Отчет!$D$1:$D$65536,0)","v":134}]
[1956168209,10,"МБИ173",1941989108,"Рябов Дмитрий Валерьевич","М171МБИИН090","Управление рисками IT-проектов",5,"Экзамен","2017/2018 учебный год 3 модуль",null,50,1,1,1722551595,2098,null,"Бизнес-информатика",{"$f":"MATCH(D1052,Отчет!$D$1:$D$65536,0)","v":14}]
[1956304348,10,"МБИ172",1941989121,"Павлова Татьяна Михайловна","М171МБИИН089","Управление рисками IT-проектов",5,"Экзамен","2017/2018 учебный год 3 модуль",null,50,1,0,1722551595,2098,null,"Бизнес-информатика",{"$f":"MATCH(D1053,Отчет!$D$1:$D$65536,0)","v":15}]
[1956302574,8,"МБИ172",1937363509,"Колесникова Анна Сергеевна","М171МБИИН035","Управление рисками IT-проектов",5,"Экзамен","2017/2018 учебный год 3 модуль",null,40,1,1,1722551595,2098,null,"Бизнес-информатика",{"$f":"MATCH(D1054,Отчет!$D$1:$D$65536,0)","v":161}]
[1956304120,9,"МБИ171",1937363522,"Богданов Павел Владимирович","М171МБИИН013","Управление рисками IT-проектов",5,"Экзамен","2017/2018 учебный год 3 модуль",null,45,1,1,1722551595,2098,null,"Бизнес-информатика",{"$f":"MATCH(D1055,Отчет!$D$1:$D$65536,0)","v":92}]
[1956302415,10,"МБИ171",1937363535,"Бегларян Амалия Мгеровна","М171МБИИН009","Управление рисками IT-проектов",5,"Экзамен","2017/2018 учебный год 3 модуль",null,50,1,1,1722551595,2098,null,"Бизнес-информатика",{"$f":"MATCH(D1056,Отчет!$D$1:$D$65536,0)","v":113}]
[1956301869,9,"МБИ171",1937363548,"Галков Алексей Александрович","М171МБИИН021","Управление рисками IT-проектов",5,"Экзамен","2017/2018 учебный год 3 модуль",null,45,1,1,1722551595,2098,null,"Бизнес-информатика",{"$f":"MATCH(D1057,Отчет!$D$1:$D$65536,0)","v":173}]
[1956303402,8,"МБИ173",1937363561,"Сиднев Игорь Дмитриевич","М171МБИИН060","Управление рисками IT-проектов",5,"Экзамен","2017/2018 учебный год 3 модуль",null,40,1,1,1722551595,2098,null,"Бизнес-информатика",{"$f":"MATCH(D1058,Отчет!$D$1:$D$65536,0)","v":117}]
[1956304404,10,"МБИ173",1937363574,"Паймакова Татьяна Сергеевна","М171МБИИН049","Управление рисками IT-проектов",5,"Экзамен","2017/2018 учебный год 3 модуль",null,50,1,1,1722551595,2098,null,"Бизнес-информатика",{"$f":"MATCH(D1059,Отчет!$D$1:$D$65536,0)","v":156}]
[1956304452,10,"МБИ173",1937363587,"Новицкая Валерия Андреевна","М171МБИИН048","Управление рисками IT-проектов",5,"Экзамен","2017/2018 учебный год 3 модуль",null,50,1,1,1722551595,2098,null,"Бизнес-информатика",{"$f":"MATCH(D1060,Отчет!$D$1:$D$65536,0)","v":54}]
[1956303731,10,"МБИ172",1937363600,"Конова Марина Валерьевна","М171МБИИН036","Управление рисками IT-проектов",5,"Экзамен","2017/2018 учебный год 3 модуль",null,50,1,1,1722551595,2098,null,"Бизнес-информатика",{"$f":"MATCH(D1061,Отчет!$D$1:$D$65536,0)","v":23}]
[1956302327,9,"МБИ173",1937363613,"Улямаев Альберт Ирекович","М171МБИИН066","Управление рисками IT-проектов",5,"Экзамен","2017/2018 учебный год 3 модуль",null,45,1,1,1722551595,2098,null,"Бизнес-информатика",{"$f":"MATCH(D1062,Отчет!$D$1:$D$65536,0)","v":82}]
[1956302545,10,"МБИ171",1937363626,"Давтян Артем Сергеевич","М171МБИИН025","Управление рисками IT-проектов",5,"Экзамен","2017/2018 учебный год 3 модуль",null,50,1,1,1722551595,2098,null,"Бизнес-информатика",{"$f":"MATCH(D1063,Отчет!$D$1:$D$65536,0)","v":147}]
[1956302877,8,"МБИ171",1937363639,"Волков Даниил Андреевич","М171МБИИН019","Управление рисками IT-проектов",5,"Экзамен","2017/2018 учебный год 3 модуль",null,40,1,1,1722551595,2098,null,"Бизнес-информатика",{"$f":"MATCH(D1064,Отчет!$D$1:$D$65536,0)","v":174}]
[1956303255,8,"МБИ171",1937363332,"Войнов Евгений Вадимович","М171МБИИН018","Управление рисками IT-проектов",5,"Экзамен","2017/2018 учебный год 3 модуль",null,40,1,1,1722551595,2098,null,"Бизнес-информатика",{"$f":"MATCH(D1065,Отчет!$D$1:$D$65536,0)","v":35}]
[1956304154,10,"МБИ173",1937363345,"Пьянов Родион Альбертович","М171МБИИН054","Управление рисками IT-проектов",5,"Экзамен","2017/2018 учебный год 3 модуль",null,50,1,1,1722551595,2098,null,"Бизнес-информатика",{"$f":"MATCH(D1066,Отчет!$D$1:$D$65536,0)","v":149}]
[1956302029,8,"МБИ173",1937363359,"Юдин Андрей Анатольевич","М171МБИИН070","Управление рисками IT-проектов",5,"Экзамен","2017/2018 учебный год 3 модуль",null,40,1,1,1722551595,2098,null,"Бизнес-информатика",{"$f":"MATCH(D1067,Отчет!$D$1:$D$65536,0)","v":132}]
[1956303651,9,"МБИ172",1937363372,"Карасев Михаил Николаевич","М171МБИИН031","Управление рисками IT-проектов",5,"Экзамен","2017/2018 учебный год 3 модуль",null,45,1,1,1722551595,2098,null,"Бизнес-информатика",{"$f":"MATCH(D1068,Отчет!$D$1:$D$65536,0)","v":169}]
[1956302135,10,"МБИ173",1937363386,"Сафохин Андрей Дмитриевич","М171МБИИН058","Управление рисками IT-проектов",5,"Экзамен","2017/2018 учебный год 3 модуль",null,50,1,1,1722551595,2098,null,"Бизнес-информатика",{"$f":"MATCH(D1069,Отчет!$D$1:$D$65536,0)","v":26}]
[1956303432,10,"МБИ173",1937363399,"Токарев Иван Максимович","М171МБИИН065","Управление рисками IT-проектов",5,"Экзамен","2017/2018 учебный год 3 модуль",null,50,1,1,1722551595,2098,null,"Бизнес-информатика",{"$f":"MATCH(D1070,Отчет!$D$1:$D$65536,0)","v":73}]
[1956303083,10,"МБИ173",1937363413,"Салтыкова Екатерина Андреевна","М171МБИИН057","Управление рисками IT-проектов",5,"Экзамен","2017/2018 учебный год 3 модуль",null,50,1,1,1722551595,2098,null,"Бизнес-информатика",{"$f":"MATCH(D1071,Отчет!$D$1:$D$65536,0)","v":74}]
[1956303707,10,"МБИ171",1937363441,"Бардакова Мария Вячеславовна","М171МБИИН008","Управление рисками IT-проектов",5,"Экзамен","2017/2018 учебный год 3 модуль",null,50,1,1,1722551595,2098,null,"Бизнес-информатика",{"$f":"MATCH(D1072,Отчет!$D$1:$D$65536,0)","v":129}]
[1956303855,10,"МБИ173",1937363469,"Пронин Никита Павлович","М171МБИИН053","Управление рисками IT-проектов",5,"Экзамен","2017/2018 учебный год 3 модуль",null,50,1,1,1722551595,2098,null,"Бизнес-информатика",{"$f":"MATCH(D1073,Отчет!$D$1:$D$65536,0)","v":126}]
[1956303779,10,"МБИ171",1937363482,"Гайнутдинов Наиль Анварович","М171МБИИН020","Управление рисками IT-проектов",5,"Экзамен","2017/2018 учебный год 3 модуль",null,50,1,1,1722551595,2098,null,"Бизнес-информатика",{"$f":"MATCH(D1074,Отчет!$D$1:$D$65536,0)","v":159}]
[1956304318,10,"МБИ172",1937364001,"Калашников Сергей Владимирович","М171МБИИН030","Управление рисками IT-проектов",5,"Экзамен","2017/2018 учебный год 3 модуль",null,50,1,1,1722551595,2098,null,"Бизнес-информатика",{"$f":"MATCH(D1075,Отчет!$D$1:$D$65536,0)","v":50}]
[1956302303,10,"МБИ173",1937364031,"Полторак Анастасия Игоревна","М171МБИИН051","Управление рисками IT-проектов",5,"Экзамен","2017/2018 учебный год 3 модуль",null,50,1,1,1722551595,2098,null,"Бизнес-информатика",{"$f":"MATCH(D1076,Отчет!$D$1:$D$65536,0)","v":103}]
[1956304232,10,"МБИ171",1937364058,"Герасимов Станислав Александрович","М171МБИИН023","Управление рисками IT-проектов",5,"Экзамен","2017/2018 учебный год 3 модуль",null,50,1,1,1722551595,2098,null,"Бизнес-информатика",{"$f":"MATCH(D1077,Отчет!$D$1:$D$65536,0)","v":140}]
[1956301989,8,"МБИ171",1937364123,"Вишняков Азим Азимович","М171МБИИН017","Управление рисками IT-проектов",5,"Экзамен","2017/2018 учебный год 3 модуль",null,40,1,1,1722551595,2098,null,"Бизнес-информатика",{"$f":"MATCH(D1078,Отчет!$D$1:$D$65536,0)","v":80}]
[1956303755,10,"МБИ172",1937364137,"Медведева Мария Вячеславовна","М171МБИИН045","Управление рисками IT-проектов",5,"Экзамен","2017/2018 учебный год 3 модуль",null,50,1,1,1722551595,2098,null,"Бизнес-информатика",{"$f":"MATCH(D1079,Отчет!$D$1:$D$65536,0)","v":51}]
[1956304428,10,"МБИ172",1937363838,"Лиховцев Вадим Александрович","М171МБИИН041","Управление рисками IT-проектов",5,"Экзамен","2017/2018 учебный год 3 модуль",null,50,1,1,1722551595,2098,null,"Бизнес-информатика",{"$f":"MATCH(D1080,Отчет!$D$1:$D$65536,0)","v":68}]
[1956303623,10,"МБИ171",1937363851,"Бадаева Мария Мингияновна","М171МБИИН007","Управление рисками IT-проектов",5,"Экзамен","2017/2018 учебный год 3 модуль",null,50,1,1,1722551595,2098,null,"Бизнес-информатика",{"$f":"MATCH(D1081,Отчет!$D$1:$D$65536,0)","v":153}]
[1956304089,10,"МБИ172",1937363865,"Лобач Петр Сергеевич","М171МБИИН042","Управление рисками IT-проектов",5,"Экзамен","2017/2018 учебный год 3 модуль",null,50,1,1,1722551595,2098,null,"Бизнес-информатика",{"$f":"MATCH(D1082,Отчет!$D$1:$D$65536,0)","v":143}]
[1956302986,10,"МБИ171",1937363878,"Андрюхина Дарья Сергеевна","М171МБИИН003","Управление рисками IT-проектов",5,"Экзамен","2017/2018 учебный год 3 модуль",null,50,1,1,1722551595,2098,null,"Бизнес-информатика",{"$f":"MATCH(D1083,Отчет!$D$1:$D$65536,0)","v":95}]
[1956302162,10,"МБИ172",1937363891,"Коновалова Аделина Евгеньевна","М171МБИИН037","Управление рисками IT-проектов",5,"Экзамен","2017/2018 учебный год 3 модуль",null,50,1,1,1722551595,2098,null,"Бизнес-информатика",{"$f":"MATCH(D1084,Отчет!$D$1:$D$65536,0)","v":91}]
[1956303032,10,"МБИ171",1937363904,"Белова Евгения Александровна","М171МБИИН011","Управление рисками IT-проектов",5,"Экзамен","2017/2018 учебный год 3 модуль",null,50,1,1,1722551595,2098,null,"Бизнес-информатика",{"$f":"MATCH(D1085,Отчет!$D$1:$D$65536,0)","v":83}]
[1956302087,9,"МБИ172",1937363917,"Мартынов Александр Дмитриевич","М171МБИИН044","Управление рисками IT-проектов",5,"Экзамен","2017/2018 учебный год 3 модуль",null,45,1,1,1722551595,2098,null,"Бизнес-информатика",{"$f":"MATCH(D1086,Отчет!$D$1:$D$65536,0)","v":167}]
[1956302519,10,"МБИ172",1937363957,"Ершова Александра Романовна","М171МБИИН028","Управление рисками IT-проектов",5,"Экзамен","2017/2018 учебный год 3 модуль",null,50,1,1,1722551595,2098,null,"Бизнес-информатика",{"$f":"MATCH(D1087,Отчет!$D$1:$D$65536,0)","v":138}]
[1956303963,10,"МБИ172",1937363970,"Лебедева Надежда Юрьевна","М171МБИИН040","Управление рисками IT-проектов",5,"Экзамен","2017/2018 учебный год 3 модуль",null,50,1,1,1722551595,2098,null,"Бизнес-информатика",{"$f":"MATCH(D1088,Отчет!$D$1:$D$65536,0)","v":135}]
[1959038458,7,null,1937363653,"Агарков Ярослав Алексеевич","М171МБИИН001","Управление рисками IT-проектов",5,"Экзамен","2017/2018 учебный год 3 модуль",null,35,1,1,1722551595,2098,null,"Бизнес-информатика",{"$f":"MATCH(D1089,Отчет!$D$1:$D$65536,0)","v":179}]
[1956302063,10,"МБИ172",1937363666,"Захаров Алексей Александрович","М171МБИИН029","Управление рисками IT-проектов",5,"Экзамен","2017/2018 учебный год 3 модуль",null,50,1,1,1722551595,2098,null,"Бизнес-информатика",{"$f":"MATCH(D1090,Отчет!$D$1:$D$65536,0)","v":72}]
[1956303145,9,"МБИ171",1937363706,"Большаков Егор Максимович","М171МБИИН014","Управление рисками IT-проектов",5,"Экзамен","2017/2018 учебный год 3 модуль",null,45,1,1,1722551595,2098,null,"Бизнес-информатика",{"$f":"MATCH(D1091,Отчет!$D$1:$D$65536,0)","v":165}]
[1956303304,10,"МБИ171",1937363719,"Белов Григорий Игоревич","М171МБИИН010","Управление рисками IT-проектов",5,"Экзамен","2017/2018 учебный год 3 модуль",null,50,1,1,1722551595,2098,null,"Бизнес-информатика",{"$f":"MATCH(D1092,Отчет!$D$1:$D$65536,0)","v":162}]
[1956303458,10,"МБИ171",1937363732,"Богданов Кирилл Алексеевич","М171МБИИН012","Управление рисками IT-проектов",5,"Экзамен","2017/2018 учебный год 3 модуль",null,50,1,1,1722551595,2098,null,"Бизнес-информатика",{"$f":"MATCH(D1093,Отчет!$D$1:$D$65536,0)","v":128}]
[1956339172,10,"МБИ171",1937363745,"Антонова Анастасия Романовна","М171МБИИН004","Управление рисками IT-проектов",5,"Экзамен","2017/2018 учебный год 3 модуль",null,50,1,1,1722551595,2098,null,"Бизнес-информатика",{"$f":"MATCH(D1094,Отчет!$D$1:$D$65536,0)","v":124}]
[1956301926,10,"МБИ173",1937363758,"Ригин Алексей Алексеевич","М171МБИИН055","Управление рисками IT-проектов",5,"Экзамен","2017/2018 учебный год 3 модуль",null,50,1,1,1722551595,2098,null,"Бизнес-информатика",{"$f":"MATCH(D1095,Отчет!$D$1:$D$65536,0)","v":64}]
[1956304505,10,"МБИ172",1937363785,"Дунец Владислав Олегович","М171МБИИН027","Управление рисками IT-проектов",5,"Экзамен","2017/2018 учебный год 3 модуль",null,50,1,1,1722551595,2098,null,"Бизнес-информатика",{"$f":"MATCH(D1096,Отчет!$D$1:$D$65536,0)","v":145}]
[1956304558,10,"МБИ171",1937363811,"Григорьева Юлия Сергеевна","М171МБИИН024","Управление рисками IT-проектов",5,"Экзамен","2017/2018 учебный год 3 модуль",null,50,1,1,1722551595,2098,null,"Бизнес-информатика",{"$f":"MATCH(D1097,Отчет!$D$1:$D$65536,0)","v":41}]
[1956303506,10,"МБИ172",1937364163,"Миллер Кирилл Александрович","М171МБИИН046","Управление рисками IT-проектов",5,"Экзамен","2017/2018 учебный год 3 модуль",null,50,1,1,1722551595,2098,null,"Бизнес-информатика",{"$f":"MATCH(D1098,Отчет!$D$1:$D$65536,0)","v":79}]
[1956302453,10,"МБИ171",1937364220,"Бутченко Антон Олегович","М171МБИИН016","Управление рисками IT-проектов",5,"Экзамен","2017/2018 учебный год 3 модуль",null,50,1,1,1722551595,2098,null,"Бизнес-информатика",{"$f":"MATCH(D1099,Отчет!$D$1:$D$65536,0)","v":57}]
[1956303831,10,"МБИ172",1940815787,"Музыка Наталия Константиновна","М171МБИИН077","Управление рисками IT-проектов",5,"Экзамен","2017/2018 учебный год 3 модуль",null,50,1,1,1722551595,2098,null,"Бизнес-информатика",{"$f":"MATCH(D1100,Отчет!$D$1:$D$65536,0)","v":31}]
[2052761162,8,"МИБ171",1937370536,"Оленева Валерия Александровна","М171МУБЕЗ012","3-D моделирование в компьютерной графике в пакете AutoCAD и трёхмерное мышление человека",3,"Экзамен","2017/2018 учебный год 4 модуль",null,24,1,1,null,5028,null,"Управление информационной безопасностью",{"$f":"MATCH(D1101,Отчет!$D$1:$D$65536,0)","v":86}]
[2052765775,9,"МБИ172",1940815787,"Музыка Наталия Константиновна","М171МБИИН077","3-D моделирование в компьютерной графике в пакете AutoCAD и трёхмерное мышление человека",3,"Экзамен","2017/2018 учебный год 4 модуль",null,27,1,1,null,5028,null,"Бизнес-информатика",{"$f":"MATCH(D1102,Отчет!$D$1:$D$65536,0)","v":31}]
[2052765468,8,"МБИ172",1940815727,"Монгуш Алдын-Ай Владимировна","М171МБИИН076","3-D моделирование в компьютерной графике в пакете AutoCAD и трёхмерное мышление человека",3,"Экзамен","2017/2018 учебный год 4 модуль",null,24,1,0,null,5028,null,"Бизнес-информатика",{"$f":"MATCH(D1103,Отчет!$D$1:$D$65536,0)","v":104}]
[2052765003,6,"МЭБ171",1937372743,"Джаббарова Лейла Мехман гызы","М171МЭЛБЗ007","Анализ данных",3,"Экзамен","2017/2018 учебный год 4 модуль",null,18,1,1,null,5028,null,"Электронный бизнес",{"$f":"MATCH(D1104,Отчет!$D$1:$D$65536,0)","v":85}]
[1956302043,7,"МБИ172",1937363666,"Захаров Алексей Александрович","М171МБИИН029","Анализ неструктурированной информации",5,"Экзамен","2017/2018 учебный год 4 модуль",null,35,1,1,1722551595,2098,null,"Бизнес-информатика",{"$f":"MATCH(D1105,Отчет!$D$1:$D$65536,0)","v":72}]
[1956304537,9,"МБИ171",1937363811,"Григорьева Юлия Сергеевна","М171МБИИН024","Анализ неструктурированной информации",5,"Экзамен","2017/2018 учебный год 4 модуль",null,45,1,1,1722551595,2098,null,"Бизнес-информатика",{"$f":"MATCH(D1106,Отчет!$D$1:$D$65536,0)","v":41}]
[1956302550,7,"МБИ172",1937363509,"Колесникова Анна Сергеевна","М171МБИИН035","Анализ неструктурированной информации",5,"Экзамен","2017/2018 учебный год 4 модуль",null,35,1,1,1722551595,2098,null,"Бизнес-информатика",{"$f":"MATCH(D1107,Отчет!$D$1:$D$65536,0)","v":161}]
[1956302392,9,"МБИ171",1937363535,"Бегларян Амалия Мгеровна","М171МБИИН009","Анализ неструктурированной информации",5,"Экзамен","2017/2018 учебный год 4 модуль",null,45,1,1,1722551595,2098,null,"Бизнес-информатика",{"$f":"MATCH(D1108,Отчет!$D$1:$D$65536,0)","v":113}]
[1956302523,7,"МБИ171",1937363626,"Давтян Артем Сергеевич","М171МБИИН025","Анализ неструктурированной информации",5,"Экзамен","2017/2018 учебный год 4 модуль",null,35,1,1,1722551595,2098,null,"Бизнес-информатика",{"$f":"MATCH(D1109,Отчет!$D$1:$D$65536,0)","v":147}]
[1956303063,8,"МБИ173",1937363413,"Салтыкова Екатерина Андреевна","М171МБИИН057","Анализ неструктурированной информации",5,"Экзамен","2017/2018 учебный год 4 модуль",null,40,1,1,1722551595,2098,null,"Бизнес-информатика",{"$f":"MATCH(D1110,Отчет!$D$1:$D$65536,0)","v":74}]
[1956304026,7,"МБИ171",1937363930,"Бабанов Павел Александрович","М171МБИИН006","Анализ неструктурированной информации",5,"Экзамен","2017/2018 учебный год 4 модуль",null,35,1,1,1722551595,2098,null,"Бизнес-информатика",{"$f":"MATCH(D1111,Отчет!$D$1:$D$65536,0)","v":152}]
[1956303012,8,"МБИ171",1937363904,"Белова Евгения Александровна","М171МБИИН011","Анализ неструктурированной информации",5,"Экзамен","2017/2018 учебный год 4 модуль",null,40,1,1,1722551595,2098,null,"Бизнес-информатика",{"$f":"MATCH(D1112,Отчет!$D$1:$D$65536,0)","v":83}]
[1956304065,6,"МБИ172",1937363865,"Лобач Петр Сергеевич","М171МБИИН042","Анализ неструктурированной информации",5,"Экзамен","2017/2018 учебный год 4 модуль",null,30,1,1,1722551595,2098,null,"Бизнес-информатика",{"$f":"MATCH(D1113,Отчет!$D$1:$D$65536,0)","v":143}]
[1956304295,8,"МБИ172",1937364001,"Калашников Сергей Владимирович","М171МБИИН030","Анализ неструктурированной информации",5,"Экзамен","2017/2018 учебный год 4 модуль",null,40,1,1,1722551595,2098,null,"Бизнес-информатика",{"$f":"MATCH(D1114,Отчет!$D$1:$D$65536,0)","v":50}]
[1956303149,4,"МБИ173",1937364192,"Семенова Элина Михайловна","М171МБИИН059","Анализ неструктурированной информации",5,"Экзамен","2017/2018 учебный год 4 модуль",null,20,1,1,1722551595,2098,null,"Бизнес-информатика",{"$f":"MATCH(D1115,Отчет!$D$1:$D$65536,0)","v":160}]
[1956301930,7,"МБИ173",1940815759,"Щеголев Андрей Александрович","М171МБИИН081","Анализ неструктурированной информации",5,"Экзамен","2017/2018 учебный год 4 модуль",null,35,1,1,1722551595,2098,null,"Бизнес-информатика",{"$f":"MATCH(D1116,Отчет!$D$1:$D$65536,0)","v":87}]
[2009976822,9,"МБИ172",1940750974,"Мирской Александр Леонидович","М171МБИИН075","Анализ неструктурированной информации",5,"Экзамен","2017/2018 учебный год 4 модуль",null,45,1,0,1722551595,2098,null,"Бизнес-информатика",{"$f":"MATCH(D1117,Отчет!$D$1:$D$65536,0)","v":29}]
[1956302778,6,"МБИ171",1940815842,"Дворяшин Дмитрий Александрович","М171МБИИН071","Анализ неструктурированной информации",5,"Экзамен","2017/2018 учебный год 4 модуль",null,30,1,0,1722551595,2098,null,"Бизнес-информатика",{"$f":"MATCH(D1118,Отчет!$D$1:$D$65536,0)","v":166}]
[1956303884,4,"МБИ173",1940815815,"Шпилевская Наталья Викторовна","М171МБИИН079","Анализ неструктурированной информации",5,"Экзамен","2017/2018 учебный год 4 модуль",null,20,1,0,1722551595,2098,null,"Бизнес-информатика",{"$f":"MATCH(D1119,Отчет!$D$1:$D$65536,0)","v":155}]
[1956301820,4,"МБИ173",1944935723,"Ким Анатолий","М171МБИИН095","Анализ неструктурированной информации",5,"Экзамен","2017/2018 учебный год 4 модуль",null,20,1,0,1722551595,2098,null,"Бизнес-информатика",{"$f":"MATCH(D1120,Отчет!$D$1:$D$65536,0)","v":176}]
[1956303358,7,"МБИ172",1944939253,"Вовк Иларион Анатольевич","М171МБИИН094","Анализ неструктурированной информации",5,"Экзамен","2017/2018 учебный год 4 модуль",null,35,1,0,1722551595,2098,null,"Бизнес-информатика",{"$f":"MATCH(D1121,Отчет!$D$1:$D$65536,0)","v":98}]
[2052760909,8,"МБД171",1940816185,"Прохоренков Дмитрий Викторович","М171МСБДН024","Анализ социальных сетей",3,"Экзамен","2017/2018 учебный год 4 модуль",null,24,1,0,null,5028,null,"Системы больших данных",{"$f":"MATCH(D1122,Отчет!$D$1:$D$65536,0)","v":13}]
[2052765571,6,"МБИ173",1937363413,"Салтыкова Екатерина Андреевна","М171МБИИН057","Анализ социальных сетей",3,"Экзамен","2017/2018 учебный год 4 модуль",null,18,1,1,null,5028,null,"Бизнес-информатика",{"$f":"MATCH(D1123,Отчет!$D$1:$D$65536,0)","v":74}]
[2052765297,8,"МБИ172",1937363666,"Захаров Алексей Александрович","М171МБИИН029","Анализ социальных сетей",3,"Экзамен","2017/2018 учебный год 4 модуль",null,24,1,1,null,5028,null,"Бизнес-информатика",{"$f":"MATCH(D1124,Отчет!$D$1:$D$65536,0)","v":72}]
[2052760928,7,"МБД171",1937366302,"Ферягина Екатерина Андреевна","М171МСБДН015","Анализ социальных сетей",3,"Экзамен","2017/2018 учебный год 4 модуль",null,21,1,1,null,5028,null,"Системы больших данных",{"$f":"MATCH(D1125,Отчет!$D$1:$D$65536,0)","v":76}]
[2052761011,5,"МБД171",1937366317,"Рахимов Севастьян Эдуардович","М171МСБДН012","Анализ социальных сетей",3,"Экзамен","2017/2018 учебный год 4 модуль",null,15,1,1,null,5028,null,"Системы больших данных",{"$f":"MATCH(D1126,Отчет!$D$1:$D$65536,0)","v":59}]
[2052761019,4,"МБД171",1940816098,"Телышева Татьяна Романовна","М171МСБДН027","Анализ социальных сетей",3,"Экзамен","2017/2018 учебный год 4 модуль",null,12,1,0,null,5028,null,"Системы больших данных",{"$f":"MATCH(D1127,Отчет!$D$1:$D$65536,0)","v":93}]
[2052761002,6,"МБД171",1940816117,"Садыкова Сабина Бахтияровна","М171МСБДН025","Анализ социальных сетей",3,"Экзамен","2017/2018 учебный год 4 модуль",null,18,1,0,null,5028,null,"Системы больших данных",{"$f":"MATCH(D1128,Отчет!$D$1:$D$65536,0)","v":58}]
[2052760880,9,"МБД171",1937366334,"Кулаков Александр Сергеевич","М171МСБДН009","Анализ социальных сетей",3,"Экзамен","2017/2018 учебный год 4 модуль",null,27,1,1,null,5028,null,"Системы больших данных",{"$f":"MATCH(D1129,Отчет!$D$1:$D$65536,0)","v":19}]
[2052765858,7,"МБИ172",1937364001,"Калашников Сергей Владимирович","М171МБИИН030","Анализ социальных сетей",3,"Экзамен","2017/2018 учебный год 4 модуль",null,21,1,1,null,5028,null,"Бизнес-информатика",{"$f":"MATCH(D1130,Отчет!$D$1:$D$65536,0)","v":50}]
[2052760965,4,"МБД171",1937366175,"Трегубова Инесса Александровна","М171МСБДН014","Анализ социальных сетей",3,"Экзамен","2017/2018 учебный год 4 модуль",null,12,1,1,null,5028,null,"Системы больших данных",{"$f":"MATCH(D1131,Отчет!$D$1:$D$65536,0)","v":127}]
[2052760868,9,"МБД171",1937366216,"Архипенко Анастасия Дмитриевна","М171МСБДН001","Анализ социальных сетей",3,"Экзамен","2017/2018 учебный год 4 модуль",null,27,1,1,null,5028,null,"Системы больших данных",{"$f":"MATCH(D1132,Отчет!$D$1:$D$65536,0)","v":16}]
[2052765017,7,"МЭБ171",1937372757,"Осипова Мария Андреевна","М171МЭЛБЗ018","Анализ социальных сетей",3,"Экзамен","2017/2018 учебный год 4 модуль",null,21,1,1,null,5028,null,"Электронный бизнес",{"$f":"MATCH(D1133,Отчет!$D$1:$D$65536,0)","v":44}]
[2052760957,8,"МБД171",1937366203,"Ильяшенко Григорий Анатольевич","М171МСБДН007","Анализ социальных сетей",3,"Экзамен","2017/2018 учебный год 4 модуль",null,24,1,1,null,5028,null,"Системы больших данных",{"$f":"MATCH(D1134,Отчет!$D$1:$D$65536,0)","v":81}]
[2052761140,5,"МИБ171",1937370580,"Козлов Никита Вячеславович","М171МУБЕЗ008","Анализ социальных сетей",3,"Экзамен","2017/2018 учебный год 4 модуль",null,15,1,1,null,5028,null,"Управление информационной безопасностью",{"$f":"MATCH(D1135,Отчет!$D$1:$D$65536,0)","v":118}]
[2052760945,6,"МБД171",1937366366,"Гатина Эльмира Ринатовна","М171МСБДН003","Анализ социальных сетей",3,"Экзамен","2017/2018 учебный год 4 модуль",null,18,1,1,null,5028,null,"Системы больших данных",{"$f":"MATCH(D1136,Отчет!$D$1:$D$65536,0)","v":34}]
[2052760961,9,"МБД171",1937366380,"Полушин Глеб Валерьевич","М171МСБДН011","Анализ социальных сетей",3,"Экзамен","2017/2018 учебный год 4 модуль",null,27,1,1,null,5028,null,"Системы больших данных",{"$f":"MATCH(D1137,Отчет!$D$1:$D$65536,0)","v":62}]
[2052760937,8,"МБД171",1940816199,"Обаляева Екатерина Ильинична","М171МСБДН023","Анализ социальных сетей",3,"Экзамен","2017/2018 учебный год 4 модуль",null,24,1,0,null,5028,null,"Системы больших данных",{"$f":"MATCH(D1138,Отчет!$D$1:$D$65536,0)","v":36}]
[2052760996,8,"МБД171",1937366231,"Дякин Николай Валерьевич","М171МСБДН005","Анализ социальных сетей",3,"Экзамен","2017/2018 учебный год 4 модуль",null,24,1,1,null,5028,null,"Системы больших данных",{"$f":"MATCH(D1139,Отчет!$D$1:$D$65536,0)","v":21}]
[2052760860,4,"МБД171",1937366407,"Чувилина Анна Андреевна","М171МСБДН016","Анализ социальных сетей",3,"Экзамен","2017/2018 учебный год 4 модуль",null,12,1,1,null,5028,null,"Системы больших данных",{"$f":"MATCH(D1140,Отчет!$D$1:$D$65536,0)","v":43}]
[2052760932,9,"МБД171",1937366422,"Вилкова Елена Александровна","М171МСБДН002","Анализ социальных сетей",3,"Экзамен","2017/2018 учебный год 4 модуль",null,27,1,1,null,5028,null,"Системы больших данных",{"$f":"MATCH(D1141,Отчет!$D$1:$D$65536,0)","v":12}]
[2052760981,7,"МБД171",1937366436,"Сысоев Марк Валерьевич","М171МСБДН013","Анализ социальных сетей",3,"Экзамен","2017/2018 учебный год 4 модуль",null,21,1,1,null,5028,null,"Системы больших данных",{"$f":"MATCH(D1142,Отчет!$D$1:$D$65536,0)","v":45}]
[2052760969,7,"МБД171",1940816171,"Ширяева Кристина Александровна","М171МСБДН028","Анализ социальных сетей",3,"Экзамен","2017/2018 учебный год 4 модуль",null,21,1,0,null,5028,null,"Системы больших данных",{"$f":"MATCH(D1143,Отчет!$D$1:$D$65536,0)","v":70}]
[2052760990,8,"МБД171",1940816150,"Иванов Никита Павлович","М171МСБДН022","Анализ социальных сетей",3,"Экзамен","2017/2018 учебный год 4 модуль",null,24,1,0,null,5028,null,"Системы больших данных",{"$f":"MATCH(D1144,Отчет!$D$1:$D$65536,0)","v":48}]
[2052760900,7,"МБД171",1937366289,"Яковлева Дарья Александровна","М171МСБДН019","Анализ социальных сетей",3,"Экзамен","2017/2018 учебный год 4 модуль",null,21,1,1,null,5028,null,"Системы больших данных",{"$f":"MATCH(D1145,Отчет!$D$1:$D$65536,0)","v":96}]
[2052760953,2,"МБД171",1950255571,"Сиахпутра Эдо","М171МСБДН031","Анализ социальных сетей",3,"Экзамен","2017/2018 учебный год 4 модуль",null,0,0,1,null,5028,null,"Системы больших данных",{"$f":"MATCH(D1146,Отчет!$D$1:$D$65536,0)","v":112}]
[2052760985,6,"МБД171",1970446330,"- Маниканта Рукмангада","М171МСБДН035","Введение в нейроэкономику",3,"Экзамен","2017/2018 учебный год 4 модуль",null,18,1,1,null,5028,null,"Системы больших данных",{"$f":"MATCH(D1147,Отчет!$D$1:$D$65536,0)","v":120}]
[2052761029,9,"МБД171",1937366394,"Шубина Виктория Ильинична","М171МСБДН018","Введение в нейроэкономику",3,"Экзамен","2017/2018 учебный год 4 модуль",null,27,1,1,null,5028,null,"Системы больших данных",{"$f":"MATCH(D1148,Отчет!$D$1:$D$65536,0)","v":32}]
[1956289467,10,"МБД171",1937366216,"Архипенко Анастасия Дмитриевна","М171МСБДН001","Визуализация данных",4,"Экзамен","2017/2018 учебный год 4 модуль",null,40,1,1,1722525802,2098,null,"Системы больших данных",{"$f":"MATCH(D1149,Отчет!$D$1:$D$65536,0)","v":16}]
[1977579579,6,"МБД171",1970446330,"- Маниканта Рукмангада","М171МСБДН035","Визуализация данных",4,"Экзамен","2017/2018 учебный год 4 модуль",null,24,1,1,1722525802,2098,null,"Системы больших данных",{"$f":"MATCH(D1150,Отчет!$D$1:$D$65536,0)","v":120}]
[2029041051,9,"МБД171",1972663851,"Ислам Эмди Шафикул","М171МСБДН036","Визуализация данных",4,"Экзамен","2017/2018 учебный год 4 модуль",null,36,1,0,1722525802,2098,null,"Системы больших данных",{"$f":"MATCH(D1151,Отчет!$D$1:$D$65536,0)","v":84}]
[1972267971,6,"МБД171",1950215429,"Фаур Назим Ахмад","М171МСБДН032","Визуализация данных",4,"Экзамен","2017/2018 учебный год 4 модуль",null,24,1,0,1722525802,2098,null,"Системы больших данных",{"$f":"MATCH(D1152,Отчет!$D$1:$D$65536,0)","v":89}]
[1972030270,7,"МБД171",1950255571,"Сиахпутра Эдо","М171МСБДН031","Визуализация данных",4,"Экзамен","2017/2018 учебный год 4 модуль",null,28,1,1,1722525802,2098,null,"Системы больших данных",{"$f":"MATCH(D1153,Отчет!$D$1:$D$65536,0)","v":112}]
[1956290535,8,"МБД171",1942007946,"Ержанова Тогжан","М171МСБДН029","Визуализация данных",4,"Экзамен","2017/2018 учебный год 4 модуль",null,32,1,1,1722525802,2098,null,"Системы больших данных",{"$f":"MATCH(D1154,Отчет!$D$1:$D$65536,0)","v":61}]
[1956290378,9,"МБД171",1940816171,"Ширяева Кристина Александровна","М171МСБДН028","Визуализация данных",4,"Экзамен","2017/2018 учебный год 4 модуль",null,36,1,0,1722525802,2098,null,"Системы больших данных",{"$f":"MATCH(D1155,Отчет!$D$1:$D$65536,0)","v":70}]
[1956290122,10,"МБД171",1940816185,"Прохоренков Дмитрий Викторович","М171МСБДН024","Визуализация данных",4,"Экзамен","2017/2018 учебный год 4 модуль",null,40,1,0,1722525802,2098,null,"Системы больших данных",{"$f":"MATCH(D1156,Отчет!$D$1:$D$65536,0)","v":13}]
[1956290238,8,"МБД171",1940816199,"Обаляева Екатерина Ильинична","М171МСБДН023","Визуализация данных",4,"Экзамен","2017/2018 учебный год 4 модуль",null,32,1,0,1722525802,2098,null,"Системы больших данных",{"$f":"MATCH(D1157,Отчет!$D$1:$D$65536,0)","v":36}]
[1956290561,8,"МБД171",1940816098,"Телышева Татьяна Романовна","М171МСБДН027","Визуализация данных",4,"Экзамен","2017/2018 учебный год 4 модуль",null,32,1,0,1722525802,2098,null,"Системы больших данных",{"$f":"MATCH(D1158,Отчет!$D$1:$D$65536,0)","v":93}]
[1956290491,9,"МБД171",1940816117,"Садыкова Сабина Бахтияровна","М171МСБДН025","Визуализация данных",4,"Экзамен","2017/2018 учебный год 4 модуль",null,36,1,0,1722525802,2098,null,"Системы больших данных",{"$f":"MATCH(D1159,Отчет!$D$1:$D$65536,0)","v":58}]
[1956289516,6,"МБД171",1940816134,"Арча Александр Михайлович","М171МСБДН021","Визуализация данных",4,"Экзамен","2017/2018 учебный год 4 модуль",null,24,1,0,1722525802,2098,null,"Системы больших данных",{"$f":"MATCH(D1160,Отчет!$D$1:$D$65536,0)","v":111}]
[1956290440,9,"МБД171",1940816150,"Иванов Никита Павлович","М171МСБДН022","Визуализация данных",4,"Экзамен","2017/2018 учебный год 4 модуль",null,36,1,0,1722525802,2098,null,"Системы больших данных",{"$f":"MATCH(D1161,Отчет!$D$1:$D$65536,0)","v":48}]
[1956289815,8,"МБД171",1940751998,"Семес Алексей Владимирович","М171МСБДН026","Визуализация данных",4,"Экзамен","2017/2018 учебный год 4 модуль",null,32,1,0,1722525802,2098,null,"Системы больших данных",{"$f":"MATCH(D1162,Отчет!$D$1:$D$65536,0)","v":66}]
[1956289931,9,"МБД171",1937366348,"Шеин Александр Владимирович","М171МСБДН017","Визуализация данных",4,"Экзамен","2017/2018 учебный год 4 модуль",null,36,1,1,1722525802,2098,null,"Системы больших данных",{"$f":"MATCH(D1163,Отчет!$D$1:$D$65536,0)","v":17}]
[1956290270,8,"МБД171",1937366366,"Гатина Эльмира Ринатовна","М171МСБДН003","Визуализация данных",4,"Экзамен","2017/2018 учебный год 4 модуль",null,32,1,1,1722525802,2098,null,"Системы больших данных",{"$f":"MATCH(D1164,Отчет!$D$1:$D$65536,0)","v":34}]
[1956290335,9,"МБД171",1937366380,"Полушин Глеб Валерьевич","М171МСБДН011","Визуализация данных",4,"Экзамен","2017/2018 учебный год 4 модуль",null,36,1,1,1722525802,2098,null,"Системы больших данных",{"$f":"MATCH(D1165,Отчет!$D$1:$D$65536,0)","v":62}]
[1956290603,9,"МБД171",1937366394,"Шубина Виктория Ильинична","М171МСБДН018","Визуализация данных",4,"Экзамен","2017/2018 учебный год 4 модуль",null,36,1,1,1722525802,2098,null,"Системы больших данных",{"$f":"MATCH(D1166,Отчет!$D$1:$D$65536,0)","v":32}]
[1956289420,9,"МБД171",1937366407,"Чувилина Анна Андреевна","М171МСБДН016","Визуализация данных",4,"Экзамен","2017/2018 учебный год 4 модуль",null,36,1,1,1722525802,2098,null,"Системы больших данных",{"$f":"MATCH(D1167,Отчет!$D$1:$D$65536,0)","v":43}]
[1956290196,10,"МБД171",1937366422,"Вилкова Елена Александровна","М171МСБДН002","Визуализация данных",4,"Экзамен","2017/2018 учебный год 4 модуль",null,40,1,1,1722525802,2098,null,"Системы больших данных",{"$f":"MATCH(D1168,Отчет!$D$1:$D$65536,0)","v":12}]
[1956290420,8,"МБД171",1937366436,"Сысоев Марк Валерьевич","М171МСБДН013","Визуализация данных",4,"Экзамен","2017/2018 учебный год 4 модуль",null,32,1,1,1722525802,2098,null,"Системы больших данных",{"$f":"MATCH(D1169,Отчет!$D$1:$D$65536,0)","v":45}]
[1956290461,9,"МБД171",1937366231,"Дякин Николай Валерьевич","М171МСБДН005","Визуализация данных",4,"Экзамен","2017/2018 учебный год 4 модуль",null,36,1,1,1722525802,2098,null,"Системы больших данных",{"$f":"MATCH(D1170,Отчет!$D$1:$D$65536,0)","v":21}]
[1956290583,9,"МБД171",1937366244,"Дмитриев Виктор Андреевич","М171МСБДН004","Визуализация данных",4,"Экзамен","2017/2018 учебный год 4 модуль",null,36,1,1,1722525802,2098,null,"Системы больших данных",{"$f":"MATCH(D1171,Отчет!$D$1:$D$65536,0)","v":63}]
[1956290043,9,"МБД171",1937366259,"Пахолкова Анна Юрьевна","М171МСБДН010","Визуализация данных",4,"Экзамен","2017/2018 учебный год 4 модуль",null,36,1,1,1722525802,2098,null,"Системы больших данных",{"$f":"MATCH(D1172,Отчет!$D$1:$D$65536,0)","v":56}]
[1956289577,8,"МБД171",1937366273,"Иванова Анастасия Михайловна","М171МСБДН006","Визуализация данных",4,"Экзамен","2017/2018 учебный год 4 модуль",null,32,1,1,1722525802,2098,null,"Системы больших данных",{"$f":"MATCH(D1173,Отчет!$D$1:$D$65536,0)","v":71}]
[1956290079,8,"МБД171",1937366289,"Яковлева Дарья Александровна","М171МСБДН019","Визуализация данных",4,"Экзамен","2017/2018 учебный год 4 модуль",null,32,1,1,1722525802,2098,null,"Системы больших данных",{"$f":"MATCH(D1174,Отчет!$D$1:$D$65536,0)","v":96}]
[1956290162,8,"МБД171",1937366302,"Ферягина Екатерина Андреевна","М171МСБДН015","Визуализация данных",4,"Экзамен","2017/2018 учебный год 4 модуль",null,32,1,1,1722525802,2098,null,"Системы больших данных",{"$f":"MATCH(D1175,Отчет!$D$1:$D$65536,0)","v":76}]
[1956290513,9,"МБД171",1937366317,"Рахимов Севастьян Эдуардович","М171МСБДН012","Визуализация данных",4,"Экзамен","2017/2018 учебный год 4 модуль",null,36,1,1,1722525802,2098,null,"Системы больших данных",{"$f":"MATCH(D1176,Отчет!$D$1:$D$65536,0)","v":59}]
[1956289697,10,"МБД171",1937366334,"Кулаков Александр Сергеевич","М171МСБДН009","Визуализация данных",4,"Экзамен","2017/2018 учебный год 4 модуль",null,40,1,1,1722525802,2098,null,"Системы больших данных",{"$f":"MATCH(D1177,Отчет!$D$1:$D$65536,0)","v":19}]
[1956290398,6,"МБД171",1937366160,"Канищев Кирилл Валерьевич","М171МСБДН008","Визуализация данных",4,"Экзамен","2017/2018 учебный год 4 модуль",null,24,1,1,1722525802,2098,null,"Системы больших данных",{"$f":"MATCH(D1178,Отчет!$D$1:$D$65536,0)","v":109}]
[1956290355,7,"МБД171",1937366175,"Трегубова Инесса Александровна","М171МСБДН014","Визуализация данных",4,"Экзамен","2017/2018 учебный год 4 модуль",null,28,1,1,1722525802,2098,null,"Системы больших данных",{"$f":"MATCH(D1179,Отчет!$D$1:$D$65536,0)","v":127}]
[1956290315,8,"МБД171",1937366203,"Ильяшенко Григорий Анатольевич","М171МСБДН007","Визуализация данных",4,"Экзамен","2017/2018 учебный год 4 модуль",null,32,1,1,1722525802,2098,null,"Системы больших данных",{"$f":"MATCH(D1180,Отчет!$D$1:$D$65536,0)","v":81}]
[2052765612,8,"МБИ171",1937363332,"Войнов Евгений Вадимович","М171МБИИН018","Выбор и методологии внедрения ИТ-решений",3,"Экзамен","2017/2018 учебный год 4 модуль",null,24,1,1,null,5028,null,"Бизнес-информатика",{"$f":"MATCH(D1181,Отчет!$D$1:$D$65536,0)","v":35}]
[2052765745,9,"МБИ172",1937363600,"Конова Марина Валерьевна","М171МБИИН036","Выбор и методологии внедрения ИТ-решений",3,"Экзамен","2017/2018 учебный год 4 модуль",null,27,1,1,null,5028,null,"Бизнес-информатика",{"$f":"MATCH(D1182,Отчет!$D$1:$D$65536,0)","v":23}]
[2064505530,5,"МБИ171",1937364044,"Бондарь Сергей Борисович","М171МБИИН015","Выбор и методологии внедрения ИТ-решений",3,"Экзамен","2017/2018 учебный год 4 модуль",null,15,1,1,null,5028,null,"Бизнес-информатика",{"$f":"MATCH(D1183,Отчет!$D$1:$D$65536,0)","v":170}]
[2052765546,10,"МБИ173",1941989108,"Рябов Дмитрий Валерьевич","М171МБИИН090","Выбор и методологии внедрения ИТ-решений",3,"Экзамен","2017/2018 учебный год 4 модуль",null,30,1,1,null,5028,null,"Бизнес-информатика",{"$f":"MATCH(D1184,Отчет!$D$1:$D$65536,0)","v":14}]
[2052765862,9,"МБИ172",1941989121,"Павлова Татьяна Михайловна","М171МБИИН089","Выбор и методологии внедрения ИТ-решений",3,"Экзамен","2017/2018 учебный год 4 модуль",null,27,1,0,null,5028,null,"Бизнес-информатика",{"$f":"MATCH(D1185,Отчет!$D$1:$D$65536,0)","v":15}]
[2064824770,9,"МБИ172",1941989134,"Морева Галина Сергеевна","М171МБИИН088","Выбор и методологии внедрения ИТ-решений",3,"Экзамен","2017/2018 учебный год 4 модуль",null,27,1,0,null,5028,null,"Бизнес-информатика",{"$f":"MATCH(D1186,Отчет!$D$1:$D$65536,0)","v":94}]
[2052765368,8,"МБИ172",1941989160,"Мельникова Анастасия Игоревна","М171МБИИН086","Выбор и методологии внедрения ИТ-решений",3,"Экзамен","2017/2018 учебный год 4 модуль",null,24,1,0,null,5028,null,"Бизнес-информатика",{"$f":"MATCH(D1187,Отчет!$D$1:$D$65536,0)","v":46}]
[2052765882,10,"МБИ171",1941989199,"Бородко Вера Николаевна","М171МБИИН082","Выбор и методологии внедрения ИТ-решений",3,"Экзамен","2017/2018 учебный год 4 модуль",null,30,1,0,null,5028,null,"Бизнес-информатика",{"$f":"MATCH(D1188,Отчет!$D$1:$D$65536,0)","v":18}]
[2052765576,9,"МБИ171",1942008650,"Гареев Эмиль Хамидович","М171МБИИН085","Выбор и методологии внедрения ИТ-решений",3,"Экзамен","2017/2018 учебный год 4 модуль",null,27,1,1,null,5028,null,"Бизнес-информатика",{"$f":"MATCH(D1189,Отчет!$D$1:$D$65536,0)","v":144}]
[2174095933,7,"МБИ173",2162833425,"Майборода Кирилл Алексеевич","М161МБИИН048","Выбор и методологии внедрения ИТ-решений",3,"Экзамен","2017/2018 учебный год 4 модуль",null,21,1,1,null,5028,null,"Бизнес-информатика",{"$f":"MATCH(D1190,Отчет!$D$1:$D$65536,0)","v":122}]
[2052765290,7,"МБИ173",1937363359,"Юдин Андрей Анатольевич","М171МБИИН070","Дебаты на английском языке",3,"Экзамен","2017/2018 учебный год 4 модуль",null,21,1,1,null,5028,null,"Бизнес-информатика",{"$f":"MATCH(D1191,Отчет!$D$1:$D$65536,0)","v":132}]
[2052765878,9,"МБИ173",1937363587,"Новицкая Валерия Андреевна","М171МБИИН048","Дебаты на английском языке",3,"Экзамен","2017/2018 учебный год 4 модуль",null,27,1,1,null,5028,null,"Бизнес-информатика",{"$f":"MATCH(D1192,Отчет!$D$1:$D$65536,0)","v":54}]
[2052765252,5,"МБИ173",1944935723,"Ким Анатолий","М171МБИИН095","Дебаты на английском языке",3,"Экзамен","2017/2018 учебный год 4 модуль",null,15,1,0,null,5028,null,"Бизнес-информатика",{"$f":"MATCH(D1193,Отчет!$D$1:$D$65536,0)","v":176}]
[2052764984,9,"МЭБ171",1937372893,"Смирнов Константин Борисович","М171МЭЛБЗ021","Дебаты на английском языке",3,"Экзамен","2017/2018 учебный год 4 модуль",null,27,1,1,null,5028,null,"Электронный бизнес",{"$f":"MATCH(D1194,Отчет!$D$1:$D$65536,0)","v":55}]
[2052765796,8,"МБИ172",1937363970,"Лебедева Надежда Юрьевна","М171МБИИН040","Дебаты на английском языке",3,"Экзамен","2017/2018 учебный год 4 модуль",null,24,1,1,null,5028,null,"Бизнес-информатика",{"$f":"MATCH(D1195,Отчет!$D$1:$D$65536,0)","v":135}]
[1956303482,9,"МБИ172",1937364163,"Миллер Кирилл Александрович","М171МБИИН046","Интеграция бизнес-процессов на базе информационных систем",5,"Экзамен","2017/2018 учебный год 4 модуль",null,45,1,1,1722551595,2098,null,"Бизнес-информатика",{"$f":"MATCH(D1196,Отчет!$D$1:$D$65536,0)","v":79}]
[1956303510,7,"МБИ173",1937364177,"Сухова Ксения Игоревна","М171МБИИН063","Интеграция бизнес-процессов на базе информационных систем",5,"Экзамен","2017/2018 учебный год 4 модуль",null,35,1,1,1722551595,2098,null,"Бизнес-информатика",{"$f":"MATCH(D1197,Отчет!$D$1:$D$65536,0)","v":77}]
[1956303154,6,"МБИ173",1937364192,"Семенова Элина Михайловна","М171МБИИН059","Интеграция бизнес-процессов на базе информационных систем",5,"Экзамен","2017/2018 учебный год 4 модуль",null,30,1,1,1722551595,2098,null,"Бизнес-информатика",{"$f":"MATCH(D1198,Отчет!$D$1:$D$65536,0)","v":160}]
[1956302419,8,"МБИ171",1937364220,"Бутченко Антон Олегович","М171МБИИН016","Интеграция бизнес-процессов на базе информационных систем",5,"Экзамен","2017/2018 учебный год 4 модуль",null,40,1,1,1722551595,2098,null,"Бизнес-информатика",{"$f":"MATCH(D1199,Отчет!$D$1:$D$65536,0)","v":57}]
[1956302368,9,"МБИ172",1940750974,"Мирской Александр Леонидович","М171МБИИН075","Интеграция бизнес-процессов на базе информационных систем",5,"Экзамен","2017/2018 учебный год 4 модуль",null,45,1,0,1722551595,2098,null,"Бизнес-информатика",{"$f":"MATCH(D1200,Отчет!$D$1:$D$65536,0)","v":29}]
[1956303967,5,"МБИ173",1940751185,"Овсянникова Ольга Андреевна","М171МБИИН078","Интеграция бизнес-процессов на базе информационных систем",5,"Экзамен","2017/2018 учебный год 4 модуль",null,25,1,0,1722551595,2098,null,"Бизнес-информатика",{"$f":"MATCH(D1201,Отчет!$D$1:$D$65536,0)","v":69}]
[1956302751,5,"МБИ172",1940815727,"Монгуш Алдын-Ай Владимировна","М171МБИИН076","Интеграция бизнес-процессов на базе информационных систем",5,"Экзамен","2017/2018 учебный год 4 модуль",null,25,1,0,1722551595,2098,null,"Бизнес-информатика",{"$f":"MATCH(D1202,Отчет!$D$1:$D$65536,0)","v":104}]
[2246772466,7,"МБИ173",1940815743,"Шумилин Дмитрий Станиславович","М171МБИИН080","Интеграция бизнес-процессов на базе информационных систем",5,"Экзамен","2017/2018 учебный год 4 модуль",null,35,1,0,1722551595,2098,null,"Бизнес-информатика",{"$f":"MATCH(D1203,Отчет!$D$1:$D$65536,0)","v":150}]
[1956302332,8,"МБИ172",1940815773,"Матвиенко Андрей Кириллович","М171МБИИН074","Интеграция бизнес-процессов на базе информационных систем",5,"Экзамен","2017/2018 учебный год 4 модуль",null,40,1,1,1722551595,2098,null,"Бизнес-информатика",{"$f":"MATCH(D1204,Отчет!$D$1:$D$65536,0)","v":38}]
[1956303807,9,"МБИ172",1940815787,"Музыка Наталия Константиновна","М171МБИИН077","Интеграция бизнес-процессов на базе информационных систем",5,"Экзамен","2017/2018 учебный год 4 модуль",null,45,1,1,1722551595,2098,null,"Бизнес-информатика",{"$f":"MATCH(D1205,Отчет!$D$1:$D$65536,0)","v":31}]
[1956303259,7,"МБИ172",1940815800,"Кривенцов Феликс Константинович","М171МБИИН072","Интеграция бизнес-процессов на базе информационных систем",5,"Экзамен","2017/2018 учебный год 4 модуль",null,35,1,1,1722551595,2098,null,"Бизнес-информатика",{"$f":"MATCH(D1206,Отчет!$D$1:$D$65536,0)","v":119}]
[1956338481,5,"МБИ171",1940815842,"Дворяшин Дмитрий Александрович","М171МБИИН071","Интеграция бизнес-процессов на базе информационных систем",5,"Экзамен","2017/2018 учебный год 4 модуль",null,25,1,0,1722551595,2098,null,"Бизнес-информатика",{"$f":"MATCH(D1207,Отчет!$D$1:$D$65536,0)","v":166}]
[1956304184,6,"МБИ173",1941989095,"Сарычев Роман Владимирович","М171МБИИН091","Интеграция бизнес-процессов на базе информационных систем",5,"Экзамен","2017/2018 учебный год 4 модуль",null,30,1,0,1722551595,2098,null,"Бизнес-информатика",{"$f":"MATCH(D1208,Отчет!$D$1:$D$65536,0)","v":134}]
[1956169022,10,"МБИ173",1941989108,"Рябов Дмитрий Валерьевич","М171МБИИН090","Интеграция бизнес-процессов на базе информационных систем",5,"Экзамен","2017/2018 учебный год 4 модуль",null,50,1,1,1722551595,2098,null,"Бизнес-информатика",{"$f":"MATCH(D1209,Отчет!$D$1:$D$65536,0)","v":14}]
[1956304322,9,"МБИ172",1941989121,"Павлова Татьяна Михайловна","М171МБИИН089","Интеграция бизнес-процессов на базе информационных систем",5,"Экзамен","2017/2018 учебный год 4 модуль",null,45,1,0,1722551595,2098,null,"Бизнес-информатика",{"$f":"MATCH(D1210,Отчет!$D$1:$D$65536,0)","v":15}]
[1956303333,9,"МБИ172",1941989134,"Морева Галина Сергеевна","М171МБИИН088","Интеграция бизнес-процессов на базе информационных систем",5,"Экзамен","2017/2018 учебный год 4 модуль",null,45,1,0,1722551595,2098,null,"Бизнес-информатика",{"$f":"MATCH(D1211,Отчет!$D$1:$D$65536,0)","v":94}]
[1956301875,8,"МБИ172",1941989147,"Мингазов Аскар Альбертович","М171МБИИН087","Интеграция бизнес-процессов на базе информационных систем",5,"Экзамен","2017/2018 учебный год 4 модуль",null,40,1,0,1722551595,2098,null,"Бизнес-информатика",{"$f":"MATCH(D1212,Отчет!$D$1:$D$65536,0)","v":171}]
[1956302249,8,"МБИ172",1941989160,"Мельникова Анастасия Игоревна","М171МБИИН086","Интеграция бизнес-процессов на базе информационных систем",5,"Экзамен","2017/2018 учебный год 4 модуль",null,40,1,0,1722551595,2098,null,"Бизнес-информатика",{"$f":"MATCH(D1213,Отчет!$D$1:$D$65536,0)","v":46}]
[1956304456,9,"МБИ171",1941989199,"Бородко Вера Николаевна","М171МБИИН082","Интеграция бизнес-процессов на базе информационных систем",5,"Экзамен","2017/2018 учебный год 4 модуль",null,45,1,0,1722551595,2098,null,"Бизнес-информатика",{"$f":"MATCH(D1214,Отчет!$D$1:$D$65536,0)","v":18}]
[1956303089,6,"МБИ171",1942008650,"Гареев Эмиль Хамидович","М171МБИИН085","Интеграция бизнес-процессов на базе информационных систем",5,"Экзамен","2017/2018 учебный год 4 модуль",null,30,1,1,1722551595,2098,null,"Бизнес-информатика",{"$f":"MATCH(D1215,Отчет!$D$1:$D$65536,0)","v":144}]
[1956302882,9,"МБИ171",1944931265,"Бытка Дарья","М171МБИИН093","Интеграция бизнес-процессов на базе информационных систем",5,"Экзамен","2017/2018 учебный год 4 модуль",null,45,1,1,1722551595,2098,null,"Бизнес-информатика",{"$f":"MATCH(D1216,Отчет!$D$1:$D$65536,0)","v":22}]
[1956301824,5,"МБИ173",1944935723,"Ким Анатолий","М171МБИИН095","Интеграция бизнес-процессов на базе информационных систем",5,"Экзамен","2017/2018 учебный год 4 модуль",null,25,1,0,1722551595,2098,null,"Бизнес-информатика",{"$f":"MATCH(D1217,Отчет!$D$1:$D$65536,0)","v":176}]
[1956303362,8,"МБИ172",1944939253,"Вовк Иларион Анатольевич","М171МБИИН094","Интеграция бизнес-процессов на базе информационных систем",5,"Экзамен","2017/2018 учебный год 4 модуль",null,40,1,0,1722551595,2098,null,"Бизнес-информатика",{"$f":"MATCH(D1218,Отчет!$D$1:$D$65536,0)","v":98}]
[1956302578,6,"МБИ173",1945753603,"Пак Александр Сергеевич","М171МБИИН096","Интеграция бизнес-процессов на базе информационных систем",5,"Экзамен","2017/2018 учебный год 4 модуль",null,30,1,0,1722551595,2098,null,"Бизнес-информатика",{"$f":"MATCH(D1219,Отчет!$D$1:$D$65536,0)","v":114}]
[1956303534,5,"МБИ172",1947090330,"Варданян Карен Оганесович","М171МБИИН097","Интеграция бизнес-процессов на базе информационных систем",5,"Экзамен","2017/2018 учебный год 4 модуль",null,25,1,1,1722551595,2098,null,"Бизнес-информатика",{"$f":"MATCH(D1220,Отчет!$D$1:$D$65536,0)","v":175}]
[2166485806,8,"МБИ173",2162833425,"Майборода Кирилл Алексеевич","М161МБИИН048","Интеграция бизнес-процессов на базе информационных систем",5,"Экзамен","2017/2018 учебный год 4 модуль",null,40,1,1,1722551595,2098,null,"Бизнес-информатика",{"$f":"MATCH(D1221,Отчет!$D$1:$D$65536,0)","v":122}]
[1956303235,8,"МБИ171",1937363332,"Войнов Евгений Вадимович","М171МБИИН018","Интеграция бизнес-процессов на базе информационных систем",5,"Экзамен","2017/2018 учебный год 4 модуль",null,40,1,1,1722551595,2098,null,"Бизнес-информатика",{"$f":"MATCH(D1222,Отчет!$D$1:$D$65536,0)","v":35}]
[1956301993,7,"МБИ173",1937363359,"Юдин Андрей Анатольевич","М171МБИИН070","Интеграция бизнес-процессов на базе информационных систем",5,"Экзамен","2017/2018 учебный год 4 модуль",null,35,1,1,1722551595,2098,null,"Бизнес-информатика",{"$f":"MATCH(D1223,Отчет!$D$1:$D$65536,0)","v":132}]
[1956303630,7,"МБИ172",1937363372,"Карасев Михаил Николаевич","М171МБИИН031","Интеграция бизнес-процессов на базе информационных систем",5,"Экзамен","2017/2018 учебный год 4 модуль",null,35,1,1,1722551595,2098,null,"Бизнес-информатика",{"$f":"MATCH(D1224,Отчет!$D$1:$D$65536,0)","v":169}]
[1956302115,8,"МБИ173",1937363386,"Сафохин Андрей Дмитриевич","М171МБИИН058","Интеграция бизнес-процессов на базе информационных систем",5,"Экзамен","2017/2018 учебный год 4 модуль",null,40,1,1,1722551595,2098,null,"Бизнес-информатика",{"$f":"MATCH(D1225,Отчет!$D$1:$D$65536,0)","v":26}]
[1956303407,7,"МБИ173",1937363399,"Токарев Иван Максимович","М171МБИИН065","Интеграция бизнес-процессов на базе информационных систем",5,"Экзамен","2017/2018 учебный год 4 модуль",null,35,1,1,1722551595,2098,null,"Бизнес-информатика",{"$f":"MATCH(D1226,Отчет!$D$1:$D$65536,0)","v":73}]
[1956303687,7,"МБИ171",1937363441,"Бардакова Мария Вячеславовна","М171МБИИН008","Интеграция бизнес-процессов на базе информационных систем",5,"Экзамен","2017/2018 учебный год 4 модуль",null,35,1,1,1722551595,2098,null,"Бизнес-информатика",{"$f":"MATCH(D1227,Отчет!$D$1:$D$65536,0)","v":129}]
[1956303835,7,"МБИ173",1937363469,"Пронин Никита Павлович","М171МБИИН053","Интеграция бизнес-процессов на базе информационных систем",5,"Экзамен","2017/2018 учебный год 4 модуль",null,35,1,1,1722551595,2098,null,"Бизнес-информатика",{"$f":"MATCH(D1228,Отчет!$D$1:$D$65536,0)","v":126}]
[1956303759,6,"МБИ171",1937363482,"Гайнутдинов Наиль Анварович","М171МБИИН020","Интеграция бизнес-процессов на базе информационных систем",5,"Экзамен","2017/2018 учебный год 4 модуль",null,30,1,1,1722551595,2098,null,"Бизнес-информатика",{"$f":"MATCH(D1229,Отчет!$D$1:$D$65536,0)","v":159}]
[1956302915,8,"МБИ173",1937363495,"Черепнина Дарья Олеговна","М171МБИИН068","Интеграция бизнес-процессов на базе информационных систем",5,"Экзамен","2017/2018 учебный год 4 модуль",null,40,1,1,1722551595,2098,null,"Бизнес-информатика",{"$f":"MATCH(D1230,Отчет!$D$1:$D$65536,0)","v":67}]
[1956302556,6,"МБИ172",1937363509,"Колесникова Анна Сергеевна","М171МБИИН035","Интеграция бизнес-процессов на базе информационных систем",5,"Экзамен","2017/2018 учебный год 4 модуль",null,30,1,1,1722551595,2098,null,"Бизнес-информатика",{"$f":"MATCH(D1231,Отчет!$D$1:$D$65536,0)","v":161}]
[1956304093,5,"МБИ171",1937363522,"Богданов Павел Владимирович","М171МБИИН013","Интеграция бизнес-процессов на базе информационных систем",5,"Экзамен","2017/2018 учебный год 4 модуль",null,25,1,1,1722551595,2098,null,"Бизнес-информатика",{"$f":"MATCH(D1232,Отчет!$D$1:$D$65536,0)","v":92}]
[1956302397,7,"МБИ171",1937363535,"Бегларян Амалия Мгеровна","М171МБИИН009","Интеграция бизнес-процессов на базе информационных систем",5,"Экзамен","2017/2018 учебный год 4 модуль",null,35,1,1,1722551595,2098,null,"Бизнес-информатика",{"$f":"MATCH(D1233,Отчет!$D$1:$D$65536,0)","v":113}]
[1956303382,8,"МБИ173",1937363561,"Сиднев Игорь Дмитриевич","М171МБИИН060","Интеграция бизнес-процессов на базе информационных систем",5,"Экзамен","2017/2018 учебный год 4 модуль",null,40,1,1,1722551595,2098,null,"Бизнес-информатика",{"$f":"MATCH(D1234,Отчет!$D$1:$D$65536,0)","v":117}]
[1956304432,7,"МБИ173",1937363587,"Новицкая Валерия Андреевна","М171МБИИН048","Интеграция бизнес-процессов на базе информационных систем",5,"Экзамен","2017/2018 учебный год 4 модуль",null,35,1,1,1722551595,2098,null,"Бизнес-информатика",{"$f":"MATCH(D1235,Отчет!$D$1:$D$65536,0)","v":54}]
[1956303711,9,"МБИ172",1937363600,"Конова Марина Валерьевна","М171МБИИН036","Интеграция бизнес-процессов на базе информационных систем",5,"Экзамен","2017/2018 учебный год 4 модуль",null,45,1,1,1722551595,2098,null,"Бизнес-информатика",{"$f":"MATCH(D1236,Отчет!$D$1:$D$65536,0)","v":23}]
[1956351648,7,"МБИ173",1937363613,"Улямаев Альберт Ирекович","М171МБИИН066","Интеграция бизнес-процессов на базе информационных систем",5,"Экзамен","2017/2018 учебный год 4 модуль",null,35,1,1,1722551595,2098,null,"Бизнес-информатика",{"$f":"MATCH(D1237,Отчет!$D$1:$D$65536,0)","v":82}]
[1956302528,6,"МБИ171",1937363626,"Давтян Артем Сергеевич","М171МБИИН025","Интеграция бизнес-процессов на базе информационных систем",5,"Экзамен","2017/2018 учебный год 4 модуль",null,30,1,1,1722551595,2098,null,"Бизнес-информатика",{"$f":"MATCH(D1238,Отчет!$D$1:$D$65536,0)","v":147}]
[1956302855,5,"МБИ171",1937363639,"Волков Даниил Андреевич","М171МБИИН019","Интеграция бизнес-процессов на базе информационных систем",5,"Экзамен","2017/2018 учебный год 4 модуль",null,25,1,1,1722551595,2098,null,"Бизнес-информатика",{"$f":"MATCH(D1239,Отчет!$D$1:$D$65536,0)","v":174}]
[1959038316,null,null,1937363653,"Агарков Ярослав Алексеевич","М171МБИИН001","Интеграция бизнес-процессов на базе информационных систем",5,"Экзамен","2017/2018 учебный год 4 модуль",0,0,null,1,1722551595,2098,null,"Бизнес-информатика",{"$f":"MATCH(D1240,Отчет!$D$1:$D$65536,0)","v":179}]
[1956304158,7,"МБИ173",1937363680,"Рудь Роман Сергеевич","М171МБИИН056","Интеграция бизнес-процессов на базе информационных систем",5,"Экзамен","2017/2018 учебный год 4 модуль",null,35,1,1,1722551595,2098,null,"Бизнес-информатика",{"$f":"MATCH(D1241,Отчет!$D$1:$D$65536,0)","v":125}]
[1956302221,7,"МБИ173",1937363693,"Стогова Анастасия Германовна","М171МБИИН062","Интеграция бизнес-процессов на базе информационных систем",5,"Экзамен","2017/2018 учебный год 4 модуль",null,35,1,1,1722551595,2098,null,"Бизнес-информатика",{"$f":"MATCH(D1242,Отчет!$D$1:$D$65536,0)","v":88}]
[1956303116,7,"МБИ171",1937363706,"Большаков Егор Максимович","М171МБИИН014","Интеграция бизнес-процессов на базе информационных систем",5,"Экзамен","2017/2018 учебный год 4 модуль",null,35,1,1,1722551595,2098,null,"Бизнес-информатика",{"$f":"MATCH(D1243,Отчет!$D$1:$D$65536,0)","v":165}]
[1956303436,7,"МБИ171",1937363732,"Богданов Кирилл Алексеевич","М171МБИИН012","Интеграция бизнес-процессов на базе информационных систем",5,"Экзамен","2017/2018 учебный год 4 модуль",null,35,1,1,1722551595,2098,null,"Бизнес-информатика",{"$f":"MATCH(D1244,Отчет!$D$1:$D$65536,0)","v":128}]
[1956302460,5,"МБИ171",1937363745,"Антонова Анастасия Романовна","М171МБИИН004","Интеграция бизнес-процессов на базе информационных систем",5,"Экзамен","2017/2018 учебный год 4 модуль",null,25,1,1,1722551595,2098,null,"Бизнес-информатика",{"$f":"MATCH(D1245,Отчет!$D$1:$D$65536,0)","v":124}]
[1956301905,7,"МБИ173",1937363758,"Ригин Алексей Алексеевич","М171МБИИН055","Интеграция бизнес-процессов на базе информационных систем",5,"Экзамен","2017/2018 учебный год 4 модуль",null,35,1,1,1722551595,2098,null,"Бизнес-информатика",{"$f":"MATCH(D1246,Отчет!$D$1:$D$65536,0)","v":64}]
[1956304483,7,"МБИ172",1937363785,"Дунец Владислав Олегович","М171МБИИН027","Интеграция бизнес-процессов на базе информационных систем",5,"Экзамен","2017/2018 учебный год 4 модуль",null,35,1,1,1722551595,2098,null,"Бизнес-информатика",{"$f":"MATCH(D1247,Отчет!$D$1:$D$65536,0)","v":145}]
[1956303859,8,"МБИ173",1937363798,"Пронин Никита Вадимович","М171МБИИН052","Интеграция бизнес-процессов на базе информационных систем",5,"Экзамен","2017/2018 учебный год 4 модуль",null,40,1,1,1722551595,2098,null,"Бизнес-информатика",{"$f":"MATCH(D1248,Отчет!$D$1:$D$65536,0)","v":108}]
[1956304408,9,"МБИ172",1937363838,"Лиховцев Вадим Александрович","М171МБИИН041","Интеграция бизнес-процессов на базе информационных систем",5,"Экзамен","2017/2018 учебный год 4 модуль",null,45,1,1,1722551595,2098,null,"Бизнес-информатика",{"$f":"MATCH(D1249,Отчет!$D$1:$D$65536,0)","v":68}]
[1956303602,7,"МБИ171",1937363851,"Бадаева Мария Мингияновна","М171МБИИН007","Интеграция бизнес-процессов на базе информационных систем",5,"Экзамен","2017/2018 учебный год 4 модуль",null,35,1,1,1722551595,2098,null,"Бизнес-информатика",{"$f":"MATCH(D1250,Отчет!$D$1:$D$65536,0)","v":153}]
[1956304069,7,"МБИ172",1937363865,"Лобач Петр Сергеевич","М171МБИИН042","Интеграция бизнес-процессов на базе информационных систем",5,"Экзамен","2017/2018 учебный год 4 модуль",null,35,1,1,1722551595,2098,null,"Бизнес-информатика",{"$f":"MATCH(D1251,Отчет!$D$1:$D$65536,0)","v":143}]
[1956302952,7,"МБИ171",1937363878,"Андрюхина Дарья Сергеевна","М171МБИИН003","Интеграция бизнес-процессов на базе информационных систем",5,"Экзамен","2017/2018 учебный год 4 модуль",null,35,1,1,1722551595,2098,null,"Бизнес-информатика",{"$f":"MATCH(D1252,Отчет!$D$1:$D$65536,0)","v":95}]
[1956302139,6,"МБИ172",1937363891,"Коновалова Аделина Евгеньевна","М171МБИИН037","Интеграция бизнес-процессов на базе информационных систем",5,"Экзамен","2017/2018 учебный год 4 модуль",null,30,1,1,1722551595,2098,null,"Бизнес-информатика",{"$f":"MATCH(D1253,Отчет!$D$1:$D$65536,0)","v":91}]
[1956303016,7,"МБИ171",1937363904,"Белова Евгения Александровна","М171МБИИН011","Интеграция бизнес-процессов на базе информационных систем",5,"Экзамен","2017/2018 учебный год 4 модуль",null,35,1,1,1722551595,2098,null,"Бизнес-информатика",{"$f":"MATCH(D1254,Отчет!$D$1:$D$65536,0)","v":83}]
[1956302067,6,"МБИ172",1937363917,"Мартынов Александр Дмитриевич","М171МБИИН044","Интеграция бизнес-процессов на базе информационных систем",5,"Экзамен","2017/2018 учебный год 4 модуль",null,30,1,1,1722551595,2098,null,"Бизнес-информатика",{"$f":"MATCH(D1255,Отчет!$D$1:$D$65536,0)","v":167}]
[1956304034,6,"МБИ171",1937363930,"Бабанов Павел Александрович","М171МБИИН006","Интеграция бизнес-процессов на базе информационных систем",5,"Экзамен","2017/2018 учебный год 4 модуль",null,30,1,1,1722551595,2098,null,"Бизнес-информатика",{"$f":"MATCH(D1256,Отчет!$D$1:$D$65536,0)","v":152}]
[1956302498,5,"МБИ172",1937363957,"Ершова Александра Романовна","М171МБИИН028","Интеграция бизнес-процессов на базе информационных систем",5,"Экзамен","2017/2018 учебный год 4 модуль",null,25,1,1,1722551595,2098,null,"Бизнес-информатика",{"$f":"MATCH(D1257,Отчет!$D$1:$D$65536,0)","v":138}]
[1956303938,6,"МБИ172",1937363970,"Лебедева Надежда Юрьевна","М171МБИИН040","Интеграция бизнес-процессов на базе информационных систем",5,"Экзамен","2017/2018 учебный год 4 модуль",null,30,1,1,1722551595,2098,null,"Бизнес-информатика",{"$f":"MATCH(D1258,Отчет!$D$1:$D$65536,0)","v":135}]
[1956302277,6,"МБИ173",1937364031,"Полторак Анастасия Игоревна","М171МБИИН051","Интеграция бизнес-процессов на базе информационных систем",5,"Экзамен","2017/2018 учебный год 4 модуль",null,30,1,1,1722551595,2098,null,"Бизнес-информатика",{"$f":"MATCH(D1259,Отчет!$D$1:$D$65536,0)","v":103}]
[1956334146,5,"МБИ171",1937364044,"Бондарь Сергей Борисович","М171МБИИН015","Интеграция бизнес-процессов на базе информационных систем",5,"Экзамен","2017/2018 учебный год 4 модуль",null,25,1,1,1722551595,2098,null,"Бизнес-информатика",{"$f":"MATCH(D1260,Отчет!$D$1:$D$65536,0)","v":170}]
[1956304212,7,"МБИ171",1937364058,"Герасимов Станислав Александрович","М171МБИИН023","Интеграция бизнес-процессов на базе информационных систем",5,"Экзамен","2017/2018 учебный год 4 модуль",null,35,1,1,1722551595,2098,null,"Бизнес-информатика",{"$f":"MATCH(D1261,Отчет!$D$1:$D$65536,0)","v":140}]
[1956303179,8,"МБИ172",1937364071,"Карнаух Егор Сергеевич","М171МБИИН032","Интеграция бизнес-процессов на базе информационных систем",5,"Экзамен","2017/2018 учебный год 4 модуль",null,40,1,1,1722551595,2098,null,"Бизнес-информатика",{"$f":"MATCH(D1262,Отчет!$D$1:$D$65536,0)","v":65}]
[1956302166,7,"МБИ171",1937364084,"Гареев Артем Фаридович","М171МБИИН022","Интеграция бизнес-процессов на базе информационных систем",5,"Экзамен","2017/2018 учебный год 4 модуль",null,35,1,1,1722551595,2098,null,"Бизнес-информатика",{"$f":"MATCH(D1263,Отчет!$D$1:$D$65536,0)","v":148}]
[1956303036,8,"МБИ172",1937364110,"Клименко Екатерина Андреевна","М171МБИИН034","Интеграция бизнес-процессов на базе информационных систем",5,"Экзамен","2017/2018 учебный год 4 модуль",null,40,1,1,1722551595,2098,null,"Бизнес-информатика",{"$f":"MATCH(D1264,Отчет!$D$1:$D$65536,0)","v":28}]
[1956301961,7,"МБИ171",1937364123,"Вишняков Азим Азимович","М171МБИИН017","Интеграция бизнес-процессов на базе информационных систем",5,"Экзамен","2017/2018 учебный год 4 модуль",null,35,1,1,1722551595,2098,null,"Бизнес-информатика",{"$f":"MATCH(D1265,Отчет!$D$1:$D$65536,0)","v":80}]
[1956303735,8,"МБИ172",1937364137,"Медведева Мария Вячеславовна","М171МБИИН045","Интеграция бизнес-процессов на базе информационных систем",5,"Экзамен","2017/2018 учебный год 4 модуль",null,40,1,1,1722551595,2098,null,"Бизнес-информатика",{"$f":"MATCH(D1266,Отчет!$D$1:$D$65536,0)","v":51}]
[2052765828,9,"МБИ173",1937363680,"Рудь Роман Сергеевич","М171МБИИН056","Интеллектуальные технологии в бизнесе",3,"Экзамен","2017/2018 учебный год 4 модуль",null,27,1,1,null,5028,null,"Бизнес-информатика",{"$f":"MATCH(D1267,Отчет!$D$1:$D$65536,0)","v":125}]
[2052765359,8,"МБИ173",1937363693,"Стогова Анастасия Германовна","М171МБИИН062","Интеллектуальные технологии в бизнесе",3,"Экзамен","2017/2018 учебный год 4 модуль",null,24,1,1,null,5028,null,"Бизнес-информатика",{"$f":"MATCH(D1268,Отчет!$D$1:$D$65536,0)","v":88}]
[2064504453,null,null,1937363653,"Агарков Ярослав Алексеевич","М171МБИИН001","Интеллектуальные технологии в бизнесе",3,"Экзамен","2017/2018 учебный год 4 модуль",0,0,null,1,null,5028,null,"Бизнес-информатика",{"$f":"MATCH(D1269,Отчет!$D$1:$D$65536,0)","v":179}]
[2052765554,9,"МБИ171",1937363904,"Белова Евгения Александровна","М171МБИИН011","Интеллектуальные технологии в бизнесе",3,"Экзамен","2017/2018 учебный год 4 модуль",null,27,1,1,null,5028,null,"Бизнес-информатика",{"$f":"MATCH(D1270,Отчет!$D$1:$D$65536,0)","v":83}]
[2052765437,8,"МБИ171",1937363745,"Антонова Анастасия Романовна","М171МБИИН004","Интеллектуальные технологии в бизнесе",3,"Экзамен","2017/2018 учебный год 4 модуль",null,24,1,1,null,5028,null,"Бизнес-информатика",{"$f":"MATCH(D1271,Отчет!$D$1:$D$65536,0)","v":124}]
[1956303120,6,"МБИ171",1937363706,"Большаков Егор Максимович","М171МБИИН014","Информационно-аналитические системы управления корпоративной результативностью на базе решений IBM Cognos TM1",5,"Экзамен","2017/2018 учебный год 4 модуль",null,30,1,1,1722551595,2098,null,"Бизнес-информатика",{"$f":"MATCH(D1272,Отчет!$D$1:$D$65536,0)","v":165}]
[1956302467,8,"МБИ171",1937363745,"Антонова Анастасия Романовна","М171МБИИН004","Информационно-аналитические системы управления корпоративной результативностью на базе решений IBM Cognos TM1",5,"Экзамен","2017/2018 учебный год 4 модуль",null,40,1,1,1722551595,2098,null,"Бизнес-информатика",{"$f":"MATCH(D1273,Отчет!$D$1:$D$65536,0)","v":124}]
[1956304038,8,"МБИ171",1937363930,"Бабанов Павел Александрович","М171МБИИН006","Информационно-аналитические системы управления корпоративной результативностью на базе решений IBM Cognos TM1",5,"Экзамен","2017/2018 учебный год 4 модуль",null,40,1,1,1722551595,2098,null,"Бизнес-информатика",{"$f":"MATCH(D1274,Отчет!$D$1:$D$65536,0)","v":152}]
[1956304261,9,"МБИ171",1937363943,"Антонова Софья Глебовна","М171МБИИН005","Информационно-аналитические системы управления корпоративной результативностью на базе решений IBM Cognos TM1",5,"Экзамен","2017/2018 учебный год 4 модуль",null,45,1,1,1722551595,2098,null,"Бизнес-информатика",{"$f":"MATCH(D1275,Отчет!$D$1:$D$65536,0)","v":164}]
[1956302990,7,"МБИ173",1940815743,"Шумилин Дмитрий Станиславович","М171МБИИН080","Информационно-аналитические системы управления корпоративной результативностью на базе решений IBM Cognos TM1",5,"Экзамен","2017/2018 учебный год 4 модуль",null,35,1,0,1722551595,2098,null,"Бизнес-информатика",{"$f":"MATCH(D1276,Отчет!$D$1:$D$65536,0)","v":150}]
[1956303183,10,"МБИ172",1937364071,"Карнаух Егор Сергеевич","М171МБИИН032","Информационно-аналитические системы управления корпоративной результативностью на базе решений IBM Cognos TM1",5,"Экзамен","2017/2018 учебный год 4 модуль",null,50,1,1,1722551595,2098,null,"Бизнес-информатика",{"$f":"MATCH(D1277,Отчет!$D$1:$D$65536,0)","v":65}]
[1956303578,9,"МБИ172",1937363986,"Китайкина Мария Алексеевна","М171МБИИН033","Информационно-аналитические системы управления корпоративной результативностью на базе решений IBM Cognos TM1",5,"Экзамен","2017/2018 учебный год 4 модуль",null,45,1,1,1722551595,2098,null,"Бизнес-информатика",{"$f":"MATCH(D1278,Отчет!$D$1:$D$65536,0)","v":163}]
[1956302860,6,"МБИ171",1937363639,"Волков Даниил Андреевич","М171МБИИН019","Информационно-аналитические системы управления корпоративной результативностью на базе решений IBM Cognos TM1",5,"Экзамен","2017/2018 учебный год 4 модуль",null,30,1,1,1722551595,2098,null,"Бизнес-информатика",{"$f":"MATCH(D1279,Отчет!$D$1:$D$65536,0)","v":174}]
[1956301849,9,"МБИ171",1937363548,"Галков Алексей Александрович","М171МБИИН021","Информационно-аналитические системы управления корпоративной результативностью на базе решений IBM Cognos TM1",5,"Экзамен","2017/2018 учебный год 4 модуль",null,45,1,1,1722551595,2098,null,"Бизнес-информатика",{"$f":"MATCH(D1280,Отчет!$D$1:$D$65536,0)","v":173}]
[1956304101,8,"МБИ171",1937363522,"Богданов Павел Владимирович","М171МБИИН013","Информационно-аналитические системы управления корпоративной результативностью на базе решений IBM Cognos TM1",5,"Экзамен","2017/2018 учебный год 4 модуль",null,40,1,1,1722551595,2098,null,"Бизнес-информатика",{"$f":"MATCH(D1281,Отчет!$D$1:$D$65536,0)","v":92}]
[1956302920,8,"МБИ173",1937363495,"Черепнина Дарья Олеговна","М171МБИИН068","Информационно-аналитические системы управления корпоративной результативностью на базе решений IBM Cognos TM1",5,"Экзамен","2017/2018 учебный год 4 модуль",null,40,1,1,1722551595,2098,null,"Бизнес-информатика",{"$f":"MATCH(D1282,Отчет!$D$1:$D$65536,0)","v":67}]
[1956303839,8,"МБИ173",1937363469,"Пронин Никита Павлович","М171МБИИН053","Информационно-аналитические системы управления корпоративной результативностью на базе решений IBM Cognos TM1",5,"Экзамен","2017/2018 учебный год 4 модуль",null,40,1,1,1722551595,2098,null,"Бизнес-информатика",{"$f":"MATCH(D1283,Отчет!$D$1:$D$65536,0)","v":126}]
[1956304124,9,"МБИ173",1937363345,"Пьянов Родион Альбертович","М171МБИИН054","Информационно-аналитические системы управления корпоративной результативностью на базе решений IBM Cognos TM1",5,"Экзамен","2017/2018 учебный год 4 модуль",null,45,1,1,1722551595,2098,null,"Бизнес-информатика",{"$f":"MATCH(D1284,Отчет!$D$1:$D$65536,0)","v":149}]
[1956302372,10,"МБИ172",1940750974,"Мирской Александр Леонидович","М171МБИИН075","Информационно-аналитические системы управления корпоративной результативностью на базе решений IBM Cognos TM1",5,"Экзамен","2017/2018 учебный год 4 модуль",null,50,1,0,1722551595,2098,null,"Бизнес-информатика",{"$f":"MATCH(D1285,Отчет!$D$1:$D$65536,0)","v":29}]
[1956301828,7,"МБИ173",1944935723,"Ким Анатолий","М171МБИИН095","Информационно-аналитические системы управления корпоративной результативностью на базе решений IBM Cognos TM1",5,"Экзамен","2017/2018 учебный год 4 модуль",null,35,1,0,1722551595,2098,null,"Бизнес-информатика",{"$f":"MATCH(D1286,Отчет!$D$1:$D$65536,0)","v":176}]
[1956302887,9,"МБИ171",1944931265,"Бытка Дарья","М171МБИИН093","Информационно-аналитические системы управления корпоративной результативностью на базе решений IBM Cognos TM1",5,"Экзамен","2017/2018 учебный год 4 модуль",null,45,1,1,1722551595,2098,null,"Бизнес-информатика",{"$f":"MATCH(D1287,Отчет!$D$1:$D$65536,0)","v":22}]
[1956303040,10,"МБИ172",1937364110,"Клименко Екатерина Андреевна","М171МБИИН034","Информационно-аналитические системы управления корпоративной результативностью на базе решений IBM Cognos TM1",5,"Экзамен","2017/2018 учебный год 4 модуль",null,50,1,1,1722551595,2098,null,"Бизнес-информатика",{"$f":"MATCH(D1288,Отчет!$D$1:$D$65536,0)","v":28}]
[1956303263,8,"МБИ172",1940815800,"Кривенцов Феликс Константинович","М171МБИИН072","Информационно-аналитические системы управления корпоративной результативностью на базе решений IBM Cognos TM1",5,"Экзамен","2017/2018 учебный год 4 модуль",null,40,1,1,1722551595,2098,null,"Бизнес-информатика",{"$f":"MATCH(D1289,Отчет!$D$1:$D$65536,0)","v":119}]
[1956301938,8,"МБИ173",1940815759,"Щеголев Андрей Александрович","М171МБИИН081","Информационно-аналитические системы управления корпоративной результативностью на базе решений IBM Cognos TM1",5,"Экзамен","2017/2018 учебный год 4 модуль",null,40,1,1,1722551595,2098,null,"Бизнес-информатика",{"$f":"MATCH(D1290,Отчет!$D$1:$D$65536,0)","v":87}]
[2052765267,9,"МБИ173",1937363758,"Ригин Алексей Алексеевич","М171МБИИН055","Информационные системы корпоративного управления на платформе 1С",3,"Экзамен","2017/2018 учебный год 4 модуль",null,27,1,1,null,5028,null,"Бизнес-информатика",{"$f":"MATCH(D1291,Отчет!$D$1:$D$65536,0)","v":64}]
[1952007270,6,"МЭБ171",1937373052,"Ким Дин Хо","М171МЭЛБЗ009","Исследования в Интернет",5,"Экзамен","2017/2018 учебный год 4 модуль",null,30,1,1,1722506105,2098,null,"Электронный бизнес",{"$f":"MATCH(D1292,Отчет!$D$1:$D$65536,0)","v":121}]
[1952007297,8,"МЭБ171",1940816486,"Кондращенко Ярослав Константинович","М171МЭЛБЗ027","Исследования в Интернет",5,"Экзамен","2017/2018 учебный год 4 модуль",null,40,1,0,1722506105,2098,null,"Электронный бизнес",{"$f":"MATCH(D1293,Отчет!$D$1:$D$65536,0)","v":78}]
[1952007415,4,"МЭБ171",1945760044,"Цандере Юлия","М171МЭЛБЗ028","Исследования в Интернет",5,"Экзамен","2017/2018 учебный год 4 модуль",null,20,1,0,1722506105,2098,null,"Электронный бизнес",{"$f":"MATCH(D1294,Отчет!$D$1:$D$65536,0)","v":130}]
[1952007314,6,"МЭБ171",1937373039,"Кяргин Антон Юрьевич","М171МЭЛБЗ013","Исследования в Интернет",5,"Экзамен","2017/2018 учебный год 4 модуль",null,30,1,1,1722506105,2098,null,"Электронный бизнес",{"$f":"MATCH(D1295,Отчет!$D$1:$D$65536,0)","v":110}]
[1952007397,10,"МЭБ171",1937373025,"Суряднов Дмитрий Юрьевич","М171МЭЛБЗ022","Исследования в Интернет",5,"Экзамен","2017/2018 учебный год 4 модуль",null,50,1,1,1722506105,2098,null,"Электронный бизнес",{"$f":"MATCH(D1296,Отчет!$D$1:$D$65536,0)","v":27}]
[1952007235,8,"МЭБ171",1937373012,"Давыдова Ксения Валерьевна","М171МЭЛБЗ006","Исследования в Интернет",5,"Экзамен","2017/2018 учебный год 4 модуль",null,40,1,1,1722506105,2098,null,"Электронный бизнес",{"$f":"MATCH(D1297,Отчет!$D$1:$D$65536,0)","v":97}]
[1952007204,10,"МЭБ171",1937372998,"Горобец Валерия Валентиновна","М171МЭЛБЗ005","Исследования в Интернет",5,"Экзамен","2017/2018 учебный год 4 модуль",null,50,1,1,1722506105,2098,null,"Электронный бизнес",{"$f":"MATCH(D1298,Отчет!$D$1:$D$65536,0)","v":42}]
[1952007405,9,"МЭБ171",1937372985,"Фахрова Дина Вадимовна","М171МЭЛБЗ023","Исследования в Интернет",5,"Экзамен","2017/2018 учебный год 4 модуль",null,45,1,1,1722506105,2098,null,"Электронный бизнес",{"$f":"MATCH(D1299,Отчет!$D$1:$D$65536,0)","v":37}]
[1952007371,6,"МЭБ171",1937372972,"Рубцова Екатерина Андреевна","М171МЭЛБЗ019","Исследования в Интернет",5,"Экзамен","2017/2018 учебный год 4 модуль",null,30,1,1,1722506105,2098,null,"Электронный бизнес",{"$f":"MATCH(D1300,Отчет!$D$1:$D$65536,0)","v":139}]
[1952007321,4,"МЭБ171",1937372959,"Лунин Никита Константинович","М171МЭЛБЗ014","Исследования в Интернет",5,"Экзамен","2017/2018 учебный год 4 модуль",null,20,1,1,1722506105,2098,null,"Электронный бизнес",{"$f":"MATCH(D1301,Отчет!$D$1:$D$65536,0)","v":158}]
[1952007426,8,"МЭБ171",1937372945,"Цуканов Иван Викторович","М171МЭЛБЗ024","Исследования в Интернет",5,"Экзамен","2017/2018 учебный год 4 модуль",null,40,1,1,1722506105,2098,null,"Электронный бизнес",{"$f":"MATCH(D1302,Отчет!$D$1:$D$65536,0)","v":100}]
[1952007086,8,"МЭБ171",1937372932,"Абросимова Анастасия Михайловна","М171МЭЛБЗ001","Исследования в Интернет",5,"Экзамен","2017/2018 учебный год 4 модуль",null,40,1,1,1722506105,2098,null,"Электронный бизнес",{"$f":"MATCH(D1303,Отчет!$D$1:$D$65536,0)","v":105}]
[1952007353,8,"МЭБ171",1937372919,"Михайлов Егор Александрович","М171МЭЛБЗ017","Исследования в Интернет",5,"Экзамен","2017/2018 учебный год 4 модуль",null,40,1,1,1722506105,2098,null,"Электронный бизнес",{"$f":"MATCH(D1304,Отчет!$D$1:$D$65536,0)","v":107}]
[1952007288,5,"МЭБ171",1937372906,"Китьян Акмаль Алексеевич","М171МЭЛБЗ011","Исследования в Интернет",5,"Экзамен","2017/2018 учебный год 4 модуль",null,25,1,1,1722506105,2098,null,"Электронный бизнес",{"$f":"MATCH(D1305,Отчет!$D$1:$D$65536,0)","v":154}]
[1952007389,6,"МЭБ171",1937372893,"Смирнов Константин Борисович","М171МЭЛБЗ021","Исследования в Интернет",5,"Экзамен","2017/2018 учебный год 4 модуль",null,30,1,1,1722506105,2098,null,"Электронный бизнес",{"$f":"MATCH(D1306,Отчет!$D$1:$D$65536,0)","v":55}]
[1952007332,4,"МЭБ171",1937372880,"Лучкин Андрей Владимирович","М171МЭЛБЗ015","Исследования в Интернет",5,"Экзамен","2017/2018 учебный год 4 модуль",null,20,1,1,1722506105,2098,null,"Электронный бизнес",{"$f":"MATCH(D1307,Отчет!$D$1:$D$65536,0)","v":133}]
[1952007381,7,"МЭБ171",1937372866,"Семенкович Софья Алексеевна","М171МЭЛБЗ020","Исследования в Интернет",5,"Экзамен","2017/2018 учебный год 4 модуль",null,35,1,1,1722506105,2098,null,"Электронный бизнес",{"$f":"MATCH(D1308,Отчет!$D$1:$D$65536,0)","v":90}]
[1952007438,9,"МЭБ171",1937372852,"Юлдашева Камилла Адилевна","М171МЭЛБЗ025","Исследования в Интернет",5,"Экзамен","2017/2018 учебный год 4 модуль",null,45,1,1,1722506105,2098,null,"Электронный бизнес",{"$f":"MATCH(D1309,Отчет!$D$1:$D$65536,0)","v":24}]
[1952007110,9,"МЭБ171",1937372839,"Бабаджанян Армен Кароевич","М171МЭЛБЗ002","Исследования в Интернет",5,"Экзамен","2017/2018 учебный год 4 модуль",null,45,1,1,1722506105,2098,null,"Электронный бизнес",{"$f":"MATCH(D1310,Отчет!$D$1:$D$65536,0)","v":52}]
[1952007342,5,"МЭБ171",1937372826,"Минеева Анастасия Сергеевна","М171МЭЛБЗ016","Исследования в Интернет",5,"Экзамен","2017/2018 учебный год 4 модуль",null,25,1,1,1722506105,2098,null,"Электронный бизнес",{"$f":"MATCH(D1311,Отчет!$D$1:$D$65536,0)","v":146}]
[1952007306,6,"МЭБ171",1937372811,"Куратова Александра Евгеньевна","М171МЭЛБЗ012","Исследования в Интернет",5,"Экзамен","2017/2018 учебный год 4 модуль",null,30,1,1,1722506105,2098,null,"Электронный бизнес",{"$f":"MATCH(D1312,Отчет!$D$1:$D$65536,0)","v":137}]
[1952007167,7,"МЭБ171",1937372796,"Гимашев Линар Русланович","М171МЭЛБЗ004","Исследования в Интернет",5,"Экзамен","2017/2018 учебный год 4 модуль",null,35,1,1,1722506105,2098,null,"Электронный бизнес",{"$f":"MATCH(D1313,Отчет!$D$1:$D$65536,0)","v":142}]
[1952007254,8,"МЭБ171",1937372783,"Калинин Дмитрий Владимирович","М171МЭЛБЗ008","Исследования в Интернет",5,"Экзамен","2017/2018 учебный год 4 модуль",null,40,1,1,1722506105,2098,null,"Электронный бизнес",{"$f":"MATCH(D1314,Отчет!$D$1:$D$65536,0)","v":49}]
[1952007280,6,"МЭБ171",1937372770,"Кирилловых Андрей Максимович","М171МЭЛБЗ010","Исследования в Интернет",5,"Экзамен","2017/2018 учебный год 4 модуль",null,30,1,1,1722506105,2098,null,"Электронный бизнес",{"$f":"MATCH(D1315,Отчет!$D$1:$D$65536,0)","v":102}]
[1952007361,6,"МЭБ171",1937372757,"Осипова Мария Андреевна","М171МЭЛБЗ018","Исследования в Интернет",5,"Экзамен","2017/2018 учебный год 4 модуль",null,30,1,1,1722506105,2098,null,"Электронный бизнес",{"$f":"MATCH(D1316,Отчет!$D$1:$D$65536,0)","v":44}]
[1952007243,6,"МЭБ171",1937372743,"Джаббарова Лейла Мехман гызы","М171МЭЛБЗ007","Исследования в Интернет",5,"Экзамен","2017/2018 учебный год 4 модуль",null,30,1,1,1722506105,2098,null,"Электронный бизнес",{"$f":"MATCH(D1317,Отчет!$D$1:$D$65536,0)","v":85}]
[1952007138,8,"МЭБ171",1937372729,"Бадамова Екатерина Дмитриевна","М171МЭЛБЗ003","Исследования в Интернет",5,"Экзамен","2017/2018 учебный год 4 модуль",null,40,1,1,1722506105,2098,null,"Электронный бизнес",{"$f":"MATCH(D1318,Отчет!$D$1:$D$65536,0)","v":47}]
[1955920069,8,"МБД171",1937366216,"Архипенко Анастасия Дмитриевна","М171МСБДН001","Исследования в Интернет",5,"Экзамен","2017/2018 учебный год 4 модуль",null,40,1,1,1722506105,2098,null,"Системы больших данных",{"$f":"MATCH(D1319,Отчет!$D$1:$D$65536,0)","v":16}]
[1955921220,9,"МБД171",1937366422,"Вилкова Елена Александровна","М171МСБДН002","Исследования в Интернет",5,"Экзамен","2017/2018 учебный год 4 модуль",null,45,1,1,1722506105,2098,null,"Системы больших данных",{"$f":"MATCH(D1320,Отчет!$D$1:$D$65536,0)","v":12}]
[1952014204,8,"МИБ171",1937370552,"Рудаков Андрей Дмитриевич","М171МУБЕЗ017","Криптографические методы защиты информации",6,"Экзамен","2017/2018 учебный год 4 модуль",null,48,1,1,1722514289,2098,null,"Управление информационной безопасностью",{"$f":"MATCH(D1321,Отчет!$D$1:$D$65536,0)","v":99}]
[1952014173,6,"МИБ171",1942008132,"Нурматов Асхат","М171МУБЕЗ022","Криптографические методы защиты информации",6,"Экзамен","2017/2018 учебный год 4 модуль",null,36,1,1,1722514289,2098,null,"Управление информационной безопасностью",{"$f":"MATCH(D1322,Отчет!$D$1:$D$65536,0)","v":178}]
[1952014136,10,"МИБ171",1937370369,"Иванов Владислав Сергеевич","М171МУБЕЗ007","Криптографические методы защиты информации",6,"Экзамен","2017/2018 учебный год 4 модуль",null,60,1,1,1722514289,2098,null,"Управление информационной безопасностью",{"$f":"MATCH(D1323,Отчет!$D$1:$D$65536,0)","v":20}]
[1952014091,9,"МИБ171",1937370385,"Бочарова Ксения Михайловна","М171МУБЕЗ002","Криптографические методы защиты информации",6,"Экзамен","2017/2018 учебный год 4 модуль",null,54,1,1,1722514289,2098,null,"Управление информационной безопасностью",{"$f":"MATCH(D1324,Отчет!$D$1:$D$65536,0)","v":53}]
[1952014127,8,"МИБ171",1937370401,"Жучков Константин Сергеевич","М171МУБЕЗ006","Криптографические методы защиты информации",6,"Экзамен","2017/2018 учебный год 4 модуль",null,48,1,1,1722514289,2098,null,"Управление информационной безопасностью",{"$f":"MATCH(D1325,Отчет!$D$1:$D$65536,0)","v":116}]
[1952014109,10,"МИБ171",1937371178,"Гультяева Полина Николаевна","М171МУБЕЗ004","Криптографические методы защиты информации",6,"Экзамен","2017/2018 учебный год 4 модуль",null,60,1,1,1722514289,2098,null,"Управление информационной безопасностью",{"$f":"MATCH(D1326,Отчет!$D$1:$D$65536,0)","v":39}]
[1952014101,8,"МИБ171",1937371161,"Варламова Виктория Викторовна","М171МУБЕЗ003","Криптографические методы защиты информации",6,"Экзамен","2017/2018 учебный год 4 модуль",null,48,1,1,1722514289,2098,null,"Управление информационной безопасностью",{"$f":"MATCH(D1327,Отчет!$D$1:$D$65536,0)","v":106}]
[1952014077,4,"МИБ171",1937371143,"Белоус Илия Григорьевич","М171МУБЕЗ001","Криптографические методы защиты информации",6,"Экзамен","2017/2018 учебный год 4 модуль",null,24,1,1,1722514289,2098,null,"Управление информационной безопасностью",{"$f":"MATCH(D1328,Отчет!$D$1:$D$65536,0)","v":157}]
[1952014169,5,"МИБ171",1937371125,"Никитин Андрей Олегович","М171МУБЕЗ011","Криптографические методы защиты информации",6,"Экзамен","2017/2018 учебный год 4 модуль",null,30,1,1,1722514289,2098,null,"Управление информационной безопасностью",{"$f":"MATCH(D1329,Отчет!$D$1:$D$65536,0)","v":141}]
[1952014217,9,"МИБ171",1937370596,"Смирнов Данил Вадимович","М171МУБЕЗ020","Криптографические методы защиты информации",6,"Экзамен","2017/2018 учебный год 4 модуль",null,54,1,1,1722514289,2098,null,"Управление информационной безопасностью",{"$f":"MATCH(D1330,Отчет!$D$1:$D$65536,0)","v":33}]
[1952014150,8,"МИБ171",1937370580,"Козлов Никита Вячеславович","М171МУБЕЗ008","Криптографические методы защиты информации",6,"Экзамен","2017/2018 учебный год 4 модуль",null,48,1,1,1722514289,2098,null,"Управление информационной безопасностью",{"$f":"MATCH(D1331,Отчет!$D$1:$D$65536,0)","v":118}]
[1952014200,7,"МИБ171",1937370565,"Пупышева Анна Андреевна","М171МУБЕЗ016","Криптографические методы защиты информации",6,"Экзамен","2017/2018 учебный год 4 модуль",null,42,1,1,1722514289,2098,null,"Управление информационной безопасностью",{"$f":"MATCH(D1332,Отчет!$D$1:$D$65536,0)","v":101}]
[1952014144,6,"МИБ171",1942008109,"Кабыкен Даулет","М171МУБЕЗ021","Криптографические методы защиты информации",6,"Экзамен","2017/2018 учебный год 4 модуль",null,36,1,1,1722514289,2098,null,"Управление информационной безопасностью",{"$f":"MATCH(D1333,Отчет!$D$1:$D$65536,0)","v":177}]
[1952014177,7,"МИБ171",1937370536,"Оленева Валерия Александровна","М171МУБЕЗ012","Криптографические методы защиты информации",6,"Экзамен","2017/2018 учебный год 4 модуль",null,42,1,1,1722514289,2098,null,"Управление информационной безопасностью",{"$f":"MATCH(D1334,Отчет!$D$1:$D$65536,0)","v":86}]
[1952014181,10,"МИБ171",1937370517,"Осадчая Алина Дмитриевна","М171МУБЕЗ013","Криптографические методы защиты информации",6,"Экзамен","2017/2018 учебный год 4 модуль",null,60,1,1,1722514289,2098,null,"Управление информационной безопасностью",{"$f":"MATCH(D1335,Отчет!$D$1:$D$65536,0)","v":25}]
[1952014186,10,"МИБ171",1937370498,"Петрина Матвей Олегович","М171МУБЕЗ014","Криптографические методы защиты информации",6,"Экзамен","2017/2018 учебный год 4 модуль",null,60,1,1,1722514289,2098,null,"Управление информационной безопасностью",{"$f":"MATCH(D1336,Отчет!$D$1:$D$65536,0)","v":75}]
[1952014119,9,"МИБ171",1937370480,"Дарбишева Патимат Гаджимурадовна","М171МУБЕЗ005","Криптографические методы защиты информации",6,"Экзамен","2017/2018 учебный год 4 модуль",null,54,1,1,1722514289,2098,null,"Управление информационной безопасностью",{"$f":"MATCH(D1337,Отчет!$D$1:$D$65536,0)","v":30}]
[1952014158,5,"МИБ171",1937370452,"Коровин Кирилл Сергеевич","М171МУБЕЗ009","Криптографические методы защиты информации",6,"Экзамен","2017/2018 учебный год 4 модуль",null,30,1,1,1722514289,2098,null,"Управление информационной безопасностью",{"$f":"MATCH(D1338,Отчет!$D$1:$D$65536,0)","v":136}]
[1952014163,10,"МИБ171",1937370436,"Михеева Вероника Вячеславовна","М171МУБЕЗ010","Криптографические методы защиты информации",6,"Экзамен","2017/2018 учебный год 4 модуль",null,60,1,1,1722514289,2098,null,"Управление информационной безопасностью",{"$f":"MATCH(D1339,Отчет!$D$1:$D$65536,0)","v":60}]
[1952014209,7,"МИБ171",1937370421,"Ряховский Сергей Алексеевич","М171МУБЕЗ018","Криптографические методы защиты информации",6,"Экзамен","2017/2018 учебный год 4 модуль",null,42,1,1,1722514289,2098,null,"Управление информационной безопасностью",{"$f":"MATCH(D1340,Отчет!$D$1:$D$65536,0)","v":115}]
[2052764899,6,"МЭБ171",1937372770,"Кирилловых Андрей Максимович","М171МЭЛБЗ010","Культурное потребление и исследования аудитории",3,"Экзамен","2017/2018 учебный год 4 модуль",null,18,1,1,null,5028,null,"Электронный бизнес",{"$f":"MATCH(D1341,Отчет!$D$1:$D$65536,0)","v":102}]
[2052765012,6,"МЭБ171",1937372796,"Гимашев Линар Русланович","М171МЭЛБЗ004","Культурное потребление и исследования аудитории",3,"Экзамен","2017/2018 учебный год 4 модуль",null,18,1,1,null,5028,null,"Электронный бизнес",{"$f":"MATCH(D1342,Отчет!$D$1:$D$65536,0)","v":142}]
[2052765836,4,"МБИ173",1941989095,"Сарычев Роман Владимирович","М171МБИИН091","Культурное потребление и исследования аудитории",3,"Экзамен","2017/2018 учебный год 4 модуль",null,12,1,0,null,5028,null,"Бизнес-информатика",{"$f":"MATCH(D1343,Отчет!$D$1:$D$65536,0)","v":134}]
[2052765722,4,"МБИ172",1937363372,"Карасев Михаил Николаевич","М171МБИИН031","Культурный ландшафт города",3,"Экзамен","2017/2018 учебный год 4 модуль",null,12,1,1,null,5028,null,"Бизнес-информатика",{"$f":"MATCH(D1344,Отчет!$D$1:$D$65536,0)","v":169}]
[2052765309,4,"МБИ172",1937363917,"Мартынов Александр Дмитриевич","М171МБИИН044","Культурный ландшафт города",3,"Экзамен","2017/2018 учебный год 4 модуль",null,12,1,1,null,5028,null,"Бизнес-информатика",{"$f":"MATCH(D1345,Отчет!$D$1:$D$65536,0)","v":167}]
[1937430562,8,"МБД171",1937366334,"Кулаков Александр Сергеевич","М171МСБДН009","Курсовая работа",5,"Экзамен","2017/2018 учебный год 4 модуль",null,40,1,1,1722525802,4308,null,"Системы больших данных",{"$f":"MATCH(D1346,Отчет!$D$1:$D$65536,0)","v":19}]
[1937430927,10,"МБД171",1937366348,"Шеин Александр Владимирович","М171МСБДН017","Курсовая работа",5,"Экзамен","2017/2018 учебный год 4 модуль",null,50,1,1,1722525802,4308,null,"Системы больших данных",{"$f":"MATCH(D1347,Отчет!$D$1:$D$65536,0)","v":17}]
[1937430355,9,"МБД171",1937366366,"Гатина Эльмира Ринатовна","М171МСБДН003","Курсовая работа",5,"Экзамен","2017/2018 учебный год 4 модуль",null,45,1,1,1722525802,4308,null,"Системы больших данных",{"$f":"MATCH(D1348,Отчет!$D$1:$D$65536,0)","v":34}]
[1937430641,9,"МБД171",1937366380,"Полушин Глеб Валерьевич","М171МСБДН011","Курсовая работа",5,"Экзамен","2017/2018 учебный год 4 модуль",null,45,1,1,1722525802,4308,null,"Системы больших данных",{"$f":"MATCH(D1349,Отчет!$D$1:$D$65536,0)","v":62}]
[1937430961,10,"МБД171",1937366394,"Шубина Виктория Ильинична","М171МСБДН018","Курсовая работа",5,"Экзамен","2017/2018 учебный год 4 модуль",null,50,1,1,1722525802,4308,null,"Системы больших данных",{"$f":"MATCH(D1350,Отчет!$D$1:$D$65536,0)","v":32}]
[1937430896,8,"МБД171",1937366407,"Чувилина Анна Андреевна","М171МСБДН016","Курсовая работа",5,"Экзамен","2017/2018 учебный год 4 модуль",null,40,1,1,1722525802,4308,null,"Системы больших данных",{"$f":"MATCH(D1351,Отчет!$D$1:$D$65536,0)","v":43}]
[1937430325,9,"МБД171",1937366422,"Вилкова Елена Александровна","М171МСБДН002","Курсовая работа",5,"Экзамен","2017/2018 учебный год 4 модуль",null,45,1,1,1722525802,4308,null,"Системы больших данных",{"$f":"MATCH(D1352,Отчет!$D$1:$D$65536,0)","v":12}]
[1937430730,10,"МБД171",1937366436,"Сысоев Марк Валерьевич","М171МСБДН013","Курсовая работа",5,"Экзамен","2017/2018 учебный год 4 модуль",null,50,1,1,1722525802,4308,null,"Системы больших данных",{"$f":"MATCH(D1353,Отчет!$D$1:$D$65536,0)","v":45}]
[1937430521,10,"МБД171",1937366160,"Канищев Кирилл Валерьевич","М171МСБДН008","Курсовая работа",5,"Экзамен","2017/2018 учебный год 4 модуль",null,50,1,1,1722525802,4308,null,"Системы больших данных",{"$f":"MATCH(D1354,Отчет!$D$1:$D$65536,0)","v":109}]
[1937430687,8,"МБД171",1937366317,"Рахимов Севастьян Эдуардович","М171МСБДН012","Курсовая работа",5,"Экзамен","2017/2018 учебный год 4 модуль",null,40,1,1,1722525802,4308,null,"Системы больших данных",{"$f":"MATCH(D1355,Отчет!$D$1:$D$65536,0)","v":59}]
[1937430847,8,"МБД171",1937366302,"Ферягина Екатерина Андреевна","М171МСБДН015","Курсовая работа",5,"Экзамен","2017/2018 учебный год 4 модуль",null,40,1,1,1722525802,4308,null,"Системы больших данных",{"$f":"MATCH(D1356,Отчет!$D$1:$D$65536,0)","v":76}]
[1937430993,10,"МБД171",1937366289,"Яковлева Дарья Александровна","М171МСБДН019","Курсовая работа",5,"Экзамен","2017/2018 учебный год 4 модуль",null,50,1,1,1722525802,4308,null,"Системы больших данных",{"$f":"MATCH(D1357,Отчет!$D$1:$D$65536,0)","v":96}]
[1937430456,10,"МБД171",1937366273,"Иванова Анастасия Михайловна","М171МСБДН006","Курсовая работа",5,"Экзамен","2017/2018 учебный год 4 модуль",null,50,1,1,1722525802,4308,null,"Системы больших данных",{"$f":"MATCH(D1358,Отчет!$D$1:$D$65536,0)","v":71}]
[1937430599,10,"МБД171",1937366259,"Пахолкова Анна Юрьевна","М171МСБДН010","Курсовая работа",5,"Экзамен","2017/2018 учебный год 4 модуль",null,50,1,1,1722525802,4308,null,"Системы больших данных",{"$f":"MATCH(D1359,Отчет!$D$1:$D$65536,0)","v":56}]
[1937430389,10,"МБД171",1937366244,"Дмитриев Виктор Андреевич","М171МСБДН004","Курсовая работа",5,"Экзамен","2017/2018 учебный год 4 модуль",null,50,1,1,1722525802,4308,null,"Системы больших данных",{"$f":"MATCH(D1360,Отчет!$D$1:$D$65536,0)","v":63}]
[1937430422,9,"МБД171",1937366231,"Дякин Николай Валерьевич","М171МСБДН005","Курсовая работа",5,"Экзамен","2017/2018 учебный год 4 модуль",null,45,1,1,1722525802,4308,null,"Системы больших данных",{"$f":"MATCH(D1361,Отчет!$D$1:$D$65536,0)","v":21}]
[1937430286,10,"МБД171",1937366216,"Архипенко Анастасия Дмитриевна","М171МСБДН001","Курсовая работа",5,"Экзамен","2017/2018 учебный год 4 модуль",null,50,1,1,1722525802,4308,null,"Системы больших данных",{"$f":"MATCH(D1362,Отчет!$D$1:$D$65536,0)","v":16}]
[1937430487,9,"МБД171",1937366203,"Ильяшенко Григорий Анатольевич","М171МСБДН007","Курсовая работа",5,"Экзамен","2017/2018 учебный год 4 модуль",null,45,1,1,1722525802,4308,null,"Системы больших данных",{"$f":"MATCH(D1363,Отчет!$D$1:$D$65536,0)","v":81}]
[2101227935,8,"МБД171",2097188263,"Леонов Антон Александрович","М161МЖУРД016","Курсовая работа",5,"Экзамен","2017/2018 учебный год 4 модуль",null,40,1,1,1722525802,4308,null,"Системы больших данных",{"$f":"MATCH(D1364,Отчет!$D$1:$D$65536,0)","v":168}]
[1977576511,5,"МБД171",1972663851,"Ислам Эмди Шафикул","М171МСБДН036","Курсовая работа",5,"Экзамен","2017/2018 учебный год 4 модуль",null,25,1,0,1722525802,4308,null,"Системы больших данных",{"$f":"MATCH(D1365,Отчет!$D$1:$D$65536,0)","v":84}]
[1972266236,6,"МБД171",1970446330,"- Маниканта Рукмангада","М171МСБДН035","Курсовая работа",5,"Экзамен","2017/2018 учебный год 4 модуль",null,30,1,1,1722525802,4308,null,"Системы больших данных",{"$f":"MATCH(D1366,Отчет!$D$1:$D$65536,0)","v":120}]
[1959820007,6,"МБД171",1959612809,"Штройхофэр Кристофер","М171МСБДН033","Курсовая работа",5,"Экзамен","2017/2018 учебный год 4 модуль",null,30,1,1,1722525802,4308,null,"Системы больших данных",{"$f":"MATCH(D1367,Отчет!$D$1:$D$65536,0)","v":40}]
[1950547050,7,"МБД171",1950255571,"Сиахпутра Эдо","М171МСБДН031","Курсовая работа",5,"Экзамен","2017/2018 учебный год 4 модуль",null,35,1,1,1722525802,4308,null,"Системы больших данных",{"$f":"MATCH(D1368,Отчет!$D$1:$D$65536,0)","v":112}]
[1950547108,9,"МБД171",1950215429,"Фаур Назим Ахмад","М171МСБДН032","Курсовая работа",5,"Экзамен","2017/2018 учебный год 4 модуль",null,45,1,0,1722525802,4308,null,"Системы больших данных",{"$f":"MATCH(D1369,Отчет!$D$1:$D$65536,0)","v":89}]
[1947328348,6,"МБД171",1946791924,"Скачок Андрей","М171МСБДН030","Курсовая работа",5,"Экзамен","2017/2018 учебный год 4 модуль",null,30,1,0,1722525802,4308,null,"Системы больших данных",{"$f":"MATCH(D1370,Отчет!$D$1:$D$65536,0)","v":151}]
[1942060291,10,"МБД171",1942007946,"Ержанова Тогжан","М171МСБДН029","Курсовая работа",5,"Экзамен","2017/2018 учебный год 4 модуль",null,50,1,1,1722525802,4308,null,"Системы больших данных",{"$f":"MATCH(D1371,Отчет!$D$1:$D$65536,0)","v":61}]
[1940929794,8,"МБД171",1940816199,"Обаляева Екатерина Ильинична","М171МСБДН023","Курсовая работа",5,"Экзамен","2017/2018 учебный год 4 модуль",null,40,1,0,1722525802,4308,null,"Системы больших данных",{"$f":"MATCH(D1372,Отчет!$D$1:$D$65536,0)","v":36}]
[1940929827,10,"МБД171",1940816185,"Прохоренков Дмитрий Викторович","М171МСБДН024","Курсовая работа",5,"Экзамен","2017/2018 учебный год 4 модуль",null,50,1,0,1722525802,4308,null,"Системы больших данных",{"$f":"MATCH(D1373,Отчет!$D$1:$D$65536,0)","v":13}]
[1940929959,6,"МБД171",1940816171,"Ширяева Кристина Александровна","М171МСБДН028","Курсовая работа",5,"Экзамен","2017/2018 учебный год 4 модуль",null,30,1,0,1722525802,4308,null,"Системы больших данных",{"$f":"MATCH(D1374,Отчет!$D$1:$D$65536,0)","v":70}]
[1940929764,9,"МБД171",1940816150,"Иванов Никита Павлович","М171МСБДН022","Курсовая работа",5,"Экзамен","2017/2018 учебный год 4 модуль",null,45,1,0,1722525802,4308,null,"Системы больших данных",{"$f":"MATCH(D1375,Отчет!$D$1:$D$65536,0)","v":48}]
[1940929734,4,"МБД171",1940816134,"Арча Александр Михайлович","М171МСБДН021","Курсовая работа",5,"Экзамен","2017/2018 учебный год 4 модуль",null,20,1,0,1722525802,4308,null,"Системы больших данных",{"$f":"MATCH(D1376,Отчет!$D$1:$D$65536,0)","v":111}]
[1940929857,8,"МБД171",1940816117,"Садыкова Сабина Бахтияровна","М171МСБДН025","Курсовая работа",5,"Экзамен","2017/2018 учебный год 4 модуль",null,40,1,0,1722525802,4308,null,"Системы больших данных",{"$f":"MATCH(D1377,Отчет!$D$1:$D$65536,0)","v":58}]
[1937430783,8,"МБД171",1937366175,"Трегубова Инесса Александровна","М171МСБДН014","Курсовая работа",5,"Экзамен","2017/2018 учебный год 4 модуль",null,40,1,1,1722525802,4308,null,"Системы больших данных",{"$f":"MATCH(D1378,Отчет!$D$1:$D$65536,0)","v":127}]
[1940929888,8,"МБД171",1940751998,"Семес Алексей Владимирович","М171МСБДН026","Курсовая работа",5,"Экзамен","2017/2018 учебный год 4 модуль",null,40,1,0,1722525802,4308,null,"Системы больших данных",{"$f":"MATCH(D1379,Отчет!$D$1:$D$65536,0)","v":66}]
[1940929923,8,"МБД171",1940816098,"Телышева Татьяна Романовна","М171МСБДН027","Курсовая работа",5,"Экзамен","2017/2018 учебный год 4 модуль",null,40,1,0,1722525802,4308,null,"Системы больших данных",{"$f":"MATCH(D1380,Отчет!$D$1:$D$65536,0)","v":93}]
[2162837241,10,"МБИ173",2162833425,"Майборода Кирилл Алексеевич","М161МБИИН048","Курсовая работа",6,"Экзамен","2017/2018 учебный год 4 модуль",null,60,1,1,1722551595,4308,null,"Бизнес-информатика",{"$f":"MATCH(D1381,Отчет!$D$1:$D$65536,0)","v":122}]
[1937433894,8,"МЭБ171",1937372852,"Юлдашева Камилла Адилевна","М171МЭЛБЗ025","Курсовая работа",6,"Экзамен","2017/2018 учебный год 4 модуль",null,48,1,1,1722506105,4308,null,"Электронный бизнес",{"$f":"MATCH(D1382,Отчет!$D$1:$D$65536,0)","v":24}]
[1937433657,10,"МЭБ171",1937372866,"Семенкович Софья Алексеевна","М171МЭЛБЗ020","Курсовая работа",6,"Экзамен","2017/2018 учебный год 4 модуль",null,60,1,1,1722506105,4308,null,"Электронный бизнес",{"$f":"MATCH(D1383,Отчет!$D$1:$D$65536,0)","v":90}]
[1937433438,6,"МЭБ171",1937372880,"Лучкин Андрей Владимирович","М171МЭЛБЗ015","Курсовая работа",6,"Экзамен","2017/2018 учебный год 4 модуль",null,36,1,1,1722506105,4308,null,"Электронный бизнес",{"$f":"MATCH(D1384,Отчет!$D$1:$D$65536,0)","v":133}]
[1937433708,8,"МЭБ171",1937372893,"Смирнов Константин Борисович","М171МЭЛБЗ021","Курсовая работа",6,"Экзамен","2017/2018 учебный год 4 модуль",null,48,1,1,1722506105,4308,null,"Электронный бизнес",{"$f":"MATCH(D1385,Отчет!$D$1:$D$65536,0)","v":55}]
[1937433296,6,"МЭБ171",1937372906,"Китьян Акмаль Алексеевич","М171МЭЛБЗ011","Курсовая работа",6,"Экзамен","2017/2018 учебный год 4 модуль",null,36,1,1,1722506105,4308,null,"Электронный бизнес",{"$f":"MATCH(D1386,Отчет!$D$1:$D$65536,0)","v":154}]
[1937433521,8,"МЭБ171",1937372919,"Михайлов Егор Александрович","М171МЭЛБЗ017","Курсовая работа",6,"Экзамен","2017/2018 учебный год 4 модуль",null,48,1,1,1722506105,4308,null,"Электронный бизнес",{"$f":"MATCH(D1387,Отчет!$D$1:$D$65536,0)","v":107}]
[1937432915,7,"МЭБ171",1937372932,"Абросимова Анастасия Михайловна","М171МЭЛБЗ001","Курсовая работа",6,"Экзамен","2017/2018 учебный год 4 модуль",null,42,1,1,1722506105,4308,null,"Электронный бизнес",{"$f":"MATCH(D1388,Отчет!$D$1:$D$65536,0)","v":105}]
[1937433851,9,"МЭБ171",1937372945,"Цуканов Иван Викторович","М171МЭЛБЗ024","Курсовая работа",6,"Экзамен","2017/2018 учебный год 4 модуль",null,54,1,1,1722506105,4308,null,"Электронный бизнес",{"$f":"MATCH(D1389,Отчет!$D$1:$D$65536,0)","v":100}]
[1937433406,6,"МЭБ171",1937372959,"Лунин Никита Константинович","М171МЭЛБЗ014","Курсовая работа",6,"Экзамен","2017/2018 учебный год 4 модуль",null,36,1,1,1722506105,4308,null,"Электронный бизнес",{"$f":"MATCH(D1390,Отчет!$D$1:$D$65536,0)","v":158}]
[1937433604,6,"МЭБ171",1937372972,"Рубцова Екатерина Андреевна","М171МЭЛБЗ019","Курсовая работа",6,"Экзамен","2017/2018 учебный год 4 модуль",null,36,1,1,1722506105,4308,null,"Электронный бизнес",{"$f":"MATCH(D1391,Отчет!$D$1:$D$65536,0)","v":139}]
[1937433822,6,"МЭБ171",1937372985,"Фахрова Дина Вадимовна","М171МЭЛБЗ023","Курсовая работа",6,"Экзамен","2017/2018 учебный год 4 модуль",null,36,1,1,1722506105,4308,null,"Электронный бизнес",{"$f":"MATCH(D1392,Отчет!$D$1:$D$65536,0)","v":37}]
[1937433075,10,"МЭБ171",1937372998,"Горобец Валерия Валентиновна","М171МЭЛБЗ005","Курсовая работа",6,"Экзамен","2017/2018 учебный год 4 модуль",null,60,1,1,1722506105,4308,null,"Электронный бизнес",{"$f":"MATCH(D1393,Отчет!$D$1:$D$65536,0)","v":42}]
[1937433103,7,"МЭБ171",1937373012,"Давыдова Ксения Валерьевна","М171МЭЛБЗ006","Курсовая работа",6,"Экзамен","2017/2018 учебный год 4 модуль",null,42,1,1,1722506105,4308,null,"Электронный бизнес",{"$f":"MATCH(D1394,Отчет!$D$1:$D$65536,0)","v":97}]
[1937433775,9,"МЭБ171",1937373025,"Суряднов Дмитрий Юрьевич","М171МЭЛБЗ022","Курсовая работа",6,"Экзамен","2017/2018 учебный год 4 модуль",null,54,1,1,1722506105,4308,null,"Электронный бизнес",{"$f":"MATCH(D1395,Отчет!$D$1:$D$65536,0)","v":27}]
[1937433370,8,"МЭБ171",1937373039,"Кяргин Антон Юрьевич","М171МЭЛБЗ013","Курсовая работа",6,"Экзамен","2017/2018 учебный год 4 модуль",null,48,1,1,1722506105,4308,null,"Электронный бизнес",{"$f":"MATCH(D1396,Отчет!$D$1:$D$65536,0)","v":110}]
[1937433218,8,"МЭБ171",1937373052,"Ким Дин Хо","М171МЭЛБЗ009","Курсовая работа",6,"Экзамен","2017/2018 учебный год 4 модуль",null,48,1,1,1722506105,4308,null,"Электронный бизнес",{"$f":"MATCH(D1397,Отчет!$D$1:$D$65536,0)","v":121}]
[1940908674,8,"МБИ172",1940750974,"Мирской Александр Леонидович","М171МБИИН075","Курсовая работа",6,"Экзамен","2017/2018 учебный год 4 модуль",null,48,1,0,1722551595,4308,null,"Бизнес-информатика",{"$f":"MATCH(D1398,Отчет!$D$1:$D$65536,0)","v":29}]
[1940908737,8,"МБИ173",1940751185,"Овсянникова Ольга Андреевна","М171МБИИН078","Курсовая работа",6,"Экзамен","2017/2018 учебный год 4 модуль",null,48,1,0,1722551595,4308,null,"Бизнес-информатика",{"$f":"MATCH(D1399,Отчет!$D$1:$D$65536,0)","v":69}]
[1940908695,7,"МБИ172",1940815727,"Монгуш Алдын-Ай Владимировна","М171МБИИН076","Курсовая работа",6,"Экзамен","2017/2018 учебный год 4 модуль",null,42,1,0,1722551595,4308,null,"Бизнес-информатика",{"$f":"MATCH(D1400,Отчет!$D$1:$D$65536,0)","v":104}]
[1940908937,9,"МБИ173",1940815743,"Шумилин Дмитрий Станиславович","М171МБИИН080","Курсовая работа",6,"Экзамен","2017/2018 учебный год 4 модуль",null,54,1,0,1722551595,4308,null,"Бизнес-информатика",{"$f":"MATCH(D1401,Отчет!$D$1:$D$65536,0)","v":150}]
[1940908963,6,"МБИ173",1940815759,"Щеголев Андрей Александрович","М171МБИИН081","Курсовая работа",6,"Экзамен","2017/2018 учебный год 4 модуль",null,36,1,1,1722551595,4308,null,"Бизнес-информатика",{"$f":"MATCH(D1402,Отчет!$D$1:$D$65536,0)","v":87}]
[1940908646,9,"МБИ172",1940815773,"Матвиенко Андрей Кириллович","М171МБИИН074","Курсовая работа",6,"Экзамен","2017/2018 учебный год 4 модуль",null,54,1,1,1722551595,4308,null,"Бизнес-информатика",{"$f":"MATCH(D1403,Отчет!$D$1:$D$65536,0)","v":38}]
[1940908715,9,"МБИ172",1940815787,"Музыка Наталия Константиновна","М171МБИИН077","Курсовая работа",6,"Экзамен","2017/2018 учебный год 4 модуль",null,54,1,1,1722551595,4308,null,"Бизнес-информатика",{"$f":"MATCH(D1404,Отчет!$D$1:$D$65536,0)","v":31}]
[1940908598,9,"МБИ172",1940815800,"Кривенцов Феликс Константинович","М171МБИИН072","Курсовая работа",6,"Экзамен","2017/2018 учебный год 4 модуль",null,54,1,1,1722551595,4308,null,"Бизнес-информатика",{"$f":"MATCH(D1405,Отчет!$D$1:$D$65536,0)","v":119}]
[1940908761,8,"МБИ173",1940815815,"Шпилевская Наталья Викторовна","М171МБИИН079","Курсовая работа",6,"Экзамен","2017/2018 учебный год 4 модуль",null,48,1,0,1722551595,4308,null,"Бизнес-информатика",{"$f":"MATCH(D1406,Отчет!$D$1:$D$65536,0)","v":155}]
[1940908626,6,"МБИ172",1940815828,"Масалимов Тимур Ринатович","М171МБИИН073","Курсовая работа",6,"Экзамен","2017/2018 учебный год 4 модуль",null,36,1,0,1722551595,4308,null,"Бизнес-информатика",{"$f":"MATCH(D1407,Отчет!$D$1:$D$65536,0)","v":123}]
[1940908578,6,"МБИ171",1940815842,"Дворяшин Дмитрий Александрович","М171МБИИН071","Курсовая работа",6,"Экзамен","2017/2018 учебный год 4 модуль",null,36,1,0,1722551595,4308,null,"Бизнес-информатика",{"$f":"MATCH(D1408,Отчет!$D$1:$D$65536,0)","v":166}]
[1940922482,8,"МЭБ171",1940816486,"Кондращенко Ярослав Константинович","М171МЭЛБЗ027","Курсовая работа",6,"Экзамен","2017/2018 учебный год 4 модуль",null,48,1,0,1722506105,4308,null,"Электронный бизнес",{"$f":"MATCH(D1409,Отчет!$D$1:$D$65536,0)","v":78}]
[1952080370,8,"МБИ173",1941989079,"Феофанов Лев Андреевич","М171МБИИН092","Курсовая работа",6,"Экзамен","2017/2018 учебный год 4 модуль",null,48,1,0,1722551595,4308,null,"Бизнес-информатика",{"$f":"MATCH(D1410,Отчет!$D$1:$D$65536,0)","v":172}]
[1952078190,8,"МБИ173",1941989095,"Сарычев Роман Владимирович","М171МБИИН091","Курсовая работа",6,"Экзамен","2017/2018 учебный год 4 модуль",null,48,1,0,1722551595,4308,null,"Бизнес-информатика",{"$f":"MATCH(D1411,Отчет!$D$1:$D$65536,0)","v":134}]
[1952076837,10,"МБИ173",1941989108,"Рябов Дмитрий Валерьевич","М171МБИИН090","Курсовая работа",6,"Экзамен","2017/2018 учебный год 4 модуль",null,60,1,1,1722551595,4308,null,"Бизнес-информатика",{"$f":"MATCH(D1412,Отчет!$D$1:$D$65536,0)","v":14}]
[1942059933,10,"МБИ172",1941989121,"Павлова Татьяна Михайловна","М171МБИИН089","Курсовая работа",6,"Экзамен","2017/2018 учебный год 4 модуль",null,60,1,0,1722551595,4308,null,"Бизнес-информатика",{"$f":"MATCH(D1413,Отчет!$D$1:$D$65536,0)","v":15}]
[1942059911,9,"МБИ172",1941989134,"Морева Галина Сергеевна","М171МБИИН088","Курсовая работа",6,"Экзамен","2017/2018 учебный год 4 модуль",null,54,1,0,1722551595,4308,null,"Бизнес-информатика",{"$f":"MATCH(D1414,Отчет!$D$1:$D$65536,0)","v":94}]
[1942059888,5,"МБИ172",1941989147,"Мингазов Аскар Альбертович","М171МБИИН087","Курсовая работа",6,"Экзамен","2017/2018 учебный год 4 модуль",null,30,1,0,1722551595,4308,null,"Бизнес-информатика",{"$f":"MATCH(D1415,Отчет!$D$1:$D$65536,0)","v":171}]
[1942059866,9,"МБИ172",1941989160,"Мельникова Анастасия Игоревна","М171МБИИН086","Курсовая работа",6,"Экзамен","2017/2018 учебный год 4 модуль",null,54,1,0,1722551595,4308,null,"Бизнес-информатика",{"$f":"MATCH(D1416,Отчет!$D$1:$D$65536,0)","v":46}]
[1942059779,9,"МБИ171",1941989199,"Бородко Вера Николаевна","М171МБИИН082","Курсовая работа",6,"Экзамен","2017/2018 учебный год 4 модуль",null,54,1,0,1722551595,4308,null,"Бизнес-информатика",{"$f":"MATCH(D1417,Отчет!$D$1:$D$65536,0)","v":18}]
[1942063421,6,"МИБ171",1942008109,"Кабыкен Даулет","М171МУБЕЗ021","Курсовая работа",6,"Экзамен","2017/2018 учебный год 4 модуль",null,36,1,1,1722514289,4308,null,"Управление информационной безопасностью",{"$f":"MATCH(D1418,Отчет!$D$1:$D$65536,0)","v":177}]
[1942063454,6,"МИБ171",1942008132,"Нурматов Асхат","М171МУБЕЗ022","Курсовая работа",6,"Экзамен","2017/2018 учебный год 4 модуль",null,36,1,1,1722514289,4308,null,"Управление информационной безопасностью",{"$f":"MATCH(D1419,Отчет!$D$1:$D$65536,0)","v":178}]
[1942059846,8,"МБИ171",1942008650,"Гареев Эмиль Хамидович","М171МБИИН085","Курсовая работа",6,"Экзамен","2017/2018 учебный год 4 модуль",null,48,1,1,1722551595,4308,null,"Бизнес-информатика",{"$f":"MATCH(D1420,Отчет!$D$1:$D$65536,0)","v":144}]
[1945325299,8,"МБИ171",1944931265,"Бытка Дарья","М171МБИИН093","Курсовая работа",6,"Экзамен","2017/2018 учебный год 4 модуль",null,48,1,1,1722551595,4308,null,"Бизнес-информатика",{"$f":"MATCH(D1421,Отчет!$D$1:$D$65536,0)","v":22}]
[1945325347,5,"МБИ173",1944935723,"Ким Анатолий","М171МБИИН095","Курсовая работа",6,"Экзамен","2017/2018 учебный год 4 модуль",null,30,1,0,1722551595,4308,null,"Бизнес-информатика",{"$f":"MATCH(D1422,Отчет!$D$1:$D$65536,0)","v":176}]
[1945325323,10,"МБИ172",1944939253,"Вовк Иларион Анатольевич","М171МБИИН094","Курсовая работа",6,"Экзамен","2017/2018 учебный год 4 модуль",null,60,1,0,1722551595,4308,null,"Бизнес-информатика",{"$f":"MATCH(D1423,Отчет!$D$1:$D$65536,0)","v":98}]
[1946036828,6,"МБИ173",1945753603,"Пак Александр Сергеевич","М171МБИИН096","Курсовая работа",6,"Экзамен","2017/2018 учебный год 4 модуль",null,36,1,0,1722551595,4308,null,"Бизнес-информатика",{"$f":"MATCH(D1424,Отчет!$D$1:$D$65536,0)","v":114}]
[1946042764,8,"МЭБ171",1945760044,"Цандере Юлия","М171МЭЛБЗ028","Курсовая работа",6,"Экзамен","2017/2018 учебный год 4 модуль",null,48,1,0,1722506105,4308,null,"Электронный бизнес",{"$f":"MATCH(D1425,Отчет!$D$1:$D$65536,0)","v":130}]
[1947206533,6,"МБИ172",1947090330,"Варданян Карен Оганесович","М171МБИИН097","Курсовая работа",6,"Экзамен","2017/2018 учебный год 4 модуль",null,36,1,1,1722551595,4308,null,"Бизнес-информатика",{"$f":"MATCH(D1426,Отчет!$D$1:$D$65536,0)","v":175}]
[1937431725,10,"МИБ171",1937370369,"Иванов Владислав Сергеевич","М171МУБЕЗ007","Курсовая работа",6,"Экзамен","2017/2018 учебный год 4 модуль",null,60,1,1,1722514289,4308,null,"Управление информационной безопасностью",{"$f":"MATCH(D1427,Отчет!$D$1:$D$65536,0)","v":20}]
[1937431515,10,"МИБ171",1937370385,"Бочарова Ксения Михайловна","М171МУБЕЗ002","Курсовая работа",6,"Экзамен","2017/2018 учебный год 4 модуль",null,60,1,1,1722514289,4308,null,"Управление информационной безопасностью",{"$f":"MATCH(D1428,Отчет!$D$1:$D$65536,0)","v":53}]
[1937431681,8,"МИБ171",1937370401,"Жучков Константин Сергеевич","М171МУБЕЗ006","Курсовая работа",6,"Экзамен","2017/2018 учебный год 4 модуль",null,48,1,1,1722514289,4308,null,"Управление информационной безопасностью",{"$f":"MATCH(D1429,Отчет!$D$1:$D$65536,0)","v":116}]
[1937432347,7,"МИБ171",1937370421,"Ряховский Сергей Алексеевич","М171МУБЕЗ018","Курсовая работа",6,"Экзамен","2017/2018 учебный год 4 модуль",null,42,1,1,1722514289,4308,null,"Управление информационной безопасностью",{"$f":"MATCH(D1430,Отчет!$D$1:$D$65536,0)","v":115}]
[1937431862,8,"МИБ171",1937370436,"Михеева Вероника Вячеславовна","М171МУБЕЗ010","Курсовая работа",6,"Экзамен","2017/2018 учебный год 4 модуль",null,48,1,1,1722514289,4308,null,"Управление информационной безопасностью",{"$f":"MATCH(D1431,Отчет!$D$1:$D$65536,0)","v":60}]
[1937431815,10,"МИБ171",1937370452,"Коровин Кирилл Сергеевич","М171МУБЕЗ009","Курсовая работа",6,"Экзамен","2017/2018 учебный год 4 модуль",null,60,1,1,1722514289,4308,null,"Управление информационной безопасностью",{"$f":"MATCH(D1432,Отчет!$D$1:$D$65536,0)","v":136}]
[1937431624,10,"МИБ171",1937370480,"Дарбишева Патимат Гаджимурадовна","М171МУБЕЗ005","Курсовая работа",6,"Экзамен","2017/2018 учебный год 4 модуль",null,60,1,1,1722514289,4308,null,"Управление информационной безопасностью",{"$f":"MATCH(D1433,Отчет!$D$1:$D$65536,0)","v":30}]
[1937432017,8,"МИБ171",1937370498,"Петрина Матвей Олегович","М171МУБЕЗ014","Курсовая работа",6,"Экзамен","2017/2018 учебный год 4 модуль",null,48,1,1,1722514289,4308,null,"Управление информационной безопасностью",{"$f":"MATCH(D1434,Отчет!$D$1:$D$65536,0)","v":75}]
[1937431983,10,"МИБ171",1937370517,"Осадчая Алина Дмитриевна","М171МУБЕЗ013","Курсовая работа",6,"Экзамен","2017/2018 учебный год 4 модуль",null,60,1,1,1722514289,4308,null,"Управление информационной безопасностью",{"$f":"MATCH(D1435,Отчет!$D$1:$D$65536,0)","v":25}]
[1937431945,8,"МИБ171",1937370536,"Оленева Валерия Александровна","М171МУБЕЗ012","Курсовая работа",6,"Экзамен","2017/2018 учебный год 4 модуль",null,48,1,1,1722514289,4308,null,"Управление информационной безопасностью",{"$f":"MATCH(D1436,Отчет!$D$1:$D$65536,0)","v":86}]
[1937432263,10,"МИБ171",1937370552,"Рудаков Андрей Дмитриевич","М171МУБЕЗ017","Курсовая работа",6,"Экзамен","2017/2018 учебный год 4 модуль",null,60,1,1,1722514289,4308,null,"Управление информационной безопасностью",{"$f":"MATCH(D1437,Отчет!$D$1:$D$65536,0)","v":99}]
[1937432104,8,"МИБ171",1937370565,"Пупышева Анна Андреевна","М171МУБЕЗ016","Курсовая работа",6,"Экзамен","2017/2018 учебный год 4 модуль",null,48,1,1,1722514289,4308,null,"Управление информационной безопасностью",{"$f":"MATCH(D1438,Отчет!$D$1:$D$65536,0)","v":101}]
[1937431771,10,"МИБ171",1937370580,"Козлов Никита Вячеславович","М171МУБЕЗ008","Курсовая работа",6,"Экзамен","2017/2018 учебный год 4 модуль",null,60,1,1,1722514289,4308,null,"Управление информационной безопасностью",{"$f":"MATCH(D1439,Отчет!$D$1:$D$65536,0)","v":118}]
[1937432446,10,"МИБ171",1937370596,"Смирнов Данил Вадимович","М171МУБЕЗ020","Курсовая работа",6,"Экзамен","2017/2018 учебный год 4 модуль",null,60,1,1,1722514289,4308,null,"Управление информационной безопасностью",{"$f":"MATCH(D1440,Отчет!$D$1:$D$65536,0)","v":33}]
[1937431904,9,"МИБ171",1937371125,"Никитин Андрей Олегович","М171МУБЕЗ011","Курсовая работа",6,"Экзамен","2017/2018 учебный год 4 модуль",null,54,1,1,1722514289,4308,null,"Управление информационной безопасностью",{"$f":"MATCH(D1441,Отчет!$D$1:$D$65536,0)","v":141}]
[1937431454,7,"МИБ171",1937371143,"Белоус Илия Григорьевич","М171МУБЕЗ001","Курсовая работа",6,"Экзамен","2017/2018 учебный год 4 модуль",null,42,1,1,1722514289,4308,null,"Управление информационной безопасностью",{"$f":"MATCH(D1442,Отчет!$D$1:$D$65536,0)","v":157}]
[1937431551,8,"МИБ171",1937371161,"Варламова Виктория Викторовна","М171МУБЕЗ003","Курсовая работа",6,"Экзамен","2017/2018 учебный год 4 модуль",null,48,1,1,1722514289,4308,null,"Управление информационной безопасностью",{"$f":"MATCH(D1443,Отчет!$D$1:$D$65536,0)","v":106}]
[1937431586,9,"МИБ171",1937371178,"Гультяева Полина Николаевна","М171МУБЕЗ004","Курсовая работа",6,"Экзамен","2017/2018 учебный год 4 модуль",null,54,1,1,1722514289,4308,null,"Управление информационной безопасностью",{"$f":"MATCH(D1444,Отчет!$D$1:$D$65536,0)","v":39}]
[1937433001,8,"МЭБ171",1937372729,"Бадамова Екатерина Дмитриевна","М171МЭЛБЗ003","Курсовая работа",6,"Экзамен","2017/2018 учебный год 4 модуль",null,48,1,1,1722506105,4308,null,"Электронный бизнес",{"$f":"MATCH(D1445,Отчет!$D$1:$D$65536,0)","v":47}]
[1937433136,7,"МЭБ171",1937372743,"Джаббарова Лейла Мехман гызы","М171МЭЛБЗ007","Курсовая работа",6,"Экзамен","2017/2018 учебный год 4 модуль",null,42,1,1,1722506105,4308,null,"Электронный бизнес",{"$f":"MATCH(D1446,Отчет!$D$1:$D$65536,0)","v":85}]
[1937433564,10,"МЭБ171",1937372757,"Осипова Мария Андреевна","М171МЭЛБЗ018","Курсовая работа",6,"Экзамен","2017/2018 учебный год 4 модуль",null,60,1,1,1722506105,4308,null,"Электронный бизнес",{"$f":"MATCH(D1447,Отчет!$D$1:$D$65536,0)","v":44}]
[1937433264,7,"МЭБ171",1937372770,"Кирилловых Андрей Максимович","М171МЭЛБЗ010","Курсовая работа",6,"Экзамен","2017/2018 учебный год 4 модуль",null,42,1,1,1722506105,4308,null,"Электронный бизнес",{"$f":"MATCH(D1448,Отчет!$D$1:$D$65536,0)","v":102}]
[1937433176,8,"МЭБ171",1937372783,"Калинин Дмитрий Владимирович","М171МЭЛБЗ008","Курсовая работа",6,"Экзамен","2017/2018 учебный год 4 модуль",null,48,1,1,1722506105,4308,null,"Электронный бизнес",{"$f":"MATCH(D1449,Отчет!$D$1:$D$65536,0)","v":49}]
[1937433043,6,"МЭБ171",1937372796,"Гимашев Линар Русланович","М171МЭЛБЗ004","Курсовая работа",6,"Экзамен","2017/2018 учебный год 4 модуль",null,36,1,1,1722506105,4308,null,"Электронный бизнес",{"$f":"MATCH(D1450,Отчет!$D$1:$D$65536,0)","v":142}]
[1937433327,8,"МЭБ171",1937372811,"Куратова Александра Евгеньевна","М171МЭЛБЗ012","Курсовая работа",6,"Экзамен","2017/2018 учебный год 4 модуль",null,48,1,1,1722506105,4308,null,"Электронный бизнес",{"$f":"MATCH(D1451,Отчет!$D$1:$D$65536,0)","v":137}]
[1937433479,7,"МЭБ171",1937372826,"Минеева Анастасия Сергеевна","М171МЭЛБЗ016","Курсовая работа",6,"Экзамен","2017/2018 учебный год 4 модуль",null,42,1,1,1722506105,4308,null,"Электронный бизнес",{"$f":"MATCH(D1452,Отчет!$D$1:$D$65536,0)","v":146}]
[1937432955,9,"МЭБ171",1937372839,"Бабаджанян Армен Кароевич","М171МЭЛБЗ002","Курсовая работа",6,"Экзамен","2017/2018 учебный год 4 модуль",null,54,1,1,1722506105,4308,null,"Электронный бизнес",{"$f":"MATCH(D1453,Отчет!$D$1:$D$65536,0)","v":52}]
[1937426959,9,"МБИ171",1937363332,"Войнов Евгений Вадимович","М171МБИИН018","Курсовая работа",6,"Экзамен","2017/2018 учебный год 4 модуль",null,54,1,1,1722551595,4308,null,"Бизнес-информатика",{"$f":"MATCH(D1454,Отчет!$D$1:$D$65536,0)","v":35}]
[1937427901,8,"МБИ173",1937363345,"Пьянов Родион Альбертович","М171МБИИН054","Курсовая работа",6,"Экзамен","2017/2018 учебный год 4 модуль",null,48,1,1,1722551595,4308,null,"Бизнес-информатика",{"$f":"MATCH(D1455,Отчет!$D$1:$D$65536,0)","v":149}]
[1937428274,7,"МБИ173",1937363359,"Юдин Андрей Анатольевич","М171МБИИН070","Курсовая работа",6,"Экзамен","2017/2018 учебный год 4 модуль",null,42,1,1,1722551595,4308,null,"Бизнес-информатика",{"$f":"MATCH(D1456,Отчет!$D$1:$D$65536,0)","v":132}]
[1937427337,8,"МБИ172",1937363372,"Карасев Михаил Николаевич","М171МБИИН031","Курсовая работа",6,"Экзамен","2017/2018 учебный год 4 модуль",null,48,1,1,1722551595,4308,null,"Бизнес-информатика",{"$f":"MATCH(D1457,Отчет!$D$1:$D$65536,0)","v":169}]
[1937427987,9,"МБИ173",1937363386,"Сафохин Андрей Дмитриевич","М171МБИИН058","Курсовая работа",6,"Экзамен","2017/2018 учебный год 4 модуль",null,54,1,1,1722551595,4308,null,"Бизнес-информатика",{"$f":"MATCH(D1458,Отчет!$D$1:$D$65536,0)","v":26}]
[1937428160,9,"МБИ173",1937363399,"Токарев Иван Максимович","М171МБИИН065","Курсовая работа",6,"Экзамен","2017/2018 учебный год 4 модуль",null,54,1,1,1722551595,4308,null,"Бизнес-информатика",{"$f":"MATCH(D1459,Отчет!$D$1:$D$65536,0)","v":73}]
[1937427966,5,"МБИ173",1937363413,"Салтыкова Екатерина Андреевна","М171МБИИН057","Курсовая работа",6,"Экзамен","2017/2018 учебный год 4 модуль",null,30,1,1,1722551595,4308,null,"Бизнес-информатика",{"$f":"MATCH(D1460,Отчет!$D$1:$D$65536,0)","v":74}]
[1937426691,7,"МБИ171",1937363441,"Бардакова Мария Вячеславовна","М171МБИИН008","Курсовая работа",6,"Экзамен","2017/2018 учебный год 4 модуль",null,42,1,1,1722551595,4308,null,"Бизнес-информатика",{"$f":"MATCH(D1461,Отчет!$D$1:$D$65536,0)","v":129}]
[1937427880,9,"МБИ173",1937363469,"Пронин Никита Павлович","М171МБИИН053","Курсовая работа",6,"Экзамен","2017/2018 учебный год 4 модуль",null,54,1,1,1722551595,4308,null,"Бизнес-информатика",{"$f":"MATCH(D1462,Отчет!$D$1:$D$65536,0)","v":126}]
[1937427017,7,"МБИ171",1937363482,"Гайнутдинов Наиль Анварович","М171МБИИН020","Курсовая работа",6,"Экзамен","2017/2018 учебный год 4 модуль",null,42,1,1,1722551595,4308,null,"Бизнес-информатика",{"$f":"MATCH(D1463,Отчет!$D$1:$D$65536,0)","v":159}]
[1937428232,8,"МБИ173",1937363495,"Черепнина Дарья Олеговна","М171МБИИН068","Курсовая работа",6,"Экзамен","2017/2018 учебный год 4 модуль",null,48,1,1,1722551595,4308,null,"Бизнес-информатика",{"$f":"MATCH(D1464,Отчет!$D$1:$D$65536,0)","v":67}]
[1937427446,7,"МБИ172",1937363509,"Колесникова Анна Сергеевна","М171МБИИН035","Курсовая работа",6,"Экзамен","2017/2018 учебный год 4 модуль",null,42,1,1,1722551595,4308,null,"Бизнес-информатика",{"$f":"MATCH(D1465,Отчет!$D$1:$D$65536,0)","v":161}]
[1937426823,8,"МБИ171",1937363522,"Богданов Павел Владимирович","М171МБИИН013","Курсовая работа",6,"Экзамен","2017/2018 учебный год 4 модуль",null,48,1,1,1722551595,4308,null,"Бизнес-информатика",{"$f":"MATCH(D1466,Отчет!$D$1:$D$65536,0)","v":92}]
[1937426719,8,"МБИ171",1937363535,"Бегларян Амалия Мгеровна","М171МБИИН009","Курсовая работа",6,"Экзамен","2017/2018 учебный год 4 модуль",null,48,1,1,1722551595,4308,null,"Бизнес-информатика",{"$f":"MATCH(D1467,Отчет!$D$1:$D$65536,0)","v":113}]
[1937427042,6,"МБИ171",1937363548,"Галков Алексей Александрович","М171МБИИН021","Курсовая работа",6,"Экзамен","2017/2018 учебный год 4 модуль",null,36,1,1,1722551595,4308,null,"Бизнес-информатика",{"$f":"MATCH(D1468,Отчет!$D$1:$D$65536,0)","v":173}]
[1937428037,10,"МБИ173",1937363561,"Сиднев Игорь Дмитриевич","М171МБИИН060","Курсовая работа",6,"Экзамен","2017/2018 учебный год 4 модуль",null,60,1,1,1722551595,4308,null,"Бизнес-информатика",{"$f":"MATCH(D1469,Отчет!$D$1:$D$65536,0)","v":117}]
[1937427778,8,"МБИ173",1937363574,"Паймакова Татьяна Сергеевна","М171МБИИН049","Курсовая работа",6,"Экзамен","2017/2018 учебный год 4 модуль",null,48,1,1,1722551595,4308,null,"Бизнес-информатика",{"$f":"MATCH(D1470,Отчет!$D$1:$D$65536,0)","v":156}]
[1937427755,10,"МБИ173",1937363587,"Новицкая Валерия Андреевна","М171МБИИН048","Курсовая работа",6,"Экзамен","2017/2018 учебный год 4 модуль",null,60,1,1,1722551595,4308,null,"Бизнес-информатика",{"$f":"MATCH(D1471,Отчет!$D$1:$D$65536,0)","v":54}]
[1937427473,10,"МБИ172",1937363600,"Конова Марина Валерьевна","М171МБИИН036","Курсовая работа",6,"Экзамен","2017/2018 учебный год 4 модуль",null,60,1,1,1722551595,4308,null,"Бизнес-информатика",{"$f":"MATCH(D1472,Отчет!$D$1:$D$65536,0)","v":23}]
[1937428182,9,"МБИ173",1937363613,"Улямаев Альберт Ирекович","М171МБИИН066","Курсовая работа",6,"Экзамен","2017/2018 учебный год 4 модуль",null,54,1,1,1722551595,4308,null,"Бизнес-информатика",{"$f":"MATCH(D1473,Отчет!$D$1:$D$65536,0)","v":82}]
[1937427162,8,"МБИ171",1937363626,"Давтян Артем Сергеевич","М171МБИИН025","Курсовая работа",6,"Экзамен","2017/2018 учебный год 4 модуль",null,48,1,1,1722551595,4308,null,"Бизнес-информатика",{"$f":"MATCH(D1474,Отчет!$D$1:$D$65536,0)","v":147}]
[1937426991,5,"МБИ171",1937363639,"Волков Даниил Андреевич","М171МБИИН019","Курсовая работа",6,"Экзамен","2017/2018 учебный год 4 модуль",null,30,1,1,1722551595,4308,null,"Бизнес-информатика",{"$f":"MATCH(D1475,Отчет!$D$1:$D$65536,0)","v":174}]
[1937426506,null,null,1937363653,"Агарков Ярослав Алексеевич","М171МБИИН001","Курсовая работа",6,"Экзамен","2017/2018 учебный год 4 модуль",0,0,null,1,1722551595,4308,null,"Бизнес-информатика",{"$f":"MATCH(D1476,Отчет!$D$1:$D$65536,0)","v":179}]
[1937427281,9,"МБИ172",1937363666,"Захаров Алексей Александрович","М171МБИИН029","Курсовая работа",6,"Экзамен","2017/2018 учебный год 4 модуль",null,54,1,1,1722551595,4308,null,"Бизнес-информатика",{"$f":"MATCH(D1477,Отчет!$D$1:$D$65536,0)","v":72}]
[1937427944,5,"МБИ173",1937363680,"Рудь Роман Сергеевич","М171МБИИН056","Курсовая работа",6,"Экзамен","2017/2018 учебный год 4 модуль",null,30,1,1,1722551595,4308,null,"Бизнес-информатика",{"$f":"MATCH(D1478,Отчет!$D$1:$D$65536,0)","v":125}]
[1937428085,10,"МБИ173",1937363693,"Стогова Анастасия Германовна","М171МБИИН062","Курсовая работа",6,"Экзамен","2017/2018 учебный год 4 модуль",null,60,1,1,1722551595,4308,null,"Бизнес-информатика",{"$f":"MATCH(D1479,Отчет!$D$1:$D$65536,0)","v":88}]
[1937426846,6,"МБИ171",1937363706,"Большаков Егор Максимович","М171МБИИН014","Курсовая работа",6,"Экзамен","2017/2018 учебный год 4 модуль",null,36,1,1,1722551595,4308,null,"Бизнес-информатика",{"$f":"MATCH(D1480,Отчет!$D$1:$D$65536,0)","v":165}]
[1937426746,6,"МБИ171",1937363719,"Белов Григорий Игоревич","М171МБИИН010","Курсовая работа",6,"Экзамен","2017/2018 учебный год 4 модуль",null,36,1,1,1722551595,4308,null,"Бизнес-информатика",{"$f":"MATCH(D1481,Отчет!$D$1:$D$65536,0)","v":162}]
[1937426799,10,"МБИ171",1937363732,"Богданов Кирилл Алексеевич","М171МБИИН012","Курсовая работа",6,"Экзамен","2017/2018 учебный год 4 модуль",null,60,1,1,1722551595,4308,null,"Бизнес-информатика",{"$f":"MATCH(D1482,Отчет!$D$1:$D$65536,0)","v":128}]
[1937426579,8,"МБИ171",1937363745,"Антонова Анастасия Романовна","М171МБИИН004","Курсовая работа",6,"Экзамен","2017/2018 учебный год 4 модуль",null,48,1,1,1722551595,4308,null,"Бизнес-информатика",{"$f":"MATCH(D1483,Отчет!$D$1:$D$65536,0)","v":124}]
[1937427923,10,"МБИ173",1937363758,"Ригин Алексей Алексеевич","М171МБИИН055","Курсовая работа",6,"Экзамен","2017/2018 учебный год 4 модуль",null,60,1,1,1722551595,4308,null,"Бизнес-информатика",{"$f":"MATCH(D1484,Отчет!$D$1:$D$65536,0)","v":64}]
[1937427216,9,"МБИ172",1937363785,"Дунец Владислав Олегович","М171МБИИН027","Курсовая работа",6,"Экзамен","2017/2018 учебный год 4 модуль",null,54,1,1,1722551595,4308,null,"Бизнес-информатика",{"$f":"MATCH(D1485,Отчет!$D$1:$D$65536,0)","v":145}]
[1937427859,10,"МБИ173",1937363798,"Пронин Никита Вадимович","М171МБИИН052","Курсовая работа",6,"Экзамен","2017/2018 учебный год 4 модуль",null,60,1,1,1722551595,4308,null,"Бизнес-информатика",{"$f":"MATCH(D1486,Отчет!$D$1:$D$65536,0)","v":108}]
[1937427135,8,"МБИ171",1937363811,"Григорьева Юлия Сергеевна","М171МБИИН024","Курсовая работа",6,"Экзамен","2017/2018 учебный год 4 модуль",null,48,1,1,1722551595,4308,null,"Бизнес-информатика",{"$f":"MATCH(D1487,Отчет!$D$1:$D$65536,0)","v":41}]
[1937427585,8,"МБИ172",1937363838,"Лиховцев Вадим Александрович","М171МБИИН041","Курсовая работа",6,"Экзамен","2017/2018 учебный год 4 модуль",null,48,1,1,1722551595,4308,null,"Бизнес-информатика",{"$f":"MATCH(D1488,Отчет!$D$1:$D$65536,0)","v":68}]
[1937426660,7,"МБИ171",1937363851,"Бадаева Мария Мингияновна","М171МБИИН007","Курсовая работа",6,"Экзамен","2017/2018 учебный год 4 модуль",null,42,1,1,1722551595,4308,null,"Бизнес-информатика",{"$f":"MATCH(D1489,Отчет!$D$1:$D$65536,0)","v":153}]
[1937427609,10,"МБИ172",1937363865,"Лобач Петр Сергеевич","М171МБИИН042","Курсовая работа",6,"Экзамен","2017/2018 учебный год 4 модуль",null,60,1,1,1722551595,4308,null,"Бизнес-информатика",{"$f":"MATCH(D1490,Отчет!$D$1:$D$65536,0)","v":143}]
[1937426556,10,"МБИ171",1937363878,"Андрюхина Дарья Сергеевна","М171МБИИН003","Курсовая работа",6,"Экзамен","2017/2018 учебный год 4 модуль",null,60,1,1,1722551595,4308,null,"Бизнес-информатика",{"$f":"MATCH(D1491,Отчет!$D$1:$D$65536,0)","v":95}]
[1937427495,10,"МБИ172",1937363891,"Коновалова Аделина Евгеньевна","М171МБИИН037","Курсовая работа",6,"Экзамен","2017/2018 учебный год 4 модуль",null,60,1,1,1722551595,4308,null,"Бизнес-информатика",{"$f":"MATCH(D1492,Отчет!$D$1:$D$65536,0)","v":91}]
[1937426773,8,"МБИ171",1937363904,"Белова Евгения Александровна","М171МБИИН011","Курсовая работа",6,"Экзамен","2017/2018 учебный год 4 модуль",null,48,1,1,1722551595,4308,null,"Бизнес-информатика",{"$f":"MATCH(D1493,Отчет!$D$1:$D$65536,0)","v":83}]
[1937427655,9,"МБИ172",1937363917,"Мартынов Александр Дмитриевич","М171МБИИН044","Курсовая работа",6,"Экзамен","2017/2018 учебный год 4 модуль",null,54,1,1,1722551595,4308,null,"Бизнес-информатика",{"$f":"MATCH(D1494,Отчет!$D$1:$D$65536,0)","v":167}]
[1937426624,7,"МБИ171",1937363930,"Бабанов Павел Александрович","М171МБИИН006","Курсовая работа",6,"Экзамен","2017/2018 учебный год 4 модуль",null,42,1,1,1722551595,4308,null,"Бизнес-информатика",{"$f":"MATCH(D1495,Отчет!$D$1:$D$65536,0)","v":152}]
[1937426601,8,"МБИ171",1937363943,"Антонова Софья Глебовна","М171МБИИН005","Курсовая работа",6,"Экзамен","2017/2018 учебный год 4 модуль",null,48,1,1,1722551595,4308,null,"Бизнес-информатика",{"$f":"MATCH(D1496,Отчет!$D$1:$D$65536,0)","v":164}]
[1937427253,8,"МБИ172",1937363957,"Ершова Александра Романовна","М171МБИИН028","Курсовая работа",6,"Экзамен","2017/2018 учебный год 4 модуль",null,48,1,1,1722551595,4308,null,"Бизнес-информатика",{"$f":"MATCH(D1497,Отчет!$D$1:$D$65536,0)","v":138}]
[1937427562,5,"МБИ172",1937363970,"Лебедева Надежда Юрьевна","М171МБИИН040","Курсовая работа",6,"Экзамен","2017/2018 учебный год 4 модуль",null,30,1,1,1722551595,4308,null,"Бизнес-информатика",{"$f":"MATCH(D1498,Отчет!$D$1:$D$65536,0)","v":135}]
[1937427391,8,"МБИ172",1937363986,"Китайкина Мария Алексеевна","М171МБИИН033","Курсовая работа",6,"Экзамен","2017/2018 учебный год 4 модуль",null,48,1,1,1722551595,4308,null,"Бизнес-информатика",{"$f":"MATCH(D1499,Отчет!$D$1:$D$65536,0)","v":163}]
[1937427308,9,"МБИ172",1937364001,"Калашников Сергей Владимирович","М171МБИИН030","Курсовая работа",6,"Экзамен","2017/2018 учебный год 4 модуль",null,54,1,1,1722551595,4308,null,"Бизнес-информатика",{"$f":"MATCH(D1500,Отчет!$D$1:$D$65536,0)","v":50}]
[1937428254,10,"МБИ173",1937364016,"Чубаров Алексей Глебович","М171МБИИН069","Курсовая работа",6,"Экзамен","2017/2018 учебный год 4 модуль",null,60,1,1,1722551595,4308,null,"Бизнес-информатика",{"$f":"MATCH(D1501,Отчет!$D$1:$D$65536,0)","v":131}]
[1937427837,8,"МБИ173",1937364031,"Полторак Анастасия Игоревна","М171МБИИН051","Курсовая работа",6,"Экзамен","2017/2018 учебный год 4 модуль",null,48,1,1,1722551595,4308,null,"Бизнес-информатика",{"$f":"MATCH(D1502,Отчет!$D$1:$D$65536,0)","v":103}]
[1937426875,10,"МБИ171",1937364044,"Бондарь Сергей Борисович","М171МБИИН015","Курсовая работа",6,"Экзамен","2017/2018 учебный год 4 модуль",null,60,1,1,1722551595,4308,null,"Бизнес-информатика",{"$f":"MATCH(D1503,Отчет!$D$1:$D$65536,0)","v":170}]
[1937427102,7,"МБИ171",1937364058,"Герасимов Станислав Александрович","М171МБИИН023","Курсовая работа",6,"Экзамен","2017/2018 учебный год 4 модуль",null,42,1,1,1722551595,4308,null,"Бизнес-информатика",{"$f":"MATCH(D1504,Отчет!$D$1:$D$65536,0)","v":140}]
[1937427363,9,"МБИ172",1937364071,"Карнаух Егор Сергеевич","М171МБИИН032","Курсовая работа",6,"Экзамен","2017/2018 учебный год 4 модуль",null,54,1,1,1722551595,4308,null,"Бизнес-информатика",{"$f":"MATCH(D1505,Отчет!$D$1:$D$65536,0)","v":65}]
[1937427067,10,"МБИ171",1937364084,"Гареев Артем Фаридович","М171МБИИН022","Курсовая работа",6,"Экзамен","2017/2018 учебный год 4 модуль",null,60,1,1,1722551595,4308,null,"Бизнес-информатика",{"$f":"MATCH(D1506,Отчет!$D$1:$D$65536,0)","v":148}]
[1937427420,9,"МБИ172",1937364110,"Клименко Екатерина Андреевна","М171МБИИН034","Курсовая работа",6,"Экзамен","2017/2018 учебный год 4 модуль",null,54,1,1,1722551595,4308,null,"Бизнес-информатика",{"$f":"MATCH(D1507,Отчет!$D$1:$D$65536,0)","v":28}]
[1937426932,9,"МБИ171",1937364123,"Вишняков Азим Азимович","М171МБИИН017","Курсовая работа",6,"Экзамен","2017/2018 учебный год 4 модуль",null,54,1,1,1722551595,4308,null,"Бизнес-информатика",{"$f":"MATCH(D1508,Отчет!$D$1:$D$65536,0)","v":80}]
[1937427685,8,"МБИ172",1937364137,"Медведева Мария Вячеславовна","М171МБИИН045","Курсовая работа",6,"Экзамен","2017/2018 учебный год 4 модуль",null,48,1,1,1722551595,4308,null,"Бизнес-информатика",{"$f":"MATCH(D1509,Отчет!$D$1:$D$65536,0)","v":51}]
[1937427708,8,"МБИ172",1937364163,"Миллер Кирилл Александрович","М171МБИИН046","Курсовая работа",6,"Экзамен","2017/2018 учебный год 4 модуль",null,48,1,1,1722551595,4308,null,"Бизнес-информатика",{"$f":"MATCH(D1510,Отчет!$D$1:$D$65536,0)","v":79}]
[1937428114,7,"МБИ173",1937364177,"Сухова Ксения Игоревна","М171МБИИН063","Курсовая работа",6,"Экзамен","2017/2018 учебный год 4 модуль",null,42,1,1,1722551595,4308,null,"Бизнес-информатика",{"$f":"MATCH(D1511,Отчет!$D$1:$D$65536,0)","v":77}]
[1937428012,8,"МБИ173",1937364192,"Семенова Элина Михайловна","М171МБИИН059","Курсовая работа",6,"Экзамен","2017/2018 учебный год 4 модуль",null,48,1,1,1722551595,4308,null,"Бизнес-информатика",{"$f":"MATCH(D1512,Отчет!$D$1:$D$65536,0)","v":160}]
[1937426906,9,"МБИ171",1937364220,"Бутченко Антон Олегович","М171МБИИН016","Курсовая работа",6,"Экзамен","2017/2018 учебный год 4 модуль",null,54,1,1,1722551595,4308,null,"Бизнес-информатика",{"$f":"MATCH(D1513,Отчет!$D$1:$D$65536,0)","v":57}]
[2052765870,7,"МБИ173",1937363574,"Паймакова Татьяна Сергеевна","М171МБИИН049","Литература русской эмиграции",3,"Экзамен","2017/2018 учебный год 4 модуль",null,21,1,1,null,5028,null,"Бизнес-информатика",{"$f":"MATCH(D1514,Отчет!$D$1:$D$65536,0)","v":156}]
[2052765713,4,"МБИ172",1937363986,"Китайкина Мария Алексеевна","М171МБИИН033","Литература русской эмиграции",3,"Экзамен","2017/2018 учебный год 4 модуль",null,12,1,1,null,5028,null,"Бизнес-информатика",{"$f":"MATCH(D1515,Отчет!$D$1:$D$65536,0)","v":163}]
[2052765854,5,"МБИ171",1937363943,"Антонова Софья Глебовна","М171МБИИН005","Литература русской эмиграции",3,"Экзамен","2017/2018 учебный год 4 модуль",null,15,1,1,null,5028,null,"Бизнес-информатика",{"$f":"MATCH(D1516,Отчет!$D$1:$D$65536,0)","v":164}]
[2052765628,7,"МБИ171",1937363719,"Белов Григорий Игоревич","М171МБИИН010","Литература русской эмиграции",3,"Экзамен","2017/2018 учебный год 4 модуль",null,21,1,1,null,5028,null,"Бизнес-информатика",{"$f":"MATCH(D1517,Отчет!$D$1:$D$65536,0)","v":162}]
[1955631972,9,"МБД171",1940816098,"Телышева Татьяна Романовна","М171МСБДН027","Машинное обучение с использованием больших данных",3,"Экзамен","2017/2018 учебный год 4 модуль",null,27,1,0,1955245374,2098,null,"Системы больших данных",{"$f":"MATCH(D1518,Отчет!$D$1:$D$65536,0)","v":93}]
[2266227217,9,"МБД171",1946791924,"Скачок Андрей","М171МСБДН030","Машинное обучение с использованием больших данных",3,"Экзамен","2017/2018 учебный год 4 модуль",null,27,1,0,1955245374,2098,null,"Системы больших данных",{"$f":"MATCH(D1519,Отчет!$D$1:$D$65536,0)","v":151}]
[2259101906,9,"МБД171",1937366273,"Иванова Анастасия Михайловна","М171МСБДН006","Машинное обучение с использованием больших данных",3,"Экзамен","2017/2018 учебный год 4 модуль",null,27,1,1,1955245374,2098,null,"Системы больших данных",{"$f":"MATCH(D1520,Отчет!$D$1:$D$65536,0)","v":71}]
[1955632044,10,"МБД171",1937366302,"Ферягина Екатерина Андреевна","М171МСБДН015","Машинное обучение с использованием больших данных",3,"Экзамен","2017/2018 учебный год 4 модуль",null,30,1,1,1955245374,2098,null,"Системы больших данных",{"$f":"MATCH(D1521,Отчет!$D$1:$D$65536,0)","v":76}]
[1955631287,10,"МБД171",1937366380,"Полушин Глеб Валерьевич","М171МСБДН011","Машинное обучение с использованием больших данных",3,"Экзамен","2017/2018 учебный год 4 модуль",null,30,1,1,1955245374,2098,null,"Системы больших данных",{"$f":"MATCH(D1522,Отчет!$D$1:$D$65536,0)","v":62}]
[1955630941,9,"МБД171",1937366160,"Канищев Кирилл Валерьевич","М171МСБДН008","Машинное обучение с использованием больших данных",3,"Экзамен","2017/2018 учебный год 4 модуль",null,27,1,1,1955245374,2098,null,"Системы больших данных",{"$f":"MATCH(D1523,Отчет!$D$1:$D$65536,0)","v":109}]
[1955631462,9,"МБД171",1940816117,"Садыкова Сабина Бахтияровна","М171МСБДН025","Машинное обучение с использованием больших данных",3,"Экзамен","2017/2018 учебный год 4 модуль",null,27,1,0,1955245374,2098,null,"Системы больших данных",{"$f":"MATCH(D1524,Отчет!$D$1:$D$65536,0)","v":58}]
[2052764950,5,"МЭБ171",1937372919,"Михайлов Егор Александрович","М171МЭЛБЗ017","Международный деловой этикет и дипломатический протокол",3,"Экзамен","2017/2018 учебный год 4 модуль",null,15,1,1,null,5028,null,"Электронный бизнес",{"$f":"MATCH(D1525,Отчет!$D$1:$D$65536,0)","v":107}]
[2052761178,8,"МИБ171",1937371161,"Варламова Виктория Викторовна","М171МУБЕЗ003","Международный деловой этикет и дипломатический протокол",3,"Экзамен","2017/2018 учебный год 4 модуль",null,24,1,1,null,5028,null,"Управление информационной безопасностью",{"$f":"MATCH(D1526,Отчет!$D$1:$D$65536,0)","v":106}]
[2052764878,6,"МЭБ171",1937372811,"Куратова Александра Евгеньевна","М171МЭЛБЗ012","Международный деловой этикет и дипломатический протокол",3,"Экзамен","2017/2018 учебный год 4 модуль",null,18,1,1,null,5028,null,"Электронный бизнес",{"$f":"MATCH(D1527,Отчет!$D$1:$D$65536,0)","v":137}]
[2052765463,5,"МБИ173",1945753603,"Пак Александр Сергеевич","М171МБИИН096","Международный деловой этикет и дипломатический протокол",3,"Экзамен","2017/2018 учебный год 4 модуль",null,15,1,0,null,5028,null,"Бизнес-информатика",{"$f":"MATCH(D1528,Отчет!$D$1:$D$65536,0)","v":114}]
[1955626501,9,"МБД171",1937366216,"Архипенко Анастасия Дмитриевна","М171МСБДН001","Моделирование больших данных и системы управления большими данными",3,"Экзамен","2017/2018 учебный год 4 модуль",null,27,1,1,1955245374,2098,null,"Системы больших данных",{"$f":"MATCH(D1529,Отчет!$D$1:$D$65536,0)","v":16}]
[1955631338,10,"МБД171",1940816185,"Прохоренков Дмитрий Викторович","М171МСБДН024","Моделирование больших данных и системы управления большими данными",3,"Экзамен","2017/2018 учебный год 4 модуль",null,30,1,0,1955245374,2098,null,"Системы больших данных",{"$f":"MATCH(D1530,Отчет!$D$1:$D$65536,0)","v":13}]
[1972269490,10,"МБД171",1950215429,"Фаур Назим Ахмад","М171МСБДН032","Моделирование больших данных и системы управления большими данными",3,"Экзамен","2017/2018 учебный год 4 модуль",null,30,1,0,1955245374,2098,null,"Системы больших данных",{"$f":"MATCH(D1531,Отчет!$D$1:$D$65536,0)","v":89}]
[1940929892,8,"МБД171",1940816098,"Телышева Татьяна Романовна","М171МСБДН027","Научно-исследовательский семинар",6,"Экзамен","2017/2018 учебный год 4 модуль",null,48,1,0,1722525802,2098,null,"Системы больших данных",{"$f":"MATCH(D1532,Отчет!$D$1:$D$65536,0)","v":93}]
[1937430230,8,"МБД171",1937366216,"Архипенко Анастасия Дмитриевна","М171МСБДН001","Научно-исследовательский семинар",6,"Экзамен","2017/2018 учебный год 4 модуль",null,48,1,1,1722525802,2098,null,"Системы больших данных",{"$f":"MATCH(D1533,Отчет!$D$1:$D$65536,0)","v":16}]
[1940929705,8,"МБД171",1940816134,"Арча Александр Михайлович","М171МСБДН021","Научно-исследовательский семинар",6,"Экзамен","2017/2018 учебный год 4 модуль",null,48,1,0,1722525802,2098,null,"Системы больших данных",{"$f":"MATCH(D1534,Отчет!$D$1:$D$65536,0)","v":111}]
[1940929738,8,"МБД171",1940816150,"Иванов Никита Павлович","М171МСБДН022","Научно-исследовательский семинар",6,"Экзамен","2017/2018 учебный год 4 модуль",null,48,1,0,1722525802,2098,null,"Системы больших данных",{"$f":"MATCH(D1535,Отчет!$D$1:$D$65536,0)","v":48}]
[1940929928,8,"МБД171",1940816171,"Ширяева Кристина Александровна","М171МСБДН028","Научно-исследовательский семинар",6,"Экзамен","2017/2018 учебный год 4 модуль",null,48,1,0,1722525802,2098,null,"Системы больших данных",{"$f":"MATCH(D1536,Отчет!$D$1:$D$65536,0)","v":70}]
[1940929798,9,"МБД171",1940816185,"Прохоренков Дмитрий Викторович","М171МСБДН024","Научно-исследовательский семинар",6,"Экзамен","2017/2018 учебный год 4 модуль",null,54,1,0,1722525802,2098,null,"Системы больших данных",{"$f":"MATCH(D1537,Отчет!$D$1:$D$65536,0)","v":13}]
[1940929768,8,"МБД171",1940816199,"Обаляева Екатерина Ильинична","М171МСБДН023","Научно-исследовательский семинар",6,"Экзамен","2017/2018 учебный год 4 модуль",null,48,1,0,1722525802,2098,null,"Системы больших данных",{"$f":"MATCH(D1538,Отчет!$D$1:$D$65536,0)","v":36}]
[1942060265,8,"МБД171",1942007946,"Ержанова Тогжан","М171МСБДН029","Научно-исследовательский семинар",6,"Экзамен","2017/2018 учебный год 4 модуль",null,48,1,1,1722525802,2098,null,"Системы больших данных",{"$f":"MATCH(D1539,Отчет!$D$1:$D$65536,0)","v":61}]
[1947328314,8,"МБД171",1946791924,"Скачок Андрей","М171МСБДН030","Научно-исследовательский семинар",6,"Экзамен","2017/2018 учебный год 4 модуль",null,48,1,0,1722525802,2098,null,"Системы больших данных",{"$f":"MATCH(D1540,Отчет!$D$1:$D$65536,0)","v":151}]
[1950547080,6,"МБД171",1950215429,"Фаур Назим Ахмад","М171МСБДН032","Научно-исследовательский семинар",6,"Экзамен","2017/2018 учебный год 4 модуль",null,36,1,0,1722525802,2098,null,"Системы больших данных",{"$f":"MATCH(D1541,Отчет!$D$1:$D$65536,0)","v":89}]
[1950547024,7,"МБД171",1950255571,"Сиахпутра Эдо","М171МСБДН031","Научно-исследовательский семинар",6,"Экзамен","2017/2018 учебный год 4 модуль",null,42,1,1,1722525802,2098,null,"Системы больших данных",{"$f":"MATCH(D1542,Отчет!$D$1:$D$65536,0)","v":112}]
[1959819976,8,"МБД171",1959612809,"Штройхофэр Кристофер","М171МСБДН033","Научно-исследовательский семинар",6,"Экзамен","2017/2018 учебный год 4 модуль",null,48,1,1,1722525802,2098,null,"Системы больших данных",{"$f":"MATCH(D1543,Отчет!$D$1:$D$65536,0)","v":40}]
[1972266204,7,"МБД171",1970446330,"- Маниканта Рукмангада","М171МСБДН035","Научно-исследовательский семинар",6,"Экзамен","2017/2018 учебный год 4 модуль",null,42,1,1,1722525802,2098,null,"Системы больших данных",{"$f":"MATCH(D1544,Отчет!$D$1:$D$65536,0)","v":120}]
[1977576479,7,"МБД171",1972663851,"Ислам Эмди Шафикул","М171МСБДН036","Научно-исследовательский семинар",6,"Экзамен","2017/2018 учебный год 4 модуль",null,42,1,0,1722525802,2098,null,"Системы больших данных",{"$f":"MATCH(D1545,Отчет!$D$1:$D$65536,0)","v":84}]
[2101189656,7,"МБД171",2097188263,"Леонов Антон Александрович","М161МЖУРД016","Научно-исследовательский семинар",6,"Экзамен","2017/2018 учебный год 4 модуль",null,42,1,1,1722525802,2098,"ikPlanned","Системы больших данных",{"$f":"MATCH(D1546,Отчет!$D$1:$D$65536,0)","v":168}]
[1937430393,9,"МБД171",1937366231,"Дякин Николай Валерьевич","М171МСБДН005","Научно-исследовательский семинар",6,"Экзамен","2017/2018 учебный год 4 модуль",null,54,1,1,1722525802,2098,null,"Системы больших данных",{"$f":"MATCH(D1547,Отчет!$D$1:$D$65536,0)","v":21}]
[1937430360,8,"МБД171",1937366244,"Дмитриев Виктор Андреевич","М171МСБДН004","Научно-исследовательский семинар",6,"Экзамен","2017/2018 учебный год 4 модуль",null,48,1,1,1722525802,2098,null,"Системы больших данных",{"$f":"MATCH(D1548,Отчет!$D$1:$D$65536,0)","v":63}]
[1937430566,8,"МБД171",1937366259,"Пахолкова Анна Юрьевна","М171МСБДН010","Научно-исследовательский семинар",6,"Экзамен","2017/2018 учебный год 4 модуль",null,48,1,1,1722525802,2098,null,"Системы больших данных",{"$f":"MATCH(D1549,Отчет!$D$1:$D$65536,0)","v":56}]
[1937430426,9,"МБД171",1937366273,"Иванова Анастасия Михайловна","М171МСБДН006","Научно-исследовательский семинар",6,"Экзамен","2017/2018 учебный год 4 модуль",null,54,1,1,1722525802,2098,null,"Системы больших данных",{"$f":"MATCH(D1550,Отчет!$D$1:$D$65536,0)","v":71}]
[1937430965,7,"МБД171",1937366289,"Яковлева Дарья Александровна","М171МСБДН019","Научно-исследовательский семинар",6,"Экзамен","2017/2018 учебный год 4 модуль",null,42,1,1,1722525802,2098,null,"Системы больших данных",{"$f":"MATCH(D1551,Отчет!$D$1:$D$65536,0)","v":96}]
[1937430789,9,"МБД171",1937366302,"Ферягина Екатерина Андреевна","М171МСБДН015","Научно-исследовательский семинар",6,"Экзамен","2017/2018 учебный год 4 модуль",null,54,1,1,1722525802,2098,null,"Системы больших данных",{"$f":"MATCH(D1552,Отчет!$D$1:$D$65536,0)","v":76}]
[1937430645,8,"МБД171",1937366317,"Рахимов Севастьян Эдуардович","М171МСБДН012","Научно-исследовательский семинар",6,"Экзамен","2017/2018 учебный год 4 модуль",null,48,1,1,1722525802,2098,null,"Системы больших данных",{"$f":"MATCH(D1553,Отчет!$D$1:$D$65536,0)","v":59}]
[1937430528,9,"МБД171",1937366334,"Кулаков Александр Сергеевич","М171МСБДН009","Научно-исследовательский семинар",6,"Экзамен","2017/2018 учебный год 4 модуль",null,54,1,1,1722525802,2098,null,"Системы больших данных",{"$f":"MATCH(D1554,Отчет!$D$1:$D$65536,0)","v":19}]
[1937430900,9,"МБД171",1937366348,"Шеин Александр Владимирович","М171МСБДН017","Научно-исследовательский семинар",6,"Экзамен","2017/2018 учебный год 4 модуль",null,54,1,1,1722525802,2098,null,"Системы больших данных",{"$f":"MATCH(D1555,Отчет!$D$1:$D$65536,0)","v":17}]
[1937430329,8,"МБД171",1937366366,"Гатина Эльмира Ринатовна","М171МСБДН003","Научно-исследовательский семинар",6,"Экзамен","2017/2018 учебный год 4 модуль",null,48,1,1,1722525802,2098,null,"Системы больших данных",{"$f":"MATCH(D1556,Отчет!$D$1:$D$65536,0)","v":34}]
[1937430605,9,"МБД171",1937366380,"Полушин Глеб Валерьевич","М171МСБДН011","Научно-исследовательский семинар",6,"Экзамен","2017/2018 учебный год 4 модуль",null,54,1,1,1722525802,2098,null,"Системы больших данных",{"$f":"MATCH(D1557,Отчет!$D$1:$D$65536,0)","v":62}]
[1937430931,9,"МБД171",1937366394,"Шубина Виктория Ильинична","М171МСБДН018","Научно-исследовательский семинар",6,"Экзамен","2017/2018 учебный год 4 модуль",null,54,1,1,1722525802,2098,null,"Системы больших данных",{"$f":"MATCH(D1558,Отчет!$D$1:$D$65536,0)","v":32}]
[1937430853,9,"МБД171",1937366407,"Чувилина Анна Андреевна","М171МСБДН016","Научно-исследовательский семинар",6,"Экзамен","2017/2018 учебный год 4 модуль",null,54,1,1,1722525802,2098,null,"Системы больших данных",{"$f":"MATCH(D1559,Отчет!$D$1:$D$65536,0)","v":43}]
[1937430292,9,"МБД171",1937366422,"Вилкова Елена Александровна","М171МСБДН002","Научно-исследовательский семинар",6,"Экзамен","2017/2018 учебный год 4 модуль",null,54,1,1,1722525802,2098,null,"Системы больших данных",{"$f":"MATCH(D1560,Отчет!$D$1:$D$65536,0)","v":12}]
[1937430692,8,"МБД171",1937366436,"Сысоев Марк Валерьевич","М171МСБДН013","Научно-исследовательский семинар",6,"Экзамен","2017/2018 учебный год 4 модуль",null,48,1,1,1722525802,2098,null,"Системы больших данных",{"$f":"MATCH(D1561,Отчет!$D$1:$D$65536,0)","v":45}]
[1940929861,7,"МБД171",1940751998,"Семес Алексей Владимирович","М171МСБДН026","Научно-исследовательский семинар",6,"Экзамен","2017/2018 учебный год 4 модуль",null,42,1,0,1722525802,2098,null,"Системы больших данных",{"$f":"MATCH(D1562,Отчет!$D$1:$D$65536,0)","v":66}]
[1937430491,8,"МБД171",1937366160,"Канищев Кирилл Валерьевич","М171МСБДН008","Научно-исследовательский семинар",6,"Экзамен","2017/2018 учебный год 4 модуль",null,48,1,1,1722525802,2098,null,"Системы больших данных",{"$f":"MATCH(D1563,Отчет!$D$1:$D$65536,0)","v":109}]
[1937430734,8,"МБД171",1937366175,"Трегубова Инесса Александровна","М171МСБДН014","Научно-исследовательский семинар",6,"Экзамен","2017/2018 учебный год 4 модуль",null,48,1,1,1722525802,2098,null,"Системы больших данных",{"$f":"MATCH(D1564,Отчет!$D$1:$D$65536,0)","v":127}]
[1937430460,8,"МБД171",1937366203,"Ильяшенко Григорий Анатольевич","М171МСБДН007","Научно-исследовательский семинар",6,"Экзамен","2017/2018 учебный год 4 модуль",null,48,1,1,1722525802,2098,null,"Системы больших данных",{"$f":"MATCH(D1565,Отчет!$D$1:$D$65536,0)","v":81}]
[1940929831,8,"МБД171",1940816117,"Садыкова Сабина Бахтияровна","М171МСБДН025","Научно-исследовательский семинар",6,"Экзамен","2017/2018 учебный год 4 модуль",null,48,1,0,1722525802,2098,null,"Системы больших данных",{"$f":"MATCH(D1566,Отчет!$D$1:$D$65536,0)","v":58}]
[1956303888,8,"МБИ173",1940815815,"Шпилевская Наталья Викторовна","М171МБИИН079","Научно-исследовательский семинар \"Информационная бизнес-аналитика\"",10,"Экзамен","2017/2018 учебный год 4 модуль",null,80,1,0,1722551595,2098,null,"Бизнес-информатика",{"$f":"MATCH(D1567,Отчет!$D$1:$D$65536,0)","v":155}]
[2024565372,8,"МБИ172",1940815828,"Масалимов Тимур Ринатович","М171МБИИН073","Научно-исследовательский семинар \"Информационная бизнес-аналитика\"",10,"Экзамен","2017/2018 учебный год 4 модуль",null,80,1,0,1722551595,2098,null,"Бизнес-информатика",{"$f":"MATCH(D1568,Отчет!$D$1:$D$65536,0)","v":123}]
[1956302787,6,"МБИ171",1940815842,"Дворяшин Дмитрий Александрович","М171МБИИН071","Научно-исследовательский семинар \"Информационная бизнес-аналитика\"",10,"Экзамен","2017/2018 учебный год 4 модуль",null,60,1,0,1722551595,2098,null,"Бизнес-информатика",{"$f":"MATCH(D1569,Отчет!$D$1:$D$65536,0)","v":166}]
[1993077737,9,"МБИ172",1940750974,"Мирской Александр Леонидович","М171МБИИН075","Научно-исследовательский семинар \"Информационная бизнес-аналитика\"",10,"Экзамен","2017/2018 учебный год 4 модуль",null,90,1,0,1722551595,2098,null,"Бизнес-информатика",{"$f":"MATCH(D1570,Отчет!$D$1:$D$65536,0)","v":29}]
[1956301942,7,"МБИ173",1940815759,"Щеголев Андрей Александрович","М171МБИИН081","Научно-исследовательский семинар \"Информационная бизнес-аналитика\"",10,"Экзамен","2017/2018 учебный год 4 модуль",null,70,1,1,1722551595,2098,null,"Бизнес-информатика",{"$f":"MATCH(D1571,Отчет!$D$1:$D$65536,0)","v":87}]
[1956304137,7,"МБИ173",1937363345,"Пьянов Родион Альбертович","М171МБИИН054","Научно-исследовательский семинар \"Информационная бизнес-аналитика\"",10,"Экзамен","2017/2018 учебный год 4 модуль",null,70,1,1,1722551595,2098,null,"Бизнес-информатика",{"$f":"MATCH(D1572,Отчет!$D$1:$D$65536,0)","v":149}]
[1993159309,7,"МБИ173",1937363413,"Салтыкова Екатерина Андреевна","М171МБИИН057","Научно-исследовательский семинар \"Информационная бизнес-аналитика\"",10,"Экзамен","2017/2018 учебный год 4 модуль",null,70,1,1,1722551595,2098,null,"Бизнес-информатика",{"$f":"MATCH(D1573,Отчет!$D$1:$D$65536,0)","v":74}]
[1956335448,8,"МБИ171",1937363522,"Богданов Павел Владимирович","М171МБИИН013","Научно-исследовательский семинар \"Информационная бизнес-аналитика\"",10,"Экзамен","2017/2018 учебный год 4 модуль",null,80,1,1,1722551595,2098,null,"Бизнес-информатика",{"$f":"MATCH(D1574,Отчет!$D$1:$D$65536,0)","v":92}]
[1956301857,5,"МБИ171",1937363548,"Галков Алексей Александрович","М171МБИИН021","Научно-исследовательский семинар \"Информационная бизнес-аналитика\"",10,"Экзамен","2017/2018 учебный год 4 модуль",null,50,1,1,1722551595,2098,null,"Бизнес-информатика",{"$f":"MATCH(D1575,Отчет!$D$1:$D$65536,0)","v":173}]
[1972817618,4,"МБИ171",1937363639,"Волков Даниил Андреевич","М171МБИИН019","Научно-исследовательский семинар \"Информационная бизнес-аналитика\"",10,"Экзамен","2017/2018 учебный год 4 модуль",null,40,1,1,1722551595,2098,null,"Бизнес-информатика",{"$f":"MATCH(D1576,Отчет!$D$1:$D$65536,0)","v":174}]
[1956335962,null,null,1937363653,"Агарков Ярослав Алексеевич","М171МБИИН001","Научно-исследовательский семинар \"Информационная бизнес-аналитика\"",10,"Экзамен","2017/2018 учебный год 4 модуль",0,0,null,1,1722551595,2098,null,"Бизнес-информатика",{"$f":"MATCH(D1577,Отчет!$D$1:$D$65536,0)","v":179}]
[1965353930,5,"МБИ171",1937363706,"Большаков Егор Максимович","М171МБИИН014","Научно-исследовательский семинар \"Информационная бизнес-аналитика\"",10,"Экзамен","2017/2018 учебный год 4 модуль",null,50,1,1,1722551595,2098,null,"Бизнес-информатика",{"$f":"MATCH(D1578,Отчет!$D$1:$D$65536,0)","v":165}]
[1956302477,8,"МБИ171",1937363745,"Антонова Анастасия Романовна","М171МБИИН004","Научно-исследовательский семинар \"Информационная бизнес-аналитика\"",10,"Экзамен","2017/2018 учебный год 4 модуль",null,80,1,1,1722551595,2098,null,"Бизнес-информатика",{"$f":"MATCH(D1579,Отчет!$D$1:$D$65536,0)","v":124}]
[1956304541,9,"МБИ171",1937363811,"Григорьева Юлия Сергеевна","М171МБИИН024","Научно-исследовательский семинар \"Информационная бизнес-аналитика\"",10,"Экзамен","2017/2018 учебный год 4 модуль",null,90,1,1,1722551595,2098,null,"Бизнес-информатика",{"$f":"MATCH(D1580,Отчет!$D$1:$D$65536,0)","v":41}]
[1956304416,9,"МБИ172",1937363838,"Лиховцев Вадим Александрович","М171МБИИН041","Научно-исследовательский семинар \"Информационная бизнес-аналитика\"",10,"Экзамен","2017/2018 учебный год 4 модуль",null,90,1,1,1722551595,2098,null,"Бизнес-информатика",{"$f":"MATCH(D1581,Отчет!$D$1:$D$65536,0)","v":68}]
[1956303020,7,"МБИ171",1937363904,"Белова Евгения Александровна","М171МБИИН011","Научно-исследовательский семинар \"Информационная бизнес-аналитика\"",10,"Экзамен","2017/2018 учебный год 4 модуль",null,70,1,1,1722551595,2098,null,"Бизнес-информатика",{"$f":"MATCH(D1582,Отчет!$D$1:$D$65536,0)","v":83}]
[1956304048,7,"МБИ171",1937363930,"Бабанов Павел Александрович","М171МБИИН006","Научно-исследовательский семинар \"Информационная бизнес-аналитика\"",10,"Экзамен","2017/2018 учебный год 4 модуль",null,70,1,1,1722551595,2098,null,"Бизнес-информатика",{"$f":"MATCH(D1583,Отчет!$D$1:$D$65536,0)","v":152}]
[1956304265,7,"МБИ171",1937363943,"Антонова Софья Глебовна","М171МБИИН005","Научно-исследовательский семинар \"Информационная бизнес-аналитика\"",10,"Экзамен","2017/2018 учебный год 4 модуль",null,70,1,1,1722551595,2098,null,"Бизнес-информатика",{"$f":"MATCH(D1584,Отчет!$D$1:$D$65536,0)","v":164}]
[1978954410,7,"МБИ172",1937363957,"Ершова Александра Романовна","М171МБИИН028","Научно-исследовательский семинар \"Информационная бизнес-аналитика\"",10,"Экзамен","2017/2018 учебный год 4 модуль",null,70,1,1,1722551595,2098,null,"Бизнес-информатика",{"$f":"MATCH(D1585,Отчет!$D$1:$D$65536,0)","v":138}]
[1956303582,7,"МБИ172",1937363986,"Китайкина Мария Алексеевна","М171МБИИН033","Научно-исследовательский семинар \"Информационная бизнес-аналитика\"",10,"Экзамен","2017/2018 учебный год 4 модуль",null,70,1,1,1722551595,2098,null,"Бизнес-информатика",{"$f":"MATCH(D1586,Отчет!$D$1:$D$65536,0)","v":163}]
[1978952614,7,"МБИ173",1937364031,"Полторак Анастасия Игоревна","М171МБИИН051","Научно-исследовательский семинар \"Информационная бизнес-аналитика\"",10,"Экзамен","2017/2018 учебный год 4 модуль",null,70,1,1,1722551595,2098,null,"Бизнес-информатика",{"$f":"MATCH(D1587,Отчет!$D$1:$D$65536,0)","v":103}]
[1956333954,4,"МБИ171",1937364044,"Бондарь Сергей Борисович","М171МБИИН015","Научно-исследовательский семинар \"Информационная бизнес-аналитика\"",10,"Экзамен","2017/2018 учебный год 4 модуль",null,40,1,1,1722551595,2098,null,"Бизнес-информатика",{"$f":"MATCH(D1588,Отчет!$D$1:$D$65536,0)","v":170}]
[1978953443,6,"МБИ171",1937364058,"Герасимов Станислав Александрович","М171МБИИН023","Научно-исследовательский семинар \"Информационная бизнес-аналитика\"",10,"Экзамен","2017/2018 учебный год 4 модуль",null,60,1,1,1722551595,2098,null,"Бизнес-информатика",{"$f":"MATCH(D1589,Отчет!$D$1:$D$65536,0)","v":140}]
[1956303188,9,"МБИ172",1937364071,"Карнаух Егор Сергеевич","М171МБИИН032","Научно-исследовательский семинар \"Информационная бизнес-аналитика\"",10,"Экзамен","2017/2018 учебный год 4 модуль",null,90,1,1,1722551595,2098,null,"Бизнес-информатика",{"$f":"MATCH(D1590,Отчет!$D$1:$D$65536,0)","v":65}]
[1956303159,8,"МБИ173",1937364192,"Семенова Элина Михайловна","М171МБИИН059","Научно-исследовательский семинар \"Информационная бизнес-аналитика\"",10,"Экзамен","2017/2018 учебный год 4 модуль",null,80,1,1,1722551595,2098,null,"Бизнес-информатика",{"$f":"MATCH(D1591,Отчет!$D$1:$D$65536,0)","v":160}]
[1956302336,10,"МБИ172",1940815773,"Матвиенко Андрей Кириллович","М171МБИИН074","Научно-исследовательский семинар \"Моделирование и оптимизация бизнес-процессов\"",10,"Экзамен","2017/2018 учебный год 4 модуль",null,100,1,1,1722551595,2098,null,"Бизнес-информатика",{"$f":"MATCH(D1592,Отчет!$D$1:$D$65536,0)","v":38}]
[1956303518,7,"МБИ173",1937364177,"Сухова Ксения Игоревна","М171МБИИН063","Научно-исследовательский семинар \"Моделирование и оптимизация бизнес-процессов\"",10,"Экзамен","2017/2018 учебный год 4 модуль",null,70,1,1,1722551595,2098,null,"Бизнес-информатика",{"$f":"MATCH(D1593,Отчет!$D$1:$D$65536,0)","v":77}]
[1956303562,7,"МБИ173",1941989079,"Феофанов Лев Андреевич","М171МБИИН092","Научно-исследовательский семинар \"Моделирование и оптимизация бизнес-процессов\"",10,"Экзамен","2017/2018 учебный год 4 модуль",null,70,1,0,1722551595,2098,null,"Бизнес-информатика",{"$f":"MATCH(D1594,Отчет!$D$1:$D$65536,0)","v":172}]
[1956301841,7,"МБИ173",1944935723,"Ким Анатолий","М171МБИИН095","Научно-исследовательский семинар \"Моделирование и оптимизация бизнес-процессов\"",10,"Экзамен","2017/2018 учебный год 4 модуль",null,70,1,0,1722551595,2098,null,"Бизнес-информатика",{"$f":"MATCH(D1595,Отчет!$D$1:$D$65536,0)","v":176}]
[1956303366,7,"МБИ172",1944939253,"Вовк Иларион Анатольевич","М171МБИИН094","Научно-исследовательский семинар \"Моделирование и оптимизация бизнес-процессов\"",10,"Экзамен","2017/2018 учебный год 4 модуль",null,70,1,0,1722551595,2098,null,"Бизнес-информатика",{"$f":"MATCH(D1596,Отчет!$D$1:$D$65536,0)","v":98}]
[1956302760,7,"МБИ172",1940815727,"Монгуш Алдын-Ай Владимировна","М171МБИИН076","Научно-исследовательский семинар \"Моделирование и оптимизация бизнес-процессов\"",10,"Экзамен","2017/2018 учебный год 4 модуль",null,70,1,0,1722551595,2098,null,"Бизнес-информатика",{"$f":"MATCH(D1597,Отчет!$D$1:$D$65536,0)","v":104}]
[1956303639,7,"МБИ172",1937363372,"Карасев Михаил Николаевич","М171МБИИН031","Научно-исследовательский семинар \"Моделирование и оптимизация бизнес-процессов\"",10,"Экзамен","2017/2018 учебный год 4 модуль",null,70,1,1,1722551595,2098,null,"Бизнес-информатика",{"$f":"MATCH(D1598,Отчет!$D$1:$D$65536,0)","v":169}]
[1956303843,7,"МБИ173",1937363469,"Пронин Никита Павлович","М171МБИИН053","Научно-исследовательский семинар \"Моделирование и оптимизация бизнес-процессов\"",10,"Экзамен","2017/2018 учебный год 4 модуль",null,70,1,1,1722551595,2098,null,"Бизнес-информатика",{"$f":"MATCH(D1599,Отчет!$D$1:$D$65536,0)","v":126}]
[1956302564,7,"МБИ172",1937363509,"Колесникова Анна Сергеевна","М171МБИИН035","Научно-исследовательский семинар \"Моделирование и оптимизация бизнес-процессов\"",10,"Экзамен","2017/2018 учебный год 4 модуль",null,70,1,1,1722551595,2098,null,"Бизнес-информатика",{"$f":"MATCH(D1600,Отчет!$D$1:$D$65536,0)","v":161}]
[1956302401,7,"МБИ171",1937363535,"Бегларян Амалия Мгеровна","М171МБИИН009","Научно-исследовательский семинар \"Моделирование и оптимизация бизнес-процессов\"",10,"Экзамен","2017/2018 учебный год 4 модуль",null,70,1,1,1722551595,2098,null,"Бизнес-информатика",{"$f":"MATCH(D1601,Отчет!$D$1:$D$65536,0)","v":113}]
[1956303390,7,"МБИ173",1937363561,"Сиднев Игорь Дмитриевич","М171МБИИН060","Научно-исследовательский семинар \"Моделирование и оптимизация бизнес-процессов\"",10,"Экзамен","2017/2018 учебный год 4 модуль",null,70,1,1,1722551595,2098,null,"Бизнес-информатика",{"$f":"MATCH(D1602,Отчет!$D$1:$D$65536,0)","v":117}]
[1956304387,7,"МБИ173",1937363574,"Паймакова Татьяна Сергеевна","М171МБИИН049","Научно-исследовательский семинар \"Моделирование и оптимизация бизнес-процессов\"",10,"Экзамен","2017/2018 учебный год 4 модуль",null,70,1,1,1722551595,2098,null,"Бизнес-информатика",{"$f":"MATCH(D1603,Отчет!$D$1:$D$65536,0)","v":156}]
[1956304440,10,"МБИ173",1937363587,"Новицкая Валерия Андреевна","М171МБИИН048","Научно-исследовательский семинар \"Моделирование и оптимизация бизнес-процессов\"",10,"Экзамен","2017/2018 учебный год 4 модуль",null,100,1,1,1722551595,2098,null,"Бизнес-информатика",{"$f":"MATCH(D1604,Отчет!$D$1:$D$65536,0)","v":54}]
[1956302533,7,"МБИ171",1937363626,"Давтян Артем Сергеевич","М171МБИИН025","Научно-исследовательский семинар \"Моделирование и оптимизация бизнес-процессов\"",10,"Экзамен","2017/2018 учебный год 4 модуль",null,70,1,1,1722551595,2098,null,"Бизнес-информатика",{"$f":"MATCH(D1605,Отчет!$D$1:$D$65536,0)","v":147}]
[1956304162,7,"МБИ173",1937363680,"Рудь Роман Сергеевич","М171МБИИН056","Научно-исследовательский семинар \"Моделирование и оптимизация бизнес-процессов\"",10,"Экзамен","2017/2018 учебный год 4 модуль",null,70,1,1,1722551595,2098,null,"Бизнес-информатика",{"$f":"MATCH(D1606,Отчет!$D$1:$D$65536,0)","v":125}]
[1956302225,7,"МБИ173",1937363693,"Стогова Анастасия Германовна","М171МБИИН062","Научно-исследовательский семинар \"Моделирование и оптимизация бизнес-процессов\"",10,"Экзамен","2017/2018 учебный год 4 модуль",null,70,1,1,1722551595,2098,null,"Бизнес-информатика",{"$f":"MATCH(D1607,Отчет!$D$1:$D$65536,0)","v":88}]
[1956303287,7,"МБИ171",1937363719,"Белов Григорий Игоревич","М171МБИИН010","Научно-исследовательский семинар \"Моделирование и оптимизация бизнес-процессов\"",10,"Экзамен","2017/2018 учебный год 4 модуль",null,70,1,1,1722551595,2098,null,"Бизнес-информатика",{"$f":"MATCH(D1608,Отчет!$D$1:$D$65536,0)","v":162}]
[1956303440,7,"МБИ171",1937363732,"Богданов Кирилл Алексеевич","М171МБИИН012","Научно-исследовательский семинар \"Моделирование и оптимизация бизнес-процессов\"",10,"Экзамен","2017/2018 учебный год 4 модуль",null,70,1,1,1722551595,2098,null,"Бизнес-информатика",{"$f":"MATCH(D1609,Отчет!$D$1:$D$65536,0)","v":128}]
[1956304487,7,"МБИ172",1937363785,"Дунец Владислав Олегович","М171МБИИН027","Научно-исследовательский семинар \"Моделирование и оптимизация бизнес-процессов\"",10,"Экзамен","2017/2018 учебный год 4 модуль",null,70,1,1,1722551595,2098,null,"Бизнес-информатика",{"$f":"MATCH(D1610,Отчет!$D$1:$D$65536,0)","v":145}]
[1956303863,7,"МБИ173",1937363798,"Пронин Никита Вадимович","М171МБИИН052","Научно-исследовательский семинар \"Моделирование и оптимизация бизнес-процессов\"",10,"Экзамен","2017/2018 учебный год 4 модуль",null,70,1,1,1722551595,2098,null,"Бизнес-информатика",{"$f":"MATCH(D1611,Отчет!$D$1:$D$65536,0)","v":108}]
[1956304074,7,"МБИ172",1937363865,"Лобач Петр Сергеевич","М171МБИИН042","Научно-исследовательский семинар \"Моделирование и оптимизация бизнес-процессов\"",10,"Экзамен","2017/2018 учебный год 4 модуль",null,70,1,1,1722551595,2098,null,"Бизнес-информатика",{"$f":"MATCH(D1612,Отчет!$D$1:$D$65536,0)","v":143}]
[1956302959,7,"МБИ171",1937363878,"Андрюхина Дарья Сергеевна","М171МБИИН003","Научно-исследовательский семинар \"Моделирование и оптимизация бизнес-процессов\"",10,"Экзамен","2017/2018 учебный год 4 модуль",null,70,1,1,1722551595,2098,null,"Бизнес-информатика",{"$f":"MATCH(D1613,Отчет!$D$1:$D$65536,0)","v":95}]
[1956302143,8,"МБИ172",1937363891,"Коновалова Аделина Евгеньевна","М171МБИИН037","Научно-исследовательский семинар \"Моделирование и оптимизация бизнес-процессов\"",10,"Экзамен","2017/2018 учебный год 4 модуль",null,80,1,1,1722551595,2098,null,"Бизнес-информатика",{"$f":"MATCH(D1614,Отчет!$D$1:$D$65536,0)","v":91}]
[1956302197,7,"МБИ173",1937364016,"Чубаров Алексей Глебович","М171МБИИН069","Научно-исследовательский семинар \"Моделирование и оптимизация бизнес-процессов\"",10,"Экзамен","2017/2018 учебный год 4 модуль",null,70,1,1,1722551595,2098,null,"Бизнес-информатика",{"$f":"MATCH(D1615,Отчет!$D$1:$D$65536,0)","v":131}]
[1956302171,7,"МБИ171",1937364084,"Гареев Артем Фаридович","М171МБИИН022","Научно-исследовательский семинар \"Моделирование и оптимизация бизнес-процессов\"",10,"Экзамен","2017/2018 учебный год 4 модуль",null,70,1,1,1722551595,2098,null,"Бизнес-информатика",{"$f":"MATCH(D1616,Отчет!$D$1:$D$65536,0)","v":148}]
[1956303271,7,"МБИ172",1940815800,"Кривенцов Феликс Константинович","М171МБИИН072","Научно-исследовательский семинар \"Моделирование и оптимизация бизнес-процессов\"",10,"Экзамен","2017/2018 учебный год 4 модуль",null,70,1,1,1722551595,2098,null,"Бизнес-информатика",{"$f":"MATCH(D1617,Отчет!$D$1:$D$65536,0)","v":119}]
[1942063405,6,"МИБ171",1942008109,"Кабыкен Даулет","М171МУБЕЗ021","Научно-исследовательский семинар \"Проблемы управления информационной безопасностью",10,"Экзамен","2017/2018 учебный год 4 модуль",null,60,1,1,1722514289,2098,null,"Управление информационной безопасностью",{"$f":"MATCH(D1618,Отчет!$D$1:$D$65536,0)","v":177}]
[1937431569,9,"МИБ171",1937371178,"Гультяева Полина Николаевна","М171МУБЕЗ004","Научно-исследовательский семинар \"Проблемы управления информационной безопасностью",10,"Экзамен","2017/2018 учебный год 4 модуль",null,90,1,1,1722514289,2098,null,"Управление информационной безопасностью",{"$f":"MATCH(D1619,Отчет!$D$1:$D$65536,0)","v":39}]
[1937431701,10,"МИБ171",1937370369,"Иванов Владислав Сергеевич","М171МУБЕЗ007","Научно-исследовательский семинар \"Проблемы управления информационной безопасностью",10,"Экзамен","2017/2018 учебный год 4 модуль",null,100,1,1,1722514289,2098,null,"Управление информационной безопасностью",{"$f":"MATCH(D1620,Отчет!$D$1:$D$65536,0)","v":20}]
[1937431485,10,"МИБ171",1937370385,"Бочарова Ксения Михайловна","М171МУБЕЗ002","Научно-исследовательский семинар \"Проблемы управления информационной безопасностью",10,"Экзамен","2017/2018 учебный год 4 модуль",null,100,1,1,1722514289,2098,null,"Управление информационной безопасностью",{"$f":"MATCH(D1621,Отчет!$D$1:$D$65536,0)","v":53}]
[1937431661,8,"МИБ171",1937370401,"Жучков Константин Сергеевич","М171МУБЕЗ006","Научно-исследовательский семинар \"Проблемы управления информационной безопасностью",10,"Экзамен","2017/2018 учебный год 4 модуль",null,80,1,1,1722514289,2098,null,"Управление информационной безопасностью",{"$f":"MATCH(D1622,Отчет!$D$1:$D$65536,0)","v":116}]
[1937432314,7,"МИБ171",1937370421,"Ряховский Сергей Алексеевич","М171МУБЕЗ018","Научно-исследовательский семинар \"Проблемы управления информационной безопасностью",10,"Экзамен","2017/2018 учебный год 4 модуль",null,70,1,1,1722514289,2098,null,"Управление информационной безопасностью",{"$f":"MATCH(D1623,Отчет!$D$1:$D$65536,0)","v":115}]
[1937431840,8,"МИБ171",1937370436,"Михеева Вероника Вячеславовна","М171МУБЕЗ010","Научно-исследовательский семинар \"Проблемы управления информационной безопасностью",10,"Экзамен","2017/2018 учебный год 4 модуль",null,80,1,1,1722514289,2098,null,"Управление информационной безопасностью",{"$f":"MATCH(D1624,Отчет!$D$1:$D$65536,0)","v":60}]
[1937431795,10,"МИБ171",1937370452,"Коровин Кирилл Сергеевич","М171МУБЕЗ009","Научно-исследовательский семинар \"Проблемы управления информационной безопасностью",10,"Экзамен","2017/2018 учебный год 4 модуль",null,100,1,1,1722514289,2098,null,"Управление информационной безопасностью",{"$f":"MATCH(D1625,Отчет!$D$1:$D$65536,0)","v":136}]
[1937431605,10,"МИБ171",1937370480,"Дарбишева Патимат Гаджимурадовна","М171МУБЕЗ005","Научно-исследовательский семинар \"Проблемы управления информационной безопасностью",10,"Экзамен","2017/2018 учебный год 4 модуль",null,100,1,1,1722514289,2098,null,"Управление информационной безопасностью",{"$f":"MATCH(D1626,Отчет!$D$1:$D$65536,0)","v":30}]
[1937432000,9,"МИБ171",1937370498,"Петрина Матвей Олегович","М171МУБЕЗ014","Научно-исследовательский семинар \"Проблемы управления информационной безопасностью",10,"Экзамен","2017/2018 учебный год 4 модуль",null,90,1,1,1722514289,2098,null,"Управление информационной безопасностью",{"$f":"MATCH(D1627,Отчет!$D$1:$D$65536,0)","v":75}]
[1937431964,10,"МИБ171",1937370517,"Осадчая Алина Дмитриевна","М171МУБЕЗ013","Научно-исследовательский семинар \"Проблемы управления информационной безопасностью",10,"Экзамен","2017/2018 учебный год 4 модуль",null,100,1,1,1722514289,2098,null,"Управление информационной безопасностью",{"$f":"MATCH(D1628,Отчет!$D$1:$D$65536,0)","v":25}]
[1937431928,8,"МИБ171",1937370536,"Оленева Валерия Александровна","М171МУБЕЗ012","Научно-исследовательский семинар \"Проблемы управления информационной безопасностью",10,"Экзамен","2017/2018 учебный год 4 модуль",null,80,1,1,1722514289,2098,null,"Управление информационной безопасностью",{"$f":"MATCH(D1629,Отчет!$D$1:$D$65536,0)","v":86}]
[1937432124,10,"МИБ171",1937370552,"Рудаков Андрей Дмитриевич","М171МУБЕЗ017","Научно-исследовательский семинар \"Проблемы управления информационной безопасностью",10,"Экзамен","2017/2018 учебный год 4 модуль",null,100,1,1,1722514289,2098,null,"Управление информационной безопасностью",{"$f":"MATCH(D1630,Отчет!$D$1:$D$65536,0)","v":99}]
[1937432082,8,"МИБ171",1937370565,"Пупышева Анна Андреевна","М171МУБЕЗ016","Научно-исследовательский семинар \"Проблемы управления информационной безопасностью",10,"Экзамен","2017/2018 учебный год 4 модуль",null,80,1,1,1722514289,2098,null,"Управление информационной безопасностью",{"$f":"MATCH(D1631,Отчет!$D$1:$D$65536,0)","v":101}]
[1937431742,10,"МИБ171",1937370580,"Козлов Никита Вячеславович","М171МУБЕЗ008","Научно-исследовательский семинар \"Проблемы управления информационной безопасностью",10,"Экзамен","2017/2018 учебный год 4 модуль",null,100,1,1,1722514289,2098,null,"Управление информационной безопасностью",{"$f":"MATCH(D1632,Отчет!$D$1:$D$65536,0)","v":118}]
[1937432425,10,"МИБ171",1937370596,"Смирнов Данил Вадимович","М171МУБЕЗ020","Научно-исследовательский семинар \"Проблемы управления информационной безопасностью",10,"Экзамен","2017/2018 учебный год 4 модуль",null,100,1,1,1722514289,2098,null,"Управление информационной безопасностью",{"$f":"MATCH(D1633,Отчет!$D$1:$D$65536,0)","v":33}]
[1937431884,9,"МИБ171",1937371125,"Никитин Андрей Олегович","М171МУБЕЗ011","Научно-исследовательский семинар \"Проблемы управления информационной безопасностью",10,"Экзамен","2017/2018 учебный год 4 модуль",null,90,1,1,1722514289,2098,null,"Управление информационной безопасностью",{"$f":"MATCH(D1634,Отчет!$D$1:$D$65536,0)","v":141}]
[1937431415,7,"МИБ171",1937371143,"Белоус Илия Григорьевич","М171МУБЕЗ001","Научно-исследовательский семинар \"Проблемы управления информационной безопасностью",10,"Экзамен","2017/2018 учебный год 4 модуль",null,70,1,1,1722514289,2098,null,"Управление информационной безопасностью",{"$f":"MATCH(D1635,Отчет!$D$1:$D$65536,0)","v":157}]
[1937431534,8,"МИБ171",1937371161,"Варламова Виктория Викторовна","М171МУБЕЗ003","Научно-исследовательский семинар \"Проблемы управления информационной безопасностью",10,"Экзамен","2017/2018 учебный год 4 модуль",null,80,1,1,1722514289,2098,null,"Управление информационной безопасностью",{"$f":"MATCH(D1636,Отчет!$D$1:$D$65536,0)","v":106}]
[1942063437,6,"МИБ171",1942008132,"Нурматов Асхат","М171МУБЕЗ022","Научно-исследовательский семинар \"Проблемы управления информационной безопасностью",10,"Экзамен","2017/2018 учебный год 4 модуль",null,60,1,1,1722514289,2098,null,"Управление информационной безопасностью",{"$f":"MATCH(D1637,Отчет!$D$1:$D$65536,0)","v":178}]
[1956303815,8,"МБИ172",1940815787,"Музыка Наталия Константиновна","М171МБИИН077","Научно-исследовательский семинар \"Управление жизненным циклом информационных систем\"",10,"Экзамен","2017/2018 учебный год 4 модуль",null,80,1,1,1722551595,2098,null,"Бизнес-информатика",{"$f":"MATCH(D1638,Отчет!$D$1:$D$65536,0)","v":31}]
[1956302430,9,"МБИ171",1937364220,"Бутченко Антон Олегович","М171МБИИН016","Научно-исследовательский семинар \"Управление жизненным циклом информационных систем\"",10,"Экзамен","2017/2018 учебный год 4 модуль",null,90,1,1,1722551595,2098,null,"Бизнес-информатика",{"$f":"MATCH(D1639,Отчет!$D$1:$D$65536,0)","v":57}]
[1956168749,10,"МБИ173",1941989108,"Рябов Дмитрий Валерьевич","М171МБИИН090","Научно-исследовательский семинар \"Управление жизненным циклом информационных систем\"",10,"Экзамен","2017/2018 учебный год 4 модуль",null,100,1,1,1722551595,2098,null,"Бизнес-информатика",{"$f":"MATCH(D1640,Отчет!$D$1:$D$65536,0)","v":14}]
[1956304332,10,"МБИ172",1941989121,"Павлова Татьяна Михайловна","М171МБИИН089","Научно-исследовательский семинар \"Управление жизненным циклом информационных систем\"",10,"Экзамен","2017/2018 учебный год 4 модуль",null,100,1,0,1722551595,2098,null,"Бизнес-информатика",{"$f":"MATCH(D1641,Отчет!$D$1:$D$65536,0)","v":15}]
[1956303342,10,"МБИ172",1941989134,"Морева Галина Сергеевна","М171МБИИН088","Научно-исследовательский семинар \"Управление жизненным циклом информационных систем\"",10,"Экзамен","2017/2018 учебный год 4 модуль",null,100,1,0,1722551595,2098,null,"Бизнес-информатика",{"$f":"MATCH(D1642,Отчет!$D$1:$D$65536,0)","v":94}]
[1956301885,6,"МБИ172",1941989147,"Мингазов Аскар Альбертович","М171МБИИН087","Научно-исследовательский семинар \"Управление жизненным циклом информационных систем\"",10,"Экзамен","2017/2018 учебный год 4 модуль",null,60,1,0,1722551595,2098,null,"Бизнес-информатика",{"$f":"MATCH(D1643,Отчет!$D$1:$D$65536,0)","v":171}]
[1956302258,10,"МБИ172",1941989160,"Мельникова Анастасия Игоревна","М171МБИИН086","Научно-исследовательский семинар \"Управление жизненным циклом информационных систем\"",10,"Экзамен","2017/2018 учебный год 4 модуль",null,100,1,0,1722551595,2098,null,"Бизнес-информатика",{"$f":"MATCH(D1644,Отчет!$D$1:$D$65536,0)","v":46}]
[1956304465,10,"МБИ171",1941989199,"Бородко Вера Николаевна","М171МБИИН082","Научно-исследовательский семинар \"Управление жизненным циклом информационных систем\"",10,"Экзамен","2017/2018 учебный год 4 модуль",null,100,1,0,1722551595,2098,null,"Бизнес-информатика",{"$f":"MATCH(D1645,Отчет!$D$1:$D$65536,0)","v":18}]
[1956303097,8,"МБИ171",1942008650,"Гареев Эмиль Хамидович","М171МБИИН085","Научно-исследовательский семинар \"Управление жизненным циклом информационных систем\"",10,"Экзамен","2017/2018 учебный год 4 модуль",null,80,1,1,1722551595,2098,null,"Бизнес-информатика",{"$f":"MATCH(D1646,Отчет!$D$1:$D$65536,0)","v":144}]
[1956302897,9,"МБИ171",1944931265,"Бытка Дарья","М171МБИИН093","Научно-исследовательский семинар \"Управление жизненным циклом информационных систем\"",10,"Экзамен","2017/2018 учебный год 4 модуль",null,90,1,1,1722551595,2098,null,"Бизнес-информатика",{"$f":"MATCH(D1647,Отчет!$D$1:$D$65536,0)","v":22}]
[1956302682,8,"МБИ173",1945753603,"Пак Александр Сергеевич","М171МБИИН096","Научно-исследовательский семинар \"Управление жизненным циклом информационных систем\"",10,"Экзамен","2017/2018 учебный год 4 модуль",null,80,1,0,1722551595,2098,null,"Бизнес-информатика",{"$f":"MATCH(D1648,Отчет!$D$1:$D$65536,0)","v":114}]
[1956303542,5,"МБИ172",1947090330,"Варданян Карен Оганесович","М171МБИИН097","Научно-исследовательский семинар \"Управление жизненным циклом информационных систем\"",10,"Экзамен","2017/2018 учебный год 4 модуль",null,50,1,1,1722551595,2098,null,"Бизнес-информатика",{"$f":"MATCH(D1649,Отчет!$D$1:$D$65536,0)","v":175}]
[2162848241,10,"МБИ173",2162833425,"Майборода Кирилл Алексеевич","М161МБИИН048","Научно-исследовательский семинар \"Управление жизненным циклом информационных систем\"",10,"Экзамен","2017/2018 учебный год 4 модуль",null,100,1,1,1722551595,2098,null,"Бизнес-информатика",{"$f":"MATCH(D1650,Отчет!$D$1:$D$65536,0)","v":122}]
[1956303975,9,"МБИ173",1940751185,"Овсянникова Ольга Андреевна","М171МБИИН078","Научно-исследовательский семинар \"Управление жизненным циклом информационных систем\"",10,"Экзамен","2017/2018 учебный год 4 модуль",null,90,1,0,1722551595,2098,null,"Бизнес-информатика",{"$f":"MATCH(D1651,Отчет!$D$1:$D$65536,0)","v":69}]
[1956302999,8,"МБИ173",1940815743,"Шумилин Дмитрий Станиславович","М171МБИИН080","Научно-исследовательский семинар \"Управление жизненным циклом информационных систем\"",10,"Экзамен","2017/2018 учебный год 4 модуль",null,80,1,0,1722551595,2098,null,"Бизнес-информатика",{"$f":"MATCH(D1652,Отчет!$D$1:$D$65536,0)","v":150}]
[1956303243,10,"МБИ171",1937363332,"Войнов Евгений Вадимович","М171МБИИН018","Научно-исследовательский семинар \"Управление жизненным циклом информационных систем\"",10,"Экзамен","2017/2018 учебный год 4 модуль",null,100,1,1,1722551595,2098,null,"Бизнес-информатика",{"$f":"MATCH(D1653,Отчет!$D$1:$D$65536,0)","v":35}]
[1956302008,8,"МБИ173",1937363359,"Юдин Андрей Анатольевич","М171МБИИН070","Научно-исследовательский семинар \"Управление жизненным циклом информационных систем\"",10,"Экзамен","2017/2018 учебный год 4 модуль",null,80,1,1,1722551595,2098,null,"Бизнес-информатика",{"$f":"MATCH(D1654,Отчет!$D$1:$D$65536,0)","v":132}]
[1956302123,10,"МБИ173",1937363386,"Сафохин Андрей Дмитриевич","М171МБИИН058","Научно-исследовательский семинар \"Управление жизненным циклом информационных систем\"",10,"Экзамен","2017/2018 учебный год 4 модуль",null,100,1,1,1722551595,2098,null,"Бизнес-информатика",{"$f":"MATCH(D1655,Отчет!$D$1:$D$65536,0)","v":26}]
[1956303416,8,"МБИ173",1937363399,"Токарев Иван Максимович","М171МБИИН065","Научно-исследовательский семинар \"Управление жизненным циклом информационных систем\"",10,"Экзамен","2017/2018 учебный год 4 модуль",null,80,1,1,1722551595,2098,null,"Бизнес-информатика",{"$f":"MATCH(D1656,Отчет!$D$1:$D$65536,0)","v":73}]
[1956303695,8,"МБИ171",1937363441,"Бардакова Мария Вячеславовна","М171МБИИН008","Научно-исследовательский семинар \"Управление жизненным циклом информационных систем\"",10,"Экзамен","2017/2018 учебный год 4 модуль",null,80,1,1,1722551595,2098,null,"Бизнес-информатика",{"$f":"MATCH(D1657,Отчет!$D$1:$D$65536,0)","v":129}]
[1956303767,6,"МБИ171",1937363482,"Гайнутдинов Наиль Анварович","М171МБИИН020","Научно-исследовательский семинар \"Управление жизненным циклом информационных систем\"",10,"Экзамен","2017/2018 учебный год 4 модуль",null,60,1,1,1722551595,2098,null,"Бизнес-информатика",{"$f":"MATCH(D1658,Отчет!$D$1:$D$65536,0)","v":159}]
[1956302932,8,"МБИ173",1937363495,"Черепнина Дарья Олеговна","М171МБИИН068","Научно-исследовательский семинар \"Управление жизненным циклом информационных систем\"",10,"Экзамен","2017/2018 учебный год 4 модуль",null,80,1,1,1722551595,2098,null,"Бизнес-информатика",{"$f":"MATCH(D1659,Отчет!$D$1:$D$65536,0)","v":67}]
[1956303719,10,"МБИ172",1937363600,"Конова Марина Валерьевна","М171МБИИН036","Научно-исследовательский семинар \"Управление жизненным циклом информационных систем\"",10,"Экзамен","2017/2018 учебный год 4 модуль",null,100,1,1,1722551595,2098,null,"Бизнес-информатика",{"$f":"MATCH(D1660,Отчет!$D$1:$D$65536,0)","v":23}]
[1956302315,8,"МБИ173",1937363613,"Улямаев Альберт Ирекович","М171МБИИН066","Научно-исследовательский семинар \"Управление жизненным циклом информационных систем\"",10,"Экзамен","2017/2018 учебный год 4 модуль",null,80,1,1,1722551595,2098,null,"Бизнес-информатика",{"$f":"MATCH(D1661,Отчет!$D$1:$D$65536,0)","v":82}]
[1956302051,8,"МБИ172",1937363666,"Захаров Алексей Александрович","М171МБИИН029","Научно-исследовательский семинар \"Управление жизненным циклом информационных систем\"",10,"Экзамен","2017/2018 учебный год 4 модуль",null,80,1,1,1722551595,2098,null,"Бизнес-информатика",{"$f":"MATCH(D1662,Отчет!$D$1:$D$65536,0)","v":72}]
[1956301913,8,"МБИ173",1937363758,"Ригин Алексей Алексеевич","М171МБИИН055","Научно-исследовательский семинар \"Управление жизненным циклом информационных систем\"",10,"Экзамен","2017/2018 учебный год 4 модуль",null,80,1,1,1722551595,2098,null,"Бизнес-информатика",{"$f":"MATCH(D1663,Отчет!$D$1:$D$65536,0)","v":64}]
[1956303610,8,"МБИ171",1937363851,"Бадаева Мария Мингияновна","М171МБИИН007","Научно-исследовательский семинар \"Управление жизненным циклом информационных систем\"",10,"Экзамен","2017/2018 учебный год 4 модуль",null,80,1,1,1722551595,2098,null,"Бизнес-информатика",{"$f":"MATCH(D1664,Отчет!$D$1:$D$65536,0)","v":153}]
[1956302075,6,"МБИ172",1937363917,"Мартынов Александр Дмитриевич","М171МБИИН044","Научно-исследовательский семинар \"Управление жизненным циклом информационных систем\"",10,"Экзамен","2017/2018 учебный год 4 модуль",null,60,1,1,1722551595,2098,null,"Бизнес-информатика",{"$f":"MATCH(D1665,Отчет!$D$1:$D$65536,0)","v":167}]
[1956303947,8,"МБИ172",1937363970,"Лебедева Надежда Юрьевна","М171МБИИН040","Научно-исследовательский семинар \"Управление жизненным циклом информационных систем\"",10,"Экзамен","2017/2018 учебный год 4 модуль",null,80,1,1,1722551595,2098,null,"Бизнес-информатика",{"$f":"MATCH(D1666,Отчет!$D$1:$D$65536,0)","v":135}]
[1956304305,10,"МБИ172",1937364001,"Калашников Сергей Владимирович","М171МБИИН030","Научно-исследовательский семинар \"Управление жизненным циклом информационных систем\"",10,"Экзамен","2017/2018 учебный год 4 модуль",null,100,1,1,1722551595,2098,null,"Бизнес-информатика",{"$f":"MATCH(D1667,Отчет!$D$1:$D$65536,0)","v":50}]
[1956303049,9,"МБИ172",1937364110,"Клименко Екатерина Андреевна","М171МБИИН034","Научно-исследовательский семинар \"Управление жизненным циклом информационных систем\"",10,"Экзамен","2017/2018 учебный год 4 модуль",null,90,1,1,1722551595,2098,null,"Бизнес-информатика",{"$f":"MATCH(D1668,Отчет!$D$1:$D$65536,0)","v":28}]
[1956301972,9,"МБИ171",1937364123,"Вишняков Азим Азимович","М171МБИИН017","Научно-исследовательский семинар \"Управление жизненным циклом информационных систем\"",10,"Экзамен","2017/2018 учебный год 4 модуль",null,90,1,1,1722551595,2098,null,"Бизнес-информатика",{"$f":"MATCH(D1669,Отчет!$D$1:$D$65536,0)","v":80}]
[1956303739,8,"МБИ172",1937364137,"Медведева Мария Вячеславовна","М171МБИИН045","Научно-исследовательский семинар \"Управление жизненным циклом информационных систем\"",10,"Экзамен","2017/2018 учебный год 4 модуль",null,80,1,1,1722551595,2098,null,"Бизнес-информатика",{"$f":"MATCH(D1670,Отчет!$D$1:$D$65536,0)","v":51}]
[1956303494,9,"МБИ172",1937364163,"Миллер Кирилл Александрович","М171МБИИН046","Научно-исследовательский семинар \"Управление жизненным циклом информационных систем\"",10,"Экзамен","2017/2018 учебный год 4 модуль",null,90,1,1,1722551595,2098,null,"Бизнес-информатика",{"$f":"MATCH(D1671,Отчет!$D$1:$D$65536,0)","v":79}]
[1956304192,9,"МБИ173",1941989095,"Сарычев Роман Владимирович","М171МБИИН091","Научно-исследовательский семинар \"Управление жизненным циклом информационных систем\"",10,"Экзамен","2017/2018 учебный год 4 модуль",null,90,1,0,1722551595,2098,null,"Бизнес-информатика",{"$f":"MATCH(D1672,Отчет!$D$1:$D$65536,0)","v":134}]
[1940922477,9,"МЭБ171",1940816486,"Кондращенко Ярослав Константинович","М171МЭЛБЗ027","Научно-исследовательский семинар \"Электронный бизнес: исследования, разработки, обучение\"",10,"Экзамен","2017/2018 учебный год 4 модуль",null,90,1,0,1722506105,2098,null,"Электронный бизнес",{"$f":"MATCH(D1673,Отчет!$D$1:$D$65536,0)","v":78}]
[1937433210,8,"МЭБ171",1937373052,"Ким Дин Хо","М171МЭЛБЗ009","Научно-исследовательский семинар \"Электронный бизнес: исследования, разработки, обучение\"",10,"Экзамен","2017/2018 учебный год 4 модуль",null,80,1,1,1722506105,2098,null,"Электронный бизнес",{"$f":"MATCH(D1674,Отчет!$D$1:$D$65536,0)","v":121}]
[1937432993,9,"МЭБ171",1937372729,"Бадамова Екатерина Дмитриевна","М171МЭЛБЗ003","Научно-исследовательский семинар \"Электронный бизнес: исследования, разработки, обучение\"",10,"Экзамен","2017/2018 учебный год 4 модуль",null,90,1,1,1722506105,2098,null,"Электронный бизнес",{"$f":"MATCH(D1675,Отчет!$D$1:$D$65536,0)","v":47}]
[1937433131,8,"МЭБ171",1937372743,"Джаббарова Лейла Мехман гызы","М171МЭЛБЗ007","Научно-исследовательский семинар \"Электронный бизнес: исследования, разработки, обучение\"",10,"Экзамен","2017/2018 учебный год 4 модуль",null,80,1,1,1722506105,2098,null,"Электронный бизнес",{"$f":"MATCH(D1676,Отчет!$D$1:$D$65536,0)","v":85}]
[1937433557,9,"МЭБ171",1937372757,"Осипова Мария Андреевна","М171МЭЛБЗ018","Научно-исследовательский семинар \"Электронный бизнес: исследования, разработки, обучение\"",10,"Экзамен","2017/2018 учебный год 4 модуль",null,90,1,1,1722506105,2098,null,"Электронный бизнес",{"$f":"MATCH(D1677,Отчет!$D$1:$D$65536,0)","v":44}]
[1937433256,8,"МЭБ171",1937372770,"Кирилловых Андрей Максимович","М171МЭЛБЗ010","Научно-исследовательский семинар \"Электронный бизнес: исследования, разработки, обучение\"",10,"Экзамен","2017/2018 учебный год 4 модуль",null,80,1,1,1722506105,2098,null,"Электронный бизнес",{"$f":"MATCH(D1678,Отчет!$D$1:$D$65536,0)","v":102}]
[1937433171,9,"МЭБ171",1937372783,"Калинин Дмитрий Владимирович","М171МЭЛБЗ008","Научно-исследовательский семинар \"Электронный бизнес: исследования, разработки, обучение\"",10,"Экзамен","2017/2018 учебный год 4 модуль",null,90,1,1,1722506105,2098,null,"Электронный бизнес",{"$f":"MATCH(D1679,Отчет!$D$1:$D$65536,0)","v":49}]
[1937433035,7,"МЭБ171",1937372796,"Гимашев Линар Русланович","М171МЭЛБЗ004","Научно-исследовательский семинар \"Электронный бизнес: исследования, разработки, обучение\"",10,"Экзамен","2017/2018 учебный год 4 модуль",null,70,1,1,1722506105,2098,null,"Электронный бизнес",{"$f":"MATCH(D1680,Отчет!$D$1:$D$65536,0)","v":142}]
[1937433323,8,"МЭБ171",1937372811,"Куратова Александра Евгеньевна","М171МЭЛБЗ012","Научно-исследовательский семинар \"Электронный бизнес: исследования, разработки, обучение\"",10,"Экзамен","2017/2018 учебный год 4 модуль",null,80,1,1,1722506105,2098,null,"Электронный бизнес",{"$f":"MATCH(D1681,Отчет!$D$1:$D$65536,0)","v":137}]
[1937433472,7,"МЭБ171",1937372826,"Минеева Анастасия Сергеевна","М171МЭЛБЗ016","Научно-исследовательский семинар \"Электронный бизнес: исследования, разработки, обучение\"",10,"Экзамен","2017/2018 учебный год 4 модуль",null,70,1,1,1722506105,2098,null,"Электронный бизнес",{"$f":"MATCH(D1682,Отчет!$D$1:$D$65536,0)","v":146}]
[1937432949,9,"МЭБ171",1937372839,"Бабаджанян Армен Кароевич","М171МЭЛБЗ002","Научно-исследовательский семинар \"Электронный бизнес: исследования, разработки, обучение\"",10,"Экзамен","2017/2018 учебный год 4 модуль",null,90,1,1,1722506105,2098,null,"Электронный бизнес",{"$f":"MATCH(D1683,Отчет!$D$1:$D$65536,0)","v":52}]
[1937433889,8,"МЭБ171",1937372852,"Юлдашева Камилла Адилевна","М171МЭЛБЗ025","Научно-исследовательский семинар \"Электронный бизнес: исследования, разработки, обучение\"",10,"Экзамен","2017/2018 учебный год 4 модуль",null,80,1,1,1722506105,2098,null,"Электронный бизнес",{"$f":"MATCH(D1684,Отчет!$D$1:$D$65536,0)","v":24}]
[1937433651,9,"МЭБ171",1937372866,"Семенкович Софья Алексеевна","М171МЭЛБЗ020","Научно-исследовательский семинар \"Электронный бизнес: исследования, разработки, обучение\"",10,"Экзамен","2017/2018 учебный год 4 модуль",null,90,1,1,1722506105,2098,null,"Электронный бизнес",{"$f":"MATCH(D1685,Отчет!$D$1:$D$65536,0)","v":90}]
[1937433434,6,"МЭБ171",1937372880,"Лучкин Андрей Владимирович","М171МЭЛБЗ015","Научно-исследовательский семинар \"Электронный бизнес: исследования, разработки, обучение\"",10,"Экзамен","2017/2018 учебный год 4 модуль",null,60,1,1,1722506105,2098,null,"Электронный бизнес",{"$f":"MATCH(D1686,Отчет!$D$1:$D$65536,0)","v":133}]
[1937433703,8,"МЭБ171",1937372893,"Смирнов Константин Борисович","М171МЭЛБЗ021","Научно-исследовательский семинар \"Электронный бизнес: исследования, разработки, обучение\"",10,"Экзамен","2017/2018 учебный год 4 модуль",null,80,1,1,1722506105,2098,null,"Электронный бизнес",{"$f":"MATCH(D1687,Отчет!$D$1:$D$65536,0)","v":55}]
[1937433291,8,"МЭБ171",1937372906,"Китьян Акмаль Алексеевич","М171МЭЛБЗ011","Научно-исследовательский семинар \"Электронный бизнес: исследования, разработки, обучение\"",10,"Экзамен","2017/2018 учебный год 4 модуль",null,80,1,1,1722506105,2098,null,"Электронный бизнес",{"$f":"MATCH(D1688,Отчет!$D$1:$D$65536,0)","v":154}]
[1937433513,8,"МЭБ171",1937372919,"Михайлов Егор Александрович","М171МЭЛБЗ017","Научно-исследовательский семинар \"Электронный бизнес: исследования, разработки, обучение\"",10,"Экзамен","2017/2018 учебный год 4 модуль",null,80,1,1,1722506105,2098,null,"Электронный бизнес",{"$f":"MATCH(D1689,Отчет!$D$1:$D$65536,0)","v":107}]
[1937432909,7,"МЭБ171",1937372932,"Абросимова Анастасия Михайловна","М171МЭЛБЗ001","Научно-исследовательский семинар \"Электронный бизнес: исследования, разработки, обучение\"",10,"Экзамен","2017/2018 учебный год 4 модуль",null,70,1,1,1722506105,2098,null,"Электронный бизнес",{"$f":"MATCH(D1690,Отчет!$D$1:$D$65536,0)","v":105}]
[1937433846,8,"МЭБ171",1937372945,"Цуканов Иван Викторович","М171МЭЛБЗ024","Научно-исследовательский семинар \"Электронный бизнес: исследования, разработки, обучение\"",10,"Экзамен","2017/2018 учебный год 4 модуль",null,80,1,1,1722506105,2098,null,"Электронный бизнес",{"$f":"MATCH(D1691,Отчет!$D$1:$D$65536,0)","v":100}]
[1937433402,8,"МЭБ171",1937372959,"Лунин Никита Константинович","М171МЭЛБЗ014","Научно-исследовательский семинар \"Электронный бизнес: исследования, разработки, обучение\"",10,"Экзамен","2017/2018 учебный год 4 модуль",null,80,1,1,1722506105,2098,null,"Электронный бизнес",{"$f":"MATCH(D1692,Отчет!$D$1:$D$65536,0)","v":158}]
[1937433599,7,"МЭБ171",1937372972,"Рубцова Екатерина Андреевна","М171МЭЛБЗ019","Научно-исследовательский семинар \"Электронный бизнес: исследования, разработки, обучение\"",10,"Экзамен","2017/2018 учебный год 4 модуль",null,70,1,1,1722506105,2098,null,"Электронный бизнес",{"$f":"MATCH(D1693,Отчет!$D$1:$D$65536,0)","v":139}]
[1937433817,7,"МЭБ171",1937372985,"Фахрова Дина Вадимовна","М171МЭЛБЗ023","Научно-исследовательский семинар \"Электронный бизнес: исследования, разработки, обучение\"",10,"Экзамен","2017/2018 учебный год 4 модуль",null,70,1,1,1722506105,2098,null,"Электронный бизнес",{"$f":"MATCH(D1694,Отчет!$D$1:$D$65536,0)","v":37}]
[1937433070,9,"МЭБ171",1937372998,"Горобец Валерия Валентиновна","М171МЭЛБЗ005","Научно-исследовательский семинар \"Электронный бизнес: исследования, разработки, обучение\"",10,"Экзамен","2017/2018 учебный год 4 модуль",null,90,1,1,1722506105,2098,null,"Электронный бизнес",{"$f":"MATCH(D1695,Отчет!$D$1:$D$65536,0)","v":42}]
[1937433099,8,"МЭБ171",1937373012,"Давыдова Ксения Валерьевна","М171МЭЛБЗ006","Научно-исследовательский семинар \"Электронный бизнес: исследования, разработки, обучение\"",10,"Экзамен","2017/2018 учебный год 4 модуль",null,80,1,1,1722506105,2098,null,"Электронный бизнес",{"$f":"MATCH(D1696,Отчет!$D$1:$D$65536,0)","v":97}]
[1937433758,9,"МЭБ171",1937373025,"Суряднов Дмитрий Юрьевич","М171МЭЛБЗ022","Научно-исследовательский семинар \"Электронный бизнес: исследования, разработки, обучение\"",10,"Экзамен","2017/2018 учебный год 4 модуль",null,90,1,1,1722506105,2098,null,"Электронный бизнес",{"$f":"MATCH(D1697,Отчет!$D$1:$D$65536,0)","v":27}]
[1937433365,7,"МЭБ171",1937373039,"Кяргин Антон Юрьевич","М171МЭЛБЗ013","Научно-исследовательский семинар \"Электронный бизнес: исследования, разработки, обучение\"",10,"Экзамен","2017/2018 учебный год 4 модуль",null,70,1,1,1722506105,2098,null,"Электронный бизнес",{"$f":"MATCH(D1698,Отчет!$D$1:$D$65536,0)","v":110}]
[1946042745,8,"МЭБ171",1945760044,"Цандере Юлия","М171МЭЛБЗ028","Научно-исследовательский семинар \"Электронный бизнес: исследования, разработки, обучение\"",10,"Экзамен","2017/2018 учебный год 4 модуль",null,80,1,0,1722506105,2098,null,"Электронный бизнес",{"$f":"MATCH(D1699,Отчет!$D$1:$D$65536,0)","v":130}]
[2029039994,10,"МБД171",1972663851,"Ислам Эмди Шафикул","М171МСБДН036","Облачные вычисления",3,"Экзамен","2017/2018 учебный год 4 модуль",null,30,1,0,1722525802,2098,null,"Системы больших данных",{"$f":"MATCH(D1700,Отчет!$D$1:$D$65536,0)","v":84}]
[1956290444,9,"МБД171",1940816150,"Иванов Никита Павлович","М171МСБДН022","Облачные вычисления",3,"Экзамен","2017/2018 учебный год 4 модуль",null,27,1,0,1722525802,2098,null,"Системы больших данных",{"$f":"MATCH(D1701,Отчет!$D$1:$D$65536,0)","v":48}]
[1977579416,7,"МБД171",1970446330,"- Маниканта Рукмангада","М171МСБДН035","Облачные вычисления",3,"Экзамен","2017/2018 учебный год 4 модуль",null,21,1,1,1722525802,2098,null,"Системы больших данных",{"$f":"MATCH(D1702,Отчет!$D$1:$D$65536,0)","v":120}]
[1956289599,8,"МБД171",1937366273,"Иванова Анастасия Михайловна","М171МСБДН006","Облачные вычисления",3,"Экзамен","2017/2018 учебный год 4 модуль",null,24,1,1,1722525802,2098,null,"Системы больших данных",{"$f":"MATCH(D1703,Отчет!$D$1:$D$65536,0)","v":71}]
[1956290295,8,"МБД171",1950255571,"Сиахпутра Эдо","М171МСБДН031","Облачные вычисления",3,"Экзамен","2017/2018 учебный год 4 модуль",null,24,1,1,1722525802,2098,null,"Системы больших данных",{"$f":"MATCH(D1704,Отчет!$D$1:$D$65536,0)","v":112}]
[1971551159,7,"МБД171",1946791924,"Скачок Андрей","М171МСБДН030","Облачные вычисления",3,"Экзамен","2017/2018 учебный год 4 модуль",null,21,1,0,1722525802,2098,null,"Системы больших данных",{"$f":"MATCH(D1705,Отчет!$D$1:$D$65536,0)","v":151}]
[1956289962,8,"МБД171",1937366348,"Шеин Александр Владимирович","М171МСБДН017","Облачные вычисления",3,"Экзамен","2017/2018 учебный год 4 модуль",null,24,1,1,1722525802,2098,null,"Системы больших данных",{"$f":"MATCH(D1706,Отчет!$D$1:$D$65536,0)","v":17}]
[1956289721,10,"МБД171",1937366334,"Кулаков Александр Сергеевич","М171МСБДН009","Облачные вычисления",3,"Экзамен","2017/2018 учебный год 4 модуль",null,30,1,1,1722525802,2098,null,"Системы больших данных",{"$f":"MATCH(D1707,Отчет!$D$1:$D$65536,0)","v":19}]
[1956290541,7,"МБД171",1942007946,"Ержанова Тогжан","М171МСБДН029","Облачные вычисления",3,"Экзамен","2017/2018 учебный год 4 модуль",null,21,1,1,1722525802,2098,null,"Системы больших данных",{"$f":"MATCH(D1708,Отчет!$D$1:$D$65536,0)","v":61}]
[1956290519,9,"МБД171",1937366317,"Рахимов Севастьян Эдуардович","М171МСБДН012","Облачные вычисления",3,"Экзамен","2017/2018 учебный год 4 модуль",null,27,1,1,1722525802,2098,null,"Системы больших данных",{"$f":"MATCH(D1709,Отчет!$D$1:$D$65536,0)","v":59}]
[1956290242,8,"МБД171",1940816199,"Обаляева Екатерина Ильинична","М171МСБДН023","Облачные вычисления",3,"Экзамен","2017/2018 учебный год 4 модуль",null,24,1,0,1722525802,2098,null,"Системы больших данных",{"$f":"MATCH(D1710,Отчет!$D$1:$D$65536,0)","v":36}]
[1956290127,10,"МБД171",1940816185,"Прохоренков Дмитрий Викторович","М171МСБДН024","Облачные вычисления",3,"Экзамен","2017/2018 учебный год 4 модуль",null,30,1,0,1722525802,2098,null,"Системы больших данных",{"$f":"MATCH(D1711,Отчет!$D$1:$D$65536,0)","v":13}]
[1956290382,9,"МБД171",1940816171,"Ширяева Кристина Александровна","М171МСБДН028","Облачные вычисления",3,"Экзамен","2017/2018 учебный год 4 модуль",null,27,1,0,1722525802,2098,null,"Системы больших данных",{"$f":"MATCH(D1712,Отчет!$D$1:$D$65536,0)","v":70}]
[1956290275,8,"МБД171",1937366366,"Гатина Эльмира Ринатовна","М171МСБДН003","Облачные вычисления",3,"Экзамен","2017/2018 учебный год 4 модуль",null,24,1,1,1722525802,2098,null,"Системы больших данных",{"$f":"MATCH(D1713,Отчет!$D$1:$D$65536,0)","v":34}]
[1956290339,8,"МБД171",1937366380,"Полушин Глеб Валерьевич","М171МСБДН011","Облачные вычисления",3,"Экзамен","2017/2018 учебный год 4 модуль",null,24,1,1,1722525802,2098,null,"Системы больших данных",{"$f":"MATCH(D1714,Отчет!$D$1:$D$65536,0)","v":62}]
[1956290611,9,"МБД171",1937366394,"Шубина Виктория Ильинична","М171МСБДН018","Облачные вычисления",3,"Экзамен","2017/2018 учебный год 4 модуль",null,27,1,1,1722525802,2098,null,"Системы больших данных",{"$f":"MATCH(D1715,Отчет!$D$1:$D$65536,0)","v":32}]
[1956289429,8,"МБД171",1937366407,"Чувилина Анна Андреевна","М171МСБДН016","Облачные вычисления",3,"Экзамен","2017/2018 учебный год 4 модуль",null,24,1,1,1722525802,2098,null,"Системы больших данных",{"$f":"MATCH(D1716,Отчет!$D$1:$D$65536,0)","v":43}]
[1956290204,10,"МБД171",1937366422,"Вилкова Елена Александровна","М171МСБДН002","Облачные вычисления",3,"Экзамен","2017/2018 учебный год 4 модуль",null,30,1,1,1722525802,2098,null,"Системы больших данных",{"$f":"MATCH(D1717,Отчет!$D$1:$D$65536,0)","v":12}]
[1956290424,8,"МБД171",1937366436,"Сысоев Марк Валерьевич","М171МСБДН013","Облачные вычисления",3,"Экзамен","2017/2018 учебный год 4 модуль",null,24,1,1,1722525802,2098,null,"Системы больших данных",{"$f":"MATCH(D1718,Отчет!$D$1:$D$65536,0)","v":45}]
[2101189667,7,"МБД171",2097188263,"Леонов Антон Александрович","М161МЖУРД016","Облачные вычисления",3,"Экзамен","2017/2018 учебный год 4 модуль",null,21,1,1,1722525802,2098,"ikPlanned","Системы больших данных",{"$f":"MATCH(D1719,Отчет!$D$1:$D$65536,0)","v":168}]
[1956290402,8,"МБД171",1937366160,"Канищев Кирилл Валерьевич","М171МСБДН008","Облачные вычисления",3,"Экзамен","2017/2018 учебный год 4 модуль",null,24,1,1,1722525802,2098,null,"Системы больших данных",{"$f":"MATCH(D1720,Отчет!$D$1:$D$65536,0)","v":109}]
[1956290468,8,"МБД171",1937366231,"Дякин Николай Валерьевич","М171МСБДН005","Облачные вычисления",3,"Экзамен","2017/2018 учебный год 4 модуль",null,24,1,1,1722525802,2098,null,"Системы больших данных",{"$f":"MATCH(D1721,Отчет!$D$1:$D$65536,0)","v":21}]
[1956290587,9,"МБД171",1937366244,"Дмитриев Виктор Андреевич","М171МСБДН004","Облачные вычисления",3,"Экзамен","2017/2018 учебный год 4 модуль",null,27,1,1,1722525802,2098,null,"Системы больших данных",{"$f":"MATCH(D1722,Отчет!$D$1:$D$65536,0)","v":63}]
[1956290049,9,"МБД171",1937366259,"Пахолкова Анна Юрьевна","М171МСБДН010","Облачные вычисления",3,"Экзамен","2017/2018 учебный год 4 модуль",null,27,1,1,1722525802,2098,null,"Системы больших данных",{"$f":"MATCH(D1723,Отчет!$D$1:$D$65536,0)","v":56}]
[2052765459,6,"МБИ172",1937363509,"Колесникова Анна Сергеевна","М171МБИИН035","Основные виды академического письма",3,"Экзамен","2017/2018 учебный год 4 модуль",null,18,1,1,null,5028,null,"Бизнес-информатика",{"$f":"MATCH(D1724,Отчет!$D$1:$D$65536,0)","v":161}]
[2263343812,10,"МБД171",1959612809,"Штройхофэр Кристофер","М171МСБДН033","Основы SAP",5,"Экзамен","2017/2018 учебный год 4 модуль",null,50,1,1,null,null,null,"Системы больших данных",{"$f":"MATCH(D1725,Отчет!$D$1:$D$65536,0)","v":40}]
[2052761075,8,"МИБ171",1942008132,"Нурматов Асхат","М171МУБЕЗ022","Основы астрономии",3,"Экзамен","2017/2018 учебный год 4 модуль",null,24,1,1,null,5028,null,"Управление информационной безопасностью",{"$f":"MATCH(D1726,Отчет!$D$1:$D$65536,0)","v":178}]
[2052761095,9,"МИБ171",1942008109,"Кабыкен Даулет","М171МУБЕЗ021","Основы астрономии",3,"Экзамен","2017/2018 учебный год 4 модуль",null,27,1,1,null,5028,null,"Управление информационной безопасностью",{"$f":"MATCH(D1727,Отчет!$D$1:$D$65536,0)","v":177}]
[2052765040,8,"МЭБ171",1940816486,"Кондращенко Ярослав Константинович","М171МЭЛБЗ027","Основы астрономии",3,"Экзамен","2017/2018 учебный год 4 модуль",null,24,1,0,null,5028,null,"Электронный бизнес",{"$f":"MATCH(D1728,Отчет!$D$1:$D$65536,0)","v":78}]
[2052765535,9,"МБИ173",1940815743,"Шумилин Дмитрий Станиславович","М171МБИИН080","Основы астрономии",3,"Экзамен","2017/2018 учебный год 4 модуль",null,27,1,0,null,5028,null,"Бизнес-информатика",{"$f":"MATCH(D1729,Отчет!$D$1:$D$65536,0)","v":150}]
[2052764991,9,"МЭБ171",1937373012,"Давыдова Ксения Валерьевна","М171МЭЛБЗ006","Основы астрономии",3,"Экзамен","2017/2018 учебный год 4 модуль",null,27,1,1,null,5028,null,"Электронный бизнес",{"$f":"MATCH(D1730,Отчет!$D$1:$D$65536,0)","v":97}]
[2052765030,9,"МЭБ171",1937372866,"Семенкович Софья Алексеевна","М171МЭЛБЗ020","Основы астрономии",3,"Экзамен","2017/2018 учебный год 4 модуль",null,27,1,1,null,5028,null,"Электронный бизнес",{"$f":"MATCH(D1731,Отчет!$D$1:$D$65536,0)","v":90}]
[2052761059,9,"МИБ171",1937370552,"Рудаков Андрей Дмитриевич","М171МУБЕЗ017","Основы астрономии",3,"Экзамен","2017/2018 учебный год 4 модуль",null,27,1,1,null,5028,null,"Управление информационной безопасностью",{"$f":"MATCH(D1732,Отчет!$D$1:$D$65536,0)","v":99}]
[2052761131,8,"МИБ171",1937370498,"Петрина Матвей Олегович","М171МУБЕЗ014","Основы астрономии",3,"Экзамен","2017/2018 учебный год 4 модуль",null,24,1,1,null,5028,null,"Управление информационной безопасностью",{"$f":"MATCH(D1733,Отчет!$D$1:$D$65536,0)","v":75}]
[2052761123,6,"МИБ171",1937370452,"Коровин Кирилл Сергеевич","М171МУБЕЗ009","Основы астрономии",3,"Экзамен","2017/2018 учебный год 4 модуль",null,18,1,1,null,5028,null,"Управление информационной безопасностью",{"$f":"MATCH(D1734,Отчет!$D$1:$D$65536,0)","v":136}]
[2052761116,9,"МИБ171",1937370385,"Бочарова Ксения Михайловна","М171МУБЕЗ002","Основы астрономии",3,"Экзамен","2017/2018 учебный год 4 модуль",null,27,1,1,null,5028,null,"Управление информационной безопасностью",{"$f":"MATCH(D1735,Отчет!$D$1:$D$65536,0)","v":53}]
[2052765890,8,"МБИ172",1937363785,"Дунец Владислав Олегович","М171МБИИН027","Основы астрономии",3,"Экзамен","2017/2018 учебный год 4 модуль",null,24,1,1,null,5028,null,"Бизнес-информатика",{"$f":"MATCH(D1736,Отчет!$D$1:$D$65536,0)","v":145}]
[2052765582,10,"МБИ171",1937363706,"Большаков Егор Максимович","М171МБИИН014","Основы астрономии",3,"Экзамен","2017/2018 учебный год 4 модуль",null,30,1,1,null,5028,null,"Бизнес-информатика",{"$f":"MATCH(D1737,Отчет!$D$1:$D$65536,0)","v":165}]
[2052765502,9,"МБИ171",1937363639,"Волков Даниил Андреевич","М171МБИИН019","Основы астрономии",3,"Экзамен","2017/2018 учебный год 4 модуль",null,27,1,1,null,5028,null,"Бизнес-информатика",{"$f":"MATCH(D1738,Отчет!$D$1:$D$65536,0)","v":174}]
[1952009848,8,"МЭБ171",1937372906,"Китьян Акмаль Алексеевич","М171МЭЛБЗ011","Правовые основы высокотехнологичного бизнеса",5,"Экзамен","2017/2018 учебный год 4 модуль",null,40,1,1,1722506105,2098,null,"Электронный бизнес",{"$f":"MATCH(D1739,Отчет!$D$1:$D$65536,0)","v":154}]
[1952009884,7,"МЭБ171",1937372919,"Михайлов Егор Александрович","М171МЭЛБЗ017","Правовые основы высокотехнологичного бизнеса",5,"Экзамен","2017/2018 учебный год 4 модуль",null,35,1,1,1722506105,2098,null,"Электронный бизнес",{"$f":"MATCH(D1740,Отчет!$D$1:$D$65536,0)","v":107}]
[1952009799,7,"МЭБ171",1937372932,"Абросимова Анастасия Михайловна","М171МЭЛБЗ001","Правовые основы высокотехнологичного бизнеса",5,"Экзамен","2017/2018 учебный год 4 модуль",null,35,1,1,1722506105,2098,null,"Электронный бизнес",{"$f":"MATCH(D1741,Отчет!$D$1:$D$65536,0)","v":105}]
[1952009926,6,"МЭБ171",1937372945,"Цуканов Иван Викторович","М171МЭЛБЗ024","Правовые основы высокотехнологичного бизнеса",5,"Экзамен","2017/2018 учебный год 4 модуль",null,30,1,1,1722506105,2098,null,"Электронный бизнес",{"$f":"MATCH(D1742,Отчет!$D$1:$D$65536,0)","v":100}]
[1952009868,7,"МЭБ171",1937372959,"Лунин Никита Константинович","М171МЭЛБЗ014","Правовые основы высокотехнологичного бизнеса",5,"Экзамен","2017/2018 учебный год 4 модуль",null,35,1,1,1722506105,2098,null,"Электронный бизнес",{"$f":"MATCH(D1743,Отчет!$D$1:$D$65536,0)","v":158}]
[1952009894,8,"МЭБ171",1937372972,"Рубцова Екатерина Андреевна","М171МЭЛБЗ019","Правовые основы высокотехнологичного бизнеса",5,"Экзамен","2017/2018 учебный год 4 модуль",null,40,1,1,1722506105,2098,null,"Электронный бизнес",{"$f":"MATCH(D1744,Отчет!$D$1:$D$65536,0)","v":139}]
[1952009916,8,"МЭБ171",1937372985,"Фахрова Дина Вадимовна","М171МЭЛБЗ023","Правовые основы высокотехнологичного бизнеса",5,"Экзамен","2017/2018 учебный год 4 модуль",null,40,1,1,1722506105,2098,null,"Электронный бизнес",{"$f":"MATCH(D1745,Отчет!$D$1:$D$65536,0)","v":37}]
[1952009816,10,"МЭБ171",1937372998,"Горобец Валерия Валентиновна","М171МЭЛБЗ005","Правовые основы высокотехнологичного бизнеса",5,"Экзамен","2017/2018 учебный год 4 модуль",null,50,1,1,1722506105,2098,null,"Электронный бизнес",{"$f":"MATCH(D1746,Отчет!$D$1:$D$65536,0)","v":42}]
[1952009820,7,"МЭБ171",1937373012,"Давыдова Ксения Валерьевна","М171МЭЛБЗ006","Правовые основы высокотехнологичного бизнеса",5,"Экзамен","2017/2018 учебный год 4 модуль",null,35,1,1,1722506105,2098,null,"Электронный бизнес",{"$f":"MATCH(D1747,Отчет!$D$1:$D$65536,0)","v":97}]
[1952009911,10,"МЭБ171",1937373025,"Суряднов Дмитрий Юрьевич","М171МЭЛБЗ022","Правовые основы высокотехнологичного бизнеса",5,"Экзамен","2017/2018 учебный год 4 модуль",null,50,1,1,1722506105,2098,null,"Электронный бизнес",{"$f":"MATCH(D1748,Отчет!$D$1:$D$65536,0)","v":27}]
[1952009863,7,"МЭБ171",1937373039,"Кяргин Антон Юрьевич","М171МЭЛБЗ013","Правовые основы высокотехнологичного бизнеса",5,"Экзамен","2017/2018 учебный год 4 модуль",null,35,1,1,1722506105,2098,null,"Электронный бизнес",{"$f":"MATCH(D1749,Отчет!$D$1:$D$65536,0)","v":110}]
[1952009839,7,"МЭБ171",1937373052,"Ким Дин Хо","М171МЭЛБЗ009","Правовые основы высокотехнологичного бизнеса",5,"Экзамен","2017/2018 учебный год 4 модуль",null,35,1,1,1722506105,2098,null,"Электронный бизнес",{"$f":"MATCH(D1750,Отчет!$D$1:$D$65536,0)","v":121}]
[1952009853,7,"МЭБ171",1940816486,"Кондращенко Ярослав Константинович","М171МЭЛБЗ027","Правовые основы высокотехнологичного бизнеса",5,"Экзамен","2017/2018 учебный год 4 модуль",null,35,1,0,1722506105,2098,null,"Электронный бизнес",{"$f":"MATCH(D1751,Отчет!$D$1:$D$65536,0)","v":78}]
[1952009922,7,"МЭБ171",1945760044,"Цандере Юлия","М171МЭЛБЗ028","Правовые основы высокотехнологичного бизнеса",5,"Экзамен","2017/2018 учебный год 4 модуль",null,35,1,0,1722506105,2098,null,"Электронный бизнес",{"$f":"MATCH(D1752,Отчет!$D$1:$D$65536,0)","v":130}]
[1952009808,8,"МЭБ171",1937372729,"Бадамова Екатерина Дмитриевна","М171МЭЛБЗ003","Правовые основы высокотехнологичного бизнеса",5,"Экзамен","2017/2018 учебный год 4 модуль",null,40,1,1,1722506105,2098,null,"Электронный бизнес",{"$f":"MATCH(D1753,Отчет!$D$1:$D$65536,0)","v":47}]
[1952009825,8,"МЭБ171",1937372743,"Джаббарова Лейла Мехман гызы","М171МЭЛБЗ007","Правовые основы высокотехнологичного бизнеса",5,"Экзамен","2017/2018 учебный год 4 модуль",null,40,1,1,1722506105,2098,null,"Электронный бизнес",{"$f":"MATCH(D1754,Отчет!$D$1:$D$65536,0)","v":85}]
[1952009888,8,"МЭБ171",1937372757,"Осипова Мария Андреевна","М171МЭЛБЗ018","Правовые основы высокотехнологичного бизнеса",5,"Экзамен","2017/2018 учебный год 4 модуль",null,40,1,1,1722506105,2098,null,"Электронный бизнес",{"$f":"MATCH(D1755,Отчет!$D$1:$D$65536,0)","v":44}]
[1952009843,9,"МЭБ171",1937372770,"Кирилловых Андрей Максимович","М171МЭЛБЗ010","Правовые основы высокотехнологичного бизнеса",5,"Экзамен","2017/2018 учебный год 4 модуль",null,45,1,1,1722506105,2098,null,"Электронный бизнес",{"$f":"MATCH(D1756,Отчет!$D$1:$D$65536,0)","v":102}]
[1952009830,8,"МЭБ171",1937372783,"Калинин Дмитрий Владимирович","М171МЭЛБЗ008","Правовые основы высокотехнологичного бизнеса",5,"Экзамен","2017/2018 учебный год 4 модуль",null,40,1,1,1722506105,2098,null,"Электронный бизнес",{"$f":"MATCH(D1757,Отчет!$D$1:$D$65536,0)","v":49}]
[1952009812,7,"МЭБ171",1937372796,"Гимашев Линар Русланович","М171МЭЛБЗ004","Правовые основы высокотехнологичного бизнеса",5,"Экзамен","2017/2018 учебный год 4 модуль",null,35,1,1,1722506105,2098,null,"Электронный бизнес",{"$f":"MATCH(D1758,Отчет!$D$1:$D$65536,0)","v":142}]
[1952009859,7,"МЭБ171",1937372811,"Куратова Александра Евгеньевна","М171МЭЛБЗ012","Правовые основы высокотехнологичного бизнеса",5,"Экзамен","2017/2018 учебный год 4 модуль",null,35,1,1,1722506105,2098,null,"Электронный бизнес",{"$f":"MATCH(D1759,Отчет!$D$1:$D$65536,0)","v":137}]
[1952009878,6,"МЭБ171",1937372826,"Минеева Анастасия Сергеевна","М171МЭЛБЗ016","Правовые основы высокотехнологичного бизнеса",5,"Экзамен","2017/2018 учебный год 4 модуль",null,30,1,1,1722506105,2098,null,"Электронный бизнес",{"$f":"MATCH(D1760,Отчет!$D$1:$D$65536,0)","v":146}]
[1952009804,9,"МЭБ171",1937372839,"Бабаджанян Армен Кароевич","М171МЭЛБЗ002","Правовые основы высокотехнологичного бизнеса",5,"Экзамен","2017/2018 учебный год 4 модуль",null,45,1,1,1722506105,2098,null,"Электронный бизнес",{"$f":"MATCH(D1761,Отчет!$D$1:$D$65536,0)","v":52}]
[1952009931,10,"МЭБ171",1937372852,"Юлдашева Камилла Адилевна","М171МЭЛБЗ025","Правовые основы высокотехнологичного бизнеса",5,"Экзамен","2017/2018 учебный год 4 модуль",null,50,1,1,1722506105,2098,null,"Электронный бизнес",{"$f":"MATCH(D1762,Отчет!$D$1:$D$65536,0)","v":24}]
[1952009902,6,"МЭБ171",1937372866,"Семенкович Софья Алексеевна","М171МЭЛБЗ020","Правовые основы высокотехнологичного бизнеса",5,"Экзамен","2017/2018 учебный год 4 модуль",null,30,1,1,1722506105,2098,null,"Электронный бизнес",{"$f":"MATCH(D1763,Отчет!$D$1:$D$65536,0)","v":90}]
[1952009873,8,"МЭБ171",1937372880,"Лучкин Андрей Владимирович","М171МЭЛБЗ015","Правовые основы высокотехнологичного бизнеса",5,"Экзамен","2017/2018 учебный год 4 модуль",null,40,1,1,1722506105,2098,null,"Электронный бизнес",{"$f":"MATCH(D1764,Отчет!$D$1:$D$65536,0)","v":133}]
[1952009906,8,"МЭБ171",1937372893,"Смирнов Константин Борисович","М171МЭЛБЗ021","Правовые основы высокотехнологичного бизнеса",5,"Экзамен","2017/2018 учебный год 4 модуль",null,40,1,1,1722506105,2098,null,"Электронный бизнес",{"$f":"MATCH(D1765,Отчет!$D$1:$D$65536,0)","v":55}]
[1956290523,6,"МБД171",1937366317,"Рахимов Севастьян Эдуардович","М171МСБДН012","Прикладные аспекты машинного обучения",4,"Экзамен","2017/2018 учебный год 4 модуль",null,24,1,1,1722525802,2098,null,"Системы больших данных",{"$f":"MATCH(D1766,Отчет!$D$1:$D$65536,0)","v":59}]
[1956290168,9,"МБД171",1937366302,"Ферягина Екатерина Андреевна","М171МСБДН015","Прикладные аспекты машинного обучения",4,"Экзамен","2017/2018 учебный год 4 модуль",null,36,1,1,1722525802,2098,null,"Системы больших данных",{"$f":"MATCH(D1767,Отчет!$D$1:$D$65536,0)","v":76}]
[1956289997,10,"МБД171",1937366348,"Шеин Александр Владимирович","М171МСБДН017","Прикладные аспекты машинного обучения",4,"Экзамен","2017/2018 учебный год 4 модуль",null,40,1,1,1722525802,2098,null,"Системы больших данных",{"$f":"MATCH(D1768,Отчет!$D$1:$D$65536,0)","v":17}]
[1956289727,9,"МБД171",1937366334,"Кулаков Александр Сергеевич","М171МСБДН009","Прикладные аспекты машинного обучения",4,"Экзамен","2017/2018 учебный год 4 модуль",null,36,1,1,1722525802,2098,null,"Системы больших данных",{"$f":"MATCH(D1769,Отчет!$D$1:$D$65536,0)","v":19}]
[1956290085,10,"МБД171",1937366289,"Яковлева Дарья Александровна","М171МСБДН019","Прикладные аспекты машинного обучения",4,"Экзамен","2017/2018 учебный год 4 модуль",null,40,1,1,1722525802,2098,null,"Системы больших данных",{"$f":"MATCH(D1770,Отчет!$D$1:$D$65536,0)","v":96}]
[1956289626,8,"МБД171",1937366273,"Иванова Анастасия Михайловна","М171МСБДН006","Прикладные аспекты машинного обучения",4,"Экзамен","2017/2018 учебный год 4 модуль",null,32,1,1,1722525802,2098,null,"Системы больших данных",{"$f":"MATCH(D1771,Отчет!$D$1:$D$65536,0)","v":71}]
[1956290472,8,"МБД171",1937366231,"Дякин Николай Валерьевич","М171МСБДН005","Прикладные аспекты машинного обучения",4,"Экзамен","2017/2018 учебный год 4 модуль",null,32,1,1,1722525802,2098,null,"Системы больших данных",{"$f":"MATCH(D1772,Отчет!$D$1:$D$65536,0)","v":21}]
[1956289476,10,"МБД171",1937366216,"Архипенко Анастасия Дмитриевна","М171МСБДН001","Прикладные аспекты машинного обучения",4,"Экзамен","2017/2018 учебный год 4 модуль",null,40,1,1,1722525802,2098,null,"Системы больших данных",{"$f":"MATCH(D1773,Отчет!$D$1:$D$65536,0)","v":16}]
[1956290319,10,"МБД171",1937366203,"Ильяшенко Григорий Анатольевич","М171МСБДН007","Прикладные аспекты машинного обучения",4,"Экзамен","2017/2018 учебный год 4 модуль",null,40,1,1,1722525802,2098,null,"Системы больших данных",{"$f":"MATCH(D1774,Отчет!$D$1:$D$65536,0)","v":81}]
[1956290359,8,"МБД171",1937366175,"Трегубова Инесса Александровна","М171МСБДН014","Прикладные аспекты машинного обучения",4,"Экзамен","2017/2018 учебный год 4 модуль",null,32,1,1,1722525802,2098,null,"Системы больших данных",{"$f":"MATCH(D1775,Отчет!$D$1:$D$65536,0)","v":127}]
[1956290279,8,"МБД171",1937366366,"Гатина Эльмира Ринатовна","М171МСБДН003","Прикладные аспекты машинного обучения",4,"Экзамен","2017/2018 учебный год 4 модуль",null,32,1,1,1722525802,2098,null,"Системы больших данных",{"$f":"MATCH(D1776,Отчет!$D$1:$D$65536,0)","v":34}]
[1956290343,9,"МБД171",1937366380,"Полушин Глеб Валерьевич","М171МСБДН011","Прикладные аспекты машинного обучения",4,"Экзамен","2017/2018 учебный год 4 модуль",null,36,1,1,1722525802,2098,null,"Системы больших данных",{"$f":"MATCH(D1777,Отчет!$D$1:$D$65536,0)","v":62}]
[1956290615,6,"МБД171",1937366394,"Шубина Виктория Ильинична","М171МСБДН018","Прикладные аспекты машинного обучения",4,"Экзамен","2017/2018 учебный год 4 модуль",null,24,1,1,1722525802,2098,null,"Системы больших данных",{"$f":"MATCH(D1778,Отчет!$D$1:$D$65536,0)","v":32}]
[1956289438,9,"МБД171",1937366407,"Чувилина Анна Андреевна","М171МСБДН016","Прикладные аспекты машинного обучения",4,"Экзамен","2017/2018 учебный год 4 модуль",null,36,1,1,1722525802,2098,null,"Системы больших данных",{"$f":"MATCH(D1779,Отчет!$D$1:$D$65536,0)","v":43}]
[1956290208,10,"МБД171",1937366422,"Вилкова Елена Александровна","М171МСБДН002","Прикладные аспекты машинного обучения",4,"Экзамен","2017/2018 учебный год 4 модуль",null,40,1,1,1722525802,2098,null,"Системы больших данных",{"$f":"MATCH(D1780,Отчет!$D$1:$D$65536,0)","v":12}]
[1956290428,7,"МБД171",1937366436,"Сысоев Марк Валерьевич","М171МСБДН013","Прикладные аспекты машинного обучения",4,"Экзамен","2017/2018 учебный год 4 модуль",null,28,1,1,1722525802,2098,null,"Системы больших данных",{"$f":"MATCH(D1781,Отчет!$D$1:$D$65536,0)","v":45}]
[1956289860,6,"МБД171",1940751998,"Семес Алексей Владимирович","М171МСБДН026","Прикладные аспекты машинного обучения",4,"Экзамен","2017/2018 учебный год 4 модуль",null,24,1,0,1722525802,2098,null,"Системы больших данных",{"$f":"MATCH(D1782,Отчет!$D$1:$D$65536,0)","v":66}]
[1956290565,6,"МБД171",1940816098,"Телышева Татьяна Романовна","М171МСБДН027","Прикладные аспекты машинного обучения",4,"Экзамен","2017/2018 учебный год 4 модуль",null,24,1,0,1722525802,2098,null,"Системы больших данных",{"$f":"MATCH(D1783,Отчет!$D$1:$D$65536,0)","v":93}]
[1956290495,6,"МБД171",1940816117,"Садыкова Сабина Бахтияровна","М171МСБДН025","Прикладные аспекты машинного обучения",4,"Экзамен","2017/2018 учебный год 4 модуль",null,24,1,0,1722525802,2098,null,"Системы больших данных",{"$f":"MATCH(D1784,Отчет!$D$1:$D$65536,0)","v":58}]
[1956289526,6,"МБД171",1940816134,"Арча Александр Михайлович","М171МСБДН021","Прикладные аспекты машинного обучения",4,"Экзамен","2017/2018 учебный год 4 модуль",null,24,1,0,1722525802,2098,null,"Системы больших данных",{"$f":"MATCH(D1785,Отчет!$D$1:$D$65536,0)","v":111}]
[1956290448,6,"МБД171",1940816150,"Иванов Никита Павлович","М171МСБДН022","Прикладные аспекты машинного обучения",4,"Экзамен","2017/2018 учебный год 4 модуль",null,24,1,0,1722525802,2098,null,"Системы больших данных",{"$f":"MATCH(D1786,Отчет!$D$1:$D$65536,0)","v":48}]
[1956290386,6,"МБД171",1940816171,"Ширяева Кристина Александровна","М171МСБДН028","Прикладные аспекты машинного обучения",4,"Экзамен","2017/2018 учебный год 4 модуль",null,24,1,0,1722525802,2098,null,"Системы больших данных",{"$f":"MATCH(D1787,Отчет!$D$1:$D$65536,0)","v":70}]
[1956290135,9,"МБД171",1940816185,"Прохоренков Дмитрий Викторович","М171МСБДН024","Прикладные аспекты машинного обучения",4,"Экзамен","2017/2018 учебный год 4 модуль",null,36,1,0,1722525802,2098,null,"Системы больших данных",{"$f":"MATCH(D1788,Отчет!$D$1:$D$65536,0)","v":13}]
[1956290248,10,"МБД171",1940816199,"Обаляева Екатерина Ильинична","М171МСБДН023","Прикладные аспекты машинного обучения",4,"Экзамен","2017/2018 учебный год 4 модуль",null,40,1,0,1722525802,2098,null,"Системы больших данных",{"$f":"MATCH(D1789,Отчет!$D$1:$D$65536,0)","v":36}]
[1956290545,6,"МБД171",1942007946,"Ержанова Тогжан","М171МСБДН029","Прикладные аспекты машинного обучения",4,"Экзамен","2017/2018 учебный год 4 модуль",null,24,1,1,1722525802,2098,null,"Системы больших данных",{"$f":"MATCH(D1790,Отчет!$D$1:$D$65536,0)","v":61}]
[1971551748,6,"МБД171",1946791924,"Скачок Андрей","М171МСБДН030","Прикладные аспекты машинного обучения",4,"Экзамен","2017/2018 учебный год 4 модуль",null,24,1,0,1722525802,2098,null,"Системы больших данных",{"$f":"MATCH(D1791,Отчет!$D$1:$D$65536,0)","v":151}]
[1972268949,6,"МБД171",1950215429,"Фаур Назим Ахмад","М171МСБДН032","Прикладные аспекты машинного обучения",4,"Экзамен","2017/2018 учебный год 4 модуль",null,24,1,0,1722525802,2098,null,"Системы больших данных",{"$f":"MATCH(D1792,Отчет!$D$1:$D$65536,0)","v":89}]
[1956290299,8,"МБД171",1950255571,"Сиахпутра Эдо","М171МСБДН031","Прикладные аспекты машинного обучения",4,"Экзамен","2017/2018 учебный год 4 модуль",null,32,1,1,1722525802,2098,null,"Системы больших данных",{"$f":"MATCH(D1793,Отчет!$D$1:$D$65536,0)","v":112}]
[1977580576,6,"МБД171",1970446330,"- Маниканта Рукмангада","М171МСБДН035","Прикладные аспекты машинного обучения",4,"Экзамен","2017/2018 учебный год 4 модуль",null,24,1,1,1722525802,2098,null,"Системы больших данных",{"$f":"MATCH(D1794,Отчет!$D$1:$D$65536,0)","v":120}]
[2029043973,7,"МБД171",1972663851,"Ислам Эмди Шафикул","М171МСБДН036","Прикладные аспекты машинного обучения",4,"Экзамен","2017/2018 учебный год 4 модуль",null,28,1,0,1722525802,2098,null,"Системы больших данных",{"$f":"MATCH(D1795,Отчет!$D$1:$D$65536,0)","v":84}]
[2101189651,8,"МБД171",2097188263,"Леонов Антон Александрович","М161МЖУРД016","Прикладные аспекты машинного обучения",4,"Экзамен","2017/2018 учебный год 4 модуль",null,32,1,1,1722525802,2098,"ikPlanned","Системы больших данных",{"$f":"MATCH(D1796,Отчет!$D$1:$D$65536,0)","v":168}]
[1955630290,9,"МБД171",1937366231,"Дякин Николай Валерьевич","М171МСБДН005","Применение облачных вычислений, часть I: Облачные системы и инфраструктура",3,"Экзамен","2017/2018 учебный год 4 модуль",null,27,1,1,1955245374,2098,null,"Системы больших данных",{"$f":"MATCH(D1797,Отчет!$D$1:$D$65536,0)","v":21}]
[1955626596,9,"МБД171",1940816134,"Арча Александр Михайлович","М171МСБДН021","Применение облачных вычислений, часть I: Облачные системы и инфраструктура",3,"Экзамен","2017/2018 учебный год 4 модуль",null,27,1,0,1955245374,2098,null,"Системы больших данных",{"$f":"MATCH(D1798,Отчет!$D$1:$D$65536,0)","v":111}]
[1955630008,10,"МБД171",1937366244,"Дмитриев Виктор Андреевич","М171МСБДН004","Применение облачных вычислений, часть I: Облачные системы и инфраструктура",3,"Экзамен","2017/2018 учебный год 4 модуль",null,30,1,1,1955245374,2098,null,"Системы больших данных",{"$f":"MATCH(D1799,Отчет!$D$1:$D$65536,0)","v":63}]
[1955630974,10,"МБД171",1937366259,"Пахолкова Анна Юрьевна","М171МСБДН010","Применение облачных вычислений, часть I: Облачные системы и инфраструктура",3,"Экзамен","2017/2018 учебный год 4 модуль",null,30,1,1,1955245374,2098,null,"Системы больших данных",{"$f":"MATCH(D1800,Отчет!$D$1:$D$65536,0)","v":56}]
[1955630504,10,"МБД171",1940816150,"Иванов Никита Павлович","М171МСБДН022","Применение облачных вычислений, часть II: Применение технологий больших данных в облачных системах",3,"Экзамен","2017/2018 учебный год 4 модуль",null,30,1,0,1955245374,2098,null,"Системы больших данных",{"$f":"MATCH(D1801,Отчет!$D$1:$D$65536,0)","v":48}]
[1955632246,10,"МБД171",1940816171,"Ширяева Кристина Александровна","М171МСБДН028","Применение облачных вычислений, часть II: Применение технологий больших данных в облачных системах",3,"Экзамен","2017/2018 учебный год 4 модуль",null,30,1,0,1955245374,2098,null,"Системы больших данных",{"$f":"MATCH(D1802,Отчет!$D$1:$D$65536,0)","v":70}]
[1956633954,9,"МБД171",1937366348,"Шеин Александр Владимирович","М171МСБДН017","Применение облачных вычислений, часть II: Применение технологий больших данных в облачных системах",3,"Экзамен","2017/2018 учебный год 4 модуль",null,27,1,1,1955245374,2098,null,"Системы больших данных",{"$f":"MATCH(D1803,Отчет!$D$1:$D$65536,0)","v":17}]
[1956303003,6,"МБИ173",1940815743,"Шумилин Дмитрий Станиславович","М171МБИИН080","Прогностическая аналитика",5,"Экзамен","2017/2018 учебный год 4 модуль",null,30,1,0,1722551595,2098,null,"Бизнес-информатика",{"$f":"MATCH(D1804,Отчет!$D$1:$D$65536,0)","v":150}]
[2074010084,8,"МБИ173",1937364177,"Сухова Ксения Игоревна","М171МБИИН063","Прогностическая аналитика",5,"Экзамен","2017/2018 учебный год 4 модуль",null,40,1,1,1722551595,2098,null,"Бизнес-информатика",{"$f":"MATCH(D1805,Отчет!$D$1:$D$65536,0)","v":77}]
[1956303892,8,"МБИ173",1940815815,"Шпилевская Наталья Викторовна","М171МБИИН079","Прогностическая аналитика",5,"Экзамен","2017/2018 учебный год 4 модуль",null,40,1,0,1722551595,2098,null,"Бизнес-информатика",{"$f":"MATCH(D1806,Отчет!$D$1:$D$65536,0)","v":155}]
[1956304358,8,"МБИ172",1940815828,"Масалимов Тимур Ринатович","М171МБИИН073","Прогностическая аналитика",5,"Экзамен","2017/2018 учебный год 4 модуль",null,40,1,0,1722551595,2098,null,"Бизнес-информатика",{"$f":"MATCH(D1807,Отчет!$D$1:$D$65536,0)","v":123}]
[1956302791,7,"МБИ171",1940815842,"Дворяшин Дмитрий Александрович","М171МБИИН071","Прогностическая аналитика",5,"Экзамен","2017/2018 учебный год 4 модуль",null,35,1,0,1722551595,2098,null,"Бизнес-информатика",{"$f":"MATCH(D1808,Отчет!$D$1:$D$65536,0)","v":166}]
[1956303566,5,"МБИ173",1941989079,"Феофанов Лев Андреевич","М171МБИИН092","Прогностическая аналитика",5,"Экзамен","2017/2018 учебный год 4 модуль",null,25,1,0,1722551595,2098,null,"Бизнес-информатика",{"$f":"MATCH(D1809,Отчет!$D$1:$D$65536,0)","v":172}]
[1956303103,4,"МБИ171",1942008650,"Гареев Эмиль Хамидович","М171МБИИН085","Прогностическая аналитика",5,"Экзамен","2017/2018 учебный год 4 модуль",null,20,1,1,1722551595,2098,null,"Бизнес-информатика",{"$f":"MATCH(D1810,Отчет!$D$1:$D$65536,0)","v":144}]
[1956303546,6,"МБИ172",1947090330,"Варданян Карен Оганесович","М171МБИИН097","Прогностическая аналитика",5,"Экзамен","2017/2018 учебный год 4 модуль",null,30,1,1,1722551595,2098,null,"Бизнес-информатика",{"$f":"MATCH(D1811,Отчет!$D$1:$D$65536,0)","v":175}]
[1956304143,7,"МБИ173",1937363345,"Пьянов Родион Альбертович","М171МБИИН054","Прогностическая аналитика",5,"Экзамен","2017/2018 учебный год 4 модуль",null,35,1,1,1722551595,2098,null,"Бизнес-информатика",{"$f":"MATCH(D1812,Отчет!$D$1:$D$65536,0)","v":149}]
[1956303075,7,"МБИ173",1937363413,"Салтыкова Екатерина Андреевна","М171МБИИН057","Прогностическая аналитика",5,"Экзамен","2017/2018 учебный год 4 модуль",null,35,1,1,1722551595,2098,null,"Бизнес-информатика",{"$f":"MATCH(D1813,Отчет!$D$1:$D$65536,0)","v":74}]
[1956304116,6,"МБИ171",1937363522,"Богданов Павел Владимирович","М171МБИИН013","Прогностическая аналитика",5,"Экзамен","2017/2018 учебный год 4 модуль",null,30,1,1,1722551595,2098,null,"Бизнес-информатика",{"$f":"MATCH(D1814,Отчет!$D$1:$D$65536,0)","v":92}]
[1956301861,6,"МБИ171",1937363548,"Галков Алексей Александрович","М171МБИИН021","Прогностическая аналитика",5,"Экзамен","2017/2018 учебный год 4 модуль",null,30,1,1,1722551595,2098,null,"Бизнес-информатика",{"$f":"MATCH(D1815,Отчет!$D$1:$D$65536,0)","v":173}]
[1956302537,7,"МБИ171",1937363626,"Давтян Артем Сергеевич","М171МБИИН025","Прогностическая аналитика",5,"Экзамен","2017/2018 учебный год 4 модуль",null,35,1,1,1722551595,2098,null,"Бизнес-информатика",{"$f":"MATCH(D1816,Отчет!$D$1:$D$65536,0)","v":147}]
[1956302869,5,"МБИ171",1937363639,"Волков Даниил Андреевич","М171МБИИН019","Прогностическая аналитика",5,"Экзамен","2017/2018 учебный год 4 модуль",null,25,1,1,1722551595,2098,null,"Бизнес-информатика",{"$f":"MATCH(D1817,Отчет!$D$1:$D$65536,0)","v":174}]
[1959039970,null,null,1937363653,"Агарков Ярослав Алексеевич","М171МБИИН001","Прогностическая аналитика",5,"Экзамен","2017/2018 учебный год 4 модуль",0,0,null,1,1722551595,2098,null,"Бизнес-информатика",{"$f":"MATCH(D1818,Отчет!$D$1:$D$65536,0)","v":179}]
[1956303133,7,"МБИ171",1937363706,"Большаков Егор Максимович","М171МБИИН014","Прогностическая аналитика",5,"Экзамен","2017/2018 учебный год 4 модуль",null,35,1,1,1722551595,2098,null,"Бизнес-информатика",{"$f":"MATCH(D1819,Отчет!$D$1:$D$65536,0)","v":165}]
[1956303445,6,"МБИ171",1937363732,"Богданов Кирилл Алексеевич","М171МБИИН012","Прогностическая аналитика",5,"Экзамен","2017/2018 учебный год 4 модуль",null,30,1,1,1722551595,2098,null,"Бизнес-информатика",{"$f":"MATCH(D1820,Отчет!$D$1:$D$65536,0)","v":128}]
[1956304492,4,"МБИ172",1937363785,"Дунец Владислав Олегович","М171МБИИН027","Прогностическая аналитика",5,"Экзамен","2017/2018 учебный год 4 модуль",null,20,1,1,1722551595,2098,null,"Бизнес-информатика",{"$f":"MATCH(D1821,Отчет!$D$1:$D$65536,0)","v":145}]
[1956304546,8,"МБИ171",1937363811,"Григорьева Юлия Сергеевна","М171МБИИН024","Прогностическая аналитика",5,"Экзамен","2017/2018 учебный год 4 модуль",null,40,1,1,1722551595,2098,null,"Бизнес-информатика",{"$f":"MATCH(D1822,Отчет!$D$1:$D$65536,0)","v":41}]
[1956303024,6,"МБИ171",1937363904,"Белова Евгения Александровна","М171МБИИН011","Прогностическая аналитика",5,"Экзамен","2017/2018 учебный год 4 модуль",null,30,1,1,1722551595,2098,null,"Бизнес-информатика",{"$f":"MATCH(D1823,Отчет!$D$1:$D$65536,0)","v":83}]
[1956304055,6,"МБИ171",1937363930,"Бабанов Павел Александрович","М171МБИИН006","Прогностическая аналитика",5,"Экзамен","2017/2018 учебный год 4 модуль",null,30,1,1,1722551595,2098,null,"Бизнес-информатика",{"$f":"MATCH(D1824,Отчет!$D$1:$D$65536,0)","v":152}]
[1956304270,7,"МБИ171",1937363943,"Антонова Софья Глебовна","М171МБИИН005","Прогностическая аналитика",5,"Экзамен","2017/2018 учебный год 4 модуль",null,35,1,1,1722551595,2098,null,"Бизнес-информатика",{"$f":"MATCH(D1825,Отчет!$D$1:$D$65536,0)","v":164}]
[1956303586,4,"МБИ172",1937363986,"Китайкина Мария Алексеевна","М171МБИИН033","Прогностическая аналитика",5,"Экзамен","2017/2018 учебный год 4 модуль",null,20,1,1,1722551595,2098,null,"Бизнес-информатика",{"$f":"MATCH(D1826,Отчет!$D$1:$D$65536,0)","v":163}]
[1956302201,6,"МБИ173",1937364016,"Чубаров Алексей Глебович","М171МБИИН069","Прогностическая аналитика",5,"Экзамен","2017/2018 учебный год 4 модуль",null,30,1,1,1722551595,2098,null,"Бизнес-информатика",{"$f":"MATCH(D1827,Отчет!$D$1:$D$65536,0)","v":131}]
[1956303193,9,"МБИ172",1937364071,"Карнаух Егор Сергеевич","М171МБИИН032","Прогностическая аналитика",5,"Экзамен","2017/2018 учебный год 4 модуль",null,45,1,1,1722551595,2098,null,"Бизнес-информатика",{"$f":"MATCH(D1828,Отчет!$D$1:$D$65536,0)","v":65}]
[1956303498,8,"МБИ172",1937364163,"Миллер Кирилл Александрович","М171МБИИН046","Прогностическая аналитика",5,"Экзамен","2017/2018 учебный год 4 модуль",null,40,1,1,1722551595,2098,null,"Бизнес-информатика",{"$f":"MATCH(D1829,Отчет!$D$1:$D$65536,0)","v":79}]
[1956301947,9,"МБИ173",1940815759,"Щеголев Андрей Александрович","М171МБИИН081","Прогностическая аналитика",5,"Экзамен","2017/2018 учебный год 4 модуль",null,45,1,1,1722551595,2098,null,"Бизнес-информатика",{"$f":"MATCH(D1830,Отчет!$D$1:$D$65536,0)","v":87}]
[1955630956,10,"МБД171",1937366334,"Кулаков Александр Сергеевич","М171МСБДН009","Программирование в R",3,"Экзамен","2017/2018 учебный год 4 модуль",null,30,1,1,1955245374,2098,null,"Системы больших данных",{"$f":"MATCH(D1831,Отчет!$D$1:$D$65536,0)","v":19}]
[1955631916,10,"МБД171",1937366436,"Сысоев Марк Валерьевич","М171МСБДН013","Программирование в R",3,"Экзамен","2017/2018 учебный год 4 модуль",null,30,1,1,1955245374,2098,null,"Системы больших данных",{"$f":"MATCH(D1832,Отчет!$D$1:$D$65536,0)","v":45}]
[1972273347,10,"МБД171",1940751998,"Семес Алексей Владимирович","М171МСБДН026","Программирование в R",3,"Экзамен","2017/2018 учебный год 4 модуль",null,30,1,0,1955245374,2098,null,"Системы больших данных",{"$f":"MATCH(D1833,Отчет!$D$1:$D$65536,0)","v":66}]
[2101223291,10,"МБД171",2097188263,"Леонов Антон Александрович","М161МЖУРД016","Программирование в R",3,"Экзамен","2017/2018 учебный год 4 модуль",null,30,1,1,1955245374,2098,null,"Системы больших данных",{"$f":"MATCH(D1834,Отчет!$D$1:$D$65536,0)","v":168}]
[1955632027,10,"МБД171",1937366175,"Трегубова Инесса Александровна","М171МСБДН014","Программирование в R",3,"Экзамен","2017/2018 учебный год 4 модуль",null,30,1,1,1955245374,2098,null,"Системы больших данных",{"$f":"MATCH(D1835,Отчет!$D$1:$D$65536,0)","v":127}]
[1955630890,10,"МБД171",1937366203,"Ильяшенко Григорий Анатольевич","М171МСБДН007","Программирование в R",3,"Экзамен","2017/2018 учебный год 4 модуль",null,30,1,1,1955245374,2098,null,"Системы больших данных",{"$f":"MATCH(D1836,Отчет!$D$1:$D$65536,0)","v":81}]
[1955634679,10,"МБД171",1937366289,"Яковлева Дарья Александровна","М171МСБДН019","Программирование в R",3,"Экзамен","2017/2018 учебный год 4 модуль",null,30,1,1,1955245374,2098,null,"Системы больших данных",{"$f":"MATCH(D1837,Отчет!$D$1:$D$65536,0)","v":96}]
[1955631404,9,"МБД171",1937366317,"Рахимов Севастьян Эдуардович","М171МСБДН012","Программирование в R",3,"Экзамен","2017/2018 учебный год 4 модуль",null,27,1,1,1955245374,2098,null,"Системы больших данных",{"$f":"MATCH(D1838,Отчет!$D$1:$D$65536,0)","v":59}]
[2263380743,7,"МБД171",1959612809,"Штройхофэр Кристофер","М171МСБДН033","Проектирование систем",5,"Экзамен","2017/2018 учебный год 4 модуль",null,35,1,1,null,null,null,"Системы больших данных",{"$f":"MATCH(D1839,Отчет!$D$1:$D$65536,0)","v":40}]
[2052765782,5,"МБИ173",1937363469,"Пронин Никита Павлович","М171МБИИН053","Проектирование человеко-машинного взаимодействия",3,"Экзамен","2017/2018 учебный год 4 модуль",null,15,1,1,null,5028,null,"Бизнес-информатика",{"$f":"MATCH(D1840,Отчет!$D$1:$D$65536,0)","v":126}]
[2052764905,5,"МЭБ171",1937372826,"Минеева Анастасия Сергеевна","М171МЭЛБЗ016","Проектирование человеко-машинного взаимодействия",3,"Экзамен","2017/2018 учебный год 4 модуль",null,15,1,1,null,5028,null,"Электронный бизнес",{"$f":"MATCH(D1841,Отчет!$D$1:$D$65536,0)","v":146}]
[2052764919,7,"МЭБ171",1937373052,"Ким Дин Хо","М171МЭЛБЗ009","Проектирование человеко-машинного взаимодействия",3,"Экзамен","2017/2018 учебный год 4 модуль",null,21,1,1,null,5028,null,"Электронный бизнес",{"$f":"MATCH(D1842,Отчет!$D$1:$D$65536,0)","v":121}]
[2052764886,8,"МЭБ171",1937372932,"Абросимова Анастасия Михайловна","М171МЭЛБЗ001","Психология управления организацией",3,"Экзамен","2017/2018 учебный год 4 модуль",null,24,1,1,null,5028,null,"Электронный бизнес",{"$f":"MATCH(D1843,Отчет!$D$1:$D$65536,0)","v":105}]
[2052764972,6,"МЭБ171",1937372945,"Цуканов Иван Викторович","М171МЭЛБЗ024","Психология управления организацией",3,"Экзамен","2017/2018 учебный год 4 модуль",null,18,1,1,null,5028,null,"Электронный бизнес",{"$f":"MATCH(D1844,Отчет!$D$1:$D$65536,0)","v":100}]
[2052765874,9,"МБИ172",1937363838,"Лиховцев Вадим Александрович","М171МБИИН041","Психология управления организацией",3,"Экзамен","2017/2018 учебный год 4 модуль",null,27,1,1,null,5028,null,"Бизнес-информатика",{"$f":"MATCH(D1845,Отчет!$D$1:$D$65536,0)","v":68}]
[2052765662,9,"МБИ173",1937363399,"Токарев Иван Максимович","М171МБИИН065","Психология управления организацией",3,"Экзамен","2017/2018 учебный год 4 модуль",null,27,1,1,null,5028,null,"Бизнес-информатика",{"$f":"MATCH(D1846,Отчет!$D$1:$D$65536,0)","v":73}]
[2052765387,8,"МБИ173",1937363613,"Улямаев Альберт Ирекович","М171МБИИН066","Психология управления организацией",3,"Экзамен","2017/2018 учебный год 4 модуль",null,24,1,1,null,5028,null,"Бизнес-информатика",{"$f":"MATCH(D1847,Отчет!$D$1:$D$65536,0)","v":82}]
[2052765325,8,"МБИ173",1937363386,"Сафохин Андрей Дмитриевич","М171МБИИН058","Психология управления организацией",3,"Экзамен","2017/2018 учебный год 4 модуль",null,24,1,1,null,5028,null,"Бизнес-информатика",{"$f":"MATCH(D1848,Отчет!$D$1:$D$65536,0)","v":26}]
[1937430510,10,"МБД171",1937366160,"Канищев Кирилл Валерьевич","М171МСБДН008","Разработка и внедрение систем больших данных",5,"Экзамен","2017/2018 учебный год 4 модуль",null,50,1,1,1722525802,2098,null,"Системы больших данных",{"$f":"MATCH(D1849,Отчет!$D$1:$D$65536,0)","v":109}]
[2101189681,8,"МБД171",2097188263,"Леонов Антон Александрович","М161МЖУРД016","Разработка и внедрение систем больших данных",5,"Экзамен","2017/2018 учебный год 4 модуль",null,40,1,1,1722525802,2098,"ikPlanned","Системы больших данных",{"$f":"MATCH(D1850,Отчет!$D$1:$D$65536,0)","v":168}]
[1937430478,10,"МБД171",1937366203,"Ильяшенко Григорий Анатольевич","М171МСБДН007","Разработка и внедрение систем больших данных",5,"Экзамен","2017/2018 учебный год 4 модуль",null,50,1,1,1722525802,2098,null,"Системы больших данных",{"$f":"MATCH(D1851,Отчет!$D$1:$D$65536,0)","v":81}]
[1937430268,10,"МБД171",1937366216,"Архипенко Анастасия Дмитриевна","М171МСБДН001","Разработка и внедрение систем больших данных",5,"Экзамен","2017/2018 учебный год 4 модуль",null,50,1,1,1722525802,2098,null,"Системы больших данных",{"$f":"MATCH(D1852,Отчет!$D$1:$D$65536,0)","v":16}]
[1937430413,10,"МБД171",1937366231,"Дякин Николай Валерьевич","М171МСБДН005","Разработка и внедрение систем больших данных",5,"Экзамен","2017/2018 учебный год 4 модуль",null,50,1,1,1722525802,2098,null,"Системы больших данных",{"$f":"MATCH(D1853,Отчет!$D$1:$D$65536,0)","v":21}]
[1937430381,10,"МБД171",1937366244,"Дмитриев Виктор Андреевич","М171МСБДН004","Разработка и внедрение систем больших данных",5,"Экзамен","2017/2018 учебный год 4 модуль",null,50,1,1,1722525802,2098,null,"Системы больших данных",{"$f":"MATCH(D1854,Отчет!$D$1:$D$65536,0)","v":63}]
[1937430588,10,"МБД171",1937366259,"Пахолкова Анна Юрьевна","М171МСБДН010","Разработка и внедрение систем больших данных",5,"Экзамен","2017/2018 учебный год 4 модуль",null,50,1,1,1722525802,2098,null,"Системы больших данных",{"$f":"MATCH(D1855,Отчет!$D$1:$D$65536,0)","v":56}]
[1937430445,10,"МБД171",1937366273,"Иванова Анастасия Михайловна","М171МСБДН006","Разработка и внедрение систем больших данных",5,"Экзамен","2017/2018 учебный год 4 модуль",null,50,1,1,1722525802,2098,null,"Системы больших данных",{"$f":"MATCH(D1856,Отчет!$D$1:$D$65536,0)","v":71}]
[1937430984,8,"МБД171",1937366289,"Яковлева Дарья Александровна","М171МСБДН019","Разработка и внедрение систем больших данных",5,"Экзамен","2017/2018 учебный год 4 модуль",null,40,1,1,1722525802,2098,null,"Системы больших данных",{"$f":"MATCH(D1857,Отчет!$D$1:$D$65536,0)","v":96}]
[1937430829,10,"МБД171",1937366302,"Ферягина Екатерина Андреевна","М171МСБДН015","Разработка и внедрение систем больших данных",5,"Экзамен","2017/2018 учебный год 4 модуль",null,50,1,1,1722525802,2098,null,"Системы больших данных",{"$f":"MATCH(D1858,Отчет!$D$1:$D$65536,0)","v":76}]
[1937430671,8,"МБД171",1937366317,"Рахимов Севастьян Эдуардович","М171МСБДН012","Разработка и внедрение систем больших данных",5,"Экзамен","2017/2018 учебный год 4 модуль",null,40,1,1,1722525802,2098,null,"Системы больших данных",{"$f":"MATCH(D1859,Отчет!$D$1:$D$65536,0)","v":59}]
[1937430552,10,"МБД171",1937366334,"Кулаков Александр Сергеевич","М171МСБДН009","Разработка и внедрение систем больших данных",5,"Экзамен","2017/2018 учебный год 4 модуль",null,50,1,1,1722525802,2098,null,"Системы больших данных",{"$f":"MATCH(D1860,Отчет!$D$1:$D$65536,0)","v":19}]
[1937430919,10,"МБД171",1937366348,"Шеин Александр Владимирович","М171МСБДН017","Разработка и внедрение систем больших данных",5,"Экзамен","2017/2018 учебный год 4 модуль",null,50,1,1,1722525802,2098,null,"Системы больших данных",{"$f":"MATCH(D1861,Отчет!$D$1:$D$65536,0)","v":17}]
[1937430347,10,"МБД171",1937366366,"Гатина Эльмира Ринатовна","М171МСБДН003","Разработка и внедрение систем больших данных",5,"Экзамен","2017/2018 учебный год 4 модуль",null,50,1,1,1722525802,2098,null,"Системы больших данных",{"$f":"MATCH(D1862,Отчет!$D$1:$D$65536,0)","v":34}]
[1937430633,10,"МБД171",1937366380,"Полушин Глеб Валерьевич","М171МСБДН011","Разработка и внедрение систем больших данных",5,"Экзамен","2017/2018 учебный год 4 модуль",null,50,1,1,1722525802,2098,null,"Системы больших данных",{"$f":"MATCH(D1863,Отчет!$D$1:$D$65536,0)","v":62}]
[1937430952,10,"МБД171",1937366394,"Шубина Виктория Ильинична","М171МСБДН018","Разработка и внедрение систем больших данных",5,"Экзамен","2017/2018 учебный год 4 модуль",null,50,1,1,1722525802,2098,null,"Системы больших данных",{"$f":"MATCH(D1864,Отчет!$D$1:$D$65536,0)","v":32}]
[1937430885,8,"МБД171",1937366407,"Чувилина Анна Андреевна","М171МСБДН016","Разработка и внедрение систем больших данных",5,"Экзамен","2017/2018 учебный год 4 модуль",null,40,1,1,1722525802,2098,null,"Системы больших данных",{"$f":"MATCH(D1865,Отчет!$D$1:$D$65536,0)","v":43}]
[1937430317,10,"МБД171",1937366422,"Вилкова Елена Александровна","М171МСБДН002","Разработка и внедрение систем больших данных",5,"Экзамен","2017/2018 учебный год 4 модуль",null,50,1,1,1722525802,2098,null,"Системы больших данных",{"$f":"MATCH(D1866,Отчет!$D$1:$D$65536,0)","v":12}]
[1937430720,6,"МБД171",1937366436,"Сысоев Марк Валерьевич","М171МСБДН013","Разработка и внедрение систем больших данных",5,"Экзамен","2017/2018 учебный год 4 модуль",null,30,1,1,1722525802,2098,null,"Системы больших данных",{"$f":"MATCH(D1867,Отчет!$D$1:$D$65536,0)","v":45}]
[1940929879,8,"МБД171",1940751998,"Семес Алексей Владимирович","М171МСБДН026","Разработка и внедрение систем больших данных",5,"Экзамен","2017/2018 учебный год 4 модуль",null,40,1,0,1722525802,2098,null,"Системы больших данных",{"$f":"MATCH(D1868,Отчет!$D$1:$D$65536,0)","v":66}]
[1940929914,8,"МБД171",1940816098,"Телышева Татьяна Романовна","М171МСБДН027","Разработка и внедрение систем больших данных",5,"Экзамен","2017/2018 учебный год 4 модуль",null,40,1,0,1722525802,2098,null,"Системы больших данных",{"$f":"MATCH(D1869,Отчет!$D$1:$D$65536,0)","v":93}]
[1940929849,10,"МБД171",1940816117,"Садыкова Сабина Бахтияровна","М171МСБДН025","Разработка и внедрение систем больших данных",5,"Экзамен","2017/2018 учебный год 4 модуль",null,50,1,0,1722525802,2098,null,"Системы больших данных",{"$f":"MATCH(D1870,Отчет!$D$1:$D$65536,0)","v":58}]
[1940929726,5,"МБД171",1940816134,"Арча Александр Михайлович","М171МСБДН021","Разработка и внедрение систем больших данных",5,"Экзамен","2017/2018 учебный год 4 модуль",null,25,1,0,1722525802,2098,null,"Системы больших данных",{"$f":"MATCH(D1871,Отчет!$D$1:$D$65536,0)","v":111}]
[1940929756,10,"МБД171",1940816150,"Иванов Никита Павлович","М171МСБДН022","Разработка и внедрение систем больших данных",5,"Экзамен","2017/2018 учебный год 4 модуль",null,50,1,0,1722525802,2098,null,"Системы больших данных",{"$f":"MATCH(D1872,Отчет!$D$1:$D$65536,0)","v":48}]
[1940929950,10,"МБД171",1940816171,"Ширяева Кристина Александровна","М171МСБДН028","Разработка и внедрение систем больших данных",5,"Экзамен","2017/2018 учебный год 4 модуль",null,50,1,0,1722525802,2098,null,"Системы больших данных",{"$f":"MATCH(D1873,Отчет!$D$1:$D$65536,0)","v":70}]
[1940929818,10,"МБД171",1940816185,"Прохоренков Дмитрий Викторович","М171МСБДН024","Разработка и внедрение систем больших данных",5,"Экзамен","2017/2018 учебный год 4 модуль",null,50,1,0,1722525802,2098,null,"Системы больших данных",{"$f":"MATCH(D1874,Отчет!$D$1:$D$65536,0)","v":13}]
[1940929786,10,"МБД171",1940816199,"Обаляева Екатерина Ильинична","М171МСБДН023","Разработка и внедрение систем больших данных",5,"Экзамен","2017/2018 учебный год 4 модуль",null,50,1,0,1722525802,2098,null,"Системы больших данных",{"$f":"MATCH(D1875,Отчет!$D$1:$D$65536,0)","v":36}]
[1942060283,8,"МБД171",1942007946,"Ержанова Тогжан","М171МСБДН029","Разработка и внедрение систем больших данных",5,"Экзамен","2017/2018 учебный год 4 модуль",null,40,1,1,1722525802,2098,null,"Системы больших данных",{"$f":"MATCH(D1876,Отчет!$D$1:$D$65536,0)","v":61}]
[1947328340,8,"МБД171",1946791924,"Скачок Андрей","М171МСБДН030","Разработка и внедрение систем больших данных",5,"Экзамен","2017/2018 учебный год 4 модуль",null,40,1,0,1722525802,2098,null,"Системы больших данных",{"$f":"MATCH(D1877,Отчет!$D$1:$D$65536,0)","v":151}]
[1950547100,10,"МБД171",1950215429,"Фаур Назим Ахмад","М171МСБДН032","Разработка и внедрение систем больших данных",5,"Экзамен","2017/2018 учебный год 4 модуль",null,50,1,0,1722525802,2098,null,"Системы больших данных",{"$f":"MATCH(D1878,Отчет!$D$1:$D$65536,0)","v":89}]
[1950547042,7,"МБД171",1950255571,"Сиахпутра Эдо","М171МСБДН031","Разработка и внедрение систем больших данных",5,"Экзамен","2017/2018 учебный год 4 модуль",null,35,1,1,1722525802,2098,null,"Системы больших данных",{"$f":"MATCH(D1879,Отчет!$D$1:$D$65536,0)","v":112}]
[1959819996,5,"МБД171",1959612809,"Штройхофэр Кристофер","М171МСБДН033","Разработка и внедрение систем больших данных",5,"Экзамен","2017/2018 учебный год 4 модуль",null,25,1,1,1722525802,2098,null,"Системы больших данных",{"$f":"MATCH(D1880,Отчет!$D$1:$D$65536,0)","v":40}]
[1972266225,8,"МБД171",1970446330,"- Маниканта Рукмангада","М171МСБДН035","Разработка и внедрение систем больших данных",5,"Экзамен","2017/2018 учебный год 4 модуль",null,40,1,1,1722525802,2098,null,"Системы больших данных",{"$f":"MATCH(D1881,Отчет!$D$1:$D$65536,0)","v":120}]
[1977576503,7,"МБД171",1972663851,"Ислам Эмди Шафикул","М171МСБДН036","Разработка и внедрение систем больших данных",5,"Экзамен","2017/2018 учебный год 4 модуль",null,35,1,0,1722525802,2098,null,"Системы больших данных",{"$f":"MATCH(D1882,Отчет!$D$1:$D$65536,0)","v":84}]
[1937430773,8,"МБД171",1937366175,"Трегубова Инесса Александровна","М171МСБДН014","Разработка и внедрение систем больших данных",5,"Экзамен","2017/2018 учебный год 4 модуль",null,40,1,1,1722525802,2098,null,"Системы больших данных",{"$f":"MATCH(D1883,Отчет!$D$1:$D$65536,0)","v":127}]
[1956304392,7,"МБИ173",1937363574,"Паймакова Татьяна Сергеевна","М171МБИИН049","Системы управления эффективностью бизнеса",5,"Экзамен","2017/2018 учебный год 4 модуль",null,35,1,1,1722551595,2098,null,"Бизнес-информатика",{"$f":"MATCH(D1884,Отчет!$D$1:$D$65536,0)","v":156}]
[1956302348,8,"МБИ172",1940815773,"Матвиенко Андрей Кириллович","М171МБИИН074","Системы управления эффективностью бизнеса",5,"Экзамен","2017/2018 учебный год 4 модуль",null,40,1,1,1722551595,2098,null,"Бизнес-информатика",{"$f":"MATCH(D1885,Отчет!$D$1:$D$65536,0)","v":38}]
[1956302236,9,"МБИ173",1937363693,"Стогова Анастасия Германовна","М171МБИИН062","Системы управления эффективностью бизнеса",5,"Экзамен","2017/2018 учебный год 4 модуль",null,45,1,1,1722551595,2098,null,"Бизнес-информатика",{"$f":"MATCH(D1886,Отчет!$D$1:$D$65536,0)","v":88}]
[1956303291,6,"МБИ171",1937363719,"Белов Григорий Игоревич","М171МБИИН010","Системы управления эффективностью бизнеса",5,"Экзамен","2017/2018 учебный год 4 модуль",null,30,1,1,1722551595,2098,null,"Бизнес-информатика",{"$f":"MATCH(D1887,Отчет!$D$1:$D$65536,0)","v":162}]
[1956302493,8,"МБИ171",1937363745,"Антонова Анастасия Романовна","М171МБИИН004","Системы управления эффективностью бизнеса",5,"Экзамен","2017/2018 учебный год 4 модуль",null,40,1,1,1722551595,2098,null,"Бизнес-информатика",{"$f":"MATCH(D1888,Отчет!$D$1:$D$65536,0)","v":124}]
[1956303872,8,"МБИ173",1937363798,"Пронин Никита Вадимович","М171МБИИН052","Системы управления эффективностью бизнеса",5,"Экзамен","2017/2018 учебный год 4 модуль",null,40,1,1,1722551595,2098,null,"Бизнес-информатика",{"$f":"MATCH(D1889,Отчет!$D$1:$D$65536,0)","v":108}]
[1956303615,4,"МБИ171",1937363851,"Бадаева Мария Мингияновна","М171МБИИН007","Системы управления эффективностью бизнеса",5,"Экзамен","2017/2018 учебный год 4 модуль",null,20,1,1,1722551595,2098,null,"Бизнес-информатика",{"$f":"MATCH(D1890,Отчет!$D$1:$D$65536,0)","v":153}]
[1956302975,8,"МБИ171",1937363878,"Андрюхина Дарья Сергеевна","М171МБИИН003","Системы управления эффективностью бизнеса",5,"Экзамен","2017/2018 учебный год 4 модуль",null,40,1,1,1722551595,2098,null,"Бизнес-информатика",{"$f":"MATCH(D1891,Отчет!$D$1:$D$65536,0)","v":95}]
[1956302152,9,"МБИ172",1937363891,"Коновалова Аделина Евгеньевна","М171МБИИН037","Системы управления эффективностью бизнеса",5,"Экзамен","2017/2018 учебный год 4 модуль",null,45,1,1,1722551595,2098,null,"Бизнес-информатика",{"$f":"MATCH(D1892,Отчет!$D$1:$D$65536,0)","v":91}]
[1956304282,5,"МБИ171",1937363943,"Антонова Софья Глебовна","М171МБИИН005","Системы управления эффективностью бизнеса",5,"Экзамен","2017/2018 учебный год 4 модуль",null,25,1,1,1722551595,2098,null,"Бизнес-информатика",{"$f":"MATCH(D1893,Отчет!$D$1:$D$65536,0)","v":164}]
[1956303598,6,"МБИ172",1937363986,"Китайкина Мария Алексеевна","М171МБИИН033","Системы управления эффективностью бизнеса",5,"Экзамен","2017/2018 учебный год 4 модуль",null,30,1,1,1722551595,2098,null,"Бизнес-информатика",{"$f":"MATCH(D1894,Отчет!$D$1:$D$65536,0)","v":163}]
[1956302212,8,"МБИ173",1937364016,"Чубаров Алексей Глебович","М171МБИИН069","Системы управления эффективностью бизнеса",5,"Экзамен","2017/2018 учебный год 4 модуль",null,40,1,1,1722551595,2098,null,"Бизнес-информатика",{"$f":"MATCH(D1895,Отчет!$D$1:$D$65536,0)","v":131}]
[1956303201,10,"МБИ172",1937364071,"Карнаух Егор Сергеевич","М171МБИИН032","Системы управления эффективностью бизнеса",5,"Экзамен","2017/2018 учебный год 4 модуль",null,50,1,1,1722551595,2098,null,"Бизнес-информатика",{"$f":"MATCH(D1896,Отчет!$D$1:$D$65536,0)","v":65}]
[1956302180,6,"МБИ171",1937364084,"Гареев Артем Фаридович","М171МБИИН022","Системы управления эффективностью бизнеса",5,"Экзамен","2017/2018 учебный год 4 модуль",null,30,1,1,1722551595,2098,null,"Бизнес-информатика",{"$f":"MATCH(D1897,Отчет!$D$1:$D$65536,0)","v":148}]
[1956303053,10,"МБИ172",1937364110,"Клименко Екатерина Андреевна","М171МБИИН034","Системы управления эффективностью бизнеса",5,"Экзамен","2017/2018 учебный год 4 модуль",null,50,1,1,1722551595,2098,null,"Бизнес-информатика",{"$f":"MATCH(D1898,Отчет!$D$1:$D$65536,0)","v":28}]
[1956303168,8,"МБИ173",1937364192,"Семенова Элина Михайловна","М171МБИИН059","Системы управления эффективностью бизнеса",5,"Экзамен","2017/2018 учебный год 4 модуль",null,40,1,1,1722551595,2098,null,"Бизнес-информатика",{"$f":"MATCH(D1899,Отчет!$D$1:$D$65536,0)","v":160}]
[1956304170,9,"МБИ173",1937363680,"Рудь Роман Сергеевич","М171МБИИН056","Системы управления эффективностью бизнеса",5,"Экзамен","2017/2018 учебный год 4 модуль",null,45,1,1,1722551595,2098,null,"Бизнес-информатика",{"$f":"MATCH(D1900,Отчет!$D$1:$D$65536,0)","v":125}]
[1971550814,7,"МБД171",1946791924,"Скачок Андрей","М171МСБДН030","Современный менеджмент данных",3,"Экзамен","2017/2018 учебный год 4 модуль",null,21,1,0,1722525802,2098,null,"Системы больших данных",{"$f":"MATCH(D1901,Отчет!$D$1:$D$65536,0)","v":151}]
[1972268288,7,"МБД171",1950215429,"Фаур Назим Ахмад","М171МСБДН032","Современный менеджмент данных",3,"Экзамен","2017/2018 учебный год 4 модуль",null,21,1,0,1722525802,2098,null,"Системы больших данных",{"$f":"MATCH(D1902,Отчет!$D$1:$D$65536,0)","v":89}]
[1956290307,8,"МБД171",1950255571,"Сиахпутра Эдо","М171МСБДН031","Современный менеджмент данных",3,"Экзамен","2017/2018 учебный год 4 модуль",null,24,1,1,1722525802,2098,null,"Системы больших данных",{"$f":"MATCH(D1903,Отчет!$D$1:$D$65536,0)","v":112}]
[1977579972,9,"МБД171",1970446330,"- Маниканта Рукмангада","М171МСБДН035","Современный менеджмент данных",3,"Экзамен","2017/2018 учебный год 4 модуль",null,27,1,1,1722525802,2098,null,"Системы больших данных",{"$f":"MATCH(D1904,Отчет!$D$1:$D$65536,0)","v":120}]
[2029042380,9,"МБД171",1972663851,"Ислам Эмди Шафикул","М171МСБДН036","Современный менеджмент данных",3,"Экзамен","2017/2018 учебный год 4 модуль",null,27,1,0,1722525802,2098,null,"Системы больших данных",{"$f":"MATCH(D1905,Отчет!$D$1:$D$65536,0)","v":84}]
[2101189720,8,"МБД171",2097188263,"Леонов Антон Александрович","М161МЖУРД016","Современный менеджмент данных",3,"Экзамен","2017/2018 учебный год 4 модуль",null,24,1,1,1722525802,2098,"ikPlanned","Системы больших данных",{"$f":"MATCH(D1906,Отчет!$D$1:$D$65536,0)","v":168}]
[1956290410,7,"МБД171",1937366160,"Канищев Кирилл Валерьевич","М171МСБДН008","Современный менеджмент данных",3,"Экзамен","2017/2018 учебный год 4 модуль",null,21,1,1,1722525802,2098,null,"Системы больших данных",{"$f":"MATCH(D1907,Отчет!$D$1:$D$65536,0)","v":109}]
[1956290368,7,"МБД171",1937366175,"Трегубова Инесса Александровна","М171МСБДН014","Современный менеджмент данных",3,"Экзамен","2017/2018 учебный год 4 модуль",null,21,1,1,1722525802,2098,null,"Системы больших данных",{"$f":"MATCH(D1908,Отчет!$D$1:$D$65536,0)","v":127}]
[1956290327,8,"МБД171",1937366203,"Ильяшенко Григорий Анатольевич","М171МСБДН007","Современный менеджмент данных",3,"Экзамен","2017/2018 учебный год 4 модуль",null,24,1,1,1722525802,2098,null,"Системы больших данных",{"$f":"MATCH(D1909,Отчет!$D$1:$D$65536,0)","v":81}]
[1956289495,9,"МБД171",1937366216,"Архипенко Анастасия Дмитриевна","М171МСБДН001","Современный менеджмент данных",3,"Экзамен","2017/2018 учебный год 4 модуль",null,27,1,1,1722525802,2098,null,"Системы больших данных",{"$f":"MATCH(D1910,Отчет!$D$1:$D$65536,0)","v":16}]
[1956290481,8,"МБД171",1937366231,"Дякин Николай Валерьевич","М171МСБДН005","Современный менеджмент данных",3,"Экзамен","2017/2018 учебный год 4 модуль",null,24,1,1,1722525802,2098,null,"Системы больших данных",{"$f":"MATCH(D1911,Отчет!$D$1:$D$65536,0)","v":21}]
[1956290595,10,"МБД171",1937366244,"Дмитриев Виктор Андреевич","М171МСБДН004","Современный менеджмент данных",3,"Экзамен","2017/2018 учебный год 4 модуль",null,30,1,1,1722525802,2098,null,"Системы больших данных",{"$f":"MATCH(D1912,Отчет!$D$1:$D$65536,0)","v":63}]
[1956290065,10,"МБД171",1937366259,"Пахолкова Анна Юрьевна","М171МСБДН010","Современный менеджмент данных",3,"Экзамен","2017/2018 учебный год 4 модуль",null,30,1,1,1722525802,2098,null,"Системы больших данных",{"$f":"MATCH(D1913,Отчет!$D$1:$D$65536,0)","v":56}]
[1956289686,6,"МБД171",1937366273,"Иванова Анастасия Михайловна","М171МСБДН006","Современный менеджмент данных",3,"Экзамен","2017/2018 учебный год 4 модуль",null,18,1,1,1722525802,2098,null,"Системы больших данных",{"$f":"MATCH(D1914,Отчет!$D$1:$D$65536,0)","v":71}]
[1956290101,9,"МБД171",1937366289,"Яковлева Дарья Александровна","М171МСБДН019","Современный менеджмент данных",3,"Экзамен","2017/2018 учебный год 4 модуль",null,27,1,1,1722525802,2098,null,"Системы больших данных",{"$f":"MATCH(D1915,Отчет!$D$1:$D$65536,0)","v":96}]
[1956290184,8,"МБД171",1937366302,"Ферягина Екатерина Андреевна","М171МСБДН015","Современный менеджмент данных",3,"Экзамен","2017/2018 учебный год 4 модуль",null,24,1,1,1722525802,2098,null,"Системы больших данных",{"$f":"MATCH(D1916,Отчет!$D$1:$D$65536,0)","v":76}]
[1956289780,10,"МБД171",1937366334,"Кулаков Александр Сергеевич","М171МСБДН009","Современный менеджмент данных",3,"Экзамен","2017/2018 учебный год 4 модуль",null,30,1,1,1722525802,2098,null,"Системы больших данных",{"$f":"MATCH(D1917,Отчет!$D$1:$D$65536,0)","v":19}]
[1956290029,10,"МБД171",1937366348,"Шеин Александр Владимирович","М171МСБДН017","Современный менеджмент данных",3,"Экзамен","2017/2018 учебный год 4 модуль",null,30,1,1,1722525802,2098,null,"Системы больших данных",{"$f":"MATCH(D1918,Отчет!$D$1:$D$65536,0)","v":17}]
[1956290287,10,"МБД171",1937366366,"Гатина Эльмира Ринатовна","М171МСБДН003","Современный менеджмент данных",3,"Экзамен","2017/2018 учебный год 4 модуль",null,30,1,1,1722525802,2098,null,"Системы больших данных",{"$f":"MATCH(D1919,Отчет!$D$1:$D$65536,0)","v":34}]
[1956290351,8,"МБД171",1937366380,"Полушин Глеб Валерьевич","М171МСБДН011","Современный менеджмент данных",3,"Экзамен","2017/2018 учебный год 4 модуль",null,24,1,1,1722525802,2098,null,"Системы больших данных",{"$f":"MATCH(D1920,Отчет!$D$1:$D$65536,0)","v":62}]
[1956290623,9,"МБД171",1937366394,"Шубина Виктория Ильинична","М171МСБДН018","Современный менеджмент данных",3,"Экзамен","2017/2018 учебный год 4 модуль",null,27,1,1,1722525802,2098,null,"Системы больших данных",{"$f":"MATCH(D1921,Отчет!$D$1:$D$65536,0)","v":32}]
[1956289455,8,"МБД171",1937366407,"Чувилина Анна Андреевна","М171МСБДН016","Современный менеджмент данных",3,"Экзамен","2017/2018 учебный год 4 модуль",null,24,1,1,1722525802,2098,null,"Системы больших данных",{"$f":"MATCH(D1922,Отчет!$D$1:$D$65536,0)","v":43}]
[1956290217,10,"МБД171",1937366422,"Вилкова Елена Александровна","М171МСБДН002","Современный менеджмент данных",3,"Экзамен","2017/2018 учебный год 4 модуль",null,30,1,1,1722525802,2098,null,"Системы больших данных",{"$f":"MATCH(D1923,Отчет!$D$1:$D$65536,0)","v":12}]
[1956290436,9,"МБД171",1937366436,"Сысоев Марк Валерьевич","М171МСБДН013","Современный менеджмент данных",3,"Экзамен","2017/2018 учебный год 4 модуль",null,27,1,1,1722525802,2098,null,"Системы больших данных",{"$f":"MATCH(D1924,Отчет!$D$1:$D$65536,0)","v":45}]
[1956289888,8,"МБД171",1940751998,"Семес Алексей Владимирович","М171МСБДН026","Современный менеджмент данных",3,"Экзамен","2017/2018 учебный год 4 модуль",null,24,1,0,1722525802,2098,null,"Системы больших данных",{"$f":"MATCH(D1925,Отчет!$D$1:$D$65536,0)","v":66}]
[1956290573,9,"МБД171",1940816098,"Телышева Татьяна Романовна","М171МСБДН027","Современный менеджмент данных",3,"Экзамен","2017/2018 учебный год 4 модуль",null,27,1,0,1722525802,2098,null,"Системы больших данных",{"$f":"MATCH(D1926,Отчет!$D$1:$D$65536,0)","v":93}]
[1956290504,9,"МБД171",1940816117,"Садыкова Сабина Бахтияровна","М171МСБДН025","Современный менеджмент данных",3,"Экзамен","2017/2018 учебный год 4 модуль",null,27,1,0,1722525802,2098,null,"Системы больших данных",{"$f":"MATCH(D1927,Отчет!$D$1:$D$65536,0)","v":58}]
[1956289547,6,"МБД171",1940816134,"Арча Александр Михайлович","М171МСБДН021","Современный менеджмент данных",3,"Экзамен","2017/2018 учебный год 4 модуль",null,18,1,0,1722525802,2098,null,"Системы больших данных",{"$f":"MATCH(D1928,Отчет!$D$1:$D$65536,0)","v":111}]
[1956290456,9,"МБД171",1940816150,"Иванов Никита Павлович","М171МСБДН022","Современный менеджмент данных",3,"Экзамен","2017/2018 учебный год 4 модуль",null,27,1,0,1722525802,2098,null,"Системы больших данных",{"$f":"MATCH(D1929,Отчет!$D$1:$D$65536,0)","v":48}]
[1956290394,8,"МБД171",1940816171,"Ширяева Кристина Александровна","М171МСБДН028","Современный менеджмент данных",3,"Экзамен","2017/2018 учебный год 4 модуль",null,24,1,0,1722525802,2098,null,"Системы больших данных",{"$f":"MATCH(D1930,Отчет!$D$1:$D$65536,0)","v":70}]
[1956290147,10,"МБД171",1940816185,"Прохоренков Дмитрий Викторович","М171МСБДН024","Современный менеджмент данных",3,"Экзамен","2017/2018 учебный год 4 модуль",null,30,1,0,1722525802,2098,null,"Системы больших данных",{"$f":"MATCH(D1931,Отчет!$D$1:$D$65536,0)","v":13}]
[1956290258,9,"МБД171",1940816199,"Обаляева Екатерина Ильинична","М171МСБДН023","Современный менеджмент данных",3,"Экзамен","2017/2018 учебный год 4 модуль",null,27,1,0,1722525802,2098,null,"Системы больших данных",{"$f":"MATCH(D1932,Отчет!$D$1:$D$65536,0)","v":36}]
[1956290553,6,"МБД171",1942007946,"Ержанова Тогжан","М171МСБДН029","Современный менеджмент данных",3,"Экзамен","2017/2018 учебный год 4 модуль",null,18,1,1,1722525802,2098,null,"Системы больших данных",{"$f":"MATCH(D1933,Отчет!$D$1:$D$65536,0)","v":61}]
[2052765345,6,"МБИ171",1937364084,"Гареев Артем Фаридович","М171МБИИН022","Специальные методики сбора и анализа данных в маркетинговых исследованиях",3,"Экзамен","2017/2018 учебный год 4 модуль",null,18,1,1,null,5028,null,"Бизнес-информатика",{"$f":"MATCH(D1934,Отчет!$D$1:$D$65536,0)","v":148}]
[2052764980,10,"МЭБ171",1937372852,"Юлдашева Камилла Адилевна","М171МЭЛБЗ025","Специальные методики сбора и анализа данных в маркетинговых исследованиях",3,"Экзамен","2017/2018 учебный год 4 модуль",null,30,1,1,null,5028,null,"Электронный бизнес",{"$f":"MATCH(D1935,Отчет!$D$1:$D$65536,0)","v":24}]
[1952013551,8,"МИБ171",1937370385,"Бочарова Ксения Михайловна","М171МУБЕЗ002","Статистические методы в обеспечении информационной безопасности",5,"Экзамен","2017/2018 учебный год 4 модуль",null,40,1,1,1722514289,2098,null,"Управление информационной безопасностью",{"$f":"MATCH(D1936,Отчет!$D$1:$D$65536,0)","v":53}]
[1952013568,8,"МИБ171",1937370401,"Жучков Константин Сергеевич","М171МУБЕЗ006","Статистические методы в обеспечении информационной безопасности",5,"Экзамен","2017/2018 учебный год 4 модуль",null,40,1,1,1722514289,2098,null,"Управление информационной безопасностью",{"$f":"MATCH(D1937,Отчет!$D$1:$D$65536,0)","v":116}]
[1952013645,8,"МИБ171",1937370421,"Ряховский Сергей Алексеевич","М171МУБЕЗ018","Статистические методы в обеспечении информационной безопасности",5,"Экзамен","2017/2018 учебный год 4 модуль",null,40,1,1,1722514289,2098,null,"Управление информационной безопасностью",{"$f":"MATCH(D1938,Отчет!$D$1:$D$65536,0)","v":115}]
[1952013588,8,"МИБ171",1937370436,"Михеева Вероника Вячеславовна","М171МУБЕЗ010","Статистические методы в обеспечении информационной безопасности",5,"Экзамен","2017/2018 учебный год 4 модуль",null,40,1,1,1722514289,2098,null,"Управление информационной безопасностью",{"$f":"MATCH(D1939,Отчет!$D$1:$D$65536,0)","v":60}]
[1952013584,4,"МИБ171",1937370452,"Коровин Кирилл Сергеевич","М171МУБЕЗ009","Статистические методы в обеспечении информационной безопасности",5,"Экзамен","2017/2018 учебный год 4 модуль",null,20,1,1,1722514289,2098,null,"Управление информационной безопасностью",{"$f":"MATCH(D1940,Отчет!$D$1:$D$65536,0)","v":136}]
[1952013563,10,"МИБ171",1937370480,"Дарбишева Патимат Гаджимурадовна","М171МУБЕЗ005","Статистические методы в обеспечении информационной безопасности",5,"Экзамен","2017/2018 учебный год 4 модуль",null,50,1,1,1722514289,2098,null,"Управление информационной безопасностью",{"$f":"MATCH(D1941,Отчет!$D$1:$D$65536,0)","v":30}]
[1952013614,8,"МИБ171",1937370498,"Петрина Матвей Олегович","М171МУБЕЗ014","Статистические методы в обеспечении информационной безопасности",5,"Экзамен","2017/2018 учебный год 4 модуль",null,40,1,1,1722514289,2098,null,"Управление информационной безопасностью",{"$f":"MATCH(D1942,Отчет!$D$1:$D$65536,0)","v":75}]
[1952013608,9,"МИБ171",1937370517,"Осадчая Алина Дмитриевна","М171МУБЕЗ013","Статистические методы в обеспечении информационной безопасности",5,"Экзамен","2017/2018 учебный год 4 модуль",null,45,1,1,1722514289,2098,null,"Управление информационной безопасностью",{"$f":"MATCH(D1943,Отчет!$D$1:$D$65536,0)","v":25}]
[1952013602,6,"МИБ171",1937370536,"Оленева Валерия Александровна","М171МУБЕЗ012","Статистические методы в обеспечении информационной безопасности",5,"Экзамен","2017/2018 учебный год 4 модуль",null,30,1,1,1722514289,2098,null,"Управление информационной безопасностью",{"$f":"MATCH(D1944,Отчет!$D$1:$D$65536,0)","v":86}]
[1952013637,6,"МИБ171",1937370552,"Рудаков Андрей Дмитриевич","М171МУБЕЗ017","Статистические методы в обеспечении информационной безопасности",5,"Экзамен","2017/2018 учебный год 4 модуль",null,30,1,1,1722514289,2098,null,"Управление информационной безопасностью",{"$f":"MATCH(D1945,Отчет!$D$1:$D$65536,0)","v":99}]
[1952013631,8,"МИБ171",1937370565,"Пупышева Анна Андреевна","М171МУБЕЗ016","Статистические методы в обеспечении информационной безопасности",5,"Экзамен","2017/2018 учебный год 4 модуль",null,40,1,1,1722514289,2098,null,"Управление информационной безопасностью",{"$f":"MATCH(D1946,Отчет!$D$1:$D$65536,0)","v":101}]
[1952013580,8,"МИБ171",1937370580,"Козлов Никита Вячеславович","М171МУБЕЗ008","Статистические методы в обеспечении информационной безопасности",5,"Экзамен","2017/2018 учебный год 4 модуль",null,40,1,1,1722514289,2098,null,"Управление информационной безопасностью",{"$f":"MATCH(D1947,Отчет!$D$1:$D$65536,0)","v":118}]
[1952013659,8,"МИБ171",1937370596,"Смирнов Данил Вадимович","М171МУБЕЗ020","Статистические методы в обеспечении информационной безопасности",5,"Экзамен","2017/2018 учебный год 4 модуль",null,40,1,1,1722514289,2098,null,"Управление информационной безопасностью",{"$f":"MATCH(D1948,Отчет!$D$1:$D$65536,0)","v":33}]
[1952013592,6,"МИБ171",1937371125,"Никитин Андрей Олегович","М171МУБЕЗ011","Статистические методы в обеспечении информационной безопасности",5,"Экзамен","2017/2018 учебный год 4 модуль",null,30,1,1,1722514289,2098,null,"Управление информационной безопасностью",{"$f":"MATCH(D1949,Отчет!$D$1:$D$65536,0)","v":141}]
[1952013547,6,"МИБ171",1937371143,"Белоус Илия Григорьевич","М171МУБЕЗ001","Статистические методы в обеспечении информационной безопасности",5,"Экзамен","2017/2018 учебный год 4 модуль",null,30,1,1,1722514289,2098,null,"Управление информационной безопасностью",{"$f":"MATCH(D1950,Отчет!$D$1:$D$65536,0)","v":157}]
[1952013555,7,"МИБ171",1937371161,"Варламова Виктория Викторовна","М171МУБЕЗ003","Статистические методы в обеспечении информационной безопасности",5,"Экзамен","2017/2018 учебный год 4 модуль",null,35,1,1,1722514289,2098,null,"Управление информационной безопасностью",{"$f":"MATCH(D1951,Отчет!$D$1:$D$65536,0)","v":106}]
[1952013559,8,"МИБ171",1937371178,"Гультяева Полина Николаевна","М171МУБЕЗ004","Статистические методы в обеспечении информационной безопасности",5,"Экзамен","2017/2018 учебный год 4 модуль",null,40,1,1,1722514289,2098,null,"Управление информационной безопасностью",{"$f":"MATCH(D1952,Отчет!$D$1:$D$65536,0)","v":39}]
[1952013572,9,"МИБ171",1937370369,"Иванов Владислав Сергеевич","М171МУБЕЗ007","Статистические методы в обеспечении информационной безопасности",5,"Экзамен","2017/2018 учебный год 4 модуль",null,45,1,1,1722514289,2098,null,"Управление информационной безопасностью",{"$f":"MATCH(D1953,Отчет!$D$1:$D$65536,0)","v":20}]
[1952013576,4,"МИБ171",1942008109,"Кабыкен Даулет","М171МУБЕЗ021","Статистические методы в обеспечении информационной безопасности",5,"Экзамен","2017/2018 учебный год 4 модуль",null,20,1,1,1722514289,2098,null,"Управление информационной безопасностью",{"$f":"MATCH(D1954,Отчет!$D$1:$D$65536,0)","v":177}]
[1952013596,4,"МИБ171",1942008132,"Нурматов Асхат","М171МУБЕЗ022","Статистические методы в обеспечении информационной безопасности",5,"Экзамен","2017/2018 учебный год 4 модуль",null,20,1,1,1722514289,2098,null,"Управление информационной безопасностью",{"$f":"MATCH(D1955,Отчет!$D$1:$D$65536,0)","v":178}]
[1952016296,9,"МИБ171",1937370596,"Смирнов Данил Вадимович","М171МУБЕЗ020","Теоретические аспекты безопасности компьютерных систем",5,"Экзамен","2017/2018 учебный год 4 модуль",null,45,1,1,1722514289,2098,null,"Управление информационной безопасностью",{"$f":"MATCH(D1956,Отчет!$D$1:$D$65536,0)","v":33}]
[1952016237,6,"МИБ171",1937370580,"Козлов Никита Вячеславович","М171МУБЕЗ008","Теоретические аспекты безопасности компьютерных систем",5,"Экзамен","2017/2018 учебный год 4 модуль",null,30,1,1,1722514289,2098,null,"Управление информационной безопасностью",{"$f":"MATCH(D1957,Отчет!$D$1:$D$65536,0)","v":118}]
[1952016208,9,"МИБ171",1937371178,"Гультяева Полина Николаевна","М171МУБЕЗ004","Теоретические аспекты безопасности компьютерных систем",5,"Экзамен","2017/2018 учебный год 4 модуль",null,45,1,1,1722514289,2098,null,"Управление информационной безопасностью",{"$f":"MATCH(D1958,Отчет!$D$1:$D$65536,0)","v":39}]
[1952016232,4,"МИБ171",1942008109,"Кабыкен Даулет","М171МУБЕЗ021","Теоретические аспекты безопасности компьютерных систем",5,"Экзамен","2017/2018 учебный год 4 модуль",null,20,1,1,1722514289,2098,null,"Управление информационной безопасностью",{"$f":"MATCH(D1959,Отчет!$D$1:$D$65536,0)","v":177}]
[1952016253,4,"МИБ171",1942008132,"Нурматов Асхат","М171МУБЕЗ022","Теоретические аспекты безопасности компьютерных систем",5,"Экзамен","2017/2018 учебный год 4 модуль",null,20,1,1,1722514289,2098,null,"Управление информационной безопасностью",{"$f":"MATCH(D1960,Отчет!$D$1:$D$65536,0)","v":178}]
[1952016195,6,"МИБ171",1937371143,"Белоус Илия Григорьевич","М171МУБЕЗ001","Теоретические аспекты безопасности компьютерных систем",5,"Экзамен","2017/2018 учебный год 4 модуль",null,30,1,1,1722514289,2098,null,"Управление информационной безопасностью",{"$f":"MATCH(D1961,Отчет!$D$1:$D$65536,0)","v":157}]
[1952016249,6,"МИБ171",1937371125,"Никитин Андрей Олегович","М171МУБЕЗ011","Теоретические аспекты безопасности компьютерных систем",5,"Экзамен","2017/2018 учебный год 4 модуль",null,30,1,1,1722514289,2098,null,"Управление информационной безопасностью",{"$f":"MATCH(D1962,Отчет!$D$1:$D$65536,0)","v":141}]
[1952016204,6,"МИБ171",1937371161,"Варламова Виктория Викторовна","М171МУБЕЗ003","Теоретические аспекты безопасности компьютерных систем",5,"Экзамен","2017/2018 учебный год 4 модуль",null,30,1,1,1722514289,2098,null,"Управление информационной безопасностью",{"$f":"MATCH(D1963,Отчет!$D$1:$D$65536,0)","v":106}]
[1952016226,10,"МИБ171",1937370369,"Иванов Владислав Сергеевич","М171МУБЕЗ007","Теоретические аспекты безопасности компьютерных систем",5,"Экзамен","2017/2018 учебный год 4 модуль",null,50,1,1,1722514289,2098,null,"Управление информационной безопасностью",{"$f":"MATCH(D1964,Отчет!$D$1:$D$65536,0)","v":20}]
[1952016273,8,"МИБ171",1937370565,"Пупышева Анна Андреевна","М171МУБЕЗ016","Теоретические аспекты безопасности компьютерных систем",5,"Экзамен","2017/2018 учебный год 4 модуль",null,40,1,1,1722514289,2098,null,"Управление информационной безопасностью",{"$f":"MATCH(D1965,Отчет!$D$1:$D$65536,0)","v":101}]
[1952016278,6,"МИБ171",1937370552,"Рудаков Андрей Дмитриевич","М171МУБЕЗ017","Теоретические аспекты безопасности компьютерных систем",5,"Экзамен","2017/2018 учебный год 4 модуль",null,30,1,1,1722514289,2098,null,"Управление информационной безопасностью",{"$f":"MATCH(D1966,Отчет!$D$1:$D$65536,0)","v":99}]
[1952016257,8,"МИБ171",1937370536,"Оленева Валерия Александровна","М171МУБЕЗ012","Теоретические аспекты безопасности компьютерных систем",5,"Экзамен","2017/2018 учебный год 4 модуль",null,40,1,1,1722514289,2098,null,"Управление информационной безопасностью",{"$f":"MATCH(D1967,Отчет!$D$1:$D$65536,0)","v":86}]
[1952016261,9,"МИБ171",1937370517,"Осадчая Алина Дмитриевна","М171МУБЕЗ013","Теоретические аспекты безопасности компьютерных систем",5,"Экзамен","2017/2018 учебный год 4 модуль",null,45,1,1,1722514289,2098,null,"Управление информационной безопасностью",{"$f":"MATCH(D1968,Отчет!$D$1:$D$65536,0)","v":25}]
[1952016265,9,"МИБ171",1937370498,"Петрина Матвей Олегович","М171МУБЕЗ014","Теоретические аспекты безопасности компьютерных систем",5,"Экзамен","2017/2018 учебный год 4 модуль",null,45,1,1,1722514289,2098,null,"Управление информационной безопасностью",{"$f":"MATCH(D1969,Отчет!$D$1:$D$65536,0)","v":75}]
[1952016213,9,"МИБ171",1937370480,"Дарбишева Патимат Гаджимурадовна","М171МУБЕЗ005","Теоретические аспекты безопасности компьютерных систем",5,"Экзамен","2017/2018 учебный год 4 модуль",null,45,1,1,1722514289,2098,null,"Управление информационной безопасностью",{"$f":"MATCH(D1970,Отчет!$D$1:$D$65536,0)","v":30}]
[1952016241,8,"МИБ171",1937370452,"Коровин Кирилл Сергеевич","М171МУБЕЗ009","Теоретические аспекты безопасности компьютерных систем",5,"Экзамен","2017/2018 учебный год 4 модуль",null,40,1,1,1722514289,2098,null,"Управление информационной безопасностью",{"$f":"MATCH(D1971,Отчет!$D$1:$D$65536,0)","v":136}]
[1952016245,8,"МИБ171",1937370436,"Михеева Вероника Вячеславовна","М171МУБЕЗ010","Теоретические аспекты безопасности компьютерных систем",5,"Экзамен","2017/2018 учебный год 4 модуль",null,40,1,1,1722514289,2098,null,"Управление информационной безопасностью",{"$f":"MATCH(D1972,Отчет!$D$1:$D$65536,0)","v":60}]
[1952016282,7,"МИБ171",1937370421,"Ряховский Сергей Алексеевич","М171МУБЕЗ018","Теоретические аспекты безопасности компьютерных систем",5,"Экзамен","2017/2018 учебный год 4 модуль",null,35,1,1,1722514289,2098,null,"Управление информационной безопасностью",{"$f":"MATCH(D1973,Отчет!$D$1:$D$65536,0)","v":115}]
[1952016220,8,"МИБ171",1937370401,"Жучков Константин Сергеевич","М171МУБЕЗ006","Теоретические аспекты безопасности компьютерных систем",5,"Экзамен","2017/2018 учебный год 4 модуль",null,40,1,1,1722514289,2098,null,"Управление информационной безопасностью",{"$f":"MATCH(D1974,Отчет!$D$1:$D$65536,0)","v":116}]
[1952016199,8,"МИБ171",1937370385,"Бочарова Ксения Михайловна","М171МУБЕЗ002","Теоретические аспекты безопасности компьютерных систем",5,"Экзамен","2017/2018 учебный год 4 модуль",null,40,1,1,1722514289,2098,null,"Управление информационной безопасностью",{"$f":"MATCH(D1975,Отчет!$D$1:$D$65536,0)","v":53}]
[2052765519,7,"МБИ173",1937363495,"Черепнина Дарья Олеговна","М171МБИИН068","Техника презентаций",3,"Экзамен","2017/2018 учебный год 4 модуль",null,21,1,1,null,5028,null,"Бизнес-информатика",{"$f":"MATCH(D1976,Отчет!$D$1:$D$65536,0)","v":67}]
[2052765787,7,"МБИ173",1937363798,"Пронин Никита Вадимович","М171МБИИН052","Техника презентаций",3,"Экзамен","2017/2018 учебный год 4 модуль",null,21,1,1,null,5028,null,"Бизнес-информатика",{"$f":"MATCH(D1977,Отчет!$D$1:$D$65536,0)","v":108}]
[2052765442,7,"МБИ172",1937363957,"Ершова Александра Романовна","М171МБИИН028","Техника презентаций",3,"Экзамен","2017/2018 учебный год 4 модуль",null,21,1,1,null,5028,null,"Бизнес-информатика",{"$f":"MATCH(D1978,Отчет!$D$1:$D$65536,0)","v":138}]
[2052765377,7,"МБИ173",1937364031,"Полторак Анастасия Игоревна","М171МБИИН051","Техника презентаций",3,"Экзамен","2017/2018 учебный год 4 модуль",null,21,1,1,null,5028,null,"Бизнес-информатика",{"$f":"MATCH(D1979,Отчет!$D$1:$D$65536,0)","v":103}]
[2052761127,4,"МИБ171",1937370401,"Жучков Константин Сергеевич","М171МУБЕЗ006","Техника презентаций",3,"Экзамен","2017/2018 учебный год 4 модуль",null,12,1,1,null,5028,null,"Управление информационной безопасностью",{"$f":"MATCH(D1980,Отчет!$D$1:$D$65536,0)","v":116}]
[2052765561,9,"МБИ172",1937364110,"Клименко Екатерина Андреевна","М171МБИИН034","Техника презентаций",3,"Экзамен","2017/2018 учебный год 4 модуль",null,27,1,1,null,5028,null,"Бизнес-информатика",{"$f":"MATCH(D1981,Отчет!$D$1:$D$65536,0)","v":28}]
[2052764910,5,"МЭБ171",1937372880,"Лучкин Андрей Владимирович","М171МЭЛБЗ015","Техника презентаций",3,"Экзамен","2017/2018 учебный год 4 модуль",null,15,1,1,null,5028,null,"Электронный бизнес",{"$f":"MATCH(D1982,Отчет!$D$1:$D$65536,0)","v":133}]
[2052765036,7,"МЭБ171",1937372998,"Горобец Валерия Валентиновна","М171МЭЛБЗ005","Техника презентаций",3,"Экзамен","2017/2018 учебный год 4 модуль",null,21,1,1,null,5028,null,"Электронный бизнес",{"$f":"MATCH(D1983,Отчет!$D$1:$D$65536,0)","v":42}]
[1956290223,8,"МБД171",1937366422,"Вилкова Елена Александровна","М171МСБДН002","Технологии извлечения знаний из большого объема данных",3,"Экзамен","2017/2018 учебный год 4 модуль",null,24,1,1,1722525802,2098,null,"Системы больших данных",{"$f":"MATCH(D1984,Отчет!$D$1:$D$65536,0)","v":12}]
[1956289460,5,"МБД171",1937366407,"Чувилина Анна Андреевна","М171МСБДН016","Технологии извлечения знаний из большого объема данных",3,"Экзамен","2017/2018 учебный год 4 модуль",null,15,1,1,1722525802,2098,null,"Системы больших данных",{"$f":"MATCH(D1985,Отчет!$D$1:$D$65536,0)","v":43}]
[1956290627,5,"МБД171",1937366394,"Шубина Виктория Ильинична","М171МСБДН018","Технологии извлечения знаний из большого объема данных",3,"Экзамен","2017/2018 учебный год 4 модуль",null,15,1,1,1722525802,2098,null,"Системы больших данных",{"$f":"MATCH(D1986,Отчет!$D$1:$D$65536,0)","v":32}]
[1956290291,10,"МБД171",1937366366,"Гатина Эльмира Ринатовна","М171МСБДН003","Технологии извлечения знаний из большого объема данных",3,"Экзамен","2017/2018 учебный год 4 модуль",null,30,1,1,1722525802,2098,null,"Системы больших данных",{"$f":"MATCH(D1987,Отчет!$D$1:$D$65536,0)","v":34}]
[1956290037,10,"МБД171",1937366348,"Шеин Александр Владимирович","М171МСБДН017","Технологии извлечения знаний из большого объема данных",3,"Экзамен","2017/2018 учебный год 4 модуль",null,30,1,1,1722525802,2098,null,"Системы больших данных",{"$f":"MATCH(D1988,Отчет!$D$1:$D$65536,0)","v":17}]
[1956290531,4,"МБД171",1937366317,"Рахимов Севастьян Эдуардович","М171МСБДН012","Технологии извлечения знаний из большого объема данных",3,"Экзамен","2017/2018 учебный год 4 модуль",null,12,1,1,1722525802,2098,null,"Системы больших данных",{"$f":"MATCH(D1989,Отчет!$D$1:$D$65536,0)","v":59}]
[1956290188,5,"МБД171",1937366302,"Ферягина Екатерина Андреевна","М171МСБДН015","Технологии извлечения знаний из большого объема данных",3,"Экзамен","2017/2018 учебный год 4 модуль",null,15,1,1,1722525802,2098,null,"Системы больших данных",{"$f":"MATCH(D1990,Отчет!$D$1:$D$65536,0)","v":76}]
[1956290107,6,"МБД171",1937366289,"Яковлева Дарья Александровна","М171МСБДН019","Технологии извлечения знаний из большого объема данных",3,"Экзамен","2017/2018 учебный год 4 модуль",null,18,1,1,1722525802,2098,null,"Системы больших данных",{"$f":"MATCH(D1991,Отчет!$D$1:$D$65536,0)","v":96}]
[1956290073,6,"МБД171",1937366259,"Пахолкова Анна Юрьевна","М171МСБДН010","Технологии извлечения знаний из большого объема данных",3,"Экзамен","2017/2018 учебный год 4 модуль",null,18,1,1,1722525802,2098,null,"Системы больших данных",{"$f":"MATCH(D1992,Отчет!$D$1:$D$65536,0)","v":56}]
[1956290599,7,"МБД171",1937366244,"Дмитриев Виктор Андреевич","М171МСБДН004","Технологии извлечения знаний из большого объема данных",3,"Экзамен","2017/2018 учебный год 4 модуль",null,21,1,1,1722525802,2098,null,"Системы больших данных",{"$f":"MATCH(D1993,Отчет!$D$1:$D$65536,0)","v":63}]
[1956290485,8,"МБД171",1937366231,"Дякин Николай Валерьевич","М171МСБДН005","Технологии извлечения знаний из большого объема данных",3,"Экзамен","2017/2018 учебный год 4 модуль",null,24,1,1,1722525802,2098,null,"Системы больших данных",{"$f":"MATCH(D1994,Отчет!$D$1:$D$65536,0)","v":21}]
[1956290374,4,"МБД171",1937366175,"Трегубова Инесса Александровна","М171МСБДН014","Технологии извлечения знаний из большого объема данных",3,"Экзамен","2017/2018 учебный год 4 модуль",null,12,1,1,1722525802,2098,null,"Системы больших данных",{"$f":"MATCH(D1995,Отчет!$D$1:$D$65536,0)","v":127}]
[1956290414,6,"МБД171",1937366160,"Канищев Кирилл Валерьевич","М171МСБДН008","Технологии извлечения знаний из большого объема данных",3,"Экзамен","2017/2018 учебный год 4 модуль",null,18,1,1,1722525802,2098,null,"Системы больших данных",{"$f":"MATCH(D1996,Отчет!$D$1:$D$65536,0)","v":109}]
[2101189714,6,"МБД171",2097188263,"Леонов Антон Александрович","М161МЖУРД016","Технологии извлечения знаний из большого объема данных",3,"Экзамен","2017/2018 учебный год 4 модуль",null,18,1,1,1722525802,2098,"ikPlanned","Системы больших данных",{"$f":"MATCH(D1997,Отчет!$D$1:$D$65536,0)","v":168}]
[2029038813,5,"МБД171",1972663851,"Ислам Эмди Шафикул","М171МСБДН036","Технологии извлечения знаний из большого объема данных",3,"Экзамен","2017/2018 учебный год 4 модуль",null,15,1,0,1722525802,2098,null,"Системы больших данных",{"$f":"MATCH(D1998,Отчет!$D$1:$D$65536,0)","v":84}]
[1977579013,4,"МБД171",1970446330,"- Маниканта Рукмангада","М171МСБДН035","Технологии извлечения знаний из большого объема данных",3,"Экзамен","2017/2018 учебный год 4 модуль",null,12,1,1,1722525802,2098,null,"Системы больших данных",{"$f":"MATCH(D1999,Отчет!$D$1:$D$65536,0)","v":120}]
[1956290311,4,"МБД171",1950255571,"Сиахпутра Эдо","М171МСБДН031","Технологии извлечения знаний из большого объема данных",3,"Экзамен","2017/2018 учебный год 4 модуль",null,12,1,1,1722525802,2098,null,"Системы больших данных",{"$f":"MATCH(D2000,Отчет!$D$1:$D$65536,0)","v":112}]
[1972267663,4,"МБД171",1950215429,"Фаур Назим Ахмад","М171МСБДН032","Технологии извлечения знаний из большого объема данных",3,"Экзамен","2017/2018 учебный год 4 модуль",null,12,1,0,1722525802,2098,null,"Системы больших данных",{"$f":"MATCH(D2001,Отчет!$D$1:$D$65536,0)","v":89}]
[1971550378,4,"МБД171",1946791924,"Скачок Андрей","М171МСБДН030","Технологии извлечения знаний из большого объема данных",3,"Экзамен","2017/2018 учебный год 4 модуль",null,12,1,0,1722525802,2098,null,"Системы больших данных",{"$f":"MATCH(D2002,Отчет!$D$1:$D$65536,0)","v":151}]
[1956290557,5,"МБД171",1942007946,"Ержанова Тогжан","М171МСБДН029","Технологии извлечения знаний из большого объема данных",3,"Экзамен","2017/2018 учебный год 4 модуль",null,15,1,1,1722525802,2098,null,"Системы больших данных",{"$f":"MATCH(D2003,Отчет!$D$1:$D$65536,0)","v":61}]
[1956290262,4,"МБД171",1940816199,"Обаляева Екатерина Ильинична","М171МСБДН023","Технологии извлечения знаний из большого объема данных",3,"Экзамен","2017/2018 учебный год 4 модуль",null,12,1,0,1722525802,2098,null,"Системы больших данных",{"$f":"MATCH(D2004,Отчет!$D$1:$D$65536,0)","v":36}]
[1956290156,9,"МБД171",1940816185,"Прохоренков Дмитрий Викторович","М171МСБДН024","Технологии извлечения знаний из большого объема данных",3,"Экзамен","2017/2018 учебный год 4 модуль",null,27,1,0,1722525802,2098,null,"Системы больших данных",{"$f":"MATCH(D2005,Отчет!$D$1:$D$65536,0)","v":13}]
[2245389894,7,"МБД171",1940816171,"Ширяева Кристина Александровна","М171МСБДН028","Технологии извлечения знаний из большого объема данных",3,"Экзамен","2017/2018 учебный год 4 модуль",null,21,1,0,1722525802,2098,null,"Системы больших данных",{"$f":"MATCH(D2006,Отчет!$D$1:$D$65536,0)","v":70}]
[2245391038,8,"МБД171",1940816150,"Иванов Никита Павлович","М171МСБДН022","Технологии извлечения знаний из большого объема данных",3,"Экзамен","2017/2018 учебный год 4 модуль",null,24,1,0,1722525802,2098,null,"Системы больших данных",{"$f":"MATCH(D2007,Отчет!$D$1:$D$65536,0)","v":48}]
[1956289555,4,"МБД171",1940816134,"Арча Александр Михайлович","М171МСБДН021","Технологии извлечения знаний из большого объема данных",3,"Экзамен","2017/2018 учебный год 4 модуль",null,12,1,0,1722525802,2098,null,"Системы больших данных",{"$f":"MATCH(D2008,Отчет!$D$1:$D$65536,0)","v":111}]
[1956290509,7,"МБД171",1940816117,"Садыкова Сабина Бахтияровна","М171МСБДН025","Технологии извлечения знаний из большого объема данных",3,"Экзамен","2017/2018 учебный год 4 модуль",null,21,1,0,1722525802,2098,null,"Системы больших данных",{"$f":"MATCH(D2009,Отчет!$D$1:$D$65536,0)","v":58}]
[1956290577,4,"МБД171",1940816098,"Телышева Татьяна Романовна","М171МСБДН027","Технологии извлечения знаний из большого объема данных",3,"Экзамен","2017/2018 учебный год 4 модуль",null,12,1,0,1722525802,2098,null,"Системы больших данных",{"$f":"MATCH(D2010,Отчет!$D$1:$D$65536,0)","v":93}]
[1956289903,5,"МБД171",1940751998,"Семес Алексей Владимирович","М171МСБДН026","Технологии извлечения знаний из большого объема данных",3,"Экзамен","2017/2018 учебный год 4 модуль",null,15,1,0,1722525802,2098,null,"Системы больших данных",{"$f":"MATCH(D2011,Отчет!$D$1:$D$65536,0)","v":66}]
[1956290331,8,"МБД171",1937366203,"Ильяшенко Григорий Анатольевич","М171МСБДН007","Технологии извлечения знаний из большого объема данных",3,"Экзамен","2017/2018 учебный год 4 модуль",null,24,1,1,1722525802,2098,null,"Системы больших данных",{"$f":"MATCH(D2012,Отчет!$D$1:$D$65536,0)","v":81}]
[2052765739,8,"МБИ171",1937363441,"Бардакова Мария Вячеславовна","М171МБИИН008","Технологии манипулирования сознанием и поведением людей: выявление, анализ, противодействие",3,"Экзамен","2017/2018 учебный год 4 модуль",null,24,1,1,null,5028,null,"Бизнес-информатика",{"$f":"MATCH(D2013,Отчет!$D$1:$D$65536,0)","v":129}]
[2052764927,10,"МЭБ171",1937372985,"Фахрова Дина Вадимовна","М171МЭЛБЗ023","Технологии манипулирования сознанием и поведением людей: выявление, анализ, противодействие",3,"Экзамен","2017/2018 учебный год 4 модуль",null,30,1,1,null,5028,null,"Электронный бизнес",{"$f":"MATCH(D2014,Отчет!$D$1:$D$65536,0)","v":37}]
[2052765284,7,"МБИ171",1937364123,"Вишняков Азим Азимович","М171МБИИН017","Технологии манипулирования сознанием и поведением людей: выявление, анализ, противодействие",3,"Экзамен","2017/2018 учебный год 4 модуль",null,21,1,1,null,5028,null,"Бизнес-информатика",{"$f":"MATCH(D2015,Отчет!$D$1:$D$65536,0)","v":80}]
[1952006547,6,"МЭБ171",1937372811,"Куратова Александра Евгеньевна","М171МЭЛБЗ012","Технологические основы разработки и управления интернет-проектами",5,"Экзамен","2017/2018 учебный год 4 модуль",null,30,1,1,1722506105,2098,null,"Электронный бизнес",{"$f":"MATCH(D2016,Отчет!$D$1:$D$65536,0)","v":137}]
[1952006564,9,"МЭБ171",1937372826,"Минеева Анастасия Сергеевна","М171МЭЛБЗ016","Технологические основы разработки и управления интернет-проектами",5,"Экзамен","2017/2018 учебный год 4 модуль",null,45,1,1,1722506105,2098,null,"Электронный бизнес",{"$f":"MATCH(D2017,Отчет!$D$1:$D$65536,0)","v":146}]
[1952006489,8,"МЭБ171",1937372839,"Бабаджанян Армен Кароевич","М171МЭЛБЗ002","Технологические основы разработки и управления интернет-проектами",5,"Экзамен","2017/2018 учебный год 4 модуль",null,40,1,1,1722506105,2098,null,"Электронный бизнес",{"$f":"MATCH(D2018,Отчет!$D$1:$D$65536,0)","v":52}]
[1952006611,10,"МЭБ171",1937372852,"Юлдашева Камилла Адилевна","М171МЭЛБЗ025","Технологические основы разработки и управления интернет-проектами",5,"Экзамен","2017/2018 учебный год 4 модуль",null,50,1,1,1722506105,2098,null,"Электронный бизнес",{"$f":"MATCH(D2019,Отчет!$D$1:$D$65536,0)","v":24}]
[1952006585,9,"МЭБ171",1937372866,"Семенкович Софья Алексеевна","М171МЭЛБЗ020","Технологические основы разработки и управления интернет-проектами",5,"Экзамен","2017/2018 учебный год 4 модуль",null,45,1,1,1722506105,2098,null,"Электронный бизнес",{"$f":"MATCH(D2020,Отчет!$D$1:$D$65536,0)","v":90}]
[1952006560,9,"МЭБ171",1937372880,"Лучкин Андрей Владимирович","М171МЭЛБЗ015","Технологические основы разработки и управления интернет-проектами",5,"Экзамен","2017/2018 учебный год 4 модуль",null,45,1,1,1722506105,2098,null,"Электронный бизнес",{"$f":"MATCH(D2021,Отчет!$D$1:$D$65536,0)","v":133}]
[1952006591,8,"МЭБ171",1937372893,"Смирнов Константин Борисович","М171МЭЛБЗ021","Технологические основы разработки и управления интернет-проектами",5,"Экзамен","2017/2018 учебный год 4 модуль",null,40,1,1,1722506105,2098,null,"Электронный бизнес",{"$f":"MATCH(D2022,Отчет!$D$1:$D$65536,0)","v":55}]
[1952006538,6,"МЭБ171",1937372906,"Китьян Акмаль Алексеевич","М171МЭЛБЗ011","Технологические основы разработки и управления интернет-проектами",5,"Экзамен","2017/2018 учебный год 4 модуль",null,30,1,1,1722506105,2098,null,"Электронный бизнес",{"$f":"MATCH(D2023,Отчет!$D$1:$D$65536,0)","v":154}]
[1952006571,9,"МЭБ171",1937372919,"Михайлов Егор Александрович","М171МЭЛБЗ017","Технологические основы разработки и управления интернет-проектами",5,"Экзамен","2017/2018 учебный год 4 модуль",null,45,1,1,1722506105,2098,null,"Электронный бизнес",{"$f":"MATCH(D2024,Отчет!$D$1:$D$65536,0)","v":107}]
[1952006485,9,"МЭБ171",1937372932,"Абросимова Анастасия Михайловна","М171МЭЛБЗ001","Технологические основы разработки и управления интернет-проектами",5,"Экзамен","2017/2018 учебный год 4 модуль",null,45,1,1,1722506105,2098,null,"Электронный бизнес",{"$f":"MATCH(D2025,Отчет!$D$1:$D$65536,0)","v":105}]
[1952006607,9,"МЭБ171",1937372945,"Цуканов Иван Викторович","М171МЭЛБЗ024","Технологические основы разработки и управления интернет-проектами",5,"Экзамен","2017/2018 учебный год 4 модуль",null,45,1,1,1722506105,2098,null,"Электронный бизнес",{"$f":"MATCH(D2026,Отчет!$D$1:$D$65536,0)","v":100}]
[1952006555,6,"МЭБ171",1937372959,"Лунин Никита Константинович","М171МЭЛБЗ014","Технологические основы разработки и управления интернет-проектами",5,"Экзамен","2017/2018 учебный год 4 модуль",null,30,1,1,1722506105,2098,null,"Электронный бизнес",{"$f":"MATCH(D2027,Отчет!$D$1:$D$65536,0)","v":158}]
[1952006581,8,"МЭБ171",1937372972,"Рубцова Екатерина Андреевна","М171МЭЛБЗ019","Технологические основы разработки и управления интернет-проектами",5,"Экзамен","2017/2018 учебный год 4 модуль",null,40,1,1,1722506105,2098,null,"Электронный бизнес",{"$f":"MATCH(D2028,Отчет!$D$1:$D$65536,0)","v":139}]
[1952006599,10,"МЭБ171",1937372985,"Фахрова Дина Вадимовна","М171МЭЛБЗ023","Технологические основы разработки и управления интернет-проектами",5,"Экзамен","2017/2018 учебный год 4 модуль",null,50,1,1,1722506105,2098,null,"Электронный бизнес",{"$f":"MATCH(D2029,Отчет!$D$1:$D$65536,0)","v":37}]
[1952006504,10,"МЭБ171",1937372998,"Горобец Валерия Валентиновна","М171МЭЛБЗ005","Технологические основы разработки и управления интернет-проектами",5,"Экзамен","2017/2018 учебный год 4 модуль",null,50,1,1,1722506105,2098,null,"Электронный бизнес",{"$f":"MATCH(D2030,Отчет!$D$1:$D$65536,0)","v":42}]
[1952006509,8,"МЭБ171",1937373012,"Давыдова Ксения Валерьевна","М171МЭЛБЗ006","Технологические основы разработки и управления интернет-проектами",5,"Экзамен","2017/2018 учебный год 4 модуль",null,40,1,1,1722506105,2098,null,"Электронный бизнес",{"$f":"MATCH(D2031,Отчет!$D$1:$D$65536,0)","v":97}]
[1952006595,9,"МЭБ171",1937373025,"Суряднов Дмитрий Юрьевич","М171МЭЛБЗ022","Технологические основы разработки и управления интернет-проектами",5,"Экзамен","2017/2018 учебный год 4 модуль",null,45,1,1,1722506105,2098,null,"Электронный бизнес",{"$f":"MATCH(D2032,Отчет!$D$1:$D$65536,0)","v":27}]
[1952006551,9,"МЭБ171",1937373039,"Кяргин Антон Юрьевич","М171МЭЛБЗ013","Технологические основы разработки и управления интернет-проектами",5,"Экзамен","2017/2018 учебный год 4 модуль",null,45,1,1,1722506105,2098,null,"Электронный бизнес",{"$f":"MATCH(D2033,Отчет!$D$1:$D$65536,0)","v":110}]
[1952006529,10,"МЭБ171",1937373052,"Ким Дин Хо","М171МЭЛБЗ009","Технологические основы разработки и управления интернет-проектами",5,"Экзамен","2017/2018 учебный год 4 модуль",null,50,1,1,1722506105,2098,null,"Электронный бизнес",{"$f":"MATCH(D2034,Отчет!$D$1:$D$65536,0)","v":121}]
[1952006543,10,"МЭБ171",1940816486,"Кондращенко Ярослав Константинович","М171МЭЛБЗ027","Технологические основы разработки и управления интернет-проектами",5,"Экзамен","2017/2018 учебный год 4 модуль",null,50,1,0,1722506105,2098,null,"Электронный бизнес",{"$f":"MATCH(D2035,Отчет!$D$1:$D$65536,0)","v":78}]
[1952006603,8,"МЭБ171",1945760044,"Цандере Юлия","М171МЭЛБЗ028","Технологические основы разработки и управления интернет-проектами",5,"Экзамен","2017/2018 учебный год 4 модуль",null,40,1,0,1722506105,2098,null,"Электронный бизнес",{"$f":"MATCH(D2036,Отчет!$D$1:$D$65536,0)","v":130}]
[1952006495,10,"МЭБ171",1937372729,"Бадамова Екатерина Дмитриевна","М171МЭЛБЗ003","Технологические основы разработки и управления интернет-проектами",5,"Экзамен","2017/2018 учебный год 4 модуль",null,50,1,1,1722506105,2098,null,"Электронный бизнес",{"$f":"MATCH(D2037,Отчет!$D$1:$D$65536,0)","v":47}]
[1952006514,6,"МЭБ171",1937372743,"Джаббарова Лейла Мехман гызы","М171МЭЛБЗ007","Технологические основы разработки и управления интернет-проектами",5,"Экзамен","2017/2018 учебный год 4 модуль",null,30,1,1,1722506105,2098,null,"Электронный бизнес",{"$f":"MATCH(D2038,Отчет!$D$1:$D$65536,0)","v":85}]
[1952006575,9,"МЭБ171",1937372757,"Осипова Мария Андреевна","М171МЭЛБЗ018","Технологические основы разработки и управления интернет-проектами",5,"Экзамен","2017/2018 учебный год 4 модуль",null,45,1,1,1722506105,2098,null,"Электронный бизнес",{"$f":"MATCH(D2039,Отчет!$D$1:$D$65536,0)","v":44}]
[1952006534,9,"МЭБ171",1937372770,"Кирилловых Андрей Максимович","М171МЭЛБЗ010","Технологические основы разработки и управления интернет-проектами",5,"Экзамен","2017/2018 учебный год 4 модуль",null,45,1,1,1722506105,2098,null,"Электронный бизнес",{"$f":"MATCH(D2040,Отчет!$D$1:$D$65536,0)","v":102}]
[1952006520,10,"МЭБ171",1937372783,"Калинин Дмитрий Владимирович","М171МЭЛБЗ008","Технологические основы разработки и управления интернет-проектами",5,"Экзамен","2017/2018 учебный год 4 модуль",null,50,1,1,1722506105,2098,null,"Электронный бизнес",{"$f":"MATCH(D2041,Отчет!$D$1:$D$65536,0)","v":49}]
[1952006500,9,"МЭБ171",1937372796,"Гимашев Линар Русланович","М171МЭЛБЗ004","Технологические основы разработки и управления интернет-проектами",5,"Экзамен","2017/2018 учебный год 4 модуль",null,45,1,1,1722506105,2098,null,"Электронный бизнес",{"$f":"MATCH(D2042,Отчет!$D$1:$D$65536,0)","v":142}]
[1952015985,4,"МИБ171",1942008109,"Кабыкен Даулет","М171МУБЕЗ021","Типовые подсистемы и решения обеспечения информационной безопасности",5,"Экзамен","2017/2018 учебный год 4 модуль",null,20,1,1,1722514289,2098,null,"Управление информационной безопасностью",{"$f":"MATCH(D2043,Отчет!$D$1:$D$65536,0)","v":177}]
[1952015964,10,"МИБ171",1937371178,"Гультяева Полина Николаевна","М171МУБЕЗ004","Типовые подсистемы и решения обеспечения информационной безопасности",5,"Экзамен","2017/2018 учебный год 4 модуль",null,50,1,1,1722514289,2098,null,"Управление информационной безопасностью",{"$f":"MATCH(D2044,Отчет!$D$1:$D$65536,0)","v":39}]
[1952015981,10,"МИБ171",1937370369,"Иванов Владислав Сергеевич","М171МУБЕЗ007","Типовые подсистемы и решения обеспечения информационной безопасности",5,"Экзамен","2017/2018 учебный год 4 модуль",null,50,1,1,1722514289,2098,null,"Управление информационной безопасностью",{"$f":"MATCH(D2045,Отчет!$D$1:$D$65536,0)","v":20}]
[1952015956,10,"МИБ171",1937370385,"Бочарова Ксения Михайловна","М171МУБЕЗ002","Типовые подсистемы и решения обеспечения информационной безопасности",5,"Экзамен","2017/2018 учебный год 4 модуль",null,50,1,1,1722514289,2098,null,"Управление информационной безопасностью",{"$f":"MATCH(D2046,Отчет!$D$1:$D$65536,0)","v":53}]
[1952015976,10,"МИБ171",1937370401,"Жучков Константин Сергеевич","М171МУБЕЗ006","Типовые подсистемы и решения обеспечения информационной безопасности",5,"Экзамен","2017/2018 учебный год 4 модуль",null,50,1,1,1722514289,2098,null,"Управление информационной безопасностью",{"$f":"MATCH(D2047,Отчет!$D$1:$D$65536,0)","v":116}]
[1952016043,10,"МИБ171",1937370421,"Ряховский Сергей Алексеевич","М171МУБЕЗ018","Типовые подсистемы и решения обеспечения информационной безопасности",5,"Экзамен","2017/2018 учебный год 4 модуль",null,50,1,1,1722514289,2098,null,"Управление информационной безопасностью",{"$f":"MATCH(D2048,Отчет!$D$1:$D$65536,0)","v":115}]
[1952015997,10,"МИБ171",1937370436,"Михеева Вероника Вячеславовна","М171МУБЕЗ010","Типовые подсистемы и решения обеспечения информационной безопасности",5,"Экзамен","2017/2018 учебный год 4 модуль",null,50,1,1,1722514289,2098,null,"Управление информационной безопасностью",{"$f":"MATCH(D2049,Отчет!$D$1:$D$65536,0)","v":60}]
[1952015993,8,"МИБ171",1937370452,"Коровин Кирилл Сергеевич","М171МУБЕЗ009","Типовые подсистемы и решения обеспечения информационной безопасности",5,"Экзамен","2017/2018 учебный год 4 модуль",null,40,1,1,1722514289,2098,null,"Управление информационной безопасностью",{"$f":"MATCH(D2050,Отчет!$D$1:$D$65536,0)","v":136}]
[1952015971,10,"МИБ171",1937370480,"Дарбишева Патимат Гаджимурадовна","М171МУБЕЗ005","Типовые подсистемы и решения обеспечения информационной безопасности",5,"Экзамен","2017/2018 учебный год 4 модуль",null,50,1,1,1722514289,2098,null,"Управление информационной безопасностью",{"$f":"MATCH(D2051,Отчет!$D$1:$D$65536,0)","v":30}]
[1952016025,10,"МИБ171",1937370498,"Петрина Матвей Олегович","М171МУБЕЗ014","Типовые подсистемы и решения обеспечения информационной безопасности",5,"Экзамен","2017/2018 учебный год 4 модуль",null,50,1,1,1722514289,2098,null,"Управление информационной безопасностью",{"$f":"MATCH(D2052,Отчет!$D$1:$D$65536,0)","v":75}]
[1952016020,10,"МИБ171",1937370517,"Осадчая Алина Дмитриевна","М171МУБЕЗ013","Типовые подсистемы и решения обеспечения информационной безопасности",5,"Экзамен","2017/2018 учебный год 4 модуль",null,50,1,1,1722514289,2098,null,"Управление информационной безопасностью",{"$f":"MATCH(D2053,Отчет!$D$1:$D$65536,0)","v":25}]
[1952016010,10,"МИБ171",1937370536,"Оленева Валерия Александровна","М171МУБЕЗ012","Типовые подсистемы и решения обеспечения информационной безопасности",5,"Экзамен","2017/2018 учебный год 4 модуль",null,50,1,1,1722514289,2098,null,"Управление информационной безопасностью",{"$f":"MATCH(D2054,Отчет!$D$1:$D$65536,0)","v":86}]
[1952016038,10,"МИБ171",1937370552,"Рудаков Андрей Дмитриевич","М171МУБЕЗ017","Типовые подсистемы и решения обеспечения информационной безопасности",5,"Экзамен","2017/2018 учебный год 4 модуль",null,50,1,1,1722514289,2098,null,"Управление информационной безопасностью",{"$f":"MATCH(D2055,Отчет!$D$1:$D$65536,0)","v":99}]
[1952016033,10,"МИБ171",1937370565,"Пупышева Анна Андреевна","М171МУБЕЗ016","Типовые подсистемы и решения обеспечения информационной безопасности",5,"Экзамен","2017/2018 учебный год 4 модуль",null,50,1,1,1722514289,2098,null,"Управление информационной безопасностью",{"$f":"MATCH(D2056,Отчет!$D$1:$D$65536,0)","v":101}]
[1952015989,5,"МИБ171",1937370580,"Козлов Никита Вячеславович","М171МУБЕЗ008","Типовые подсистемы и решения обеспечения информационной безопасности",5,"Экзамен","2017/2018 учебный год 4 модуль",null,25,1,1,1722514289,2098,null,"Управление информационной безопасностью",{"$f":"MATCH(D2057,Отчет!$D$1:$D$65536,0)","v":118}]
[1952016053,10,"МИБ171",1937370596,"Смирнов Данил Вадимович","М171МУБЕЗ020","Типовые подсистемы и решения обеспечения информационной безопасности",5,"Экзамен","2017/2018 учебный год 4 модуль",null,50,1,1,1722514289,2098,null,"Управление информационной безопасностью",{"$f":"MATCH(D2058,Отчет!$D$1:$D$65536,0)","v":33}]
[1952016001,6,"МИБ171",1937371125,"Никитин Андрей Олегович","М171МУБЕЗ011","Типовые подсистемы и решения обеспечения информационной безопасности",5,"Экзамен","2017/2018 учебный год 4 модуль",null,30,1,1,1722514289,2098,null,"Управление информационной безопасностью",{"$f":"MATCH(D2059,Отчет!$D$1:$D$65536,0)","v":141}]
[1952015952,10,"МИБ171",1937371143,"Белоус Илия Григорьевич","М171МУБЕЗ001","Типовые подсистемы и решения обеспечения информационной безопасности",5,"Экзамен","2017/2018 учебный год 4 модуль",null,50,1,1,1722514289,2098,null,"Управление информационной безопасностью",{"$f":"MATCH(D2060,Отчет!$D$1:$D$65536,0)","v":157}]
[1952015960,10,"МИБ171",1937371161,"Варламова Виктория Викторовна","М171МУБЕЗ003","Типовые подсистемы и решения обеспечения информационной безопасности",5,"Экзамен","2017/2018 учебный год 4 модуль",null,50,1,1,1722514289,2098,null,"Управление информационной безопасностью",{"$f":"MATCH(D2061,Отчет!$D$1:$D$65536,0)","v":106}]
[1952016005,4,"МИБ171",1942008132,"Нурматов Асхат","М171МУБЕЗ022","Типовые подсистемы и решения обеспечения информационной безопасности",5,"Экзамен","2017/2018 учебный год 4 модуль",null,20,1,1,1722514289,2098,null,"Управление информационной безопасностью",{"$f":"MATCH(D2062,Отчет!$D$1:$D$65536,0)","v":178}]
[2263366882,10,"МБД171",1959612809,"Штройхофэр Кристофер","М171МСБДН033","Управление IT проектами",3,"Экзамен","2017/2018 учебный год 4 модуль",null,30,1,1,null,null,null,"Системы больших данных",{"$f":"MATCH(D2063,Отчет!$D$1:$D$65536,0)","v":40}]
[1956304174,10,"МБИ173",1937363680,"Рудь Роман Сергеевич","М171МБИИН056","Управление IT-сервисами",5,"Экзамен","2017/2018 учебный год 4 модуль",null,50,1,1,1722551595,2098,null,"Бизнес-информатика",{"$f":"MATCH(D2064,Отчет!$D$1:$D$65536,0)","v":125}]
[1956303107,10,"МБИ171",1942008650,"Гареев Эмиль Хамидович","М171МБИИН085","Управление IT-сервисами",5,"Экзамен","2017/2018 учебный год 4 модуль",null,50,1,1,1722551595,2098,null,"Бизнес-информатика",{"$f":"MATCH(D2065,Отчет!$D$1:$D$65536,0)","v":144}]
[1956302904,10,"МБИ171",1944931265,"Бытка Дарья","М171МБИИН093","Управление IT-сервисами",5,"Экзамен","2017/2018 учебный год 4 модуль",null,50,1,1,1722551595,2098,null,"Бизнес-информатика",{"$f":"MATCH(D2066,Отчет!$D$1:$D$65536,0)","v":22}]
[1956303370,10,"МБИ172",1944939253,"Вовк Иларион Анатольевич","М171МБИИН094","Управление IT-сервисами",5,"Экзамен","2017/2018 учебный год 4 модуль",null,50,1,0,1722551595,2098,null,"Бизнес-информатика",{"$f":"MATCH(D2067,Отчет!$D$1:$D$65536,0)","v":98}]
[1956302736,10,"МБИ173",1945753603,"Пак Александр Сергеевич","М171МБИИН096","Управление IT-сервисами",5,"Экзамен","2017/2018 учебный год 4 модуль",null,50,1,0,1722551595,2098,null,"Бизнес-информатика",{"$f":"MATCH(D2068,Отчет!$D$1:$D$65536,0)","v":114}]
[1956303550,10,"МБИ172",1947090330,"Варданян Карен Оганесович","М171МБИИН097","Управление IT-сервисами",5,"Экзамен","2017/2018 учебный год 4 модуль",null,50,1,1,1722551595,2098,null,"Бизнес-информатика",{"$f":"MATCH(D2069,Отчет!$D$1:$D$65536,0)","v":175}]
[2166483498,10,"МБИ173",2162833425,"Майборода Кирилл Алексеевич","М161МБИИН048","Управление IT-сервисами",5,"Экзамен","2017/2018 учебный год 4 модуль",null,50,1,1,1722551595,2098,null,"Бизнес-информатика",{"$f":"MATCH(D2070,Отчет!$D$1:$D$65536,0)","v":122}]
[1956301979,7,"МБИ171",1937364123,"Вишняков Азим Азимович","М171МБИИН017","Управление IT-сервисами",5,"Экзамен","2017/2018 учебный год 4 модуль",null,35,1,1,1722551595,2098,null,"Бизнес-информатика",{"$f":"MATCH(D2071,Отчет!$D$1:$D$65536,0)","v":80}]
[1956303747,10,"МБИ172",1937364137,"Медведева Мария Вячеславовна","М171МБИИН045","Управление IT-сервисами",5,"Экзамен","2017/2018 учебный год 4 модуль",null,50,1,1,1722551595,2098,null,"Бизнес-информатика",{"$f":"MATCH(D2072,Отчет!$D$1:$D$65536,0)","v":51}]
[1956303526,10,"МБИ173",1937364177,"Сухова Ксения Игоревна","М171МБИИН063","Управление IT-сервисами",5,"Экзамен","2017/2018 учебный год 4 модуль",null,50,1,1,1722551595,2098,null,"Бизнес-информатика",{"$f":"MATCH(D2073,Отчет!$D$1:$D$65536,0)","v":77}]
[1956302437,10,"МБИ171",1937364220,"Бутченко Антон Олегович","М171МБИИН016","Управление IT-сервисами",5,"Экзамен","2017/2018 учебный год 4 модуль",null,50,1,1,1722551595,2098,null,"Бизнес-информатика",{"$f":"MATCH(D2074,Отчет!$D$1:$D$65536,0)","v":57}]
[1956303979,10,"МБИ173",1940751185,"Овсянникова Ольга Андреевна","М171МБИИН078","Управление IT-сервисами",5,"Экзамен","2017/2018 учебный год 4 модуль",null,50,1,0,1722551595,2098,null,"Бизнес-информатика",{"$f":"MATCH(D2075,Отчет!$D$1:$D$65536,0)","v":69}]
[1956302764,9,"МБИ172",1940815727,"Монгуш Алдын-Ай Владимировна","М171МБИИН076","Управление IT-сервисами",5,"Экзамен","2017/2018 учебный год 4 модуль",null,45,1,0,1722551595,2098,null,"Бизнес-информатика",{"$f":"MATCH(D2076,Отчет!$D$1:$D$65536,0)","v":104}]
[1956303821,10,"МБИ172",1940815787,"Музыка Наталия Константиновна","М171МБИИН077","Управление IT-сервисами",5,"Экзамен","2017/2018 учебный год 4 модуль",null,50,1,1,1722551595,2098,null,"Бизнес-информатика",{"$f":"MATCH(D2077,Отчет!$D$1:$D$65536,0)","v":31}]
[1956303275,9,"МБИ172",1940815800,"Кривенцов Феликс Константинович","М171МБИИН072","Управление IT-сервисами",5,"Экзамен","2017/2018 учебный год 4 модуль",null,45,1,1,1722551595,2098,null,"Бизнес-информатика",{"$f":"MATCH(D2078,Отчет!$D$1:$D$65536,0)","v":119}]
[1956304370,10,"МБИ172",1940815828,"Масалимов Тимур Ринатович","М171МБИИН073","Управление IT-сервисами",5,"Экзамен","2017/2018 учебный год 4 модуль",null,50,1,0,1722551595,2098,null,"Бизнес-информатика",{"$f":"MATCH(D2079,Отчет!$D$1:$D$65536,0)","v":123}]
[1956303570,9,"МБИ173",1941989079,"Феофанов Лев Андреевич","М171МБИИН092","Управление IT-сервисами",5,"Экзамен","2017/2018 учебный год 4 модуль",null,45,1,0,1722551595,2098,null,"Бизнес-информатика",{"$f":"MATCH(D2080,Отчет!$D$1:$D$65536,0)","v":172}]
[1956304196,7,"МБИ173",1941989095,"Сарычев Роман Владимирович","М171МБИИН091","Управление IT-сервисами",5,"Экзамен","2017/2018 учебный год 4 модуль",null,35,1,0,1722551595,2098,null,"Бизнес-информатика",{"$f":"MATCH(D2081,Отчет!$D$1:$D$65536,0)","v":134}]
[1956168451,10,"МБИ173",1941989108,"Рябов Дмитрий Валерьевич","М171МБИИН090","Управление IT-сервисами",5,"Экзамен","2017/2018 учебный год 4 модуль",null,50,1,1,1722551595,2098,null,"Бизнес-информатика",{"$f":"MATCH(D2082,Отчет!$D$1:$D$65536,0)","v":14}]
[1956304338,10,"МБИ172",1941989121,"Павлова Татьяна Михайловна","М171МБИИН089","Управление IT-сервисами",5,"Экзамен","2017/2018 учебный год 4 модуль",null,50,1,0,1722551595,2098,null,"Бизнес-информатика",{"$f":"MATCH(D2083,Отчет!$D$1:$D$65536,0)","v":15}]
[1956303346,7,"МБИ172",1941989134,"Морева Галина Сергеевна","М171МБИИН088","Управление IT-сервисами",5,"Экзамен","2017/2018 учебный год 4 модуль",null,35,1,0,1722551595,2098,null,"Бизнес-информатика",{"$f":"MATCH(D2084,Отчет!$D$1:$D$65536,0)","v":94}]
[1956301889,9,"МБИ172",1941989147,"Мингазов Аскар Альбертович","М171МБИИН087","Управление IT-сервисами",5,"Экзамен","2017/2018 учебный год 4 модуль",null,45,1,0,1722551595,2098,null,"Бизнес-информатика",{"$f":"MATCH(D2085,Отчет!$D$1:$D$65536,0)","v":171}]
[1956302262,7,"МБИ172",1941989160,"Мельникова Анастасия Игоревна","М171МБИИН086","Управление IT-сервисами",5,"Экзамен","2017/2018 учебный год 4 модуль",null,35,1,0,1722551595,2098,null,"Бизнес-информатика",{"$f":"MATCH(D2086,Отчет!$D$1:$D$65536,0)","v":46}]
[1956304469,10,"МБИ171",1941989199,"Бородко Вера Николаевна","М171МБИИН082","Управление IT-сервисами",5,"Экзамен","2017/2018 учебный год 4 модуль",null,50,1,0,1722551595,2098,null,"Бизнес-информатика",{"$f":"MATCH(D2087,Отчет!$D$1:$D$65536,0)","v":18}]
[1956302241,10,"МБИ173",1937363693,"Стогова Анастасия Германовна","М171МБИИН062","Управление IT-сервисами",5,"Экзамен","2017/2018 учебный год 4 модуль",null,50,1,1,1722551595,2098,null,"Бизнес-информатика",{"$f":"MATCH(D2088,Отчет!$D$1:$D$65536,0)","v":88}]
[1956303139,10,"МБИ171",1937363706,"Большаков Егор Максимович","М171МБИИН014","Управление IT-сервисами",5,"Экзамен","2017/2018 учебный год 4 модуль",null,50,1,1,1722551595,2098,null,"Бизнес-информатика",{"$f":"MATCH(D2089,Отчет!$D$1:$D$65536,0)","v":165}]
[1956303295,10,"МБИ171",1937363719,"Белов Григорий Игоревич","М171МБИИН010","Управление IT-сервисами",5,"Экзамен","2017/2018 учебный год 4 модуль",null,50,1,1,1722551595,2098,null,"Бизнес-информатика",{"$f":"MATCH(D2090,Отчет!$D$1:$D$65536,0)","v":162}]
[1956303454,10,"МБИ171",1937363732,"Богданов Кирилл Алексеевич","М171МБИИН012","Управление IT-сервисами",5,"Экзамен","2017/2018 учебный год 4 модуль",null,50,1,1,1722551595,2098,null,"Бизнес-информатика",{"$f":"MATCH(D2091,Отчет!$D$1:$D$65536,0)","v":128}]
[1956301917,10,"МБИ173",1937363758,"Ригин Алексей Алексеевич","М171МБИИН055","Управление IT-сервисами",5,"Экзамен","2017/2018 учебный год 4 модуль",null,50,1,1,1722551595,2098,null,"Бизнес-информатика",{"$f":"MATCH(D2092,Отчет!$D$1:$D$65536,0)","v":64}]
[1956304500,10,"МБИ172",1937363785,"Дунец Владислав Олегович","М171МБИИН027","Управление IT-сервисами",5,"Экзамен","2017/2018 учебный год 4 модуль",null,50,1,1,1722551595,2098,null,"Бизнес-информатика",{"$f":"MATCH(D2093,Отчет!$D$1:$D$65536,0)","v":145}]
[1956303876,10,"МБИ173",1937363798,"Пронин Никита Вадимович","М171МБИИН052","Управление IT-сервисами",5,"Экзамен","2017/2018 учебный год 4 модуль",null,50,1,1,1722551595,2098,null,"Бизнес-информатика",{"$f":"MATCH(D2094,Отчет!$D$1:$D$65536,0)","v":108}]
[1956304554,10,"МБИ171",1937363811,"Григорьева Юлия Сергеевна","М171МБИИН024","Управление IT-сервисами",5,"Экзамен","2017/2018 учебный год 4 модуль",null,50,1,1,1722551595,2098,null,"Бизнес-информатика",{"$f":"MATCH(D2095,Отчет!$D$1:$D$65536,0)","v":41}]
[1956304424,10,"МБИ172",1937363838,"Лиховцев Вадим Александрович","М171МБИИН041","Управление IT-сервисами",5,"Экзамен","2017/2018 учебный год 4 модуль",null,50,1,1,1722551595,2098,null,"Бизнес-информатика",{"$f":"MATCH(D2096,Отчет!$D$1:$D$65536,0)","v":68}]
[1956304083,10,"МБИ172",1937363865,"Лобач Петр Сергеевич","М171МБИИН042","Управление IT-сервисами",5,"Экзамен","2017/2018 учебный год 4 модуль",null,50,1,1,1722551595,2098,null,"Бизнес-информатика",{"$f":"MATCH(D2097,Отчет!$D$1:$D$65536,0)","v":143}]
[1956302982,10,"МБИ171",1937363878,"Андрюхина Дарья Сергеевна","М171МБИИН003","Управление IT-сервисами",5,"Экзамен","2017/2018 учебный год 4 модуль",null,50,1,1,1722551595,2098,null,"Бизнес-информатика",{"$f":"MATCH(D2098,Отчет!$D$1:$D$65536,0)","v":95}]
[1956302157,10,"МБИ172",1937363891,"Коновалова Аделина Евгеньевна","М171МБИИН037","Управление IT-сервисами",5,"Экзамен","2017/2018 учебный год 4 модуль",null,50,1,1,1722551595,2098,null,"Бизнес-информатика",{"$f":"MATCH(D2099,Отчет!$D$1:$D$65536,0)","v":91}]
[1956302079,9,"МБИ172",1937363917,"Мартынов Александр Дмитриевич","М171МБИИН044","Управление IT-сервисами",5,"Экзамен","2017/2018 учебный год 4 модуль",null,45,1,1,1722551595,2098,null,"Бизнес-информатика",{"$f":"MATCH(D2100,Отчет!$D$1:$D$65536,0)","v":167}]
[1956302511,10,"МБИ172",1937363957,"Ершова Александра Романовна","М171МБИИН028","Управление IT-сервисами",5,"Экзамен","2017/2018 учебный год 4 модуль",null,50,1,1,1722551595,2098,null,"Бизнес-информатика",{"$f":"MATCH(D2101,Отчет!$D$1:$D$65536,0)","v":138}]
[1956303951,10,"МБИ172",1937363970,"Лебедева Надежда Юрьевна","М171МБИИН040","Управление IT-сервисами",5,"Экзамен","2017/2018 учебный год 4 модуль",null,50,1,1,1722551595,2098,null,"Бизнес-информатика",{"$f":"MATCH(D2102,Отчет!$D$1:$D$65536,0)","v":135}]
[1956304309,10,"МБИ172",1937364001,"Калашников Сергей Владимирович","М171МБИИН030","Управление IT-сервисами",5,"Экзамен","2017/2018 учебный год 4 модуль",null,50,1,1,1722551595,2098,null,"Бизнес-информатика",{"$f":"MATCH(D2103,Отчет!$D$1:$D$65536,0)","v":50}]
[1956302217,10,"МБИ173",1937364016,"Чубаров Алексей Глебович","М171МБИИН069","Управление IT-сервисами",5,"Экзамен","2017/2018 учебный год 4 модуль",null,50,1,1,1722551595,2098,null,"Бизнес-информатика",{"$f":"MATCH(D2104,Отчет!$D$1:$D$65536,0)","v":131}]
[1956302291,10,"МБИ173",1937364031,"Полторак Анастасия Игоревна","М171МБИИН051","Управление IT-сервисами",5,"Экзамен","2017/2018 учебный год 4 модуль",null,50,1,1,1722551595,2098,null,"Бизнес-информатика",{"$f":"MATCH(D2105,Отчет!$D$1:$D$65536,0)","v":103}]
[1956334179,10,"МБИ171",1937364044,"Бондарь Сергей Борисович","М171МБИИН015","Управление IT-сервисами",5,"Экзамен","2017/2018 учебный год 4 модуль",null,50,1,1,1722551595,2098,null,"Бизнес-информатика",{"$f":"MATCH(D2106,Отчет!$D$1:$D$65536,0)","v":170}]
[1956304224,10,"МБИ171",1937364058,"Герасимов Станислав Александрович","М171МБИИН023","Управление IT-сервисами",5,"Экзамен","2017/2018 учебный год 4 модуль",null,50,1,1,1722551595,2098,null,"Бизнес-информатика",{"$f":"MATCH(D2107,Отчет!$D$1:$D$65536,0)","v":140}]
[1956302185,10,"МБИ171",1937364084,"Гареев Артем Фаридович","М171МБИИН022","Управление IT-сервисами",5,"Экзамен","2017/2018 учебный год 4 модуль",null,50,1,1,1722551595,2098,null,"Бизнес-информатика",{"$f":"MATCH(D2108,Отчет!$D$1:$D$65536,0)","v":148}]
[1956303247,8,"МБИ171",1937363332,"Войнов Евгений Вадимович","М171МБИИН018","Управление IT-сервисами",5,"Экзамен","2017/2018 учебный год 4 модуль",null,40,1,1,1722551595,2098,null,"Бизнес-информатика",{"$f":"MATCH(D2109,Отчет!$D$1:$D$65536,0)","v":35}]
[1956302018,10,"МБИ173",1937363359,"Юдин Андрей Анатольевич","М171МБИИН070","Управление IT-сервисами",5,"Экзамен","2017/2018 учебный год 4 модуль",null,50,1,1,1722551595,2098,null,"Бизнес-информатика",{"$f":"MATCH(D2110,Отчет!$D$1:$D$65536,0)","v":132}]
[1956303643,9,"МБИ172",1937363372,"Карасев Михаил Николаевич","М171МБИИН031","Управление IT-сервисами",5,"Экзамен","2017/2018 учебный год 4 модуль",null,45,1,1,1722551595,2098,null,"Бизнес-информатика",{"$f":"MATCH(D2111,Отчет!$D$1:$D$65536,0)","v":169}]
[1956302127,10,"МБИ173",1937363386,"Сафохин Андрей Дмитриевич","М171МБИИН058","Управление IT-сервисами",5,"Экзамен","2017/2018 учебный год 4 модуль",null,50,1,1,1722551595,2098,null,"Бизнес-информатика",{"$f":"MATCH(D2112,Отчет!$D$1:$D$65536,0)","v":26}]
[1956303424,10,"МБИ173",1937363399,"Токарев Иван Максимович","М171МБИИН065","Управление IT-сервисами",5,"Экзамен","2017/2018 учебный год 4 модуль",null,50,1,1,1722551595,2098,null,"Бизнес-информатика",{"$f":"MATCH(D2113,Отчет!$D$1:$D$65536,0)","v":73}]
[1956303079,10,"МБИ173",1937363413,"Салтыкова Екатерина Андреевна","М171МБИИН057","Управление IT-сервисами",5,"Экзамен","2017/2018 учебный год 4 модуль",null,50,1,1,1722551595,2098,null,"Бизнес-информатика",{"$f":"MATCH(D2114,Отчет!$D$1:$D$65536,0)","v":74}]
[1956303699,9,"МБИ171",1937363441,"Бардакова Мария Вячеславовна","М171МБИИН008","Управление IT-сервисами",5,"Экзамен","2017/2018 учебный год 4 модуль",null,45,1,1,1722551595,2098,null,"Бизнес-информатика",{"$f":"MATCH(D2115,Отчет!$D$1:$D$65536,0)","v":129}]
[1956303847,10,"МБИ173",1937363469,"Пронин Никита Павлович","М171МБИИН053","Управление IT-сервисами",5,"Экзамен","2017/2018 учебный год 4 модуль",null,50,1,1,1722551595,2098,null,"Бизнес-информатика",{"$f":"MATCH(D2116,Отчет!$D$1:$D$65536,0)","v":126}]
[1956303771,8,"МБИ171",1937363482,"Гайнутдинов Наиль Анварович","М171МБИИН020","Управление IT-сервисами",5,"Экзамен","2017/2018 учебный год 4 модуль",null,40,1,1,1722551595,2098,null,"Бизнес-информатика",{"$f":"MATCH(D2117,Отчет!$D$1:$D$65536,0)","v":159}]
[1956302570,8,"МБИ172",1937363509,"Колесникова Анна Сергеевна","М171МБИИН035","Управление IT-сервисами",5,"Экзамен","2017/2018 учебный год 4 модуль",null,40,1,1,1722551595,2098,null,"Бизнес-информатика",{"$f":"MATCH(D2118,Отчет!$D$1:$D$65536,0)","v":161}]
[1956302410,10,"МБИ171",1937363535,"Бегларян Амалия Мгеровна","М171МБИИН009","Управление IT-сервисами",5,"Экзамен","2017/2018 учебный год 4 модуль",null,50,1,1,1722551595,2098,null,"Бизнес-информатика",{"$f":"MATCH(D2119,Отчет!$D$1:$D$65536,0)","v":113}]
[1956303394,10,"МБИ173",1937363561,"Сиднев Игорь Дмитриевич","М171МБИИН060","Управление IT-сервисами",5,"Экзамен","2017/2018 учебный год 4 модуль",null,50,1,1,1722551595,2098,null,"Бизнес-информатика",{"$f":"MATCH(D2120,Отчет!$D$1:$D$65536,0)","v":117}]
[1956304396,10,"МБИ173",1937363574,"Паймакова Татьяна Сергеевна","М171МБИИН049","Управление IT-сервисами",5,"Экзамен","2017/2018 учебный год 4 модуль",null,50,1,1,1722551595,2098,null,"Бизнес-информатика",{"$f":"MATCH(D2121,Отчет!$D$1:$D$65536,0)","v":156}]
[1956304444,10,"МБИ173",1937363587,"Новицкая Валерия Андреевна","М171МБИИН048","Управление IT-сервисами",5,"Экзамен","2017/2018 учебный год 4 модуль",null,50,1,1,1722551595,2098,null,"Бизнес-информатика",{"$f":"MATCH(D2122,Отчет!$D$1:$D$65536,0)","v":54}]
[1956303723,10,"МБИ172",1937363600,"Конова Марина Валерьевна","М171МБИИН036","Управление IT-сервисами",5,"Экзамен","2017/2018 учебный год 4 модуль",null,50,1,1,1722551595,2098,null,"Бизнес-информатика",{"$f":"MATCH(D2123,Отчет!$D$1:$D$65536,0)","v":23}]
[1956302319,10,"МБИ173",1937363613,"Улямаев Альберт Ирекович","М171МБИИН066","Управление IT-сервисами",5,"Экзамен","2017/2018 учебный год 4 модуль",null,50,1,1,1722551595,2098,null,"Бизнес-информатика",{"$f":"MATCH(D2124,Отчет!$D$1:$D$65536,0)","v":82}]
[1956302873,10,"МБИ171",1937363639,"Волков Даниил Андреевич","М171МБИИН019","Управление IT-сервисами",5,"Экзамен","2017/2018 учебный год 4 модуль",null,50,1,1,1722551595,2098,null,"Бизнес-информатика",{"$f":"MATCH(D2125,Отчет!$D$1:$D$65536,0)","v":174}]
[1959039751,null,null,1937363653,"Агарков Ярослав Алексеевич","М171МБИИН001","Управление IT-сервисами",5,"Экзамен","2017/2018 учебный год 4 модуль",0,0,null,1,1722551595,2098,null,"Бизнес-информатика",{"$f":"MATCH(D2126,Отчет!$D$1:$D$65536,0)","v":179}]
[1956302055,10,"МБИ172",1937363666,"Захаров Алексей Александрович","М171МБИИН029","Управление IT-сервисами",5,"Экзамен","2017/2018 учебный год 4 модуль",null,50,1,1,1722551595,2098,null,"Бизнес-информатика",{"$f":"MATCH(D2127,Отчет!$D$1:$D$65536,0)","v":72}]
[1942059841,7,"МБИ171",1942008650,"Гареев Эмиль Хамидович","М171МБИИН085","Управление внедрением информационных систем",6,"Экзамен","2017/2018 учебный год 4 модуль",null,42,1,1,1722551595,2098,null,"Бизнес-информатика",{"$f":"MATCH(D2128,Отчет!$D$1:$D$65536,0)","v":144}]
[1945325294,10,"МБИ171",1944931265,"Бытка Дарья","М171МБИИН093","Управление внедрением информационных систем",6,"Экзамен","2017/2018 учебный год 4 модуль",null,60,1,1,1722551595,2098,null,"Бизнес-информатика",{"$f":"MATCH(D2129,Отчет!$D$1:$D$65536,0)","v":22}]
[1945325343,4,"МБИ173",1944935723,"Ким Анатолий","М171МБИИН095","Управление внедрением информационных систем",6,"Экзамен","2017/2018 учебный год 4 модуль",null,24,1,0,1722551595,2098,null,"Бизнес-информатика",{"$f":"MATCH(D2130,Отчет!$D$1:$D$65536,0)","v":176}]
[1945325317,10,"МБИ172",1944939253,"Вовк Иларион Анатольевич","М171МБИИН094","Управление внедрением информационных систем",6,"Экзамен","2017/2018 учебный год 4 модуль",null,60,1,0,1722551595,2098,null,"Бизнес-информатика",{"$f":"MATCH(D2131,Отчет!$D$1:$D$65536,0)","v":98}]
[1946036824,7,"МБИ173",1945753603,"Пак Александр Сергеевич","М171МБИИН096","Управление внедрением информационных систем",6,"Экзамен","2017/2018 учебный год 4 модуль",null,42,1,0,1722551595,2098,null,"Бизнес-информатика",{"$f":"MATCH(D2132,Отчет!$D$1:$D$65536,0)","v":114}]
[1947206529,4,"МБИ172",1947090330,"Варданян Карен Оганесович","М171МБИИН097","Управление внедрением информационных систем",6,"Экзамен","2017/2018 учебный год 4 модуль",null,24,1,1,1722551595,2098,null,"Бизнес-информатика",{"$f":"MATCH(D2133,Отчет!$D$1:$D$65536,0)","v":175}]
[2162837193,6,"МБИ173",2162833425,"Майборода Кирилл Алексеевич","М161МБИИН048","Управление внедрением информационных систем",6,"Экзамен","2017/2018 учебный год 4 модуль",null,36,1,1,1722551595,2098,null,"Бизнес-информатика",{"$f":"MATCH(D2134,Отчет!$D$1:$D$65536,0)","v":122}]
[1937426927,7,"МБИ171",1937364123,"Вишняков Азим Азимович","М171МБИИН017","Управление внедрением информационных систем",6,"Экзамен","2017/2018 учебный год 4 модуль",null,42,1,1,1722551595,2098,null,"Бизнес-информатика",{"$f":"MATCH(D2135,Отчет!$D$1:$D$65536,0)","v":80}]
[1937427679,8,"МБИ172",1937364137,"Медведева Мария Вячеславовна","М171МБИИН045","Управление внедрением информационных систем",6,"Экзамен","2017/2018 учебный год 4 модуль",null,48,1,1,1722551595,2098,null,"Бизнес-информатика",{"$f":"MATCH(D2136,Отчет!$D$1:$D$65536,0)","v":51}]
[1937427702,8,"МБИ172",1937364163,"Миллер Кирилл Александрович","М171МБИИН046","Управление внедрением информационных систем",6,"Экзамен","2017/2018 учебный год 4 модуль",null,48,1,1,1722551595,2098,null,"Бизнес-информатика",{"$f":"MATCH(D2137,Отчет!$D$1:$D$65536,0)","v":79}]
[1937428109,8,"МБИ173",1937364177,"Сухова Ксения Игоревна","М171МБИИН063","Управление внедрением информационных систем",6,"Экзамен","2017/2018 учебный год 4 модуль",null,48,1,1,1722551595,2098,null,"Бизнес-информатика",{"$f":"MATCH(D2138,Отчет!$D$1:$D$65536,0)","v":77}]
[1937428005,6,"МБИ173",1937364192,"Семенова Элина Михайловна","М171МБИИН059","Управление внедрением информационных систем",6,"Экзамен","2017/2018 учебный год 4 модуль",null,36,1,1,1722551595,2098,null,"Бизнес-информатика",{"$f":"MATCH(D2139,Отчет!$D$1:$D$65536,0)","v":160}]
[1937426900,7,"МБИ171",1937364220,"Бутченко Антон Олегович","М171МБИИН016","Управление внедрением информационных систем",6,"Экзамен","2017/2018 учебный год 4 модуль",null,42,1,1,1722551595,2098,null,"Бизнес-информатика",{"$f":"MATCH(D2140,Отчет!$D$1:$D$65536,0)","v":57}]
[1940908670,10,"МБИ172",1940750974,"Мирской Александр Леонидович","М171МБИИН075","Управление внедрением информационных систем",6,"Экзамен","2017/2018 учебный год 4 модуль",null,60,1,0,1722551595,2098,null,"Бизнес-информатика",{"$f":"MATCH(D2141,Отчет!$D$1:$D$65536,0)","v":29}]
[1940908732,6,"МБИ173",1940751185,"Овсянникова Ольга Андреевна","М171МБИИН078","Управление внедрением информационных систем",6,"Экзамен","2017/2018 учебный год 4 модуль",null,36,1,0,1722551595,2098,null,"Бизнес-информатика",{"$f":"MATCH(D2142,Отчет!$D$1:$D$65536,0)","v":69}]
[1940908691,8,"МБИ172",1940815727,"Монгуш Алдын-Ай Владимировна","М171МБИИН076","Управление внедрением информационных систем",6,"Экзамен","2017/2018 учебный год 4 модуль",null,48,1,0,1722551595,2098,null,"Бизнес-информатика",{"$f":"MATCH(D2143,Отчет!$D$1:$D$65536,0)","v":104}]
[1940908928,6,"МБИ173",1940815743,"Шумилин Дмитрий Станиславович","М171МБИИН080","Управление внедрением информационных систем",6,"Экзамен","2017/2018 учебный год 4 модуль",null,36,1,0,1722551595,2098,null,"Бизнес-информатика",{"$f":"MATCH(D2144,Отчет!$D$1:$D$65536,0)","v":150}]
[1940908957,9,"МБИ173",1940815759,"Щеголев Андрей Александрович","М171МБИИН081","Управление внедрением информационных систем",6,"Экзамен","2017/2018 учебный год 4 модуль",null,54,1,1,1722551595,2098,null,"Бизнес-информатика",{"$f":"MATCH(D2145,Отчет!$D$1:$D$65536,0)","v":87}]
[1940908642,8,"МБИ172",1940815773,"Матвиенко Андрей Кириллович","М171МБИИН074","Управление внедрением информационных систем",6,"Экзамен","2017/2018 учебный год 4 модуль",null,48,1,1,1722551595,2098,null,"Бизнес-информатика",{"$f":"MATCH(D2146,Отчет!$D$1:$D$65536,0)","v":38}]
[1940908711,9,"МБИ172",1940815787,"Музыка Наталия Константиновна","М171МБИИН077","Управление внедрением информационных систем",6,"Экзамен","2017/2018 учебный год 4 модуль",null,54,1,1,1722551595,2098,null,"Бизнес-информатика",{"$f":"MATCH(D2147,Отчет!$D$1:$D$65536,0)","v":31}]
[1940908594,8,"МБИ172",1940815800,"Кривенцов Феликс Константинович","М171МБИИН072","Управление внедрением информационных систем",6,"Экзамен","2017/2018 учебный год 4 модуль",null,48,1,1,1722551595,2098,null,"Бизнес-информатика",{"$f":"MATCH(D2148,Отчет!$D$1:$D$65536,0)","v":119}]
[1940908753,8,"МБИ173",1940815815,"Шпилевская Наталья Викторовна","М171МБИИН079","Управление внедрением информационных систем",6,"Экзамен","2017/2018 учебный год 4 модуль",null,48,1,0,1722551595,2098,null,"Бизнес-информатика",{"$f":"MATCH(D2149,Отчет!$D$1:$D$65536,0)","v":155}]
[1940908622,7,"МБИ172",1940815828,"Масалимов Тимур Ринатович","М171МБИИН073","Управление внедрением информационных систем",6,"Экзамен","2017/2018 учебный год 4 модуль",null,42,1,0,1722551595,2098,null,"Бизнес-информатика",{"$f":"MATCH(D2150,Отчет!$D$1:$D$65536,0)","v":123}]
[1940908574,6,"МБИ171",1940815842,"Дворяшин Дмитрий Александрович","М171МБИИН071","Управление внедрением информационных систем",6,"Экзамен","2017/2018 учебный год 4 модуль",null,36,1,0,1722551595,2098,null,"Бизнес-информатика",{"$f":"MATCH(D2151,Отчет!$D$1:$D$65536,0)","v":166}]
[1952080366,4,"МБИ173",1941989079,"Феофанов Лев Андреевич","М171МБИИН092","Управление внедрением информационных систем",6,"Экзамен","2017/2018 учебный год 4 модуль",null,24,1,0,1722551595,2098,null,"Бизнес-информатика",{"$f":"MATCH(D2152,Отчет!$D$1:$D$65536,0)","v":172}]
[1952078186,4,"МБИ173",1941989095,"Сарычев Роман Владимирович","М171МБИИН091","Управление внедрением информационных систем",6,"Экзамен","2017/2018 учебный год 4 модуль",null,24,1,0,1722551595,2098,null,"Бизнес-информатика",{"$f":"MATCH(D2153,Отчет!$D$1:$D$65536,0)","v":134}]
[1952076831,10,"МБИ173",1941989108,"Рябов Дмитрий Валерьевич","М171МБИИН090","Управление внедрением информационных систем",6,"Экзамен","2017/2018 учебный год 4 модуль",null,60,1,1,1722551595,2098,null,"Бизнес-информатика",{"$f":"MATCH(D2154,Отчет!$D$1:$D$65536,0)","v":14}]
[1942059929,9,"МБИ172",1941989121,"Павлова Татьяна Михайловна","М171МБИИН089","Управление внедрением информационных систем",6,"Экзамен","2017/2018 учебный год 4 модуль",null,54,1,0,1722551595,2098,null,"Бизнес-информатика",{"$f":"MATCH(D2155,Отчет!$D$1:$D$65536,0)","v":15}]
[1942059907,6,"МБИ172",1941989134,"Морева Галина Сергеевна","М171МБИИН088","Управление внедрением информационных систем",6,"Экзамен","2017/2018 учебный год 4 модуль",null,36,1,0,1722551595,2098,null,"Бизнес-информатика",{"$f":"MATCH(D2156,Отчет!$D$1:$D$65536,0)","v":94}]
[1942059883,5,"МБИ172",1941989147,"Мингазов Аскар Альбертович","М171МБИИН087","Управление внедрением информационных систем",6,"Экзамен","2017/2018 учебный год 4 модуль",null,30,1,0,1722551595,2098,null,"Бизнес-информатика",{"$f":"MATCH(D2157,Отчет!$D$1:$D$65536,0)","v":171}]
[1942059862,6,"МБИ172",1941989160,"Мельникова Анастасия Игоревна","М171МБИИН086","Управление внедрением информационных систем",6,"Экзамен","2017/2018 учебный год 4 модуль",null,36,1,0,1722551595,2098,null,"Бизнес-информатика",{"$f":"MATCH(D2158,Отчет!$D$1:$D$65536,0)","v":46}]
[1942059775,8,"МБИ171",1941989199,"Бородко Вера Николаевна","М171МБИИН082","Управление внедрением информационных систем",6,"Экзамен","2017/2018 учебный год 4 модуль",null,48,1,0,1722551595,2098,null,"Бизнес-информатика",{"$f":"MATCH(D2159,Отчет!$D$1:$D$65536,0)","v":18}]
[1937426841,4,"МБИ171",1937363706,"Большаков Егор Максимович","М171МБИИН014","Управление внедрением информационных систем",6,"Экзамен","2017/2018 учебный год 4 модуль",null,24,1,1,1722551595,2098,null,"Бизнес-информатика",{"$f":"MATCH(D2160,Отчет!$D$1:$D$65536,0)","v":165}]
[1937426742,4,"МБИ171",1937363719,"Белов Григорий Игоревич","М171МБИИН010","Управление внедрением информационных систем",6,"Экзамен","2017/2018 учебный год 4 модуль",null,24,1,1,1722551595,2098,null,"Бизнес-информатика",{"$f":"MATCH(D2161,Отчет!$D$1:$D$65536,0)","v":162}]
[1937426793,6,"МБИ171",1937363732,"Богданов Кирилл Алексеевич","М171МБИИН012","Управление внедрением информационных систем",6,"Экзамен","2017/2018 учебный год 4 модуль",null,36,1,1,1722551595,2098,null,"Бизнес-информатика",{"$f":"MATCH(D2162,Отчет!$D$1:$D$65536,0)","v":128}]
[1937426574,8,"МБИ171",1937363745,"Антонова Анастасия Романовна","М171МБИИН004","Управление внедрением информационных систем",6,"Экзамен","2017/2018 учебный год 4 модуль",null,48,1,1,1722551595,2098,null,"Бизнес-информатика",{"$f":"MATCH(D2163,Отчет!$D$1:$D$65536,0)","v":124}]
[1937427918,8,"МБИ173",1937363758,"Ригин Алексей Алексеевич","М171МБИИН055","Управление внедрением информационных систем",6,"Экзамен","2017/2018 учебный год 4 модуль",null,48,1,1,1722551595,2098,null,"Бизнес-информатика",{"$f":"MATCH(D2164,Отчет!$D$1:$D$65536,0)","v":64}]
[1937427210,7,"МБИ172",1937363785,"Дунец Владислав Олегович","М171МБИИН027","Управление внедрением информационных систем",6,"Экзамен","2017/2018 учебный год 4 модуль",null,42,1,1,1722551595,2098,null,"Бизнес-информатика",{"$f":"MATCH(D2165,Отчет!$D$1:$D$65536,0)","v":145}]
[1937427854,6,"МБИ173",1937363798,"Пронин Никита Вадимович","М171МБИИН052","Управление внедрением информационных систем",6,"Экзамен","2017/2018 учебный год 4 модуль",null,36,1,1,1722551595,2098,null,"Бизнес-информатика",{"$f":"MATCH(D2166,Отчет!$D$1:$D$65536,0)","v":108}]
[1937427128,8,"МБИ171",1937363811,"Григорьева Юлия Сергеевна","М171МБИИН024","Управление внедрением информационных систем",6,"Экзамен","2017/2018 учебный год 4 модуль",null,48,1,1,1722551595,2098,null,"Бизнес-информатика",{"$f":"MATCH(D2167,Отчет!$D$1:$D$65536,0)","v":41}]
[1937427581,10,"МБИ172",1937363838,"Лиховцев Вадим Александрович","М171МБИИН041","Управление внедрением информационных систем",6,"Экзамен","2017/2018 учебный год 4 модуль",null,60,1,1,1722551595,2098,null,"Бизнес-информатика",{"$f":"MATCH(D2168,Отчет!$D$1:$D$65536,0)","v":68}]
[1937426652,8,"МБИ171",1937363851,"Бадаева Мария Мингияновна","М171МБИИН007","Управление внедрением информационных систем",6,"Экзамен","2017/2018 учебный год 4 модуль",null,48,1,1,1722551595,2098,null,"Бизнес-информатика",{"$f":"MATCH(D2169,Отчет!$D$1:$D$65536,0)","v":153}]
[1937427604,6,"МБИ172",1937363865,"Лобач Петр Сергеевич","М171МБИИН042","Управление внедрением информационных систем",6,"Экзамен","2017/2018 учебный год 4 модуль",null,36,1,1,1722551595,2098,null,"Бизнес-информатика",{"$f":"MATCH(D2170,Отчет!$D$1:$D$65536,0)","v":143}]
[1937426550,8,"МБИ171",1937363878,"Андрюхина Дарья Сергеевна","М171МБИИН003","Управление внедрением информационных систем",6,"Экзамен","2017/2018 учебный год 4 модуль",null,48,1,1,1722551595,2098,null,"Бизнес-информатика",{"$f":"MATCH(D2171,Отчет!$D$1:$D$65536,0)","v":95}]
[1937427491,8,"МБИ172",1937363891,"Коновалова Аделина Евгеньевна","М171МБИИН037","Управление внедрением информационных систем",6,"Экзамен","2017/2018 учебный год 4 модуль",null,48,1,1,1722551595,2098,null,"Бизнес-информатика",{"$f":"MATCH(D2172,Отчет!$D$1:$D$65536,0)","v":91}]
[1937426767,8,"МБИ171",1937363904,"Белова Евгения Александровна","М171МБИИН011","Управление внедрением информационных систем",6,"Экзамен","2017/2018 учебный год 4 модуль",null,48,1,1,1722551595,2098,null,"Бизнес-информатика",{"$f":"MATCH(D2173,Отчет!$D$1:$D$65536,0)","v":83}]
[1937427650,5,"МБИ172",1937363917,"Мартынов Александр Дмитриевич","М171МБИИН044","Управление внедрением информационных систем",6,"Экзамен","2017/2018 учебный год 4 модуль",null,30,1,1,1722551595,2098,null,"Бизнес-информатика",{"$f":"MATCH(D2174,Отчет!$D$1:$D$65536,0)","v":167}]
[1937426619,9,"МБИ171",1937363930,"Бабанов Павел Александрович","М171МБИИН006","Управление внедрением информационных систем",6,"Экзамен","2017/2018 учебный год 4 модуль",null,54,1,1,1722551595,2098,null,"Бизнес-информатика",{"$f":"MATCH(D2175,Отчет!$D$1:$D$65536,0)","v":152}]
[1937426597,6,"МБИ171",1937363943,"Антонова Софья Глебовна","М171МБИИН005","Управление внедрением информационных систем",6,"Экзамен","2017/2018 учебный год 4 модуль",null,36,1,1,1722551595,2098,null,"Бизнес-информатика",{"$f":"MATCH(D2176,Отчет!$D$1:$D$65536,0)","v":164}]
[1937427244,8,"МБИ172",1937363957,"Ершова Александра Романовна","М171МБИИН028","Управление внедрением информационных систем",6,"Экзамен","2017/2018 учебный год 4 модуль",null,48,1,1,1722551595,2098,null,"Бизнес-информатика",{"$f":"MATCH(D2177,Отчет!$D$1:$D$65536,0)","v":138}]
[1937427558,8,"МБИ172",1937363970,"Лебедева Надежда Юрьевна","М171МБИИН040","Управление внедрением информационных систем",6,"Экзамен","2017/2018 учебный год 4 модуль",null,48,1,1,1722551595,2098,null,"Бизнес-информатика",{"$f":"MATCH(D2178,Отчет!$D$1:$D$65536,0)","v":135}]
[1937427386,6,"МБИ172",1937363986,"Китайкина Мария Алексеевна","М171МБИИН033","Управление внедрением информационных систем",6,"Экзамен","2017/2018 учебный год 4 модуль",null,36,1,1,1722551595,2098,null,"Бизнес-информатика",{"$f":"MATCH(D2179,Отчет!$D$1:$D$65536,0)","v":163}]
[1937427304,9,"МБИ172",1937364001,"Калашников Сергей Владимирович","М171МБИИН030","Управление внедрением информационных систем",6,"Экзамен","2017/2018 учебный год 4 модуль",null,54,1,1,1722551595,2098,null,"Бизнес-информатика",{"$f":"MATCH(D2180,Отчет!$D$1:$D$65536,0)","v":50}]
[1937428250,7,"МБИ173",1937364016,"Чубаров Алексей Глебович","М171МБИИН069","Управление внедрением информационных систем",6,"Экзамен","2017/2018 учебный год 4 модуль",null,42,1,1,1722551595,2098,null,"Бизнес-информатика",{"$f":"MATCH(D2181,Отчет!$D$1:$D$65536,0)","v":131}]
[1937427833,9,"МБИ173",1937364031,"Полторак Анастасия Игоревна","М171МБИИН051","Управление внедрением информационных систем",6,"Экзамен","2017/2018 учебный год 4 модуль",null,54,1,1,1722551595,2098,null,"Бизнес-информатика",{"$f":"MATCH(D2182,Отчет!$D$1:$D$65536,0)","v":103}]
[1937426869,4,"МБИ171",1937364044,"Бондарь Сергей Борисович","М171МБИИН015","Управление внедрением информационных систем",6,"Экзамен","2017/2018 учебный год 4 модуль",null,24,1,1,1722551595,2098,null,"Бизнес-информатика",{"$f":"MATCH(D2183,Отчет!$D$1:$D$65536,0)","v":170}]
[1937427096,7,"МБИ171",1937364058,"Герасимов Станислав Александрович","М171МБИИН023","Управление внедрением информационных систем",6,"Экзамен","2017/2018 учебный год 4 модуль",null,42,1,1,1722551595,2098,null,"Бизнес-информатика",{"$f":"MATCH(D2184,Отчет!$D$1:$D$65536,0)","v":140}]
[1937427358,9,"МБИ172",1937364071,"Карнаух Егор Сергеевич","М171МБИИН032","Управление внедрением информационных систем",6,"Экзамен","2017/2018 учебный год 4 модуль",null,54,1,1,1722551595,2098,null,"Бизнес-информатика",{"$f":"MATCH(D2185,Отчет!$D$1:$D$65536,0)","v":65}]
[1937427062,5,"МБИ171",1937364084,"Гареев Артем Фаридович","М171МБИИН022","Управление внедрением информационных систем",6,"Экзамен","2017/2018 учебный год 4 модуль",null,30,1,1,1722551595,2098,null,"Бизнес-информатика",{"$f":"MATCH(D2186,Отчет!$D$1:$D$65536,0)","v":148}]
[1937427415,8,"МБИ172",1937364110,"Клименко Екатерина Андреевна","М171МБИИН034","Управление внедрением информационных систем",6,"Экзамен","2017/2018 учебный год 4 модуль",null,48,1,1,1722551595,2098,null,"Бизнес-информатика",{"$f":"MATCH(D2187,Отчет!$D$1:$D$65536,0)","v":28}]
[1937426952,8,"МБИ171",1937363332,"Войнов Евгений Вадимович","М171МБИИН018","Управление внедрением информационных систем",6,"Экзамен","2017/2018 учебный год 4 модуль",null,48,1,1,1722551595,2098,null,"Бизнес-информатика",{"$f":"MATCH(D2188,Отчет!$D$1:$D$65536,0)","v":35}]
[1937427897,8,"МБИ173",1937363345,"Пьянов Родион Альбертович","М171МБИИН054","Управление внедрением информационных систем",6,"Экзамен","2017/2018 учебный год 4 модуль",null,48,1,1,1722551595,2098,null,"Бизнес-информатика",{"$f":"MATCH(D2189,Отчет!$D$1:$D$65536,0)","v":149}]
[1937428270,6,"МБИ173",1937363359,"Юдин Андрей Анатольевич","М171МБИИН070","Управление внедрением информационных систем",6,"Экзамен","2017/2018 учебный год 4 модуль",null,36,1,1,1722551595,2098,null,"Бизнес-информатика",{"$f":"MATCH(D2190,Отчет!$D$1:$D$65536,0)","v":132}]
[1937427330,4,"МБИ172",1937363372,"Карасев Михаил Николаевич","М171МБИИН031","Управление внедрением информационных систем",6,"Экзамен","2017/2018 учебный год 4 модуль",null,24,1,1,1722551595,2098,null,"Бизнес-информатика",{"$f":"MATCH(D2191,Отчет!$D$1:$D$65536,0)","v":169}]
[1937427983,8,"МБИ173",1937363386,"Сафохин Андрей Дмитриевич","М171МБИИН058","Управление внедрением информационных систем",6,"Экзамен","2017/2018 учебный год 4 модуль",null,48,1,1,1722551595,2098,null,"Бизнес-информатика",{"$f":"MATCH(D2192,Отчет!$D$1:$D$65536,0)","v":26}]
[1937428155,10,"МБИ173",1937363399,"Токарев Иван Максимович","М171МБИИН065","Управление внедрением информационных систем",6,"Экзамен","2017/2018 учебный год 4 модуль",null,60,1,1,1722551595,2098,null,"Бизнес-информатика",{"$f":"MATCH(D2193,Отчет!$D$1:$D$65536,0)","v":73}]
[1937427961,8,"МБИ173",1937363413,"Салтыкова Екатерина Андреевна","М171МБИИН057","Управление внедрением информационных систем",6,"Экзамен","2017/2018 учебный год 4 модуль",null,48,1,1,1722551595,2098,null,"Бизнес-информатика",{"$f":"MATCH(D2194,Отчет!$D$1:$D$65536,0)","v":74}]
[1937426684,6,"МБИ171",1937363441,"Бардакова Мария Вячеславовна","М171МБИИН008","Управление внедрением информационных систем",6,"Экзамен","2017/2018 учебный год 4 модуль",null,36,1,1,1722551595,2098,null,"Бизнес-информатика",{"$f":"MATCH(D2195,Отчет!$D$1:$D$65536,0)","v":129}]
[1937427876,8,"МБИ173",1937363469,"Пронин Никита Павлович","М171МБИИН053","Управление внедрением информационных систем",6,"Экзамен","2017/2018 учебный год 4 модуль",null,48,1,1,1722551595,2098,null,"Бизнес-информатика",{"$f":"MATCH(D2196,Отчет!$D$1:$D$65536,0)","v":126}]
[1937427012,8,"МБИ171",1937363482,"Гайнутдинов Наиль Анварович","М171МБИИН020","Управление внедрением информационных систем",6,"Экзамен","2017/2018 учебный год 4 модуль",null,48,1,1,1722551595,2098,null,"Бизнес-информатика",{"$f":"MATCH(D2197,Отчет!$D$1:$D$65536,0)","v":159}]
[1937428227,9,"МБИ173",1937363495,"Черепнина Дарья Олеговна","М171МБИИН068","Управление внедрением информационных систем",6,"Экзамен","2017/2018 учебный год 4 модуль",null,54,1,1,1722551595,2098,null,"Бизнес-информатика",{"$f":"MATCH(D2198,Отчет!$D$1:$D$65536,0)","v":67}]
[1937427439,7,"МБИ172",1937363509,"Колесникова Анна Сергеевна","М171МБИИН035","Управление внедрением информационных систем",6,"Экзамен","2017/2018 учебный год 4 модуль",null,42,1,1,1722551595,2098,null,"Бизнес-информатика",{"$f":"MATCH(D2199,Отчет!$D$1:$D$65536,0)","v":161}]
[1937426818,8,"МБИ171",1937363522,"Богданов Павел Владимирович","М171МБИИН013","Управление внедрением информационных систем",6,"Экзамен","2017/2018 учебный год 4 модуль",null,48,1,1,1722551595,2098,null,"Бизнес-информатика",{"$f":"MATCH(D2200,Отчет!$D$1:$D$65536,0)","v":92}]
[1937426713,9,"МБИ171",1937363535,"Бегларян Амалия Мгеровна","М171МБИИН009","Управление внедрением информационных систем",6,"Экзамен","2017/2018 учебный год 4 модуль",null,54,1,1,1722551595,2098,null,"Бизнес-информатика",{"$f":"MATCH(D2201,Отчет!$D$1:$D$65536,0)","v":113}]
[1937427036,6,"МБИ171",1937363548,"Галков Алексей Александрович","М171МБИИН021","Управление внедрением информационных систем",6,"Экзамен","2017/2018 учебный год 4 модуль",null,36,1,1,1722551595,2098,null,"Бизнес-информатика",{"$f":"MATCH(D2202,Отчет!$D$1:$D$65536,0)","v":173}]
[1937428032,8,"МБИ173",1937363561,"Сиднев Игорь Дмитриевич","М171МБИИН060","Управление внедрением информационных систем",6,"Экзамен","2017/2018 учебный год 4 модуль",null,48,1,1,1722551595,2098,null,"Бизнес-информатика",{"$f":"MATCH(D2203,Отчет!$D$1:$D$65536,0)","v":117}]
[1937427774,4,"МБИ173",1937363574,"Паймакова Татьяна Сергеевна","М171МБИИН049","Управление внедрением информационных систем",6,"Экзамен","2017/2018 учебный год 4 модуль",null,24,1,1,1722551595,2098,null,"Бизнес-информатика",{"$f":"MATCH(D2204,Отчет!$D$1:$D$65536,0)","v":156}]
[1937427751,8,"МБИ173",1937363587,"Новицкая Валерия Андреевна","М171МБИИН048","Управление внедрением информационных систем",6,"Экзамен","2017/2018 учебный год 4 модуль",null,48,1,1,1722551595,2098,null,"Бизнес-информатика",{"$f":"MATCH(D2205,Отчет!$D$1:$D$65536,0)","v":54}]
[1937427469,8,"МБИ172",1937363600,"Конова Марина Валерьевна","М171МБИИН036","Управление внедрением информационных систем",6,"Экзамен","2017/2018 учебный год 4 модуль",null,48,1,1,1722551595,2098,null,"Бизнес-информатика",{"$f":"MATCH(D2206,Отчет!$D$1:$D$65536,0)","v":23}]
[1937428178,9,"МБИ173",1937363613,"Улямаев Альберт Ирекович","М171МБИИН066","Управление внедрением информационных систем",6,"Экзамен","2017/2018 учебный год 4 модуль",null,54,1,1,1722551595,2098,null,"Бизнес-информатика",{"$f":"MATCH(D2207,Отчет!$D$1:$D$65536,0)","v":82}]
[1937427158,9,"МБИ171",1937363626,"Давтян Артем Сергеевич","М171МБИИН025","Управление внедрением информационных систем",6,"Экзамен","2017/2018 учебный год 4 модуль",null,54,1,1,1722551595,2098,null,"Бизнес-информатика",{"$f":"MATCH(D2208,Отчет!$D$1:$D$65536,0)","v":147}]
[1937426985,4,"МБИ171",1937363639,"Волков Даниил Андреевич","М171МБИИН019","Управление внедрением информационных систем",6,"Экзамен","2017/2018 учебный год 4 модуль",null,24,1,1,1722551595,2098,null,"Бизнес-информатика",{"$f":"MATCH(D2209,Отчет!$D$1:$D$65536,0)","v":174}]
[1937426501,null,null,1937363653,"Агарков Ярослав Алексеевич","М171МБИИН001","Управление внедрением информационных систем",6,"Экзамен","2017/2018 учебный год 4 модуль",0,0,null,1,1722551595,2098,null,"Бизнес-информатика",{"$f":"MATCH(D2210,Отчет!$D$1:$D$65536,0)","v":179}]
[1937427276,9,"МБИ172",1937363666,"Захаров Алексей Александрович","М171МБИИН029","Управление внедрением информационных систем",6,"Экзамен","2017/2018 учебный год 4 модуль",null,54,1,1,1722551595,2098,null,"Бизнес-информатика",{"$f":"MATCH(D2211,Отчет!$D$1:$D$65536,0)","v":72}]
[1937427940,7,"МБИ173",1937363680,"Рудь Роман Сергеевич","М171МБИИН056","Управление внедрением информационных систем",6,"Экзамен","2017/2018 учебный год 4 модуль",null,42,1,1,1722551595,2098,null,"Бизнес-информатика",{"$f":"MATCH(D2212,Отчет!$D$1:$D$65536,0)","v":125}]
[1937428080,8,"МБИ173",1937363693,"Стогова Анастасия Германовна","М171МБИИН062","Управление внедрением информационных систем",6,"Экзамен","2017/2018 учебный год 4 модуль",null,48,1,1,1722551595,2098,null,"Бизнес-информатика",{"$f":"MATCH(D2213,Отчет!$D$1:$D$65536,0)","v":88}]
[1956303112,8,"МБИ171",1942008650,"Гареев Эмиль Хамидович","М171МБИИН085","Управление развитием информационных систем",5,"Экзамен","2017/2018 учебный год 4 модуль",null,40,1,1,1722551595,2098,null,"Бизнес-информатика",{"$f":"MATCH(D2214,Отчет!$D$1:$D$65536,0)","v":144}]
[1956304178,9,"МБИ173",1937363680,"Рудь Роман Сергеевич","М171МБИИН056","Управление развитием информационных систем",5,"Экзамен","2017/2018 учебный год 4 модуль",null,45,1,1,1722551595,2098,null,"Бизнес-информатика",{"$f":"MATCH(D2215,Отчет!$D$1:$D$65536,0)","v":125}]
[1956302910,9,"МБИ171",1944931265,"Бытка Дарья","М171МБИИН093","Управление развитием информационных систем",5,"Экзамен","2017/2018 учебный год 4 модуль",null,45,1,1,1722551595,2098,null,"Бизнес-информатика",{"$f":"MATCH(D2216,Отчет!$D$1:$D$65536,0)","v":22}]
[1956302059,9,"МБИ172",1937363666,"Захаров Алексей Александрович","М171МБИИН029","Управление развитием информационных систем",5,"Экзамен","2017/2018 учебный год 4 модуль",null,45,1,1,1722551595,2098,null,"Бизнес-информатика",{"$f":"MATCH(D2217,Отчет!$D$1:$D$65536,0)","v":72}]
[1956302323,9,"МБИ173",1937363613,"Улямаев Альберт Ирекович","М171МБИИН066","Управление развитием информационных систем",5,"Экзамен","2017/2018 учебный год 4 модуль",null,45,1,1,1722551595,2098,null,"Бизнес-информатика",{"$f":"MATCH(D2218,Отчет!$D$1:$D$65536,0)","v":82}]
[1956303727,6,"МБИ172",1937363600,"Конова Марина Валерьевна","М171МБИИН036","Управление развитием информационных систем",5,"Экзамен","2017/2018 учебный год 4 модуль",null,30,1,1,1722551595,2098,null,"Бизнес-информатика",{"$f":"MATCH(D2219,Отчет!$D$1:$D$65536,0)","v":23}]
[1956303374,9,"МБИ172",1944939253,"Вовк Иларион Анатольевич","М171МБИИН094","Управление развитием информационных систем",5,"Экзамен","2017/2018 учебный год 4 модуль",null,45,1,0,1722551595,2098,null,"Бизнес-информатика",{"$f":"MATCH(D2220,Отчет!$D$1:$D$65536,0)","v":98}]
[1956302742,7,"МБИ173",1945753603,"Пак Александр Сергеевич","М171МБИИН096","Управление развитием информационных систем",5,"Экзамен","2017/2018 учебный год 4 модуль",null,35,1,0,1722551595,2098,null,"Бизнес-информатика",{"$f":"MATCH(D2221,Отчет!$D$1:$D$65536,0)","v":114}]
[1956303554,6,"МБИ172",1947090330,"Варданян Карен Оганесович","М171МБИИН097","Управление развитием информационных систем",5,"Экзамен","2017/2018 учебный год 4 модуль",null,30,1,1,1722551595,2098,null,"Бизнес-информатика",{"$f":"MATCH(D2222,Отчет!$D$1:$D$65536,0)","v":175}]
[2166478602,6,"МБИ173",2162833425,"Майборода Кирилл Алексеевич","М161МБИИН048","Управление развитием информационных систем",5,"Экзамен","2017/2018 учебный год 4 модуль",null,30,1,1,1722551595,2098,null,"Бизнес-информатика",{"$f":"MATCH(D2223,Отчет!$D$1:$D$65536,0)","v":122}]
[1956303059,9,"МБИ172",1937364110,"Клименко Екатерина Андреевна","М171МБИИН034","Управление развитием информационных систем",5,"Экзамен","2017/2018 учебный год 4 модуль",null,45,1,1,1722551595,2098,null,"Бизнес-информатика",{"$f":"MATCH(D2224,Отчет!$D$1:$D$65536,0)","v":28}]
[1956301985,7,"МБИ171",1937364123,"Вишняков Азим Азимович","М171МБИИН017","Управление развитием информационных систем",5,"Экзамен","2017/2018 учебный год 4 модуль",null,35,1,1,1722551595,2098,null,"Бизнес-информатика",{"$f":"MATCH(D2225,Отчет!$D$1:$D$65536,0)","v":80}]
[1956303751,9,"МБИ172",1937364137,"Медведева Мария Вячеславовна","М171МБИИН045","Управление развитием информационных систем",5,"Экзамен","2017/2018 учебный год 4 модуль",null,45,1,1,1722551595,2098,null,"Бизнес-информатика",{"$f":"MATCH(D2226,Отчет!$D$1:$D$65536,0)","v":51}]
[1956303502,9,"МБИ172",1937364163,"Миллер Кирилл Александрович","М171МБИИН046","Управление развитием информационных систем",5,"Экзамен","2017/2018 учебный год 4 модуль",null,45,1,1,1722551595,2098,null,"Бизнес-информатика",{"$f":"MATCH(D2227,Отчет!$D$1:$D$65536,0)","v":79}]
[1956303174,9,"МБИ173",1937364192,"Семенова Элина Михайловна","М171МБИИН059","Управление развитием информационных систем",5,"Экзамен","2017/2018 учебный год 4 модуль",null,45,1,1,1722551595,2098,null,"Бизнес-информатика",{"$f":"MATCH(D2228,Отчет!$D$1:$D$65536,0)","v":160}]
[1956302446,7,"МБИ171",1937364220,"Бутченко Антон Олегович","М171МБИИН016","Управление развитием информационных систем",5,"Экзамен","2017/2018 учебный год 4 модуль",null,35,1,1,1722551595,2098,null,"Бизнес-информатика",{"$f":"MATCH(D2229,Отчет!$D$1:$D$65536,0)","v":57}]
[1956303987,9,"МБИ173",1940751185,"Овсянникова Ольга Андреевна","М171МБИИН078","Управление развитием информационных систем",5,"Экзамен","2017/2018 учебный год 4 модуль",null,45,1,0,1722551595,2098,null,"Бизнес-информатика",{"$f":"MATCH(D2230,Отчет!$D$1:$D$65536,0)","v":69}]
[1956302768,9,"МБИ172",1940815727,"Монгуш Алдын-Ай Владимировна","М171МБИИН076","Управление развитием информационных систем",5,"Экзамен","2017/2018 учебный год 4 модуль",null,45,1,0,1722551595,2098,null,"Бизнес-информатика",{"$f":"MATCH(D2231,Отчет!$D$1:$D$65536,0)","v":104}]
[1956302356,9,"МБИ172",1940815773,"Матвиенко Андрей Кириллович","М171МБИИН074","Управление развитием информационных систем",5,"Экзамен","2017/2018 учебный год 4 модуль",null,45,1,1,1722551595,2098,null,"Бизнес-информатика",{"$f":"MATCH(D2232,Отчет!$D$1:$D$65536,0)","v":38}]
[1956303827,9,"МБИ172",1940815787,"Музыка Наталия Константиновна","М171МБИИН077","Управление развитием информационных систем",5,"Экзамен","2017/2018 учебный год 4 модуль",null,45,1,1,1722551595,2098,null,"Бизнес-информатика",{"$f":"MATCH(D2233,Отчет!$D$1:$D$65536,0)","v":31}]
[1956303279,9,"МБИ172",1940815800,"Кривенцов Феликс Константинович","М171МБИИН072","Управление развитием информационных систем",5,"Экзамен","2017/2018 учебный год 4 модуль",null,45,1,1,1722551595,2098,null,"Бизнес-информатика",{"$f":"MATCH(D2234,Отчет!$D$1:$D$65536,0)","v":119}]
[1956303906,9,"МБИ173",1940815815,"Шпилевская Наталья Викторовна","М171МБИИН079","Управление развитием информационных систем",5,"Экзамен","2017/2018 учебный год 4 модуль",null,45,1,0,1722551595,2098,null,"Бизнес-информатика",{"$f":"MATCH(D2235,Отчет!$D$1:$D$65536,0)","v":155}]
[1956304374,7,"МБИ172",1940815828,"Масалимов Тимур Ринатович","М171МБИИН073","Управление развитием информационных систем",5,"Экзамен","2017/2018 учебный год 4 модуль",null,35,1,0,1722551595,2098,null,"Бизнес-информатика",{"$f":"MATCH(D2236,Отчет!$D$1:$D$65536,0)","v":123}]
[1956350972,4,"МБИ173",1941989079,"Феофанов Лев Андреевич","М171МБИИН092","Управление развитием информационных систем",5,"Экзамен","2017/2018 учебный год 4 модуль",null,20,1,0,1722551595,2098,null,"Бизнес-информатика",{"$f":"MATCH(D2237,Отчет!$D$1:$D$65536,0)","v":172}]
[1956304200,6,"МБИ173",1941989095,"Сарычев Роман Владимирович","М171МБИИН091","Управление развитием информационных систем",5,"Экзамен","2017/2018 учебный год 4 модуль",null,30,1,0,1722551595,2098,null,"Бизнес-информатика",{"$f":"MATCH(D2238,Отчет!$D$1:$D$65536,0)","v":134}]
[1956168676,10,"МБИ173",1941989108,"Рябов Дмитрий Валерьевич","М171МБИИН090","Управление развитием информационных систем",5,"Экзамен","2017/2018 учебный год 4 модуль",null,50,1,1,1722551595,2098,null,"Бизнес-информатика",{"$f":"MATCH(D2239,Отчет!$D$1:$D$65536,0)","v":14}]
[1956304344,10,"МБИ172",1941989121,"Павлова Татьяна Михайловна","М171МБИИН089","Управление развитием информационных систем",5,"Экзамен","2017/2018 учебный год 4 модуль",null,50,1,0,1722551595,2098,null,"Бизнес-информатика",{"$f":"MATCH(D2240,Отчет!$D$1:$D$65536,0)","v":15}]
[1956303350,6,"МБИ172",1941989134,"Морева Галина Сергеевна","М171МБИИН088","Управление развитием информационных систем",5,"Экзамен","2017/2018 учебный год 4 модуль",null,30,1,0,1722551595,2098,null,"Бизнес-информатика",{"$f":"MATCH(D2241,Отчет!$D$1:$D$65536,0)","v":94}]
[1956301893,5,"МБИ172",1941989147,"Мингазов Аскар Альбертович","М171МБИИН087","Управление развитием информационных систем",5,"Экзамен","2017/2018 учебный год 4 модуль",null,25,1,0,1722551595,2098,null,"Бизнес-информатика",{"$f":"MATCH(D2242,Отчет!$D$1:$D$65536,0)","v":171}]
[1956302268,9,"МБИ172",1941989160,"Мельникова Анастасия Игоревна","М171МБИИН086","Управление развитием информационных систем",5,"Экзамен","2017/2018 учебный год 4 модуль",null,45,1,0,1722551595,2098,null,"Бизнес-информатика",{"$f":"MATCH(D2243,Отчет!$D$1:$D$65536,0)","v":46}]
[1956304473,10,"МБИ171",1941989199,"Бородко Вера Николаевна","М171МБИИН082","Управление развитием информационных систем",5,"Экзамен","2017/2018 учебный год 4 модуль",null,50,1,0,1722551595,2098,null,"Бизнес-информатика",{"$f":"MATCH(D2244,Отчет!$D$1:$D$65536,0)","v":18}]
[1956302245,9,"МБИ173",1937363693,"Стогова Анастасия Германовна","М171МБИИН062","Управление развитием информационных систем",5,"Экзамен","2017/2018 учебный год 4 модуль",null,45,1,1,1722551595,2098,null,"Бизнес-информатика",{"$f":"MATCH(D2245,Отчет!$D$1:$D$65536,0)","v":88}]
[1956303299,6,"МБИ171",1937363719,"Белов Григорий Игоревич","М171МБИИН010","Управление развитием информационных систем",5,"Экзамен","2017/2018 учебный год 4 модуль",null,30,1,1,1722551595,2098,null,"Бизнес-информатика",{"$f":"MATCH(D2246,Отчет!$D$1:$D$65536,0)","v":162}]
[1956301921,9,"МБИ173",1937363758,"Ригин Алексей Алексеевич","М171МБИИН055","Управление развитием информационных систем",5,"Экзамен","2017/2018 учебный год 4 модуль",null,45,1,1,1722551595,2098,null,"Бизнес-информатика",{"$f":"MATCH(D2247,Отчет!$D$1:$D$65536,0)","v":64}]
[1956303880,9,"МБИ173",1937363798,"Пронин Никита Вадимович","М171МБИИН052","Управление развитием информационных систем",5,"Экзамен","2017/2018 учебный год 4 модуль",null,45,1,1,1722551595,2098,null,"Бизнес-информатика",{"$f":"MATCH(D2248,Отчет!$D$1:$D$65536,0)","v":108}]
[1956303619,9,"МБИ171",1937363851,"Бадаева Мария Мингияновна","М171МБИИН007","Управление развитием информационных систем",5,"Экзамен","2017/2018 учебный год 4 модуль",null,45,1,1,1722551595,2098,null,"Бизнес-информатика",{"$f":"MATCH(D2249,Отчет!$D$1:$D$65536,0)","v":153}]
[1956302083,5,"МБИ172",1937363917,"Мартынов Александр Дмитриевич","М171МБИИН044","Управление развитием информационных систем",5,"Экзамен","2017/2018 учебный год 4 модуль",null,25,1,1,1722551595,2098,null,"Бизнес-информатика",{"$f":"MATCH(D2250,Отчет!$D$1:$D$65536,0)","v":167}]
[1956302515,6,"МБИ172",1937363957,"Ершова Александра Романовна","М171МБИИН028","Управление развитием информационных систем",5,"Экзамен","2017/2018 учебный год 4 модуль",null,30,1,1,1722551595,2098,null,"Бизнес-информатика",{"$f":"MATCH(D2251,Отчет!$D$1:$D$65536,0)","v":138}]
[1956303959,9,"МБИ172",1937363970,"Лебедева Надежда Юрьевна","М171МБИИН040","Управление развитием информационных систем",5,"Экзамен","2017/2018 учебный год 4 модуль",null,45,1,1,1722551595,2098,null,"Бизнес-информатика",{"$f":"MATCH(D2252,Отчет!$D$1:$D$65536,0)","v":135}]
[1956304314,9,"МБИ172",1937364001,"Калашников Сергей Владимирович","М171МБИИН030","Управление развитием информационных систем",5,"Экзамен","2017/2018 учебный год 4 модуль",null,45,1,1,1722551595,2098,null,"Бизнес-информатика",{"$f":"MATCH(D2253,Отчет!$D$1:$D$65536,0)","v":50}]
[1956302295,6,"МБИ173",1937364031,"Полторак Анастасия Игоревна","М171МБИИН051","Управление развитием информационных систем",5,"Экзамен","2017/2018 учебный год 4 модуль",null,30,1,1,1722551595,2098,null,"Бизнес-информатика",{"$f":"MATCH(D2254,Отчет!$D$1:$D$65536,0)","v":103}]
[1956334505,6,"МБИ171",1937364044,"Бондарь Сергей Борисович","М171МБИИН015","Управление развитием информационных систем",5,"Экзамен","2017/2018 учебный год 4 модуль",null,30,1,1,1722551595,2098,null,"Бизнес-информатика",{"$f":"MATCH(D2255,Отчет!$D$1:$D$65536,0)","v":170}]
[1956304228,6,"МБИ171",1937364058,"Герасимов Станислав Александрович","М171МБИИН023","Управление развитием информационных систем",5,"Экзамен","2017/2018 учебный год 4 модуль",null,30,1,1,1722551595,2098,null,"Бизнес-информатика",{"$f":"MATCH(D2256,Отчет!$D$1:$D$65536,0)","v":140}]
[1956302189,9,"МБИ171",1937364084,"Гареев Артем Фаридович","М171МБИИН022","Управление развитием информационных систем",5,"Экзамен","2017/2018 учебный год 4 модуль",null,45,1,1,1722551595,2098,null,"Бизнес-информатика",{"$f":"MATCH(D2257,Отчет!$D$1:$D$65536,0)","v":148}]
[1956303251,9,"МБИ171",1937363332,"Войнов Евгений Вадимович","М171МБИИН018","Управление развитием информационных систем",5,"Экзамен","2017/2018 учебный год 4 модуль",null,45,1,1,1722551595,2098,null,"Бизнес-информатика",{"$f":"MATCH(D2258,Отчет!$D$1:$D$65536,0)","v":35}]
[1956304149,4,"МБИ173",1937363345,"Пьянов Родион Альбертович","М171МБИИН054","Управление развитием информационных систем",5,"Экзамен","2017/2018 учебный год 4 модуль",null,20,1,1,1722551595,2098,null,"Бизнес-информатика",{"$f":"MATCH(D2259,Отчет!$D$1:$D$65536,0)","v":149}]
[1956302023,9,"МБИ173",1937363359,"Юдин Андрей Анатольевич","М171МБИИН070","Управление развитием информационных систем",5,"Экзамен","2017/2018 учебный год 4 модуль",null,45,1,1,1722551595,2098,null,"Бизнес-информатика",{"$f":"MATCH(D2260,Отчет!$D$1:$D$65536,0)","v":132}]
[1956303647,5,"МБИ172",1937363372,"Карасев Михаил Николаевич","М171МБИИН031","Управление развитием информационных систем",5,"Экзамен","2017/2018 учебный год 4 модуль",null,25,1,1,1722551595,2098,null,"Бизнес-информатика",{"$f":"MATCH(D2261,Отчет!$D$1:$D$65536,0)","v":169}]
[1956302131,9,"МБИ173",1937363386,"Сафохин Андрей Дмитриевич","М171МБИИН058","Управление развитием информационных систем",5,"Экзамен","2017/2018 учебный год 4 модуль",null,45,1,1,1722551595,2098,null,"Бизнес-информатика",{"$f":"MATCH(D2262,Отчет!$D$1:$D$65536,0)","v":26}]
[1956303428,9,"МБИ173",1937363399,"Токарев Иван Максимович","М171МБИИН065","Управление развитием информационных систем",5,"Экзамен","2017/2018 учебный год 4 модуль",null,45,1,1,1722551595,2098,null,"Бизнес-информатика",{"$f":"MATCH(D2263,Отчет!$D$1:$D$65536,0)","v":73}]
[1956303703,9,"МБИ171",1937363441,"Бардакова Мария Вячеславовна","М171МБИИН008","Управление развитием информационных систем",5,"Экзамен","2017/2018 учебный год 4 модуль",null,45,1,1,1722551595,2098,null,"Бизнес-информатика",{"$f":"MATCH(D2264,Отчет!$D$1:$D$65536,0)","v":129}]
[1956303851,7,"МБИ173",1937363469,"Пронин Никита Павлович","М171МБИИН053","Управление развитием информационных систем",5,"Экзамен","2017/2018 учебный год 4 модуль",null,35,1,1,1722551595,2098,null,"Бизнес-информатика",{"$f":"MATCH(D2265,Отчет!$D$1:$D$65536,0)","v":126}]
[1956303775,7,"МБИ171",1937363482,"Гайнутдинов Наиль Анварович","М171МБИИН020","Управление развитием информационных систем",5,"Экзамен","2017/2018 учебный год 4 модуль",null,35,1,1,1722551595,2098,null,"Бизнес-информатика",{"$f":"MATCH(D2266,Отчет!$D$1:$D$65536,0)","v":159}]
[1956302945,9,"МБИ173",1937363495,"Черепнина Дарья Олеговна","М171МБИИН068","Управление развитием информационных систем",5,"Экзамен","2017/2018 учебный год 4 модуль",null,45,1,1,1722551595,2098,null,"Бизнес-информатика",{"$f":"MATCH(D2267,Отчет!$D$1:$D$65536,0)","v":67}]
[1956301865,4,"МБИ171",1937363548,"Галков Алексей Александрович","М171МБИИН021","Управление развитием информационных систем",5,"Экзамен","2017/2018 учебный год 4 модуль",null,20,1,1,1722551595,2098,null,"Бизнес-информатика",{"$f":"MATCH(D2268,Отчет!$D$1:$D$65536,0)","v":173}]
[1956303398,8,"МБИ173",1937363561,"Сиднев Игорь Дмитриевич","М171МБИИН060","Управление развитием информационных систем",5,"Экзамен","2017/2018 учебный год 4 модуль",null,40,1,1,1722551595,2098,null,"Бизнес-информатика",{"$f":"MATCH(D2269,Отчет!$D$1:$D$65536,0)","v":117}]
[1956304400,6,"МБИ173",1937363574,"Паймакова Татьяна Сергеевна","М171МБИИН049","Управление развитием информационных систем",5,"Экзамен","2017/2018 учебный год 4 модуль",null,30,1,1,1722551595,2098,null,"Бизнес-информатика",{"$f":"MATCH(D2270,Отчет!$D$1:$D$65536,0)","v":156}]
[1956304448,9,"МБИ173",1937363587,"Новицкая Валерия Андреевна","М171МБИИН048","Управление развитием информационных систем",5,"Экзамен","2017/2018 учебный год 4 модуль",null,45,1,1,1722551595,2098,null,"Бизнес-информатика",{"$f":"MATCH(D2271,Отчет!$D$1:$D$65536,0)","v":54}]
[2052765338,8,"МБИ172",1937363891,"Коновалова Аделина Евгеньевна","М171МБИИН037","Управление устойчивостью бизнеса",3,"Экзамен","2017/2018 учебный год 4 модуль",null,24,1,1,null,5028,null,"Бизнес-информатика",{"$f":"MATCH(D2272,Отчет!$D$1:$D$65536,0)","v":91}]
[2052765751,8,"МБИ172",1937364137,"Медведева Мария Вячеславовна","М171МБИИН045","Управление устойчивостью бизнеса",3,"Экзамен","2017/2018 учебный год 4 модуль",null,24,1,1,null,5028,null,"Бизнес-информатика",{"$f":"MATCH(D2273,Отчет!$D$1:$D$65536,0)","v":51}]
[2052765528,8,"МБИ171",1937363878,"Андрюхина Дарья Сергеевна","М171МБИИН003","Управление устойчивостью бизнеса",3,"Экзамен","2017/2018 учебный год 4 модуль",null,24,1,1,null,5028,null,"Бизнес-информатика",{"$f":"MATCH(D2274,Отчет!$D$1:$D$65536,0)","v":95}]
[2052765513,10,"МБИ171",1944931265,"Бытка Дарья","М171МБИИН093","Управление устойчивостью бизнеса",3,"Экзамен","2017/2018 учебный год 4 модуль",null,30,1,1,null,5028,null,"Бизнес-информатика",{"$f":"MATCH(D2275,Отчет!$D$1:$D$65536,0)","v":22}]
[2064422284,6,"МБИ173",1937363345,"Пьянов Родион Альбертович","М171МБИИН054","Финансовые рынки, институты и инструменты",3,"Экзамен","2017/2018 учебный год 4 модуль",null,18,1,1,null,5028,null,"Бизнес-информатика",{"$f":"MATCH(D2276,Отчет!$D$1:$D$65536,0)","v":149}]
[2052765703,5,"МБИ172",1947090330,"Варданян Карен Оганесович","М171МБИИН097","Финансовые рынки, институты и инструменты",3,"Экзамен","2017/2018 учебный год 4 модуль",null,15,1,1,null,5028,null,"Бизнес-информатика",{"$f":"MATCH(D2277,Отчет!$D$1:$D$65536,0)","v":175}]
[2052765412,5,"МБИ171",1937363535,"Бегларян Амалия Мгеровна","М171МБИИН009","Финансовые рынки, институты и инструменты",3,"Экзамен","2017/2018 учебный год 4 модуль",null,15,1,1,null,5028,null,"Бизнес-информатика",{"$f":"MATCH(D2278,Отчет!$D$1:$D$65536,0)","v":113}]
[2064423970,5,"МБИ171",1937363548,"Галков Алексей Александрович","М171МБИИН021","Финансовые рынки, институты и инструменты",3,"Экзамен","2017/2018 учебный год 4 модуль",null,15,1,1,null,5028,null,"Бизнес-информатика",{"$f":"MATCH(D2279,Отчет!$D$1:$D$65536,0)","v":173}]
[2052765447,6,"МБИ171",1937363626,"Давтян Артем Сергеевич","М171МБИИН025","Финансовые рынки, институты и инструменты",3,"Экзамен","2017/2018 учебный год 4 модуль",null,18,1,1,null,5028,null,"Бизнес-информатика",{"$f":"MATCH(D2280,Отчет!$D$1:$D$65536,0)","v":147}]
[2052765669,6,"МБИ171",1937363732,"Богданов Кирилл Алексеевич","М171МБИИН012","Финансовые рынки, институты и инструменты",3,"Экзамен","2017/2018 учебный год 4 модуль",null,18,1,1,null,5028,null,"Бизнес-информатика",{"$f":"MATCH(D2281,Отчет!$D$1:$D$65536,0)","v":128}]
[2052765816,7,"МБИ172",1937363865,"Лобач Петр Сергеевич","М171МБИИН042","Финансовые рынки, институты и инструменты",3,"Экзамен","2017/2018 учебный год 4 модуль",null,21,1,1,null,5028,null,"Бизнес-информатика",{"$f":"MATCH(D2282,Отчет!$D$1:$D$65536,0)","v":143}]
[2052765807,7,"МБИ171",1937363930,"Бабанов Павел Александрович","М171МБИИН006","Финансовые рынки, институты и инструменты",3,"Экзамен","2017/2018 учебный год 4 модуль",null,21,1,1,null,5028,null,"Бизнес-информатика",{"$f":"MATCH(D2283,Отчет!$D$1:$D$65536,0)","v":152}]
[2052765841,4,"МБИ171",1937364058,"Герасимов Станислав Александрович","М171МБИИН023","Финансовые рынки, институты и инструменты",3,"Экзамен","2017/2018 учебный год 4 модуль",null,12,1,1,null,5028,null,"Бизнес-информатика",{"$f":"MATCH(D2284,Отчет!$D$1:$D$65536,0)","v":140}]
[2052765593,8,"МБИ172",1937364071,"Карнаух Егор Сергеевич","М171МБИИН032","Финансовые рынки, институты и инструменты",3,"Экзамен","2017/2018 учебный год 4 модуль",null,24,1,1,null,5028,null,"Бизнес-информатика",{"$f":"MATCH(D2285,Отчет!$D$1:$D$65536,0)","v":65}]
[2052765425,8,"МБИ171",1937364220,"Бутченко Антон Олегович","М171МБИИН016","Финансовые рынки, институты и инструменты",3,"Экзамен","2017/2018 учебный год 4 модуль",null,24,1,1,null,5028,null,"Бизнес-информатика",{"$f":"MATCH(D2286,Отчет!$D$1:$D$65536,0)","v":57}]
[2052764937,6,"МЭБ171",1937372783,"Калинин Дмитрий Владимирович","М171МЭЛБЗ008","Финансовые рынки, институты и инструменты",3,"Экзамен","2017/2018 учебный год 4 модуль",null,18,1,1,null,5028,null,"Электронный бизнес",{"$f":"MATCH(D2287,Отчет!$D$1:$D$65536,0)","v":49}]
[2052764945,7,"МЭБ171",1937373025,"Суряднов Дмитрий Юрьевич","М171МЭЛБЗ022","Финансовые рынки, институты и инструменты",3,"Экзамен","2017/2018 учебный год 4 модуль",null,21,1,1,null,5028,null,"Электронный бизнес",{"$f":"MATCH(D2288,Отчет!$D$1:$D$65536,0)","v":27}]
[2052764915,5,"МЭБ171",1937373039,"Кяргин Антон Юрьевич","М171МЭЛБЗ013","Финансовые рынки, институты и инструменты",3,"Экзамен","2017/2018 учебный год 4 модуль",null,15,1,1,null,5028,null,"Электронный бизнес",{"$f":"MATCH(D2289,Отчет!$D$1:$D$65536,0)","v":110}]
[2052765801,5,"МБИ173",1940751185,"Овсянникова Ольга Андреевна","М171МБИИН078","Финансовые рынки, институты и инструменты",3,"Экзамен","2017/2018 учебный год 4 модуль",null,15,1,0,null,5028,null,"Бизнес-информатика",{"$f":"MATCH(D2290,Отчет!$D$1:$D$65536,0)","v":69}]
[2052765866,8,"МБИ172",1940815828,"Масалимов Тимур Ринатович","М171МБИИН073","Финансовые рынки, институты и инструменты",3,"Экзамен","2017/2018 учебный год 4 модуль",null,24,1,0,null,5028,null,"Бизнес-информатика",{"$f":"MATCH(D2291,Отчет!$D$1:$D$65536,0)","v":123}]
[2052765472,8,"МБИ171",1940815842,"Дворяшин Дмитрий Александрович","М171МБИИН071","Финансовые рынки, институты и инструменты",3,"Экзамен","2017/2018 учебный год 4 модуль",null,24,1,0,null,5028,null,"Бизнес-информатика",{"$f":"MATCH(D2292,Отчет!$D$1:$D$65536,0)","v":166}]
[2052765823,6,"МБИ171",1937363522,"Богданов Павел Владимирович","М171МБИИН013","Финансовые рынки, институты и инструменты",3,"Экзамен","2017/2018 учебный год 4 модуль",null,18,1,1,null,5028,null,"Бизнес-информатика",{"$f":"MATCH(D2293,Отчет!$D$1:$D$65536,0)","v":92}]
[2052765655,6,"МБИ173",1937363561,"Сиднев Игорь Дмитриевич","М171МБИИН060","Экономическая психология",3,"Экзамен","2017/2018 учебный год 4 модуль",null,18,1,1,null,5028,null,"Бизнес-информатика",{"$f":"MATCH(D2294,Отчет!$D$1:$D$65536,0)","v":117}]
[2129548981,5,"МБИ173",1937364192,"Семенова Элина Михайловна","М171МБИИН059","Экономическая психология",3,"Экзамен","2017/2018 учебный год 4 модуль",null,15,1,1,null,5028,null,"Бизнес-информатика",{"$f":"MATCH(D2295,Отчет!$D$1:$D$65536,0)","v":160}]
[2052760977,6,"МБД171",1937366160,"Канищев Кирилл Валерьевич","М171МСБДН008","Экономическая психология",3,"Экзамен","2017/2018 учебный год 4 модуль",null,18,1,1,null,5028,null,"Системы больших данных",{"$f":"MATCH(D2296,Отчет!$D$1:$D$65536,0)","v":109}]
[2052761023,8,"МБД171",1937366244,"Дмитриев Виктор Андреевич","М171МСБДН004","Экономическая психология",3,"Экзамен","2017/2018 учебный год 4 модуль",null,24,1,1,null,5028,null,"Системы больших данных",{"$f":"MATCH(D2297,Отчет!$D$1:$D$65536,0)","v":63}]
[2052760892,7,"МБД171",1937366259,"Пахолкова Анна Юрьевна","М171МСБДН010","Экономическая психология",3,"Экзамен","2017/2018 учебный год 4 модуль",null,21,1,1,null,5028,null,"Системы больших данных",{"$f":"MATCH(D2298,Отчет!$D$1:$D$65536,0)","v":56}]
[2052765709,5,"МБИ173",1941989079,"Феофанов Лев Андреевич","М171МБИИН092","Экономическая психология",3,"Экзамен","2017/2018 учебный год 4 модуль",null,15,1,0,null,5028,null,"Бизнес-информатика",{"$f":"MATCH(D2299,Отчет!$D$1:$D$65536,0)","v":172}]
[2243909743,4,"МБД171",1937366273,"Иванова Анастасия Михайловна","М171МСБДН006","Экономическая психология",3,"Экзамен","2017/2018 учебный год 4 модуль",null,12,1,1,null,5028,null,"Системы больших данных",{"$f":"MATCH(D2300,Отчет!$D$1:$D$65536,0)","v":71}]
[2052761090,4,"МИБ171",1937371125,"Никитин Андрей Олегович","М171МУБЕЗ011","Экстремальная психология",3,"Экзамен","2017/2018 учебный год 4 модуль",null,12,1,1,null,5028,null,"Управление информационной безопасностью",{"$f":"MATCH(D2301,Отчет!$D$1:$D$65536,0)","v":141}]
[2263315067,10,"МБД171",1959612809,"Штройхофэр Кристофер","М171МСБДН033","Электронный бизнес",5,"Экзамен","2017/2018 учебный год 4 модуль",null,50,1,1,null,null,null,"Системы больших данных",{"$f":"MATCH(D2302,Отчет!$D$1:$D$65536,0)","v":40}]